{"text_format":"1","workbook":"xlsx","n_sheets":20,"sheets":["Disclaimer ","Start","Kontaktdaten","HH-Profile","Berechnungsblatt","Tageswerte","Eingabemaske","Mengen über Ist-Temperaturen","Auswertung","Nachweispflicht 1","Nachweispflicht 2","Übersicht Netzkonto","Relative Abweichung z. Gasfluss","Als-Ob-Allokation KW03","Als-Ob-Allokation KW 04","Tagesmengen 03","Tagesmengen 04","Tagesmengenallokation 03","Tagesmengenallokation 04","h-Wertberechnung"],"not_rendered":{"charts":12,"images":1,"macros":1,"external_links":0,"defined_names":1,"comments":2,"pivot_tables":1},"unopened":[{"sheet":"Mengen über Ist-Temperaturen","index":7,"reason":"not_a_worksheet"},{"sheet":"Nachweispflicht 1","index":9,"reason":"not_a_worksheet"},{"sheet":"Nachweispflicht 2","index":10,"reason":"not_a_worksheet"},{"sheet":"Übersicht Netzkonto","index":11,"reason":"not_a_worksheet"},{"sheet":"Relative Abweichung z. Gasfluss","index":12,"reason":"not_a_worksheet"}],"bounds":{"document_bytes":16777216,"sheet_cells":100000,"rows_first":2000,"rows_last":500,"rows_between":2000,"halvings":0,"cell_chars":16384,"cell_head_chars":4096},"cells_cut":0,"cells_raw":0,"read":"whole","date_system":"1900"}

{"sheet":"Disclaimer ","index":0,"n_rows":0,"n_cols":0,"rows_kept":0,"cut":false,"hidden":false,"merged":[]}

{"sheet":"Start","index":1,"n_rows":5,"n_cols":1,"rows_kept":5,"cut":false,"hidden":false,"merged":[[1,0,1,3]]}
[]
["Tool zur Nachweispflicht 4.7"]
[]
["Das hier verwendete Werkzeug soll dem Netzbetreiber im Dialog mit dem jeweiligen Marktgebietsverantwortlichen als Nachweis dienen, "]
["dass die tägliche Allokationsmeldungen des Netzbetreibers nach Maßgabe des BDEW-Leitfaden erstellt wurde. "]

{"sheet":"Kontaktdaten","index":2,"n_rows":25,"n_cols":3,"rows_kept":25,"cut":false,"hidden":false,"merged":[]}
[]
[null,"Netzkontonummer"]
[null,"Name Netzbetreiber","Testnetzbetreiber"]
[null,"Straße, Nr."]
[null,"PLZ, Ort"]
[null,"Ansprechpartner:"]
[null,"E-mail:"]
[null,"Tel.-Nr."]
[null,"liegt das Netzgebiet in einer Marktgebietsüberlappung"]
[null,"H-Gas-Gebiet"]
[null,"L-Gas-Gebiet"]
[]
[null,"Bilanzierungsjahr",{"$f":"YEAR(Tageswerte!A2)","v":2012}]
[null,"von ",{"$f":"MIN(Tageswerte!A2:A367)","v":"2012-01-01"}]
[null,"bis",{"$f":"MAX(Tageswerte!A2:A367)","v":"2012-12-31"}]
[null,"SLP- Allokationsmenge",{"$f":"IF(SUM(Tageswerte!C2:C367)=0,\"\",SUM(Tageswerte!C2:C367))","v":1960148372.0109143}]
[null,"Restlast",{"$f":"IF(SUM(Tageswerte!D2:D367)=0,\"\",SUM(Tageswerte!D2:D367))","v":2153361631.9742022}]
[null,"Menge Als-Ob-Allokation 03",{"$f":"IF(GETPIVOTDATA(\"Summe von Als-Ob Allokation Basis Ist-Temperatur mit KW 03 [kWh]\",Auswertung!$A$3)=0,\"\",GETPIVOTDATA(\"Summe von Als-Ob Allokation Basis Ist-Temperatur mit KW 03 [kWh]\",Auswertung!$A$3))","v":1987483736.4933498}]
[null,"Menge Als-Ob-Allokation 04",{"$f":"IF(GETPIVOTDATA(\"Summe von Als-Ob Allokation Basis Ist-Temperatur mit KW 04 [kWh]\",Auswertung!$A$3)=0,\"\",GETPIVOTDATA(\"Summe von Als-Ob Allokation Basis Ist-Temperatur mit KW 04 [kWh]\",Auswertung!$A$3))","v":1993432747.9722238}]
[]
[]
[null,"Legende:"]
[]
[null,"Eingabefelder"]
[null,"Auswertungsfelder","Benutzereingaben"]

{"sheet":"HH-Profile","index":3,"n_rows":74,"n_cols":12,"rows_kept":74,"cut":false,"hidden":false,"merged":[[14,0,14,3]]}
["Schwelle +5%","Schwelle -5%","Schwelle +10%","Schwelle -10%",null,null,"Lastprofil",null,"A","B","C","D"]
[0.05,-0.05,0.1,-0.1,null,null,"D13",11,3.0469694602000001,-37.183314131499998,5.6727846623999998,9.6193060400000002E-2]
[0.05,-0.05,0.1,-0.1,null,null,"D14",12,3.1850191302000002,-37.412415489300002,6.1723178724999999,7.6109593500000003E-2]
[0.05,-0.05,0.1,-0.1,null,null,"D23",13,2.3877617912,-34.721360512899999,5.8164304014999999,0.1208193679]
[0.05,-0.05,0.1,-0.1,null,null,"D24",14,2.5187775186999999,-35.033375422100001,6.2240633959,0.1010781719]
[0.05,-0.05,0.1,-0.1,null,null,"KH3",15,0.40409321487633781,-24.439296819907721,6.5718175173429172,0.71077104516853984]
[0.05,-0.05,0.1,-0.1,null,null,"M13",21,3.0890720564,-37.184949682000003,5.7137959130000002,8.1525544599999999E-2]
[0.05,-0.05,0.1,-0.1,null,null,"M14",22,3.2279445929000001,-37.4214799891,6.2222288165000004,6.3044340000000004E-2]
[0.05,-0.05,0.1,-0.1,null,null,"M23",23,2.4428072126,-34.732143756500001,5.7347347252,9.4097006699999999E-2]
[0.05,-0.05,0.1,-0.1,null,null,"M24",24,2.5736652121999999,-35.016944175900001,6.1318139781000003,7.5860354899999996E-2]
[0.05,-0.05,0.1,-0.1,null,null,"H13",31,3.0722214501999998,-37.184284425999998,5.6975233565999996,9.0418848900000001E-2]
[0.05,-0.05,0.1,-0.1,null,null,"H14",32,3.2107659244,-37.417880080300002,6.2023999708000002,7.06017008E-2]
[0.05,-0.05,0.1,-0.1,null,null,"H23",33,2.4207683707999998,-34.727791725099998,5.7668252224999996,0.1082275312]
[null,null,null,null,null,null,"H24",34,2.5516882275000001,-35.023421941899997,6.1680699420999998,8.8705762399999999E-2]
["Vorlage Profilauswahl",null,null,null,null,null,"A13",41,3.0722214501999998,-37.184284425999998,5.6975233565999996,9.3521456500000003E-2]
["Bundesweite Lastprofilparameter",null,null,null,null,null,"A14",42,3.2107659244,-37.417880080300002,6.2023999708000002,7.3024308100000004E-2]
["Bremen",null,null,null,null,null,"A23",43,2.4207683707999998,-34.727791725099998,5.7668252224999996,0.11194122099999999]
["Hamburg",null,null,null,null,null,"A24",44,2.5516882275000001,-35.023421941899997,6.1680699420999998,9.1749587600000002E-2]
["Saarland",null,null,null,null,null,"B13",51,3.0553842454,-37.183637422300002,5.6810824598999998,0.10016998489999999]
["Berlin",null,null,null,null,null,"B14",52,3.1935978110000001,-37.414247826900002,6.1824021474000004,7.8921271400000007E-2]
["Hessen",null,null,null,null,null,"B23",53,2.3987552319000001,-34.723487774500001,5.7996446390000003,0.1239073203]
["Niedersachsen",null,null,null,null,null,"B24",54,2.5297380184999998,-35.030014509799997,6.2051108885000001,0.1030064403]
["Nordrhein-Westfalen",null,null,null,null,null,"F13",61,3.0553842454,-37.183637422300002,5.6810824598999998,9.5018385600000005E-2]
["Baden-Württemberg",null,null,null,null,null,"F14",62,3.1935978110000001,-37.414247826900002,6.1824021474000004,7.4862463099999998E-2]
["Rheinland-Pfalz",null,null,null,null,null,"F23",63,2.3987552319000001,-34.723487774500001,5.7996446390000003,0.11753494389999999]
["Schleswig-Holstein",null,null,null,null,null,"F24",64,2.5297380184999998,-35.030014509799997,6.2051108885000001,9.7708966199999997E-2]
["Sachsen",null,null,null,null,null,"I13",71,3.0553842454,-37.183637422300002,5.6810824598999998,0.1029175044]
["Brandenburg",null,null,null,null,null,"I14",72,3.1935978110000001,-37.414247826900002,6.1824021474000004,8.1085969100000002E-2]
["Bayern",null,null,null,null,null,"I23",73,2.3987552319000001,-34.723487774500001,5.7996446390000003,0.1273059211]
["Mecklenburg-Vorpommern",null,null,null,null,null,"I24",74,2.5297380184999998,-35.030014509799997,6.2051108885000001,0.10583175979999999]
["Sachsen-Anhalt",null,null,null,null,null,"N13",81,3.0553842454,-37.183637422300002,5.6810824598999998,8.2196627600000002E-2]
["Thüringen",null,null,null,null,null,"N14",82,3.1935978110000001,-37.414247826900002,6.1824021474000004,6.4760540399999997E-2]
["Eigene Parameter",null,null,null,null,null,"N23",83,2.3987552319000001,-34.723487774500001,5.7996446390000003,0.1016748069]
[null,null,null,null,null,null,"N24",84,2.5297380184999998,-35.030014509799997,6.2051108885000001,8.4524141799999994E-2]
[null,null,null,null,null,null,"W13",91,3.0385546748999999,-37.182990840800002,5.6644868649999998,9.5584450700000004E-2]
[null,null,null,null,null,null,"W14",92,3.1764404493999998,-37.410583151700003,6.1622335977000002,7.5937720400000006E-2]
[null,null,null,null,null,null,"W23",93,2.3767683503999999,-34.719233251299997,5.8332161640000004,0.1218181998]
[null,null,null,null,null,null,"W24",94,2.5078170188,-35.036736334399997,6.2430159032999999,0.10251951500000001]
[null,null,null,null,null,null,"P13",101,3.0385546748999999,-37.182990840800002,5.6644868649999998,9.33395749E-2]
[null,null,null,null,null,null,"P14",102,3.1764404493999998,-37.410583151700003,6.1622335977000002,7.4154263400000003E-2]
[null,null,null,null,null,null,"P23",103,2.3767683503999999,-34.719233251299997,5.8332161640000004,0.1189572037]
[null,null,null,null,null,null,"P24",104,2.5078170188,-35.036736334399997,6.2430159032999999,0.1001117638]
[null,null,null,null,null,null,"L13",111,3.0385546748999999,-37.182990840800002,5.6644868649999998,0.1064543759]
[null,null,null,null,null,null,"L14",112,3.1764404493999998,-37.410583151700003,6.1622335977000002,8.4573406700000006E-2]
[null,null,null,null,null,null,"L23",113,2.3767683503999999,-34.719233251299997,5.8332161640000004,0.13567144370000001]
[null,null,null,null,null,null,"L24",114,2.5078170188,-35.036736334399997,6.2430159032999999,0.11417810019999999]
[null,null,null,null,null,null,"S13",121,3.0385546748999999,-37.182990840800002,5.6644868649999998,0.1124800953]
[null,null,null,null,null,null,"S14",122,3.1764404493999998,-37.410583151700003,6.1622335977000002,8.9360580699999997E-2]
[null,null,null,null,null,null,"S23",123,2.3767683503999999,-34.719233251299997,5.8332161640000004,0.14335095940000001]
[null,null,null,null,null,null,"S24",124,2.5078170188,-35.036736334399997,6.2430159032999999,0.12064101150000001]
[null,null,null,null,null,null,"R13",131,3.0217398597999998,-37.182359950799999,5.6477169550999999,0.1152387564]
[null,null,null,null,null,null,"R14",132,3.1592940409999999,-37.4068859976,6.1418925604999997,9.2266110600000006E-2]
[null,null,null,null,null,null,"R23",133,2.3548082787000002,-34.715029850400001,5.8675639272,0.1509274266]
[null,null,null,null,null,null,"R24",134,2.4859160575999999,-35.043597772699997,6.2818214214000001,0.12839042179999999]
[null,null,null,null,null,null,"G13",141,3.0217398597999998,-37.182359950799999,5.6477169550999999,9.5626240799999998E-2]
[null,null,null,null,null,null,"G14",142,3.1592940409999999,-37.4068859976,6.1418925604999997,7.6563315899999998E-2]
[null,null,null,null,null,null,"G23",143,2.3548082787000002,-34.715029850400001,5.8675639272,0.1252410464]
[null,null,null,null,null,null,"G24",144,2.4859160575999999,-35.043597772699997,6.2818214214000001,0.1065396206]
[null,null,null,null,null,null,"V13",151,3.0217398597999998,-37.182359950799999,5.6477169550999999,0.1151169395]
[null,null,null,null,null,null,"V14",152,3.1592940409999999,-37.4068859976,6.1418925604999997,9.2168577700000004E-2]
[null,null,null,null,null,null,"V23",153,2.3548082787000002,-34.715029850400001,5.8675639272,0.15076788390000001]
[null,null,null,null,null,null,"V24",154,2.4859160575999999,-35.043597772699997,6.2818214214000001,0.12825470250000001]
[null,null,null,null,null,null,"C13",161,3.0217398597999998,-37.182359950799999,5.6477169550999999,0.1182841781]
[null,null,null,null,null,null,"C14",162,3.1592940409999999,-37.4068859976,6.1418925604999997,9.4704432800000002E-2]
[null,null,null,null,null,null,"C23",163,2.3548082787000002,-34.715029850400001,5.8675639272,0.154915995]
[null,null,null,null,null,null,"C24",164,2.4859160575999999,-35.043597772699997,6.2818214214000001,0.13178340329999999]
[null,null,null,null,null,null,"T13",171,3.0217398597999998,-37.182359950799999,5.6477169550999999,0.1170660094]
[null,null,null,null,null,null,"T14",172,3.1592940409999999,-37.4068859976,6.1418925604999997,9.3729103899999999E-2]
[null,null,null,null,null,null,"T23",173,2.3548082787000002,-34.715029850400001,5.8675639272,0.15332056769999999]
[null,null,null,null,null,null,"T24",174,2.4859160575999999,-35.043597772699997,6.2818214214000001,0.13042621069999999]
[null,null,null,null,null,null,"Z1",181]
[null,null,null,null,null,null,"Z2",182]
[null,null,null,null,null,null,"Z3",183]
[null,null,null,null,null,null,"Z4",184]

{"sheet":"Berechnungsblatt","index":4,"n_rows":463,"n_cols":19,"rows_kept":463,"cut":false,"hidden":false,"merged":[[28,3,28,10],[55,3,55,10],[64,3,64,10],[73,3,73,10],[10,3,10,10],[19,3,19,10],[0,3,0,12],[91,11,91,12],[82,11,82,12],[37,11,37,12],[46,11,46,12],[55,11,55,12],[2,10,2,12],[10,11,10,12],[64,11,64,12],[73,11,73,12],[37,3,37,10],[46,3,46,10],[19,11,19,12],[28,11,28,12],[109,3,109,10],[109,11,109,12],[82,3,82,10],[91,3,91,10],[100,11,100,12],[100,3,100,10]]}
["Datum","Temperatur","Wochentag","Tages h-Werte und Tagesfaktoren entsprechend dem Wochentag (keine Berücksichtigung des Feiertagskalenders!)",null,null,null,null,null,null,null,null,null,null,"Lastprofil","A","B","C","D"]
["2012-12-31",4.7,{"$f":"IF(A2=\"\",\"\",WEEKDAY(A2,2))","v":1},"Haushalt"]
[null,null,null,null,null,null,null,null,null,null,"Profilzuweisung Bundesland"]
[null,null,null,"HEF3",{"$f":"(P4 / (1 + (Q4 / (B2 - 40)) ^R4)) +S4","v":1.3966873229091261},null,null,"MHF3",{"$f":"(P6 / (1 + (Q6 / ($B$2 - 40)) ^R6)) +S6","v":1.3720419764025156},null,1,1,{"$f":"$K$4*10+L4","v":11},null,"EF3",{"$f":"VLOOKUP(M4,'HH-Profile'!$H$2:$L$74,2,FALSE)","v":3.0469694602000001},{"$f":"VLOOKUP(M4,'HH-Profile'!$H$2:$L$74,3,FALSE)","v":-37.183314131499998},{"$f":"VLOOKUP(M4,'HH-Profile'!$H$2:$L$74,4,FALSE)","v":5.6727846623999998},{"$f":"VLOOKUP(M4,'HH-Profile'!$H$2:$L$74,5,FALSE)","v":9.6193060400000002E-2}]
[null,null,null,"HEF4",{"$f":"(P5 / (1 + (Q5 / (B2 - 40)) ^R5)) +S5","v":1.3860006775319824},null,null,"MHF4",{"$f":"(P7 / (1 + (Q7 / ($B$2 - 40)) ^R7)) +S7","v":1.3901763420841149},null,null,2,{"$f":"$K$4*10+L5","v":12},null,"EF4",{"$f":"VLOOKUP(M5,'HH-Profile'!$H$2:$L$74,2,FALSE)","v":3.1850191302000002},{"$f":"VLOOKUP(M5,'HH-Profile'!$H$2:$L$74,3,FALSE)","v":-37.412415489300002},{"$f":"VLOOKUP(M5,'HH-Profile'!$H$2:$L$74,4,FALSE)","v":6.1723178724999999},{"$f":"VLOOKUP(M5,'HH-Profile'!$H$2:$L$74,5,FALSE)","v":7.6109593500000003E-2}]
[null,null,null,{"$f":"IF(A6=\"\",\"\",WEEKDAY(A6,2))","v":""},null,null,null,null,null,null,null,3,{"$f":"$K$4*10+L6","v":13},null,"MF3",{"$f":"VLOOKUP(M6,'HH-Profile'!$H$2:$L$74,2,FALSE)","v":2.3877617912},{"$f":"VLOOKUP(M6,'HH-Profile'!$H$2:$L$74,3,FALSE)","v":-34.721360512899999},{"$f":"VLOOKUP(M6,'HH-Profile'!$H$2:$L$74,4,FALSE)","v":5.8164304014999999},{"$f":"VLOOKUP(M6,'HH-Profile'!$H$2:$L$74,5,FALSE)","v":0.1208193679}]
[null,null,null,"Kochgas",null,null,null,null,null,null,null,4,{"$f":"$K$4*10+L7","v":14},null,"MF4",{"$f":"VLOOKUP(M7,'HH-Profile'!$H$2:$L$74,2,FALSE)","v":2.5187775186999999},{"$f":"VLOOKUP(M7,'HH-Profile'!$H$2:$L$74,3,FALSE)","v":-35.033375422100001},{"$f":"VLOOKUP(M7,'HH-Profile'!$H$2:$L$74,4,FALSE)","v":6.2240633959},{"$f":"VLOOKUP(M7,'HH-Profile'!$H$2:$L$74,5,FALSE)","v":0.1010781719}]
[null,null,null,{"$f":"IF(A8=\"\",\"\",WEEKDAY(A8,2))","v":""}]
[null,null,null,"HK3",{"$f":"(P9/ (1 + (Q9 / ($B$2 - 40)) ^R9) +S9)","v":1.0817565114981709},null,null,null,null,null,null,null,null,null,"KH3",0.40409321487633781,-24.439296819907721,6.5718175173429172,0.71077104516853984]
[]
[null,null,null,"Bäckereien",null,null,null,null,null,null,null,"Tagesfaktoren"]
[null,null,null,null,null,null,null,null,null,null,null,1,1.0848]
[null,null,null,null,"Montag","Dienstag","Mittwoch","Donnerstag","Freitag","Samstag","Sonntag",2,1.1211]
[null,null,null,{"$f":"O14","v":"BA1"},{"$f":"IF($C$2=1,(P14/(1+(Q14/(B$2-40))^R14)+S14)*VLOOKUP($C$2,$L$12:$M$18,2),1)","v":1.1645626224091201},{"$f":"IF($C$2=2,(P14/(1+(Q14/(B$2-40))^R14)+S14)*VLOOKUP($C$2,$L$12:$M$18,2),1)","v":1},{"$f":"IF($C$2=3,(P14/(1+(Q14/(B$2-40))^R14)+S14)*VLOOKUP($C$2,$L$12:$M$18,2),1)","v":1},{"$f":"IF($C$2=4,(P14/(1+(Q14/(B$2-40))^R14)+S14)*VLOOKUP($C$2,$L$12:$M$18,2),1)","v":1},{"$f":"IF($C$2=5,(P14/(1+(Q14/(B$2-40))^R14)+S14)*VLOOKUP($C$2,$L$12:$M$18,2),1)","v":1},{"$f":"IF($C$2=6,(P14/(1+(Q14/(B$2-40))^R14)+S14)*VLOOKUP($C$2,$L$12:$M$18,2),1)","v":1},{"$f":"IF($C$2=7,(P14/(1+(Q14/(B$2-40))^R14)+S14)*VLOOKUP($C$2,$L$12:$M$18,2),1)","v":1},3,1.0769,null,"BA1",0.15,-36,2,1]
[null,null,null,{"$f":"O15","v":"BA2"},{"$f":"IF($C$2=1,(P15/(1+(Q15/(B$2-40))^R15)+S15)*VLOOKUP($C$2,$L$12:$M$18,2),1)","v":1.1902962620551585},{"$f":"IF($C$2=2,(P15/(1+(Q15/(B$2-40))^R15)+S15)*VLOOKUP($C$2,$L$12:$M$18,2),1)","v":1},{"$f":"IF($C$2=3,(P15/(1+(Q15/(B$2-40))^R15)+S15)*VLOOKUP($C$2,$L$12:$M$18,2),1)","v":1},{"$f":"IF($C$2=4,(P15/(1+(Q15/(B$2-40))^R15)+S15)*VLOOKUP($C$2,$L$12:$M$18,2),1)","v":1},{"$f":"IF($C$2=5,(P15/(1+(Q15/(B$2-40))^R15)+S15)*VLOOKUP($C$2,$L$12:$M$18,2),1)","v":1},{"$f":"IF($C$2=6,(P15/(1+(Q15/(B$2-40))^R15)+S15)*VLOOKUP($C$2,$L$12:$M$18,2),1)","v":1},{"$f":"IF($C$2=7,(P15/(1+(Q15/(B$2-40))^R15)+S15)*VLOOKUP($C$2,$L$12:$M$18,2),1)","v":1},4,1.1353,null,"BA2",0.38791910000000002,-35.5,4,0.90548150000000005]
[null,null,null,{"$f":"O16","v":"BA3"},{"$f":"IF($C$2=1,(P16/(1+(Q16/(B$2-40))^R16)+S16)*VLOOKUP($C$2,$L$12:$M$18,2),1)","v":1.2564938156078598},{"$f":"IF($C$2=2,(P16/(1+(Q16/(B$2-40))^R16)+S16)*VLOOKUP($C$2,$L$12:$M$18,2),1)","v":1},{"$f":"IF($C$2=3,(P16/(1+(Q16/(B$2-40))^R16)+S16)*VLOOKUP($C$2,$L$12:$M$18,2),1)","v":1},{"$f":"IF($C$2=4,(P16/(1+(Q16/(B$2-40))^R16)+S16)*VLOOKUP($C$2,$L$12:$M$18,2),1)","v":1},{"$f":"IF($C$2=5,(P16/(1+(Q16/(B$2-40))^R16)+S16)*VLOOKUP($C$2,$L$12:$M$18,2),1)","v":1},{"$f":"IF($C$2=6,(P16/(1+(Q16/(B$2-40))^R16)+S16)*VLOOKUP($C$2,$L$12:$M$18,2),1)","v":1},{"$f":"IF($C$2=7,(P16/(1+(Q16/(B$2-40))^R16)+S16)*VLOOKUP($C$2,$L$12:$M$18,2),1)","v":1},5,1.1402000000000001,null,"BA3",0.62619619999999998,-33,5.7212303000000002,0.78556550000000003]
[null,null,null,{"$f":"O17","v":"BA4"},{"$f":"IF($C$2=1,(P17/(1+(Q17/(B$2-40))^R17)+S17)*VLOOKUP($C$2,$L$12:$M$18,2),1)","v":1.3088124178475224},{"$f":"IF($C$2=2,(P17/(1+(Q17/(B$2-40))^R17)+S17)*VLOOKUP($C$2,$L$12:$M$18,2),1)","v":1},{"$f":"IF($C$2=3,(P17/(1+(Q17/(B$2-40))^R17)+S17)*VLOOKUP($C$2,$L$12:$M$18,2),1)","v":1},{"$f":"IF($C$2=4,(P17/(1+(Q17/(B$2-40))^R17)+S17)*VLOOKUP($C$2,$L$12:$M$18,2),1)","v":1},{"$f":"IF($C$2=5,(P17/(1+(Q17/(B$2-40))^R17)+S17)*VLOOKUP($C$2,$L$12:$M$18,2),1)","v":1},{"$f":"IF($C$2=6,(P17/(1+(Q17/(B$2-40))^R17)+S17)*VLOOKUP($C$2,$L$12:$M$18,2),1)","v":1},{"$f":"IF($C$2=7,(P17/(1+(Q17/(B$2-40))^R17)+S17)*VLOOKUP($C$2,$L$12:$M$18,2),1)","v":1},6,0.48520000000000002,null,"BA4",0.93158890000000005,-33.35,5.7212303000000002,0.66564939999999995]
[null,null,null,{"$f":"O18","v":"BA5"},{"$f":"IF($C$2=1,(P18/(1+(Q18/(B$2-40))^R18)+S18)*VLOOKUP($C$2,$L$12:$M$18,2),1)","v":1.3295697042015988},{"$f":"IF($C$2=2,(P18/(1+(Q18/(B$2-40))^R18)+S18)*VLOOKUP($C$2,$L$12:$M$18,2),1)","v":1},{"$f":"IF($C$2=3,(P18/(1+(Q18/(B$2-40))^R18)+S18)*VLOOKUP($C$2,$L$12:$M$18,2),1)","v":1},{"$f":"IF($C$2=4,(P18/(1+(Q18/(B$2-40))^R18)+S18)*VLOOKUP($C$2,$L$12:$M$18,2),1)","v":1},{"$f":"IF($C$2=5,(P18/(1+(Q18/(B$2-40))^R18)+S18)*VLOOKUP($C$2,$L$12:$M$18,2),1)","v":1},{"$f":"IF($C$2=6,(P18/(1+(Q18/(B$2-40))^R18)+S18)*VLOOKUP($C$2,$L$12:$M$18,2),1)","v":1},{"$f":"IF($C$2=7,(P18/(1+(Q18/(B$2-40))^R18)+S18)*VLOOKUP($C$2,$L$12:$M$18,2),1)","v":1},7,0.95650000000000002,null,"BA5",1.2779567000000001,-34.517392000000001,5.7212303000000002,0.54573329999999998]
[]
[null,null,null,"Beherbergung",null,null,null,null,null,null,null,"Tagesfaktoren"]
[null,null,null,null,null,null,null,null,null,null,null,1,0.97670000000000001]
[null,null,null,null,"Montag","Dienstag","Mittwoch","Donnerstag","Freitag","Samstag","Sonntag",2,1.0388999999999999]
[null,null,null,{"$f":"O23","v":"BH1"},{"$f":"IF($C$2=1,(P23 / (1 + (Q23 / (B$2- 40)) ^ R23) + S23)*VLOOKUP($C$2,$L$21:$M$27,2),1)","v":1.1967642510259131},{"$f":"IF($C$2=2,(P23 / (1 + (Q23 / (B$2- 40)) ^ R23) + S23)*VLOOKUP($C$2,$L$21:$M$27,2),1)","v":1},{"$f":"IF($C$2=3,(P23 / (1 + (Q23 / (B$2- 40)) ^ R23) + S23)*VLOOKUP($C$2,$L$21:$M$27,2),1)","v":1},{"$f":"IF($C$2=4,(P23 / (1 + (Q23 / (B$2- 40)) ^ R23) + S23)*VLOOKUP($C$2,$L$21:$M$27,2),1)","v":1},{"$f":"IF($C$2=5,(P23 / (1 + (Q23 / (B$2- 40)) ^ R23) + S23)*VLOOKUP($C$2,$L$21:$M$27,2),1)","v":1},{"$f":"IF($C$2=6,(P23 / (1 + (Q23 / (B$2- 40)) ^ R23) + S23)*VLOOKUP($C$2,$L$21:$M$27,2),1)","v":1},{"$f":"IF($C$2=7,(P23 / (1 + (Q23 / (B$2- 40)) ^ R23) + S23)*VLOOKUP($C$2,$L$21:$M$27,2),1)","v":1},3,1.0027999999999999,null,"BH1",1.4771785693380666,-35.083444705006031,5.4123424650913723,0.47442640755103754]
[null,null,null,{"$f":"O24","v":"BH2"},{"$f":"IF($C$2=1,(P24 / (1 + (Q24 / (B$2- 40)) ^ R24) + S24)*VLOOKUP($C$2,$L$21:$M$27,2),1)","v":1.2611610940376863},{"$f":"IF($C$2=2,(P24 / (1 + (Q24 / (B$2- 40)) ^ R24) + S24)*VLOOKUP($C$2,$L$21:$M$27,2),1)","v":1},{"$f":"IF($C$2=3,(P24 / (1 + (Q24 / (B$2- 40)) ^ R24) + S24)*VLOOKUP($C$2,$L$21:$M$27,2),1)","v":1},{"$f":"IF($C$2=4,(P24 / (1 + (Q24 / (B$2- 40)) ^ R24) + S24)*VLOOKUP($C$2,$L$21:$M$27,2),1)","v":1},{"$f":"IF($C$2=5,(P24 / (1 + (Q24 / (B$2- 40)) ^ R24) + S24)*VLOOKUP($C$2,$L$21:$M$27,2),1)","v":1},{"$f":"IF($C$2=6,(P24 / (1 + (Q24 / (B$2- 40)) ^ R24) + S24)*VLOOKUP($C$2,$L$21:$M$27,2),1)","v":1},{"$f":"IF($C$2=7,(P24 / (1 + (Q24 / (B$2- 40)) ^ R24) + S24)*VLOOKUP($C$2,$L$21:$M$27,2),1)","v":1},4,1.0162,null,"BH2",1.7005279400832534,-35.15,6.1632738508567346,0.42982608508573394]
[null,null,null,{"$f":"O25","v":"BH3"},{"$f":"IF($C$2=1,(P25 / (1 + (Q25 / (B$2- 40)) ^ R25) + S25)*VLOOKUP($C$2,$L$21:$M$27,2),1)","v":1.3075082073138133},{"$f":"IF($C$2=2,(P25 / (1 + (Q25 / (B$2- 40)) ^ R25) + S25)*VLOOKUP($C$2,$L$21:$M$27,2),1)","v":1},{"$f":"IF($C$2=3,(P25 / (1 + (Q25 / (B$2- 40)) ^ R25) + S25)*VLOOKUP($C$2,$L$21:$M$27,2),1)","v":1},{"$f":"IF($C$2=4,(P25 / (1 + (Q25 / (B$2- 40)) ^ R25) + S25)*VLOOKUP($C$2,$L$21:$M$27,2),1)","v":1},{"$f":"IF($C$2=5,(P25 / (1 + (Q25 / (B$2- 40)) ^ R25) + S25)*VLOOKUP($C$2,$L$21:$M$27,2),1)","v":1},{"$f":"IF($C$2=6,(P25 / (1 + (Q25 / (B$2- 40)) ^ R25) + S25)*VLOOKUP($C$2,$L$21:$M$27,2),1)","v":1},{"$f":"IF($C$2=7,(P25 / (1 + (Q25 / (B$2- 40)) ^ R25) + S25)*VLOOKUP($C$2,$L$21:$M$27,2),1)","v":1},5,1.0024,null,"BH3",2.0102471724933149,-35.253212345999032,6.1544406413126556,0.32947409744332495]
[null,null,null,{"$f":"O26","v":"BH4"},{"$f":"IF($C$2=1,(P26 / (1 + (Q26 / (B$2- 40)) ^ R26) + S26)*VLOOKUP($C$2,$L$21:$M$27,2),1)","v":1.3668301601903476},{"$f":"IF($C$2=2,(P26 / (1 + (Q26 / (B$2- 40)) ^ R26) + S26)*VLOOKUP($C$2,$L$21:$M$27,2),1)","v":1},{"$f":"IF($C$2=3,(P26 / (1 + (Q26 / (B$2- 40)) ^ R26) + S26)*VLOOKUP($C$2,$L$21:$M$27,2),1)","v":1},{"$f":"IF($C$2=4,(P26 / (1 + (Q26 / (B$2- 40)) ^ R26) + S26)*VLOOKUP($C$2,$L$21:$M$27,2),1)","v":1},{"$f":"IF($C$2=5,(P26 / (1 + (Q26 / (B$2- 40)) ^ R26) + S26)*VLOOKUP($C$2,$L$21:$M$27,2),1)","v":1},{"$f":"IF($C$2=6,(P26 / (1 + (Q26 / (B$2- 40)) ^ R26) + S26)*VLOOKUP($C$2,$L$21:$M$27,2),1)","v":1},{"$f":"IF($C$2=7,(P26 / (1 + (Q26 / (B$2- 40)) ^ R26) + S26)*VLOOKUP($C$2,$L$21:$M$27,2),1)","v":1},6,1.0043,null,"BH4",2.4595180614118179,-35.253212345999032,6.0587000723760518,0.16473704872166248]
[null,null,null,{"$f":"O27","v":"BH5"},{"$f":"IF($C$2=1,(P27 / (1 + (Q27 / (B$2- 40)) ^ R27) + S27)*VLOOKUP($C$2,$L$21:$M$27,2),1)","v":1.3976529280569885},{"$f":"IF($C$2=2,(P27 / (1 + (Q27 / (B$2- 40)) ^ R27) + S27)*VLOOKUP($C$2,$L$21:$M$27,2),1)","v":1},{"$f":"IF($C$2=3,(P27 / (1 + (Q27 / (B$2- 40)) ^ R27) + S27)*VLOOKUP($C$2,$L$21:$M$27,2),1)","v":1},{"$f":"IF($C$2=4,(P27 / (1 + (Q27 / (B$2- 40)) ^ R27) + S27)*VLOOKUP($C$2,$L$21:$M$27,2),1)","v":1},{"$f":"IF($C$2=5,(P27 / (1 + (Q27 / (B$2- 40)) ^ R27) + S27)*VLOOKUP($C$2,$L$21:$M$27,2),1)","v":1},{"$f":"IF($C$2=6,(P27 / (1 + (Q27 / (B$2- 40)) ^ R27) + S27)*VLOOKUP($C$2,$L$21:$M$27,2),1)","v":1},{"$f":"IF($C$2=7,(P27 / (1 + (Q27 / (B$2- 40)) ^ R27) + S27)*VLOOKUP($C$2,$L$21:$M$27,2),1)","v":1},7,0.9587,null,"BH5",2.98,-35.799999999999997,5.6340580619403084,0]
[null,null,null,{"$f":"IF(A28=\"\",\"\",WEEKDAY(A28,2))","v":""}]
[null,null,null,"Gartenbau",null,null,null,null,null,null,null,"Tagesfaktoren"]
[null,null,null,{"$f":"IF(A30=\"\",\"\",WEEKDAY(A30,2))","v":""},null,null,null,null,null,null,null,1,0.98970000000000002]
[null,null,null,null,"Montag","Dienstag","Mittwoch","Donnerstag","Freitag","Samstag","Sonntag",2,0.9627]
[null,null,null,{"$f":"O32","v":"GB1"},{"$f":"IF($C$2=1,(P32 / (1 + (Q32 / (B$2- 40)) ^ R32) + S32)*VLOOKUP($C$2,$L$30:$M$36,2),1)","v":1.3090140921019393},{"$f":"IF($C$2=2,(P32 / (1 + (Q32 / (B$2- 40)) ^ R32) + S32)*VLOOKUP($C$2,$L$30:$M$36,2),1)","v":1},{"$f":"IF($C$2=3,(P32 / (1 + (Q32 / (B$2- 40)) ^ R32) + S32)*VLOOKUP($C$2,$L$30:$M$36,2),1)","v":1},{"$f":"IF($C$2=4,(P32 / (1 + (Q32 / (B$2- 40)) ^ R32) + S32)*VLOOKUP($C$2,$L$30:$M$36,2),1)","v":1},{"$f":"IF($C$2=5,(P32 / (1 + (Q32 / (B$2- 40)) ^ R32) + S32)*VLOOKUP($C$2,$L$30:$M$36,2),1)","v":1},{"$f":"IF($C$2=6,(P32 / (1 + (Q32 / (B$2- 40)) ^ R32) + S32)*VLOOKUP($C$2,$L$30:$M$36,2),1)","v":1},{"$f":"IF($C$2=7,(P32 / (1 + (Q32 / (B$2- 40)) ^ R32) + S32)*VLOOKUP($C$2,$L$30:$M$36,2),1)","v":1},3,1.0507,null,"GB1",3.1761944757743148,-40.836660862235135,3.678589174021583,0.15021557608217395]
[null,null,null,{"$f":"O33","v":"GB2"},{"$f":"IF($C$2=1,(P33 / (1 + (Q33 / (B$2- 40)) ^ R33) + S33)*VLOOKUP($C$2,$L$30:$M$36,2),1)","v":1.3648071180312211},{"$f":"IF($C$2=2,(P33 / (1 + (Q33 / (B$2- 40)) ^ R33) + S33)*VLOOKUP($C$2,$L$30:$M$36,2),1)","v":1},{"$f":"IF($C$2=3,(P33 / (1 + (Q33 / (B$2- 40)) ^ R33) + S33)*VLOOKUP($C$2,$L$30:$M$36,2),1)","v":1},{"$f":"IF($C$2=4,(P33 / (1 + (Q33 / (B$2- 40)) ^ R33) + S33)*VLOOKUP($C$2,$L$30:$M$36,2),1)","v":1},{"$f":"IF($C$2=5,(P33 / (1 + (Q33 / (B$2- 40)) ^ R33) + S33)*VLOOKUP($C$2,$L$30:$M$36,2),1)","v":1},{"$f":"IF($C$2=6,(P33 / (1 + (Q33 / (B$2- 40)) ^ R33) + S33)*VLOOKUP($C$2,$L$30:$M$36,2),1)","v":1},{"$f":"IF($C$2=7,(P33 / (1 + (Q33 / (B$2- 40)) ^ R33) + S33)*VLOOKUP($C$2,$L$30:$M$36,2),1)","v":1},4,1.0551999999999999,null,"GB2",3.3904645063582133,-39.287521644079078,4.490574046149538,8.3478316675010766E-2]
[null,null,null,{"$f":"O34","v":"GB3"},{"$f":"IF($C$2=1,(P34 / (1 + (Q34 / (B$2- 40)) ^ R34) + S34)*VLOOKUP($C$2,$L$30:$M$36,2),1)","v":1.3921118618309898},{"$f":"IF($C$2=2,(P34 / (1 + (Q34 / (B$2- 40)) ^ R34) + S34)*VLOOKUP($C$2,$L$30:$M$36,2),1)","v":1},{"$f":"IF($C$2=3,(P34 / (1 + (Q34 / (B$2- 40)) ^ R34) + S34)*VLOOKUP($C$2,$L$30:$M$36,2),1)","v":1},{"$f":"IF($C$2=4,(P34 / (1 + (Q34 / (B$2- 40)) ^ R34) + S34)*VLOOKUP($C$2,$L$30:$M$36,2),1)","v":1},{"$f":"IF($C$2=5,(P34 / (1 + (Q34 / (B$2- 40)) ^ R34) + S34)*VLOOKUP($C$2,$L$30:$M$36,2),1)","v":1},{"$f":"IF($C$2=6,(P34 / (1 + (Q34 / (B$2- 40)) ^ R34) + S34)*VLOOKUP($C$2,$L$30:$M$36,2),1)","v":1},{"$f":"IF($C$2=7,(P34 / (1 + (Q34 / (B$2- 40)) ^ R34) + S34)*VLOOKUP($C$2,$L$30:$M$36,2),1)","v":1},5,1.0297000000000001,null,"GB3",3.2572742131993824,-37.5,6.3462147948610568,8.6622649540180008E-2]
[null,null,null,{"$f":"O35","v":"GB4"},{"$f":"IF($C$2=1,(P35 / (1 + (Q35 / (B$2- 40)) ^ R35) + S35)*VLOOKUP($C$2,$L$30:$M$36,2),1)","v":1.4058619486540334},{"$f":"IF($C$2=2,(P35 / (1 + (Q35 / (B$2- 40)) ^ R35) + S35)*VLOOKUP($C$2,$L$30:$M$36,2),1)","v":1},{"$f":"IF($C$2=3,(P35 / (1 + (Q35 / (B$2- 40)) ^ R35) + S35)*VLOOKUP($C$2,$L$30:$M$36,2),1)","v":1},{"$f":"IF($C$2=4,(P35 / (1 + (Q35 / (B$2- 40)) ^ R35) + S35)*VLOOKUP($C$2,$L$30:$M$36,2),1)","v":1},{"$f":"IF($C$2=5,(P35 / (1 + (Q35 / (B$2- 40)) ^ R35) + S35)*VLOOKUP($C$2,$L$30:$M$36,2),1)","v":1},{"$f":"IF($C$2=6,(P35 / (1 + (Q35 / (B$2- 40)) ^ R35) + S35)*VLOOKUP($C$2,$L$30:$M$36,2),1)","v":1},{"$f":"IF($C$2=7,(P35 / (1 + (Q35 / (B$2- 40)) ^ R35) + S35)*VLOOKUP($C$2,$L$30:$M$36,2),1)","v":1},6,0.97670000000000001,null,"GB4",3.6017735622941274,-37.8825368442863,6.9836070287510275,5.4826186269183036E-2]
[null,null,null,{"$f":"O36","v":"GB5"},{"$f":"IF($C$2=1,(P36 / (1 + (Q36 / (B$2- 40)) ^ R36) + S36)*VLOOKUP($C$2,$L$30:$M$36,2),1)","v":1.4104816719646436},{"$f":"IF($C$2=2,(P36 / (1 + (Q36 / (B$2- 40)) ^ R36) + S36)*VLOOKUP($C$2,$L$30:$M$36,2),1)","v":1},{"$f":"IF($C$2=3,(P36 / (1 + (Q36 / (B$2- 40)) ^ R36) + S36)*VLOOKUP($C$2,$L$30:$M$36,2),1)","v":1},{"$f":"IF($C$2=4,(P36 / (1 + (Q36 / (B$2- 40)) ^ R36) + S36)*VLOOKUP($C$2,$L$30:$M$36,2),1)","v":1},{"$f":"IF($C$2=5,(P36 / (1 + (Q36 / (B$2- 40)) ^ R36) + S36)*VLOOKUP($C$2,$L$30:$M$36,2),1)","v":1},{"$f":"IF($C$2=6,(P36 / (1 + (Q36 / (B$2- 40)) ^ R36) + S36)*VLOOKUP($C$2,$L$30:$M$36,2),1)","v":1},{"$f":"IF($C$2=7,(P36 / (1 + (Q36 / (B$2- 40)) ^ R36) + S36)*VLOOKUP($C$2,$L$30:$M$36,2),1)","v":1},7,0.93530000000000002,null,"GB5",3.9320532484442952,-38.143324819633634,7.6185870984028208,2.3029722998186071E-2]
[]
[null,null,null,"Gebietskörpersch., Kreditinst. u. Versich., Org. o. Erwerbszw. & öff. Einr.",null,null,null,null,null,null,null,"Tagesfaktoren"]
[null,null,null,{"$f":"IF(A39=\"\",\"\",WEEKDAY(A39,2))","v":""},null,null,null,null,null,null,null,1,1.0354000000000001]
[null,null,null,null,"Montag","Dienstag","Mittwoch","Donnerstag","Freitag","Samstag","Sonntag",2,1.0523]
[null,null,null,{"$f":"O41","v":"KO1"},{"$f":"IF($C$2=1,(P41 / (1 + (Q41 / (B$2- 40)) ^ R41) + S41)*VLOOKUP($C$2,$L$39:$M$45,2),1)","v":1.3243823922017464},{"$f":"IF($C$2=2,(P41 / (1 + (Q41 / (B$2- 40)) ^ R41) + S41)*VLOOKUP($C$2,$L$39:$M$45,2),1)","v":1},{"$f":"IF($C$2=3,(P41 / (1 + (Q41 / (B$2- 40)) ^ R41) + S41)*VLOOKUP($C$2,$L$39:$M$45,2),1)","v":1},{"$f":"IF($C$2=4,(P41 / (1 + (Q41 / (B$2- 40)) ^ R41) + S41)*VLOOKUP($C$2,$L$39:$M$45,2),1)","v":1},{"$f":"IF($C$2=5,(P41 / (1 + (Q41 / (B$2- 40)) ^ R41) + S41)*VLOOKUP($C$2,$L$39:$M$45,2),1)","v":1},{"$f":"IF($C$2=6,(P41 / (1 + (Q41 / (B$2- 40)) ^ R41) + S41)*VLOOKUP($C$2,$L$39:$M$45,2),1)","v":1},{"$f":"IF($C$2=7,(P41 / (1 + (Q41 / (B$2- 40)) ^ R41) + S41)*VLOOKUP($C$2,$L$39:$M$45,2),1)","v":1},3,1.0448999999999999,null,"KO1",1.4159571,-30.842519200000002,6.4091228914212213,0.28264011170173492]
[null,null,null,{"$f":"O42","v":"KO2"},{"$f":"IF($C$2=1,(P42 / (1 + (Q42 / (B$2- 40)) ^ R42) + S42)*VLOOKUP($C$2,$L$39:$M$45,2),1)","v":1.4831355762631477},{"$f":"IF($C$2=2,(P42 / (1 + (Q42 / (B$2- 40)) ^ R42) + S42)*VLOOKUP($C$2,$L$39:$M$45,2),1)","v":1},{"$f":"IF($C$2=3,(P42 / (1 + (Q42 / (B$2- 40)) ^ R42) + S42)*VLOOKUP($C$2,$L$39:$M$45,2),1)","v":1},{"$f":"IF($C$2=4,(P42 / (1 + (Q42 / (B$2- 40)) ^ R42) + S42)*VLOOKUP($C$2,$L$39:$M$45,2),1)","v":1},{"$f":"IF($C$2=5,(P42 / (1 + (Q42 / (B$2- 40)) ^ R42) + S42)*VLOOKUP($C$2,$L$39:$M$45,2),1)","v":1},{"$f":"IF($C$2=6,(P42 / (1 + (Q42 / (B$2- 40)) ^ R42) + S42)*VLOOKUP($C$2,$L$39:$M$45,2),1)","v":1},{"$f":"IF($C$2=7,(P42 / (1 + (Q42 / (B$2- 40)) ^ R42) + S42)*VLOOKUP($C$2,$L$39:$M$45,2),1)","v":1},4,1.0494000000000001,null,"KO2",2.0660501,-33.601652000000001,6.6753609999999997,0.23091249999999999]
[null,null,null,{"$f":"O43","v":"KO3"},{"$f":"IF($C$2=1,(P43 / (1 + (Q43 / (B$2- 40)) ^ R43) + S43)*VLOOKUP($C$2,$L$39:$M$45,2),1)","v":1.5761799654420481},{"$f":"IF($C$2=2,(P43 / (1 + (Q43 / (B$2- 40)) ^ R43) + S43)*VLOOKUP($C$2,$L$39:$M$45,2),1)","v":1},{"$f":"IF($C$2=3,(P43 / (1 + (Q43 / (B$2- 40)) ^ R43) + S43)*VLOOKUP($C$2,$L$39:$M$45,2),1)","v":1},{"$f":"IF($C$2=4,(P43 / (1 + (Q43 / (B$2- 40)) ^ R43) + S43)*VLOOKUP($C$2,$L$39:$M$45,2),1)","v":1},{"$f":"IF($C$2=5,(P43 / (1 + (Q43 / (B$2- 40)) ^ R43) + S43)*VLOOKUP($C$2,$L$39:$M$45,2),1)","v":1},{"$f":"IF($C$2=6,(P43 / (1 + (Q43 / (B$2- 40)) ^ R43) + S43)*VLOOKUP($C$2,$L$39:$M$45,2),1)","v":1},{"$f":"IF($C$2=7,(P43 / (1 + (Q43 / (B$2- 40)) ^ R43) + S43)*VLOOKUP($C$2,$L$39:$M$45,2),1)","v":1},5,0.98850000000000005,null,"KO3",2.7172288,-35.141256300000002,7.1303394999999998,0.14184720000000001]
[null,null,null,{"$f":"O44","v":"KO4"},{"$f":"IF($C$2=1,(P44 / (1 + (Q44 / (B$2- 40)) ^ R44) + S44)*VLOOKUP($C$2,$L$39:$M$45,2),1)","v":1.6053152517204505},{"$f":"IF($C$2=2,(P44 / (1 + (Q44 / (B$2- 40)) ^ R44) + S44)*VLOOKUP($C$2,$L$39:$M$45,2),1)","v":1},{"$f":"IF($C$2=3,(P44 / (1 + (Q44 / (B$2- 40)) ^ R44) + S44)*VLOOKUP($C$2,$L$39:$M$45,2),1)","v":1},{"$f":"IF($C$2=4,(P44 / (1 + (Q44 / (B$2- 40)) ^ R44) + S44)*VLOOKUP($C$2,$L$39:$M$45,2),1)","v":1},{"$f":"IF($C$2=5,(P44 / (1 + (Q44 / (B$2- 40)) ^ R44) + S44)*VLOOKUP($C$2,$L$39:$M$45,2),1)","v":1},{"$f":"IF($C$2=6,(P44 / (1 + (Q44 / (B$2- 40)) ^ R44) + S44)*VLOOKUP($C$2,$L$39:$M$45,2),1)","v":1},{"$f":"IF($C$2=7,(P44 / (1 + (Q44 / (B$2- 40)) ^ R44) + S44)*VLOOKUP($C$2,$L$39:$M$45,2),1)","v":1},6,0.88600000000000001,null,"KO4",3.4428942999999999,-36.659050399999998,7.6083226000000002,7.4685000000000001E-2]
[null,null,null,{"$f":"O45","v":"KO5"},{"$f":"IF($C$2=1,(P45 / (1 + (Q45 / (B$2- 40)) ^ R45) + S45)*VLOOKUP($C$2,$L$39:$M$45,2),1)","v":1.5159645004289939},{"$f":"IF($C$2=2,(P45 / (1 + (Q45 / (B$2- 40)) ^ R45) + S45)*VLOOKUP($C$2,$L$39:$M$45,2),1)","v":1},{"$f":"IF($C$2=3,(P45 / (1 + (Q45 / (B$2- 40)) ^ R45) + S45)*VLOOKUP($C$2,$L$39:$M$45,2),1)","v":1},{"$f":"IF($C$2=4,(P45 / (1 + (Q45 / (B$2- 40)) ^ R45) + S45)*VLOOKUP($C$2,$L$39:$M$45,2),1)","v":1},{"$f":"IF($C$2=5,(P45 / (1 + (Q45 / (B$2- 40)) ^ R45) + S45)*VLOOKUP($C$2,$L$39:$M$45,2),1)","v":1},{"$f":"IF($C$2=6,(P45 / (1 + (Q45 / (B$2- 40)) ^ R45) + S45)*VLOOKUP($C$2,$L$39:$M$45,2),1)","v":1},{"$f":"IF($C$2=7,(P45 / (1 + (Q45 / (B$2- 40)) ^ R45) + S45)*VLOOKUP($C$2,$L$39:$M$45,2),1)","v":1},7,0.94350000000000001,null,"KO5",4.3624833000000001,-38.6634022,7.5974643999999998,8.3263999999999994E-3]
[]
[null,null,null,"Einzelhandel, Großhandel",null,null,null,null,null,null,null,"Tagesfaktoren"]
[null,null,null,{"$f":"IF(A48=\"\",\"\",WEEKDAY(A48,2))","v":""},null,null,null,null,null,null,null,1,1.0358000000000001]
[null,null,null,null,"Montag","Dienstag","Mittwoch","Donnerstag","Freitag","Samstag","Sonntag",2,1.0232000000000001]
[null,null,null,{"$f":"O50","v":"HA1"},{"$f":"IF($C$2=1,(P50 / (1 + (Q50 / (B$2- 40)) ^ R50) + S50)*VLOOKUP($C$2,$L$48:$M$54,2),1)","v":1.4412942185565509},{"$f":"IF($C$2=2,(P50 / (1 + (Q50 / (B$2- 40)) ^ R50) + S50)*VLOOKUP($C$2,$L$48:$M$54,2),1)","v":1},{"$f":"IF($C$2=3,(P50 / (1 + (Q50 / (B$2- 40)) ^ R50) + S50)*VLOOKUP($C$2,$L$48:$M$54,2),1)","v":1},{"$f":"IF($C$2=4,(P50 / (1 + (Q50 / (B$2- 40)) ^ R50) + S50)*VLOOKUP($C$2,$L$48:$M$54,2),1)","v":1},{"$f":"IF($C$2=5,(P50 / (1 + (Q50 / (B$2- 40)) ^ R50) + S50)*VLOOKUP($C$2,$L$48:$M$54,2),1)","v":1},{"$f":"IF($C$2=6,(P50 / (1 + (Q50 / (B$2- 40)) ^ R50) + S50)*VLOOKUP($C$2,$L$48:$M$54,2),1)","v":1},{"$f":"IF($C$2=7,(P50 / (1 + (Q50 / (B$2- 40)) ^ R50) + S50)*VLOOKUP($C$2,$L$48:$M$54,2),1)","v":1},3,1.0251999999999999,null,"HA1",2.3742828,-34.759550099999998,5.9987037000000001,0.14944109999999999]
[null,null,null,{"$f":"O51","v":"HA2"},{"$f":"IF($C$2=1,(P51 / (1 + (Q51 / (B$2- 40)) ^ R51) + S51)*VLOOKUP($C$2,$L$48:$M$54,2),1)","v":1.5508946999820554},{"$f":"IF($C$2=2,(P51 / (1 + (Q51 / (B$2- 40)) ^ R51) + S51)*VLOOKUP($C$2,$L$48:$M$54,2),1)","v":1},{"$f":"IF($C$2=3,(P51 / (1 + (Q51 / (B$2- 40)) ^ R51) + S51)*VLOOKUP($C$2,$L$48:$M$54,2),1)","v":1},{"$f":"IF($C$2=4,(P51 / (1 + (Q51 / (B$2- 40)) ^ R51) + S51)*VLOOKUP($C$2,$L$48:$M$54,2),1)","v":1},{"$f":"IF($C$2=5,(P51 / (1 + (Q51 / (B$2- 40)) ^ R51) + S51)*VLOOKUP($C$2,$L$48:$M$54,2),1)","v":1},{"$f":"IF($C$2=6,(P51 / (1 + (Q51 / (B$2- 40)) ^ R51) + S51)*VLOOKUP($C$2,$L$48:$M$54,2),1)","v":1},{"$f":"IF($C$2=7,(P51 / (1 + (Q51 / (B$2- 40)) ^ R51) + S51)*VLOOKUP($C$2,$L$48:$M$54,2),1)","v":1},4,1.0295000000000001,null,"HA2",2.8544749,-35.629423099999997,7.0058264000000001,0.1164772]
[null,null,null,{"$f":"O52","v":"HA3"},{"$f":"IF($C$2=1,(P52 / (1 + (Q52 / (B$2- 40)) ^ R52) + S52)*VLOOKUP($C$2,$L$48:$M$54,2),1)","v":1.5951097779539332},{"$f":"IF($C$2=2,(P52 / (1 + (Q52 / (B$2- 40)) ^ R52) + S52)*VLOOKUP($C$2,$L$48:$M$54,2),1)","v":1},{"$f":"IF($C$2=3,(P52 / (1 + (Q52 / (B$2- 40)) ^ R52) + S52)*VLOOKUP($C$2,$L$48:$M$54,2),1)","v":1},{"$f":"IF($C$2=4,(P52 / (1 + (Q52 / (B$2- 40)) ^ R52) + S52)*VLOOKUP($C$2,$L$48:$M$54,2),1)","v":1},{"$f":"IF($C$2=5,(P52 / (1 + (Q52 / (B$2- 40)) ^ R52) + S52)*VLOOKUP($C$2,$L$48:$M$54,2),1)","v":1},{"$f":"IF($C$2=6,(P52 / (1 + (Q52 / (B$2- 40)) ^ R52) + S52)*VLOOKUP($C$2,$L$48:$M$54,2),1)","v":1},{"$f":"IF($C$2=7,(P52 / (1 + (Q52 / (B$2- 40)) ^ R52) + S52)*VLOOKUP($C$2,$L$48:$M$54,2),1)","v":1},5,1.0253000000000001,null,"HA3",3.5811213999999998,-36.965006500000001,7.2256947,4.4841600000000002E-2]
[null,null,null,{"$f":"O53","v":"HA4"},{"$f":"IF($C$2=1,(P53 / (1 + (Q53 / (B$2- 40)) ^ R53) + S53)*VLOOKUP($C$2,$L$48:$M$54,2),1)","v":1.558407745067951},{"$f":"IF($C$2=2,(P53 / (1 + (Q53 / (B$2- 40)) ^ R53) + S53)*VLOOKUP($C$2,$L$48:$M$54,2),1)","v":1},{"$f":"IF($C$2=3,(P53 / (1 + (Q53 / (B$2- 40)) ^ R53) + S53)*VLOOKUP($C$2,$L$48:$M$54,2),1)","v":1},{"$f":"IF($C$2=4,(P53 / (1 + (Q53 / (B$2- 40)) ^ R53) + S53)*VLOOKUP($C$2,$L$48:$M$54,2),1)","v":1},{"$f":"IF($C$2=5,(P53 / (1 + (Q53 / (B$2- 40)) ^ R53) + S53)*VLOOKUP($C$2,$L$48:$M$54,2),1)","v":1},{"$f":"IF($C$2=6,(P53 / (1 + (Q53 / (B$2- 40)) ^ R53) + S53)*VLOOKUP($C$2,$L$48:$M$54,2),1)","v":1},{"$f":"IF($C$2=7,(P53 / (1 + (Q53 / (B$2- 40)) ^ R53) + S53)*VLOOKUP($C$2,$L$48:$M$54,2),1)","v":1},6,0.96750000000000003,null,"HA4",4.0196902000000003,-37.828203700000003,8.1593368999999996,4.72845E-2]
[null,null,null,{"$f":"O54","v":"HA5"},{"$f":"IF($C$2=1,(P54 / (1 + (Q54 / (B$2- 40)) ^ R54) + S54)*VLOOKUP($C$2,$L$48:$M$54,2),1)","v":1.4331592370387678},{"$f":"IF($C$2=2,(P54 / (1 + (Q54 / (B$2- 40)) ^ R54) + S54)*VLOOKUP($C$2,$L$48:$M$54,2),1)","v":1},{"$f":"IF($C$2=3,(P54 / (1 + (Q54 / (B$2- 40)) ^ R54) + S54)*VLOOKUP($C$2,$L$48:$M$54,2),1)","v":1},{"$f":"IF($C$2=4,(P54 / (1 + (Q54 / (B$2- 40)) ^ R54) + S54)*VLOOKUP($C$2,$L$48:$M$54,2),1)","v":1},{"$f":"IF($C$2=5,(P54 / (1 + (Q54 / (B$2- 40)) ^ R54) + S54)*VLOOKUP($C$2,$L$48:$M$54,2),1)","v":1},{"$f":"IF($C$2=6,(P54 / (1 + (Q54 / (B$2- 40)) ^ R54) + S54)*VLOOKUP($C$2,$L$48:$M$54,2),1)","v":1},{"$f":"IF($C$2=7,(P54 / (1 + (Q54 / (B$2- 40)) ^ R54) + S54)*VLOOKUP($C$2,$L$48:$M$54,2),1)","v":1},7,0.89349999999999996,null,"HA5",4.8252376000000003,-39.280256399999999,8.6240217000000001,9.9944999999999999E-3]
[]
[null,null,null,"Metall, Kfz",null,null,null,null,null,null,null,"Tagesfaktoren"]
[null,null,null,{"$f":"IF(A57=\"\",\"\",WEEKDAY(A57,2))","v":""},null,null,null,null,null,null,null,1,1.0699000000000001]
[null,null,null,null,"Montag","Dienstag","Mittwoch","Donnerstag","Freitag","Samstag","Sonntag",2,1.0365]
[null,null,null,{"$f":"O59","v":"MK1"},{"$f":"IF($C$2=1,(P59 / (1 + (Q59 / (B$2- 40)) ^ R59) + S59)*VLOOKUP($C$2,$L$57:$M$63,2),1)","v":1.5306829621026781},{"$f":"IF($C$2=2,(P59 / (1 + (Q59 / (B$2- 40)) ^ R59) + S59)*VLOOKUP($C$2,$L$57:$M$63,2),1)","v":1},{"$f":"IF($C$2=3,(P59 / (1 + (Q59 / (B$2- 40)) ^ R59) + S59)*VLOOKUP($C$2,$L$57:$M$63,2),1)","v":1},{"$f":"IF($C$2=4,(P59 / (1 + (Q59 / (B$2- 40)) ^ R59) + S59)*VLOOKUP($C$2,$L$57:$M$63,2),1)","v":1},{"$f":"IF($C$2=5,(P59 / (1 + (Q59 / (B$2- 40)) ^ R59) + S59)*VLOOKUP($C$2,$L$57:$M$63,2),1)","v":1},{"$f":"IF($C$2=6,(P59 / (1 + (Q59 / (B$2- 40)) ^ R59) + S59)*VLOOKUP($C$2,$L$57:$M$63,2),1)","v":1},{"$f":"IF($C$2=7,(P59 / (1 + (Q59 / (B$2- 40)) ^ R59) + S59)*VLOOKUP($C$2,$L$57:$M$63,2),1)","v":1},3,0.99329999999999996,null,"MK1",1.8644533999999999,-30.7071632,6.4626937,0.10483389999999999]
[null,null,null,{"$f":"O60","v":"MK2"},{"$f":"IF($C$2=1,(P60 / (1 + (Q60 / (B$2- 40)) ^ R60) + S60)*VLOOKUP($C$2,$L$57:$M$63,2),1)","v":1.5545044471172},{"$f":"IF($C$2=2,(P60 / (1 + (Q60 / (B$2- 40)) ^ R60) + S60)*VLOOKUP($C$2,$L$57:$M$63,2),1)","v":1},{"$f":"IF($C$2=3,(P60 / (1 + (Q60 / (B$2- 40)) ^ R60) + S60)*VLOOKUP($C$2,$L$57:$M$63,2),1)","v":1},{"$f":"IF($C$2=4,(P60 / (1 + (Q60 / (B$2- 40)) ^ R60) + S60)*VLOOKUP($C$2,$L$57:$M$63,2),1)","v":1},{"$f":"IF($C$2=5,(P60 / (1 + (Q60 / (B$2- 40)) ^ R60) + S60)*VLOOKUP($C$2,$L$57:$M$63,2),1)","v":1},{"$f":"IF($C$2=6,(P60 / (1 + (Q60 / (B$2- 40)) ^ R60) + S60)*VLOOKUP($C$2,$L$57:$M$63,2),1)","v":1},{"$f":"IF($C$2=7,(P60 / (1 + (Q60 / (B$2- 40)) ^ R60) + S60)*VLOOKUP($C$2,$L$57:$M$63,2),1)","v":1},4,0.99480000000000002,null,"MK2",2.2908184,-33.147686700000001,6.3714765,8.1002299999999999E-2]
[null,null,null,{"$f":"O61","v":"MK3"},{"$f":"IF($C$2=1,(P61 / (1 + (Q61 / (B$2- 40)) ^ R61) + S61)*VLOOKUP($C$2,$L$57:$M$63,2),1)","v":1.6081356649108671},{"$f":"IF($C$2=2,(P61 / (1 + (Q61 / (B$2- 40)) ^ R61) + S61)*VLOOKUP($C$2,$L$57:$M$63,2),1)","v":1},{"$f":"IF($C$2=3,(P61 / (1 + (Q61 / (B$2- 40)) ^ R61) + S61)*VLOOKUP($C$2,$L$57:$M$63,2),1)","v":1},{"$f":"IF($C$2=4,(P61 / (1 + (Q61 / (B$2- 40)) ^ R61) + S61)*VLOOKUP($C$2,$L$57:$M$63,2),1)","v":1},{"$f":"IF($C$2=5,(P61 / (1 + (Q61 / (B$2- 40)) ^ R61) + S61)*VLOOKUP($C$2,$L$57:$M$63,2),1)","v":1},{"$f":"IF($C$2=6,(P61 / (1 + (Q61 / (B$2- 40)) ^ R61) + S61)*VLOOKUP($C$2,$L$57:$M$63,2),1)","v":1},{"$f":"IF($C$2=7,(P61 / (1 + (Q61 / (B$2- 40)) ^ R61) + S61)*VLOOKUP($C$2,$L$57:$M$63,2),1)","v":1},5,1.0659000000000001,null,"MK3",2.7882424000000001,-34.880612999999997,6.5951899000000003,5.4032900000000002E-2]
[null,null,null,{"$f":"O62","v":"MK4"},{"$f":"IF($C$2=1,(P62 / (1 + (Q62 / (B$2- 40)) ^ R62) + S62)*VLOOKUP($C$2,$L$57:$M$63,2),1)","v":1.6039817576066491},{"$f":"IF($C$2=2,(P62 / (1 + (Q62 / (B$2- 40)) ^ R62) + S62)*VLOOKUP($C$2,$L$57:$M$63,2),1)","v":1},{"$f":"IF($C$2=3,(P62 / (1 + (Q62 / (B$2- 40)) ^ R62) + S62)*VLOOKUP($C$2,$L$57:$M$63,2),1)","v":1},{"$f":"IF($C$2=4,(P62 / (1 + (Q62 / (B$2- 40)) ^ R62) + S62)*VLOOKUP($C$2,$L$57:$M$63,2),1)","v":1},{"$f":"IF($C$2=5,(P62 / (1 + (Q62 / (B$2- 40)) ^ R62) + S62)*VLOOKUP($C$2,$L$57:$M$63,2),1)","v":1},{"$f":"IF($C$2=6,(P62 / (1 + (Q62 / (B$2- 40)) ^ R62) + S62)*VLOOKUP($C$2,$L$57:$M$63,2),1)","v":1},{"$f":"IF($C$2=7,(P62 / (1 + (Q62 / (B$2- 40)) ^ R62) + S62)*VLOOKUP($C$2,$L$57:$M$63,2),1)","v":1},6,0.93620000000000003,null,"MK4",3.1177248,-35.871506199999999,7.5186828999999999,3.4330100000000002E-2]
[null,null,null,{"$f":"O63","v":"MK5"},{"$f":"IF($C$2=1,(P63 / (1 + (Q63 / (B$2- 40)) ^ R63) + S63)*VLOOKUP($C$2,$L$57:$M$63,2),1)","v":1.5503245061948461},{"$f":"IF($C$2=2,(P63 / (1 + (Q63 / (B$2- 40)) ^ R63) + S63)*VLOOKUP($C$2,$L$57:$M$63,2),1)","v":1},{"$f":"IF($C$2=3,(P63 / (1 + (Q63 / (B$2- 40)) ^ R63) + S63)*VLOOKUP($C$2,$L$57:$M$63,2),1)","v":1},{"$f":"IF($C$2=4,(P63 / (1 + (Q63 / (B$2- 40)) ^ R63) + S63)*VLOOKUP($C$2,$L$57:$M$63,2),1)","v":1},{"$f":"IF($C$2=5,(P63 / (1 + (Q63 / (B$2- 40)) ^ R63) + S63)*VLOOKUP($C$2,$L$57:$M$63,2),1)","v":1},{"$f":"IF($C$2=6,(P63 / (1 + (Q63 / (B$2- 40)) ^ R63) + S63)*VLOOKUP($C$2,$L$57:$M$63,2),1)","v":1},{"$f":"IF($C$2=7,(P63 / (1 + (Q63 / (B$2- 40)) ^ R63) + S63)*VLOOKUP($C$2,$L$57:$M$63,2),1)","v":1},7,0.90339999999999998,null,"MK5",3.5862354999999999,-37.0802993,8.2420571999999996,1.4600800000000001E-2]
[]
[null,null,null,"sonst. betr. Dienstleistungen",null,null,null,null,null,null,null,"Tagesfaktoren"]
[null,null,null,{"$f":"IF(A66=\"\",\"\",WEEKDAY(A66,2))","v":""},null,null,null,null,null,null,null,1,1.1052]
[null,null,null,null,"Montag","Dienstag","Mittwoch","Donnerstag","Freitag","Samstag","Sonntag",2,1.0857000000000001]
[null,null,null,{"$f":"O68","v":"BD1"},{"$f":"IF($C$2=1,(P68 / (1 + (Q68 / (B$2- 40)) ^ R68) + S68)*VLOOKUP($C$2,$L$66:$M$72,2),1)","v":1.2180996994367488},{"$f":"IF($C$2=2,(P68 / (1 + (Q68 / (B$2- 40)) ^ R68) + S68)*VLOOKUP($C$2,$L$66:$M$72,2),1)","v":1},{"$f":"IF($C$2=3,(P68 / (1 + (Q68 / (B$2- 40)) ^ R68) + S68)*VLOOKUP($C$2,$L$66:$M$72,2),1)","v":1},{"$f":"IF($C$2=4,(P68 / (1 + (Q68 / (B$2- 40)) ^ R68) + S68)*VLOOKUP($C$2,$L$66:$M$72,2),1)","v":1},{"$f":"IF($C$2=5,(P68 / (1 + (Q68 / (B$2- 40)) ^ R68) + S68)*VLOOKUP($C$2,$L$66:$M$72,2),1)","v":1},{"$f":"IF($C$2=6,(P68 / (1 + (Q68 / (B$2- 40)) ^ R68) + S68)*VLOOKUP($C$2,$L$66:$M$72,2),1)","v":1},{"$f":"IF($C$2=7,(P68 / (1 + (Q68 / (B$2- 40)) ^ R68) + S68)*VLOOKUP($C$2,$L$66:$M$72,2),1)","v":1},3,1.0378000000000001,null,"BD1",1.2903504591857942,-35.234986832515588,2.1064246884377953,0.45572533313073471]
[null,null,null,{"$f":"O69","v":"BD2"},{"$f":"IF($C$2=1,(P69 / (1 + (Q69 / (B$2- 40)) ^ R69) + S69)*VLOOKUP($C$2,$L$66:$M$72,2),1)","v":1.4347419562727091},{"$f":"IF($C$2=2,(P69 / (1 + (Q69 / (B$2- 40)) ^ R69) + S69)*VLOOKUP($C$2,$L$66:$M$72,2),1)","v":1},{"$f":"IF($C$2=3,(P69 / (1 + (Q69 / (B$2- 40)) ^ R69) + S69)*VLOOKUP($C$2,$L$66:$M$72,2),1)","v":1},{"$f":"IF($C$2=4,(P69 / (1 + (Q69 / (B$2- 40)) ^ R69) + S69)*VLOOKUP($C$2,$L$66:$M$72,2),1)","v":1},{"$f":"IF($C$2=5,(P69 / (1 + (Q69 / (B$2- 40)) ^ R69) + S69)*VLOOKUP($C$2,$L$66:$M$72,2),1)","v":1},{"$f":"IF($C$2=6,(P69 / (1 + (Q69 / (B$2- 40)) ^ R69) + S69)*VLOOKUP($C$2,$L$66:$M$72,2),1)","v":1},{"$f":"IF($C$2=7,(P69 / (1 + (Q69 / (B$2- 40)) ^ R69) + S69)*VLOOKUP($C$2,$L$66:$M$72,2),1)","v":1},4,1.0622,null,"BD2",2.1095878434210302,-35.844450844630117,5.2154672282154593,0.28545825429832988]
[null,null,null,{"$f":"O70","v":"BD3"},{"$f":"IF($C$2=1,(P70 / (1 + (Q70 / (B$2- 40)) ^ R70) + S70)*VLOOKUP($C$2,$L$66:$M$72,2),1)","v":1.6222729744587656},{"$f":"IF($C$2=2,(P70 / (1 + (Q70 / (B$2- 40)) ^ R70) + S70)*VLOOKUP($C$2,$L$66:$M$72,2),1)","v":1},{"$f":"IF($C$2=3,(P70 / (1 + (Q70 / (B$2- 40)) ^ R70) + S70)*VLOOKUP($C$2,$L$66:$M$72,2),1)","v":1},{"$f":"IF($C$2=4,(P70 / (1 + (Q70 / (B$2- 40)) ^ R70) + S70)*VLOOKUP($C$2,$L$66:$M$72,2),1)","v":1},{"$f":"IF($C$2=5,(P70 / (1 + (Q70 / (B$2- 40)) ^ R70) + S70)*VLOOKUP($C$2,$L$66:$M$72,2),1)","v":1},{"$f":"IF($C$2=6,(P70 / (1 + (Q70 / (B$2- 40)) ^ R70) + S70)*VLOOKUP($C$2,$L$66:$M$72,2),1)","v":1},{"$f":"IF($C$2=7,(P70 / (1 + (Q70 / (B$2- 40)) ^ R70) + S70)*VLOOKUP($C$2,$L$66:$M$72,2),1)","v":1},5,1.0266,null,"BD3",2.9177027217503726,-36.179411652343177,5.9265161647102262,0.11519117546592504]
[null,null,null,{"$f":"O71","v":"BD4"},{"$f":"IF($C$2=1,(P71 / (1 + (Q71 / (B$2- 40)) ^ R71) + S71)*VLOOKUP($C$2,$L$66:$M$72,2),1)","v":1.7195032887611907},{"$f":"IF($C$2=2,(P71 / (1 + (Q71 / (B$2- 40)) ^ R71) + S71)*VLOOKUP($C$2,$L$66:$M$72,2),1)","v":1},{"$f":"IF($C$2=3,(P71 / (1 + (Q71 / (B$2- 40)) ^ R71) + S71)*VLOOKUP($C$2,$L$66:$M$72,2),1)","v":1},{"$f":"IF($C$2=4,(P71 / (1 + (Q71 / (B$2- 40)) ^ R71) + S71)*VLOOKUP($C$2,$L$66:$M$72,2),1)","v":1},{"$f":"IF($C$2=5,(P71 / (1 + (Q71 / (B$2- 40)) ^ R71) + S71)*VLOOKUP($C$2,$L$66:$M$72,2),1)","v":1},{"$f":"IF($C$2=6,(P71 / (1 + (Q71 / (B$2- 40)) ^ R71) + S71)*VLOOKUP($C$2,$L$66:$M$72,2),1)","v":1},{"$f":"IF($C$2=7,(P71 / (1 + (Q71 / (B$2- 40)) ^ R71) + S71)*VLOOKUP($C$2,$L$66:$M$72,2),1)","v":1},6,0.76290000000000002,null,"BD4",3.75,-37.5,6.8,6.0911264589236937E-2]
[null,null,null,{"$f":"O72","v":"BD5"},{"$f":"IF($C$2=1,(P72 / (1 + (Q72 / (B$2- 40)) ^ R72) + S72)*VLOOKUP($C$2,$L$66:$M$72,2),1)","v":1.72120679343689},{"$f":"IF($C$2=2,(P72 / (1 + (Q72 / (B$2- 40)) ^ R72) + S72)*VLOOKUP($C$2,$L$66:$M$72,2),1)","v":1},{"$f":"IF($C$2=3,(P72 / (1 + (Q72 / (B$2- 40)) ^ R72) + S72)*VLOOKUP($C$2,$L$66:$M$72,2),1)","v":1},{"$f":"IF($C$2=4,(P72 / (1 + (Q72 / (B$2- 40)) ^ R72) + S72)*VLOOKUP($C$2,$L$66:$M$72,2),1)","v":1},{"$f":"IF($C$2=5,(P72 / (1 + (Q72 / (B$2- 40)) ^ R72) + S72)*VLOOKUP($C$2,$L$66:$M$72,2),1)","v":1},{"$f":"IF($C$2=6,(P72 / (1 + (Q72 / (B$2- 40)) ^ R72) + S72)*VLOOKUP($C$2,$L$66:$M$72,2),1)","v":1},{"$f":"IF($C$2=7,(P72 / (1 + (Q72 / (B$2- 40)) ^ R72) + S72)*VLOOKUP($C$2,$L$66:$M$72,2),1)","v":1},7,0.91959999999999997,null,"BD5",4.5699506000000003,-38.535339240396361,7.5976990993414582,6.6313537125488372E-3]
[]
[null,null,null,"Gaststätten",null,null,null,null,null,null,null,"Tagesfaktoren"]
[null,null,null,{"$f":"IF(A75=\"\",\"\",WEEKDAY(A75,2))","v":""},null,null,null,null,null,null,null,1,0.93220000000000003]
[null,null,null,null,"Montag","Dienstag","Mittwoch","Donnerstag","Freitag","Samstag","Sonntag",2,0.98939999999999995]
[null,null,null,{"$f":"O77","v":"GA1"},{"$f":"IF($C$2=1,(P77 / (1 + (Q77 / (B$2- 40)) ^ R77) + S77)*VLOOKUP($C$2,$L$75:$M$81,2),1)","v":1.0464044951275977},{"$f":"IF($C$2=2,(P77 / (1 + (Q77 / (B$2- 40)) ^ R77) + S77)*VLOOKUP($C$2,$L$75:$M$81,2),1)","v":1},{"$f":"IF($C$2=3,(P77 / (1 + (Q77 / (B$2- 40)) ^ R77) + S77)*VLOOKUP($C$2,$L$75:$M$81,2),1)","v":1},{"$f":"IF($C$2=4,(P77 / (1 + (Q77 / (B$2- 40)) ^ R77) + S77)*VLOOKUP($C$2,$L$75:$M$81,2),1)","v":1},{"$f":"IF($C$2=5,(P77 / (1 + (Q77 / (B$2- 40)) ^ R77) + S77)*VLOOKUP($C$2,$L$75:$M$81,2),1)","v":1},{"$f":"IF($C$2=6,(P77 / (1 + (Q77 / (B$2- 40)) ^ R77) + S77)*VLOOKUP($C$2,$L$75:$M$81,2),1)","v":1},{"$f":"IF($C$2=7,(P77 / (1 + (Q77 / (B$2- 40)) ^ R77) + S77)*VLOOKUP($C$2,$L$75:$M$81,2),1)","v":1},3,1.0033000000000001,null,"GA1",1.1770345384253744,-39.159991396344822,4.2076109635747221,0.66047393178318303]
[null,null,null,{"$f":"O78","v":"GA2"},{"$f":"IF($C$2=1,(P78 / (1 + (Q78 / (B$2- 40)) ^ R78) + S78)*VLOOKUP($C$2,$L$75:$M$81,2),1)","v":1.1501708818058858},{"$f":"IF($C$2=2,(P78 / (1 + (Q78 / (B$2- 40)) ^ R78) + S78)*VLOOKUP($C$2,$L$75:$M$81,2),1)","v":1},{"$f":"IF($C$2=3,(P78 / (1 + (Q78 / (B$2- 40)) ^ R78) + S78)*VLOOKUP($C$2,$L$75:$M$81,2),1)","v":1},{"$f":"IF($C$2=4,(P78 / (1 + (Q78 / (B$2- 40)) ^ R78) + S78)*VLOOKUP($C$2,$L$75:$M$81,2),1)","v":1},{"$f":"IF($C$2=5,(P78 / (1 + (Q78 / (B$2- 40)) ^ R78) + S78)*VLOOKUP($C$2,$L$75:$M$81,2),1)","v":1},{"$f":"IF($C$2=6,(P78 / (1 + (Q78 / (B$2- 40)) ^ R78) + S78)*VLOOKUP($C$2,$L$75:$M$81,2),1)","v":1},{"$f":"IF($C$2=7,(P78 / (1 + (Q78 / (B$2- 40)) ^ R78) + S78)*VLOOKUP($C$2,$L$75:$M$81,2),1)","v":1},4,1.0108999999999999,null,"GA2",1.6487622937573447,-36.399273570701936,6.2149172092727794,0.48776373268446904]
[null,null,null,{"$f":"O79","v":"GA3"},{"$f":"IF($C$2=1,(P79 / (1 + (Q79 / (B$2- 40)) ^ R79) + S79)*VLOOKUP($C$2,$L$75:$M$81,2),1)","v":1.2621686299960631},{"$f":"IF($C$2=2,(P79 / (1 + (Q79 / (B$2- 40)) ^ R79) + S79)*VLOOKUP($C$2,$L$75:$M$81,2),1)","v":1},{"$f":"IF($C$2=3,(P79 / (1 + (Q79 / (B$2- 40)) ^ R79) + S79)*VLOOKUP($C$2,$L$75:$M$81,2),1)","v":1},{"$f":"IF($C$2=4,(P79 / (1 + (Q79 / (B$2- 40)) ^ R79) + S79)*VLOOKUP($C$2,$L$75:$M$81,2),1)","v":1},{"$f":"IF($C$2=5,(P79 / (1 + (Q79 / (B$2- 40)) ^ R79) + S79)*VLOOKUP($C$2,$L$75:$M$81,2),1)","v":1},{"$f":"IF($C$2=6,(P79 / (1 + (Q79 / (B$2- 40)) ^ R79) + S79)*VLOOKUP($C$2,$L$75:$M$81,2),1)","v":1},{"$f":"IF($C$2=7,(P79 / (1 + (Q79 / (B$2- 40)) ^ R79) + S79)*VLOOKUP($C$2,$L$75:$M$81,2),1)","v":1},5,1.018,null,"GA3",2.2850164737000207,-36.287858392018613,6.5885126393344677,0.315053533585755]
[null,null,null,{"$f":"O80","v":"GA4"},{"$f":"IF($C$2=1,(P80 / (1 + (Q80 / (B$2- 40)) ^ R80) + S80)*VLOOKUP($C$2,$L$75:$M$81,2),1)","v":1.3611814128833608},{"$f":"IF($C$2=2,(P80 / (1 + (Q80 / (B$2- 40)) ^ R80) + S80)*VLOOKUP($C$2,$L$75:$M$81,2),1)","v":1},{"$f":"IF($C$2=3,(P80 / (1 + (Q80 / (B$2- 40)) ^ R80) + S80)*VLOOKUP($C$2,$L$75:$M$81,2),1)","v":1},{"$f":"IF($C$2=4,(P80 / (1 + (Q80 / (B$2- 40)) ^ R80) + S80)*VLOOKUP($C$2,$L$75:$M$81,2),1)","v":1},{"$f":"IF($C$2=5,(P80 / (1 + (Q80 / (B$2- 40)) ^ R80) + S80)*VLOOKUP($C$2,$L$75:$M$81,2),1)","v":1},{"$f":"IF($C$2=6,(P80 / (1 + (Q80 / (B$2- 40)) ^ R80) + S80)*VLOOKUP($C$2,$L$75:$M$81,2),1)","v":1},{"$f":"IF($C$2=7,(P80 / (1 + (Q80 / (B$2- 40)) ^ R80) + S80)*VLOOKUP($C$2,$L$75:$M$81,2),1)","v":1},6,1.0356000000000001,null,"GA4",2.8195656145792332,-36,7.7368517678413813,0.1572809795157798]
[null,null,null,{"$f":"O81","v":"GA5"},{"$f":"IF($C$2=1,(P81 / (1 + (Q81 / (B$2- 40)) ^ R81) + S81)*VLOOKUP($C$2,$L$75:$M$81,2),1)","v":1.4153061716579383},{"$f":"IF($C$2=2,(P81 / (1 + (Q81 / (B$2- 40)) ^ R81) + S81)*VLOOKUP($C$2,$L$75:$M$81,2),1)","v":1},{"$f":"IF($C$2=3,(P81 / (1 + (Q81 / (B$2- 40)) ^ R81) + S81)*VLOOKUP($C$2,$L$75:$M$81,2),1)","v":1},{"$f":"IF($C$2=4,(P81 / (1 + (Q81 / (B$2- 40)) ^ R81) + S81)*VLOOKUP($C$2,$L$75:$M$81,2),1)","v":1},{"$f":"IF($C$2=5,(P81 / (1 + (Q81 / (B$2- 40)) ^ R81) + S81)*VLOOKUP($C$2,$L$75:$M$81,2),1)","v":1},{"$f":"IF($C$2=6,(P81 / (1 + (Q81 / (B$2- 40)) ^ R81) + S81)*VLOOKUP($C$2,$L$75:$M$81,2),1)","v":1},{"$f":"IF($C$2=7,(P81 / (1 + (Q81 / (B$2- 40)) ^ R81) + S81)*VLOOKUP($C$2,$L$75:$M$81,2),1)","v":1},7,1.0105999999999999,null,"GA5",3.329557481702889,-36.014621122492109,8.7767464708684528,-4.9157455419537876E-4]
[]
[null,null,null,"Haushaltsähnliche Gewerbe",null,null,null,null,null,null,null,"Tagesfaktoren"]
[null,null,null,{"$f":"IF(A57=\"\",\"\",WEEKDAY(A57,2))","v":""},null,null,null,null,null,null,null,1,1.0354000000000001]
[null,null,null,null,"Montag","Dienstag","Mittwoch","Donnerstag","Freitag","Samstag","Sonntag",2,1.0523]
[null,null,null,{"$f":"O86","v":"MF1"},{"$f":"IF($C$2=1,(P86 / (1 + (Q86 / (B$2- 40)) ^ R86) + S86)*VLOOKUP($C$2,$L$84:$M$90,2),1)","v":1.3464153141124087},{"$f":"IF($C$2=2,(P86 / (1 + (Q86 / (B$2- 40)) ^ R86) + S86)*VLOOKUP($C$2,$L$84:$M$90,2),1)","v":1},{"$f":"IF($C$2=3,(P86 / (1 + (Q86 / (B$2- 40)) ^ R86) + S86)*VLOOKUP($C$2,$L$84:$M$90,2),1)","v":1},{"$f":"IF($C$2=4,(P86 / (1 + (Q86 / (B$2- 40)) ^ R86) + S86)*VLOOKUP($C$2,$L$84:$M$90,2),1)","v":1},{"$f":"IF($C$2=5,(P86 / (1 + (Q86 / (B$2- 40)) ^ R86) + S86)*VLOOKUP($C$2,$L$84:$M$90,2),1)","v":1},{"$f":"IF($C$2=6,(P86 / (1 + (Q86 / (B$2- 40)) ^ R86) + S86)*VLOOKUP($C$2,$L$84:$M$90,2),1)","v":1},{"$f":"IF($C$2=7,(P86 / (1 + (Q86 / (B$2- 40)) ^ R86) + S86)*VLOOKUP($C$2,$L$84:$M$90,2),1)","v":1},3,1.0448999999999999,null,"MF1",2.1163531,-34.262862300000002,5.1763874000000003,0.16069449999999999]
[null,null,null,{"$f":"O87","v":"MF2"},{"$f":"IF($C$2=1,(P87 / (1 + (Q87 / (B$2- 40)) ^ R87) + S87)*VLOOKUP($C$2,$L$84:$M$90,2),1)","v":1.3799410217118608},{"$f":"IF($C$2=2,(P87 / (1 + (Q87 / (B$2- 40)) ^ R87) + S87)*VLOOKUP($C$2,$L$84:$M$90,2),1)","v":1},{"$f":"IF($C$2=3,(P87 / (1 + (Q87 / (B$2- 40)) ^ R87) + S87)*VLOOKUP($C$2,$L$84:$M$90,2),1)","v":1},{"$f":"IF($C$2=4,(P87 / (1 + (Q87 / (B$2- 40)) ^ R87) + S87)*VLOOKUP($C$2,$L$84:$M$90,2),1)","v":1},{"$f":"IF($C$2=5,(P87 / (1 + (Q87 / (B$2- 40)) ^ R87) + S87)*VLOOKUP($C$2,$L$84:$M$90,2),1)","v":1},{"$f":"IF($C$2=6,(P87 / (1 + (Q87 / (B$2- 40)) ^ R87) + S87)*VLOOKUP($C$2,$L$84:$M$90,2),1)","v":1},{"$f":"IF($C$2=7,(P87 / (1 + (Q87 / (B$2- 40)) ^ R87) + S87)*VLOOKUP($C$2,$L$84:$M$90,2),1)","v":1},4,1.0494000000000001,null,"MF2",2.2486332999999998,-34.542843099999999,5.5545245000000003,0.140822]
[null,null,null,{"$f":"O88","v":"MF3"},{"$f":"IF($C$2=1,(P88 / (1 + (Q88 / (B$2- 40)) ^ R88) + S88)*VLOOKUP($C$2,$L$84:$M$90,2),1)","v":1.4206123016953449},{"$f":"IF($C$2=2,(P88 / (1 + (Q88 / (B$2- 40)) ^ R88) + S88)*VLOOKUP($C$2,$L$84:$M$90,2),1)","v":1},{"$f":"IF($C$2=3,(P88 / (1 + (Q88 / (B$2- 40)) ^ R88) + S88)*VLOOKUP($C$2,$L$84:$M$90,2),1)","v":1},{"$f":"IF($C$2=4,(P88 / (1 + (Q88 / (B$2- 40)) ^ R88) + S88)*VLOOKUP($C$2,$L$84:$M$90,2),1)","v":1},{"$f":"IF($C$2=5,(P88 / (1 + (Q88 / (B$2- 40)) ^ R88) + S88)*VLOOKUP($C$2,$L$84:$M$90,2),1)","v":1},{"$f":"IF($C$2=6,(P88 / (1 + (Q88 / (B$2- 40)) ^ R88) + S88)*VLOOKUP($C$2,$L$84:$M$90,2),1)","v":1},{"$f":"IF($C$2=7,(P88 / (1 + (Q88 / (B$2- 40)) ^ R88) + S88)*VLOOKUP($C$2,$L$84:$M$90,2),1)","v":1},5,0.98850000000000005,null,"MF3",2.3877617999999998,-34.721360500000003,5.8164303999999998,0.12081939999999999]
[null,null,null,{"$f":"O89","v":"MF4"},{"$f":"IF($C$2=1,(P89 / (1 + (Q89 / (B$2- 40)) ^ R89) + S89)*VLOOKUP($C$2,$L$84:$M$90,2),1)","v":1.4393886063579922},{"$f":"IF($C$2=2,(P89 / (1 + (Q89 / (B$2- 40)) ^ R89) + S89)*VLOOKUP($C$2,$L$84:$M$90,2),1)","v":1},{"$f":"IF($C$2=3,(P89 / (1 + (Q89 / (B$2- 40)) ^ R89) + S89)*VLOOKUP($C$2,$L$84:$M$90,2),1)","v":1},{"$f":"IF($C$2=4,(P89 / (1 + (Q89 / (B$2- 40)) ^ R89) + S89)*VLOOKUP($C$2,$L$84:$M$90,2),1)","v":1},{"$f":"IF($C$2=5,(P89 / (1 + (Q89 / (B$2- 40)) ^ R89) + S89)*VLOOKUP($C$2,$L$84:$M$90,2),1)","v":1},{"$f":"IF($C$2=6,(P89 / (1 + (Q89 / (B$2- 40)) ^ R89) + S89)*VLOOKUP($C$2,$L$84:$M$90,2),1)","v":1},{"$f":"IF($C$2=7,(P89 / (1 + (Q89 / (B$2- 40)) ^ R89) + S89)*VLOOKUP($C$2,$L$84:$M$90,2),1)","v":1},6,0.88600000000000001,null,"MF4",2.5187775000000001,-35.033375399999997,6.2240634000000004,0.10107820000000001]
[null,null,null,{"$f":"O90","v":"MF5"},{"$f":"IF($C$2=1,(P90 / (1 + (Q90 / (B$2- 40)) ^ R90) + S90)*VLOOKUP($C$2,$L$84:$M$90,2),1)","v":1.4654576892442206},{"$f":"IF($C$2=2,(P90 / (1 + (Q90 / (B$2- 40)) ^ R90) + S90)*VLOOKUP($C$2,$L$84:$M$90,2),1)","v":1},{"$f":"IF($C$2=3,(P90 / (1 + (Q90 / (B$2- 40)) ^ R90) + S90)*VLOOKUP($C$2,$L$84:$M$90,2),1)","v":1},{"$f":"IF($C$2=4,(P90 / (1 + (Q90 / (B$2- 40)) ^ R90) + S90)*VLOOKUP($C$2,$L$84:$M$90,2),1)","v":1},{"$f":"IF($C$2=5,(P90 / (1 + (Q90 / (B$2- 40)) ^ R90) + S90)*VLOOKUP($C$2,$L$84:$M$90,2),1)","v":1},{"$f":"IF($C$2=6,(P90 / (1 + (Q90 / (B$2- 40)) ^ R90) + S90)*VLOOKUP($C$2,$L$84:$M$90,2),1)","v":1},{"$f":"IF($C$2=7,(P90 / (1 + (Q90 / (B$2- 40)) ^ R90) + S90)*VLOOKUP($C$2,$L$84:$M$90,2),1)","v":1},7,0.94350000000000001,null,"MF5",2.6564405999999998,-35.2516927,6.5182659000000003,8.1205899999999998E-2]
[]
[null,null,null,"Papier und Druck",null,null,null,null,null,null,null,"Tagesfaktoren"]
[null,null,null,{"$f":"IF(A66=\"\",\"\",WEEKDAY(A66,2))","v":""},null,null,null,null,null,null,null,1,1.0214000000000001]
[null,null,null,null,"Montag","Dienstag","Mittwoch","Donnerstag","Freitag","Samstag","Sonntag",2,1.0866]
[null,null,null,{"$f":"O95","v":"PD1"},{"$f":"IF($C$2=1,(P95 / (1 + (Q95 / (B$2- 40)) ^ R95) + S95)*VLOOKUP($C$2,$L$93:$M$99,2),1)","v":1.4135231505266574},{"$f":"IF($C$2=2,(P95 / (1 + (Q95 / (B$2- 40)) ^ R95) + S95)*VLOOKUP($C$2,$L$93:$M$99,2),1)","v":1},{"$f":"IF($C$2=3,(P95 / (1 + (Q95 / (B$2- 40)) ^ R95) + S95)*VLOOKUP($C$2,$L$93:$M$99,2),1)","v":1},{"$f":"IF($C$2=4,(P95 / (1 + (Q95 / (B$2- 40)) ^ R95) + S95)*VLOOKUP($C$2,$L$93:$M$99,2),1)","v":1},{"$f":"IF($C$2=5,(P95 / (1 + (Q95 / (B$2- 40)) ^ R95) + S95)*VLOOKUP($C$2,$L$93:$M$99,2),1)","v":1},{"$f":"IF($C$2=6,(P95 / (1 + (Q95 / (B$2- 40)) ^ R95) + S95)*VLOOKUP($C$2,$L$93:$M$99,2),1)","v":1},{"$f":"IF($C$2=7,(P95 / (1 + (Q95 / (B$2- 40)) ^ R95) + S95)*VLOOKUP($C$2,$L$93:$M$99,2),1)","v":1},3,1.0720000000000001,null,"PD1",1.4894022,-32.4252678,8.1732612000000007,0.39059870000000002]
[null,null,null,{"$f":"O96","v":"PD2"},{"$f":"IF($C$2=1,(P96 / (1 + (Q96 / (B$2- 40)) ^ R96) + S96)*VLOOKUP($C$2,$L$93:$M$99,2),1)","v":1.5297172597920057},{"$f":"IF($C$2=2,(P96 / (1 + (Q96 / (B$2- 40)) ^ R96) + S96)*VLOOKUP($C$2,$L$93:$M$99,2),1)","v":1},{"$f":"IF($C$2=3,(P96 / (1 + (Q96 / (B$2- 40)) ^ R96) + S96)*VLOOKUP($C$2,$L$93:$M$99,2),1)","v":1},{"$f":"IF($C$2=4,(P96 / (1 + (Q96 / (B$2- 40)) ^ R96) + S96)*VLOOKUP($C$2,$L$93:$M$99,2),1)","v":1},{"$f":"IF($C$2=5,(P96 / (1 + (Q96 / (B$2- 40)) ^ R96) + S96)*VLOOKUP($C$2,$L$93:$M$99,2),1)","v":1},{"$f":"IF($C$2=6,(P96 / (1 + (Q96 / (B$2- 40)) ^ R96) + S96)*VLOOKUP($C$2,$L$93:$M$99,2),1)","v":1},{"$f":"IF($C$2=7,(P96 / (1 + (Q96 / (B$2- 40)) ^ R96) + S96)*VLOOKUP($C$2,$L$93:$M$99,2),1)","v":1},4,1.0557000000000001,null,"PD2",2.5784172538862213,-34.732126097157909,6.4805035136696159,0.1407729119200625]
[null,null,null,{"$f":"O97","v":"PD3"},{"$f":"IF($C$2=1,(P97 / (1 + (Q97 / (B$2- 40)) ^ R97) + S97)*VLOOKUP($C$2,$L$93:$M$99,2),1)","v":1.6336701298687324},{"$f":"IF($C$2=2,(P97 / (1 + (Q97 / (B$2- 40)) ^ R97) + S97)*VLOOKUP($C$2,$L$93:$M$99,2),1)","v":1},{"$f":"IF($C$2=3,(P97 / (1 + (Q97 / (B$2- 40)) ^ R97) + S97)*VLOOKUP($C$2,$L$93:$M$99,2),1)","v":1},{"$f":"IF($C$2=4,(P97 / (1 + (Q97 / (B$2- 40)) ^ R97) + S97)*VLOOKUP($C$2,$L$93:$M$99,2),1)","v":1},{"$f":"IF($C$2=5,(P97 / (1 + (Q97 / (B$2- 40)) ^ R97) + S97)*VLOOKUP($C$2,$L$93:$M$99,2),1)","v":1},{"$f":"IF($C$2=6,(P97 / (1 + (Q97 / (B$2- 40)) ^ R97) + S97)*VLOOKUP($C$2,$L$93:$M$99,2),1)","v":1},{"$f":"IF($C$2=7,(P97 / (1 + (Q97 / (B$2- 40)) ^ R97) + S97)*VLOOKUP($C$2,$L$93:$M$99,2),1)","v":1},5,1.0117,null,"PD3",3.2,-35.799999999999997,8.4,9.3848607946708337E-2]
[null,null,null,{"$f":"O98","v":"PD4"},{"$f":"IF($C$2=1,(P98 / (1 + (Q98 / (B$2- 40)) ^ R98) + S98)*VLOOKUP($C$2,$L$93:$M$99,2),1)","v":1.5495503991180422},{"$f":"IF($C$2=2,(P98 / (1 + (Q98 / (B$2- 40)) ^ R98) + S98)*VLOOKUP($C$2,$L$93:$M$99,2),1)","v":1},{"$f":"IF($C$2=3,(P98 / (1 + (Q98 / (B$2- 40)) ^ R98) + S98)*VLOOKUP($C$2,$L$93:$M$99,2),1)","v":1},{"$f":"IF($C$2=4,(P98 / (1 + (Q98 / (B$2- 40)) ^ R98) + S98)*VLOOKUP($C$2,$L$93:$M$99,2),1)","v":1},{"$f":"IF($C$2=5,(P98 / (1 + (Q98 / (B$2- 40)) ^ R98) + S98)*VLOOKUP($C$2,$L$93:$M$99,2),1)","v":1},{"$f":"IF($C$2=6,(P98 / (1 + (Q98 / (B$2- 40)) ^ R98) + S98)*VLOOKUP($C$2,$L$93:$M$99,2),1)","v":1},{"$f":"IF($C$2=7,(P98 / (1 + (Q98 / (B$2- 40)) ^ R98) + S98)*VLOOKUP($C$2,$L$93:$M$99,2),1)","v":1},6,0.90010000000000001,null,"PD4",3.85,-37,10.240502102653172,4.6924303973354169E-2]
[null,null,null,{"$f":"O99","v":"PD5"},{"$f":"IF($C$2=1,(P99 / (1 + (Q99 / (B$2- 40)) ^ R99) + S99)*VLOOKUP($C$2,$L$93:$M$99,2),1)","v":1.3439481548403507},{"$f":"IF($C$2=2,(P99 / (1 + (Q99 / (B$2- 40)) ^ R99) + S99)*VLOOKUP($C$2,$L$93:$M$99,2),1)","v":1},{"$f":"IF($C$2=3,(P99 / (1 + (Q99 / (B$2- 40)) ^ R99) + S99)*VLOOKUP($C$2,$L$93:$M$99,2),1)","v":1},{"$f":"IF($C$2=4,(P99 / (1 + (Q99 / (B$2- 40)) ^ R99) + S99)*VLOOKUP($C$2,$L$93:$M$99,2),1)","v":1},{"$f":"IF($C$2=5,(P99 / (1 + (Q99 / (B$2- 40)) ^ R99) + S99)*VLOOKUP($C$2,$L$93:$M$99,2),1)","v":1},{"$f":"IF($C$2=6,(P99 / (1 + (Q99 / (B$2- 40)) ^ R99) + S99)*VLOOKUP($C$2,$L$93:$M$99,2),1)","v":1},{"$f":"IF($C$2=7,(P99 / (1 + (Q99 / (B$2- 40)) ^ R99) + S99)*VLOOKUP($C$2,$L$93:$M$99,2),1)","v":1},7,0.85250000000000004,null,"PD5",4.7462814,-38.750429400000002,10.275333409097874,0]
[]
[null,null,null,"Wäschereien",null,null,null,null,null,null,null,"Tagesfaktoren"]
[null,null,null,{"$f":"IF(A75=\"\",\"\",WEEKDAY(A75,2))","v":""},null,null,null,null,null,null,null,1,1.2457]
[null,null,null,null,"Montag","Dienstag","Mittwoch","Donnerstag","Freitag","Samstag","Sonntag",2,1.2615000000000001]
[null,null,null,{"$f":"O104","v":"WA1"},{"$f":"IF($C$2=1,(P104 / (1 + (Q104 / (B$2- 40)) ^ R104) + S104)*VLOOKUP($C$2,$L$102:$M$108,2),1)","v":1.3652950152745216},{"$f":"IF($C$2=2,(P104 / (1 + (Q104 / (B$2- 40)) ^ R104) + S104)*VLOOKUP($C$2,$L$102:$M$108,2),1)","v":1},{"$f":"IF($C$2=3,(P104 / (1 + (Q104 / (B$2- 40)) ^ R104) + S104)*VLOOKUP($C$2,$L$102:$M$108,2),1)","v":1},{"$f":"IF($C$2=4,(P104 / (1 + (Q104 / (B$2- 40)) ^ R104) + S104)*VLOOKUP($C$2,$L$102:$M$108,2),1)","v":1},{"$f":"IF($C$2=5,(P104 / (1 + (Q104 / (B$2- 40)) ^ R104) + S104)*VLOOKUP($C$2,$L$102:$M$108,2),1)","v":1},{"$f":"IF($C$2=6,(P104 / (1 + (Q104 / (B$2- 40)) ^ R104) + S104)*VLOOKUP($C$2,$L$102:$M$108,2),1)","v":1},{"$f":"IF($C$2=7,(P104 / (1 + (Q104 / (B$2- 40)) ^ R104) + S104)*VLOOKUP($C$2,$L$102:$M$108,2),1)","v":1},3,1.2706999999999999,null,"WA1",0.4,-40.514948177040218,2.8747956952513056,0.93510758405899874]
[null,null,null,{"$f":"O105","v":"WA2"},{"$f":"IF($C$2=1,(P105 / (1 + (Q105 / (B$2- 40)) ^ R105) + S105)*VLOOKUP($C$2,$L$102:$M$108,2),1)","v":1.4058373251935199},{"$f":"IF($C$2=2,(P105 / (1 + (Q105 / (B$2- 40)) ^ R105) + S105)*VLOOKUP($C$2,$L$102:$M$108,2),1)","v":1},{"$f":"IF($C$2=3,(P105 / (1 + (Q105 / (B$2- 40)) ^ R105) + S105)*VLOOKUP($C$2,$L$102:$M$108,2),1)","v":1},{"$f":"IF($C$2=4,(P105 / (1 + (Q105 / (B$2- 40)) ^ R105) + S105)*VLOOKUP($C$2,$L$102:$M$108,2),1)","v":1},{"$f":"IF($C$2=5,(P105 / (1 + (Q105 / (B$2- 40)) ^ R105) + S105)*VLOOKUP($C$2,$L$102:$M$108,2),1)","v":1},{"$f":"IF($C$2=6,(P105 / (1 + (Q105 / (B$2- 40)) ^ R105) + S105)*VLOOKUP($C$2,$L$102:$M$108,2),1)","v":1},{"$f":"IF($C$2=7,(P105 / (1 + (Q105 / (B$2- 40)) ^ R105) + S105)*VLOOKUP($C$2,$L$102:$M$108,2),1)","v":1},4,1.2430000000000001,null,"WA2",0.61662289273184956,-38.4,3.8705351891784554,0.87002503086951744]
[null,null,null,{"$f":"O106","v":"WA3"},{"$f":"IF($C$2=1,(P106 / (1 + (Q106 / (B$2- 40)) ^ R106) + S106)*VLOOKUP($C$2,$L$102:$M$108,2),1)","v":1.4561171409282063},{"$f":"IF($C$2=2,(P106 / (1 + (Q106 / (B$2- 40)) ^ R106) + S106)*VLOOKUP($C$2,$L$102:$M$108,2),1)","v":1},{"$f":"IF($C$2=3,(P106 / (1 + (Q106 / (B$2- 40)) ^ R106) + S106)*VLOOKUP($C$2,$L$102:$M$108,2),1)","v":1},{"$f":"IF($C$2=4,(P106 / (1 + (Q106 / (B$2- 40)) ^ R106) + S106)*VLOOKUP($C$2,$L$102:$M$108,2),1)","v":1},{"$f":"IF($C$2=5,(P106 / (1 + (Q106 / (B$2- 40)) ^ R106) + S106)*VLOOKUP($C$2,$L$102:$M$108,2),1)","v":1},{"$f":"IF($C$2=6,(P106 / (1 + (Q106 / (B$2- 40)) ^ R106) + S106)*VLOOKUP($C$2,$L$102:$M$108,2),1)","v":1},{"$f":"IF($C$2=7,(P106 / (1 + (Q106 / (B$2- 40)) ^ R106) + S106)*VLOOKUP($C$2,$L$102:$M$108,2),1)","v":1},5,1.1275999999999999,null,"WA3",0.76572901191876797,-36.023791149401227,4.8662746831056047,0.80494247768003624]
[null,null,null,{"$f":"O107","v":"WA4"},{"$f":"IF($C$2=1,(P107 / (1 + (Q107 / (B$2- 40)) ^ R107) + S107)*VLOOKUP($C$2,$L$102:$M$108,2),1)","v":1.5046785009632848},{"$f":"IF($C$2=2,(P107 / (1 + (Q107 / (B$2- 40)) ^ R107) + S107)*VLOOKUP($C$2,$L$102:$M$108,2),1)","v":1},{"$f":"IF($C$2=3,(P107 / (1 + (Q107 / (B$2- 40)) ^ R107) + S107)*VLOOKUP($C$2,$L$102:$M$108,2),1)","v":1},{"$f":"IF($C$2=4,(P107 / (1 + (Q107 / (B$2- 40)) ^ R107) + S107)*VLOOKUP($C$2,$L$102:$M$108,2),1)","v":1},{"$f":"IF($C$2=5,(P107 / (1 + (Q107 / (B$2- 40)) ^ R107) + S107)*VLOOKUP($C$2,$L$102:$M$108,2),1)","v":1},{"$f":"IF($C$2=6,(P107 / (1 + (Q107 / (B$2- 40)) ^ R107) + S107)*VLOOKUP($C$2,$L$102:$M$108,2),1)","v":1},{"$f":"IF($C$2=7,(P107 / (1 + (Q107 / (B$2- 40)) ^ R107) + S107)*VLOOKUP($C$2,$L$102:$M$108,2),1)","v":1},6,0.38769999999999999,null,"WA4",1.0535874722697858,-35.299999999999997,4.8662746831056047,0.68110423365180117]
[null,null,null,{"$f":"O108","v":"WA5"},{"$f":"IF($C$2=1,(P108 / (1 + (Q108 / (B$2- 40)) ^ R108) + S108)*VLOOKUP($C$2,$L$102:$M$108,2),1)","v":1.5490043144204149},{"$f":"IF($C$2=2,(P108 / (1 + (Q108 / (B$2- 40)) ^ R108) + S108)*VLOOKUP($C$2,$L$102:$M$108,2),1)","v":1},{"$f":"IF($C$2=3,(P108 / (1 + (Q108 / (B$2- 40)) ^ R108) + S108)*VLOOKUP($C$2,$L$102:$M$108,2),1)","v":1},{"$f":"IF($C$2=4,(P108 / (1 + (Q108 / (B$2- 40)) ^ R108) + S108)*VLOOKUP($C$2,$L$102:$M$108,2),1)","v":1},{"$f":"IF($C$2=5,(P108 / (1 + (Q108 / (B$2- 40)) ^ R108) + S108)*VLOOKUP($C$2,$L$102:$M$108,2),1)","v":1},{"$f":"IF($C$2=6,(P108 / (1 + (Q108 / (B$2- 40)) ^ R108) + S108)*VLOOKUP($C$2,$L$102:$M$108,2),1)","v":1},{"$f":"IF($C$2=7,(P108 / (1 + (Q108 / (B$2- 40)) ^ R108) + S108)*VLOOKUP($C$2,$L$102:$M$108,2),1)","v":1},7,0.46379999999999999,null,"WA5",1.2768853724611342,-34.342437068552321,5.451882242186219,0.5572659896235661]
[null,null,null,{"$f":"IF(A82=\"\",\"\",WEEKDAY(A82,2))","v":""}]
[null,null,null,"Summenlastprofil Gewrbe, Handel, und Dienstleistungen",null,null,null,null,null,null,null,"Tagesfaktoren"]
[null,null,null,null,null,null,null,null,null,null,null,1,1.03]
[null,null,null,null,"Montag","Dienstag","Mittwoch","Donnerstag","Freitag","Samstag","Sonntag",2,1.03]
[null,null,null,{"$f":"O113","v":"GHD03"},{"$f":"IF($C$2=1,(P113/(1+(Q113/(B$2-40))^R113)+S113)*VLOOKUP($C$2,$L$111:$M$117,2),1)","v":1.486129525764611},{"$f":"IF($C$2=2,(P113/(1+(Q113/(B$2-40))^R113)+S113)*VLOOKUP($C$2,$L$111:$M$117,2),1)","v":1},{"$f":"IF($C$2=3,(P113/(1+(Q113/(B$2-40))^R113)+S113)*VLOOKUP($C$2,$L$111:$M$117,2),1)","v":1},{"$f":"IF($C$2=4,(P113/(1+(Q113/(B$2-40))^R113)+S113)*VLOOKUP($C$2,$L$111:$M$117,2),1)","v":1},{"$f":"IF($C$2=5,(P113/(1+(Q113/(B$2-40))^R113)+S113)*VLOOKUP($C$2,$L$111:$M$117,2),1)","v":1},{"$f":"IF($C$2=6,(P113/(1+(Q113/(B$2-40))^R113)+S113)*VLOOKUP($C$2,$L$111:$M$117,2),1)","v":1},{"$f":"IF($C$2=7,(P113/(1+(Q113/(B$2-40))^R113)+S113)*VLOOKUP($C$2,$L$111:$M$117,2),1)","v":1},3,1.02,null,"GHD03",2.5792510000000002,-35.681614400000001,6.6857975999999999,0.19955410000000001]
[null,null,null,{"$f":"O114","v":"GHD04"},{"$f":"IF($C$2=1,(P114/(1+(Q114/(B$2-40))^R114)+S114)*VLOOKUP($C$2,$L$111:$M$117,2),1)","v":1.5038423271064973},{"$f":"IF($C$2=2,(P114/(1+(Q114/(B$2-40))^R114)+S114)*VLOOKUP($C$2,$L$111:$M$117,2),1)","v":1},{"$f":"IF($C$2=3,(P114/(1+(Q114/(B$2-40))^R114)+S114)*VLOOKUP($C$2,$L$111:$M$117,2),1)","v":1},{"$f":"IF($C$2=4,(P114/(1+(Q114/(B$2-40))^R114)+S114)*VLOOKUP($C$2,$L$111:$M$117,2),1)","v":1},{"$f":"IF($C$2=5,(P114/(1+(Q114/(B$2-40))^R114)+S114)*VLOOKUP($C$2,$L$111:$M$117,2),1)","v":1},{"$f":"IF($C$2=6,(P114/(1+(Q114/(B$2-40))^R114)+S114)*VLOOKUP($C$2,$L$111:$M$117,2),1)","v":1},{"$f":"IF($C$2=7,(P114/(1+(Q114/(B$2-40))^R114)+S114)*VLOOKUP($C$2,$L$111:$M$117,2),1)","v":1},4,1.03,null,"GHD04",3.0084346000000002,-36.607845300000001,7.3211870000000001,0.15496599999999999]
[null,null,null,null,null,null,null,null,null,null,null,5,1.01]
[null,null,null,null,null,null,null,null,null,null,null,6,0.93]
[null,null,null,null,null,null,null,null,null,null,null,7,0.95]
[null,null,null,""]
[null,null,null,""]
[null,null,null,""]
[null,null,null,""]
[null,null,null,""]
[null,null,null,""]
[null,null,null,""]
[null,null,null,""]
[null,null,null,""]
[null,null,null,""]
[null,null,null,""]
[null,null,null,""]
[null,null,null,""]
[null,null,null,""]
[null,null,null,""]
[null,null,null,""]
[null,null,null,""]
[null,null,null,""]
[null,null,null,""]
[null,null,null,""]
[null,null,null,""]
[null,null,null,""]
[null,null,null,""]
[null,null,null,{"$f":"IF(A114=\"\",\"\",WEEKDAY(A114,2))","v":""}]
[null,null,null,""]
[null,null,null,""]
[null,null,null,""]
[null,null,null,""]
[null,null,null,""]
[null,null,null,""]
[null,null,null,""]
[null,null,null,""]
[null,null,null,""]
[null,null,null,""]
[null,null,null,""]
[null,null,null,""]
[null,null,null,""]
[null,null,null,""]
[null,null,null,""]
[null,null,null,""]
[null,null,null,""]
[null,null,null,""]
[null,null,null,""]
[null,null,null,""]
[null,null,null,""]
[null,null,null,""]
[null,null,null,""]
[null,null,null,""]
[null,null,null,""]
[null,null,null,""]
[null,null,null,""]
[null,null,null,""]
[null,null,null,""]
[null,null,null,""]
[null,null,null,""]
[null,null,null,""]
[null,null,null,""]
[null,null,null,""]
[null,null,null,""]
[null,null,null,""]
[null,null,null,""]
[null,null,null,""]
[null,null,null,""]
[null,null,null,""]
[null,null,null,""]
[null,null,null,""]
[null,null,null,""]
[null,null,null,""]
[null,null,null,""]
[null,null,null,""]
[null,null,null,""]
[null,null,null,""]
[null,null,null,""]
[null,null,null,""]
[null,null,null,""]
[null,null,null,""]
[null,null,null,""]
[null,null,null,""]
[null,null,null,""]
[null,null,null,""]
[null,null,null,""]
[null,null,null,""]
[null,null,null,""]
[null,null,null,""]
[null,null,null,""]
[null,null,null,""]
[null,null,null,""]
[null,null,null,{"$f":"IF(A178=\"\",\"\",WEEKDAY(A178,2))","v":""}]
[null,null,null,""]
[null,null,null,""]
[null,null,null,""]
[null,null,null,""]
[null,null,null,""]
[null,null,null,""]
[null,null,null,""]
[null,null,null,""]
[null,null,null,""]
[null,null,null,""]
[null,null,null,""]
[null,null,null,""]
[null,null,null,""]
[null,null,null,""]
[null,null,null,""]
[null,null,null,""]
[null,null,null,""]
[null,null,null,""]
[null,null,null,""]
[null,null,null,""]
[null,null,null,""]
[null,null,null,""]
[null,null,null,""]
[null,null,null,""]
[null,null,null,""]
[null,null,null,""]
[null,null,null,""]
[null,null,null,""]
[null,null,null,""]
[null,null,null,""]
[null,null,null,""]
[null,null,null,""]
[null,null,null,""]
[null,null,null,""]
[null,null,null,""]
[null,null,null,""]
[null,null,null,""]
[null,null,null,""]
[null,null,null,""]
[null,null,null,""]
[null,null,null,""]
[null,null,null,""]
[null,null,null,""]
[null,null,null,""]
[null,null,null,""]
[null,null,null,""]
[null,null,null,""]
[null,null,null,""]
[null,null,null,""]
[null,null,null,""]
[null,null,null,""]
[null,null,null,""]
[null,null,null,""]
[null,null,null,""]
[null,null,null,""]
[null,null,null,""]
[null,null,null,""]
[null,null,null,""]
[null,null,null,""]
[null,null,null,""]
[null,null,null,""]
[null,null,null,""]
[null,null,null,""]
[null,null,null,{"$f":"IF(A242=\"\",\"\",WEEKDAY(A242,2))","v":""}]
[null,null,null,""]
[null,null,null,""]
[null,null,null,""]
[null,null,null,""]
[null,null,null,""]
[null,null,null,""]
[null,null,null,""]
[null,null,null,""]
[null,null,null,""]
[null,null,null,""]
[null,null,null,""]
[null,null,null,""]
[null,null,null,""]
[null,null,null,""]
[null,null,null,""]
[null,null,null,""]
[null,null,null,""]
[null,null,null,""]
[null,null,null,""]
[null,null,null,""]
[null,null,null,""]
[null,null,null,""]
[null,null,null,""]
[null,null,null,""]
[null,null,null,""]
[null,null,null,""]
[null,null,null,""]
[null,null,null,""]
[null,null,null,""]
[null,null,null,""]
[null,null,null,""]
[null,null,null,""]
[null,null,null,""]
[null,null,null,""]
[null,null,null,""]
[null,null,null,""]
[null,null,null,""]
[null,null,null,""]
[null,null,null,""]
[null,null,null,""]
[null,null,null,""]
[null,null,null,""]
[null,null,null,""]
[null,null,null,""]
[null,null,null,""]
[null,null,null,""]
[null,null,null,""]
[null,null,null,""]
[null,null,null,""]
[null,null,null,""]
[null,null,null,""]
[null,null,null,""]
[null,null,null,""]
[null,null,null,""]
[null,null,null,""]
[null,null,null,""]
[null,null,null,""]
[null,null,null,""]
[null,null,null,""]
[null,null,null,""]
[null,null,null,""]
[null,null,null,""]
[null,null,null,""]
[null,null,null,{"$f":"IF(A306=\"\",\"\",WEEKDAY(A306,2))","v":""}]
[null,null,null,""]
[null,null,null,""]
[null,null,null,""]
[null,null,null,""]
[null,null,null,""]
[null,null,null,""]
[null,null,null,""]
[null,null,null,""]
[null,null,null,""]
[null,null,null,""]
[null,null,null,""]
[null,null,null,""]
[null,null,null,""]
[null,null,null,""]
[null,null,null,""]
[null,null,null,""]
[null,null,null,""]
[null,null,null,""]
[null,null,null,""]
[null,null,null,""]
[null,null,null,""]
[null,null,null,""]
[null,null,null,""]
[null,null,null,""]
[null,null,null,""]
[null,null,null,""]
[null,null,null,""]
[null,null,null,""]
[null,null,null,""]
[null,null,null,""]
[null,null,null,""]
[null,null,null,""]
[null,null,null,""]
[null,null,null,""]
[null,null,null,""]
[null,null,null,""]
[null,null,null,""]
[null,null,null,""]
[null,null,null,""]
[null,null,null,""]
[null,null,null,""]
[null,null,null,""]
[null,null,null,""]
[null,null,null,""]
[null,null,null,""]
[null,null,null,""]
[null,null,null,""]
[null,null,null,""]
[null,null,null,""]
[null,null,null,""]
[null,null,null,""]
[null,null,null,""]
[null,null,null,""]
[null,null,null,""]
[null,null,null,""]
[null,null,null,""]
[null,null,null,""]
[null,null,null,""]
[null,null,null,""]
[null,null,null,""]
[null,null,null,""]
[null,null,null,""]
[null,null,null,""]
[null,null,null,{"$f":"IF(A370=\"\",\"\",WEEKDAY(A370,2))","v":""}]
[null,null,null,""]
[null,null,null,""]
[null,null,null,""]
[null,null,null,""]
[null,null,null,""]
[null,null,null,""]
[null,null,null,""]
[null,null,null,""]
[null,null,null,""]
[null,null,null,""]
[null,null,null,""]
[null,null,null,""]
[null,null,null,""]
[null,null,null,""]
[null,null,null,""]
[null,null,null,""]
[null,null,null,""]
[null,null,null,""]
[null,null,null,""]
[null,null,null,""]
[null,null,null,""]
[null,null,null,""]
[null,null,null,""]
[null,null,null,""]
[null,null,null,""]
[null,null,null,""]
[null,null,null,""]
[null,null,null,""]
[null,null,null,""]
[null,null,null,""]
[null,null,null,""]
[null,null,null,""]
[null,null,null,""]
[null,null,null,""]
[null,null,null,""]
[null,null,null,""]
[null,null,null,""]
[null,null,null,""]
[null,null,null,""]
[null,null,null,""]
[null,null,null,""]
[null,null,null,""]
[null,null,null,""]
[null,null,null,""]
[null,null,null,""]
[null,null,null,""]
[null,null,null,""]
[null,null,null,""]
[null,null,null,""]
[null,null,null,""]
[null,null,null,""]
[null,null,null,""]
[null,null,null,""]
[null,null,null,""]
[null,null,null,""]
[null,null,null,""]
[null,null,null,""]
[null,null,null,""]
[null,null,null,""]
[null,null,null,""]
[null,null,null,""]
[null,null,null,""]
[null,null,null,""]
[null,null,null,{"$f":"IF(A434=\"\",\"\",WEEKDAY(A434,2))","v":""}]
[null,null,null,{"$f":"IF(A435=\"\",\"\",WEEKDAY(A435,2))","v":""}]
[null,null,null,{"$f":"IF(A436=\"\",\"\",WEEKDAY(A436,2))","v":""}]

{"sheet":"Tageswerte","index":5,"n_rows":367,"n_cols":15,"rows_kept":367,"cut":false,"hidden":false,"merged":[]}
["Zeitraum","Monat","SLP-Allokation [kWh]","Restlast [kWh]","Netzkontosaldo 0 [kWh]","Delta Allokation vs. Restlast [%]","Als-Ob Allokation Basis Ist-Temperatur mit KW 03 [kWh]","Als-Ob-Allokation 03 vs. Restlast [kWh]","Delta Als-Ob Allokation 03 vs. Restlast [%]","Als-Ob Allokation Basis Ist-Temperatur mit KW 04 [kWh]","Als-Ob-Allokation 04 vs. Restlast [kWh]","Delta Als-Ob Allokation 04 vs. Restlast [%]","Ist-Temperatur [°C]"]
["2012-01-01",{"$f":"IF(A2<>\"\",MONTH(A2),\"\")","v":1},5055383.4745132839,6087408.3648000006,{"$f":"D2-C2","v":1032024.8902867166},{"$f":"IF(E2<>0,E2/D2,\"\")","v":0.16953436149516862},{"$f":"'Tagesmengenallokation 03'!C2","v":4530224.6285928134},{"$f":"IF(G2<>0,D2-G2,\"\")","v":1557183.7362071872},{"$f":"IF(H2<>\"\",H2/D2,\"\")","v":0.25580405369409581},{"$f":"'Tagesmengenallokation 04'!C2","v":4356578.1814084603},{"$f":"IF(J2<>0,D2-J2,\"\")","v":1730830.1833915403},{"$f":"IF(K2<>\"\",K2/D2,\"\")","v":0.28432956681532012},10.199999999999999]
["2012-01-02",{"$f":"IF(A3<>\"\",MONTH(A3),\"\")","v":1},5960366.500272383,6670258.2264,{"$f":"D3-C3","v":709891.72612761706},{"$f":"IF(E3<>0,E3/D3,\"\")","v":0.10642642339062069},{"$f":"'Tagesmengenallokation 03'!C3","v":5461083.5836967472},{"$f":"IF(G3<>0,D3-G3,\"\")","v":1209174.6427032528},{"$f":"IF(H3<>\"\",H3/D3,\"\")","v":0.18127853550219383},{"$f":"'Tagesmengenallokation 04'!C3","v":5337439.5319178365},{"$f":"IF(J3<>0,D3-J3,\"\")","v":1332818.6944821635},{"$f":"IF(K3<>\"\",K3/D3,\"\")","v":0.19981515696154661},9]
["2012-01-03",1,7463144.1911619483,7815652.0596000003,352507.86843805201,4.5102809816752916E-2,{"$f":"'Tagesmengenallokation 03'!C4","v":7621532.4896190651},194119.56998093519,2.483728401682074E-2,{"$f":"'Tagesmengenallokation 04'!C4","v":7692926.42983534},122725.62976466026,1.5702545204007108E-2,5.9]
["2012-01-04",1,7407305.8091077795,8828342.8390000015,1421037.029892222,0.16096305454005055,{"$f":"'Tagesmengenallokation 03'!C5","v":7851012.8297404014},977330.00925960019,0.11070367645240924,{"$f":"'Tagesmengenallokation 04'!C5","v":7952895.472508694},875447.3664913075,9.9163272480078557E-2,5.5]
["2012-01-05",1,8204822.7669931296,8760840.0463999994,556017.27940686978,6.3466206032987457E-2,{"$f":"'Tagesmengenallokation 03'!C6","v":8593911.8162365854},166928.23016341403,1.9053906849036482E-2,{"$f":"'Tagesmengenallokation 04'!C6","v":8775157.2440739051},-14317.197673905641,-1.6342265807933404E-3,4.5]
["2012-01-06",1,10381857.470796315,10558487.1,176629.62920368463,1.6728687313894111E-2,{"$f":"'Tagesmengenallokation 03'!C7","v":9640733.5902335383},917753.50976646133,8.6920929208358019E-2,{"$f":"'Tagesmengenallokation 04'!C7","v":9953421.1090463735},605065.99095362611,5.730612588934509E-2,2.9]
["2012-01-07",1,9226962.9233844094,10009539.68,782576.7566155903,7.8183091494132564E-2,{"$f":"'Tagesmengenallokation 03'!C8","v":8684003.7520143036},1325535.9279856961,0.13242726142883887,{"$f":"'Tagesmengenallokation 04'!C8","v":8930729.9005458299},1078809.7794541698,0.10777816102869676,3.7]
["2012-01-08",1,9410769.0229136907,11845099.739500001,2434330.7165863104,0.20551373733633643,{"$f":"'Tagesmengenallokation 03'!C9","v":8723694.3841770943},3121405.3553229067,0.26351870596023075,{"$f":"'Tagesmengenallokation 04'!C9","v":8953959.6908316072},2891140.0486683939,0.24407899572405231,3.9]
["2012-01-09",1,9013105.9135684501,10742204.705499999,1729098.7919315491,0.1609631206381919,{"$f":"'Tagesmengenallokation 03'!C10","v":8846779.6654921956},1895425.0400078036,0.17644655747784696,{"$f":"'Tagesmengenallokation 04'!C10","v":9052449.560754858},1689755.1447451413,0.15730059062084231,4.2]
["2012-01-10",1,8236517.0870107384,9736057.0835999995,1499539.9965892611,0.15401922808311966,{"$f":"'Tagesmengenallokation 03'!C11","v":8412449.8514227234},1323607.2321772762,0.13594900079281991,{"$f":"'Tagesmengenallokation 04'!C11","v":8569505.326789571},1166551.7568104286,0.11981767842912903,4.8]
["2012-01-11",1,9692171.0878423583,11130036.9648,1437865.8769576419,0.12918787974425019,{"$f":"'Tagesmengenallokation 03'!C12","v":9945796.3639137037},1184240.6008862965,0.10640041939048282,{"$f":"'Tagesmengenallokation 04'!C12","v":10291291.586573875},838745.37822612561,7.5358723504580685E-2,2.5]
["2012-01-12",1,8972674.6996130422,10704446.043,1731771.3433869574,0.16178056635816493,{"$f":"'Tagesmengenallokation 03'!C13","v":9297534.4197101537},1406911.6232898459,0.1314324550414146,{"$f":"'Tagesmengenallokation 04'!C13","v":9560751.0970476735},1143694.9459523261,0.10684298293980631,3.5]
["2012-01-13",1,9657037.8837827593,11112139.764,1455101.8802172411,0.13094704630437917,{"$f":"'Tagesmengenallokation 03'!C14","v":9842548.3892504126},1269591.3747495878,0.11425264635913625,{"$f":"'Tagesmengenallokation 04'!C14","v":10179864.002290776},932275.76170922443,8.3897051468837552E-2,2.6]
["2012-01-14",1,11804665.388270998,14337998.993999999,2533333.6057290006,0.17668669155222572,{"$f":"'Tagesmengenallokation 03'!C15","v":10504410.482533848},3833588.5114661511,0.26737263080227491,{"$f":"'Tagesmengenallokation 04'!C15","v":10984698.178754633},3353300.8152453657,0.23387509070468038,0.8]
["2012-01-15",1,12588717.208156034,15012306.007200001,2423588.7990439665,0.16144014103373575,{"$f":"'Tagesmengenallokation 03'!C16","v":12140602.619226115},2871703.387973886,0.19128995815810029,{"$f":"'Tagesmengenallokation 04'!C16","v":12800089.286913015},2212216.7202869859,0.14736022029033996,-1.8]
["2012-01-16",1,13590746.205851421,15065946.210000001,1475200.0041485801,9.7916186848551079E-2,{"$f":"'Tagesmengenallokation 03'!C17","v":13011617.335647143},2054328.8743528575,0.13635578182200728,{"$f":"'Tagesmengenallokation 04'!C17","v":13717694.10388789},1348252.1061121114,8.9490038482761269E-2,-2.6]
["2012-01-17",1,13581009.190342924,16350855.806999998,2769846.6166570745,0.16940071206983978,{"$f":"'Tagesmengenallokation 03'!C18","v":13192260.198877692},3158595.6081223059,0.19317616431857182,{"$f":"'Tagesmengenallokation 04'!C18","v":13920019.241807815},2430836.5651921835,0.14866723759813924,-3,null,"Legende:"]
["2012-01-18",1,12388739.103892021,14917821.912,2529082.8081079796,0.16953432096367685,{"$f":"'Tagesmengenallokation 03'!C19","v":12300085.8515092},2617736.0604908001,0.17547709551252083,{"$f":"'Tagesmengenallokation 04'!C19","v":12934684.621115629},1983137.2908843718,0.13293745578830932,-1.4]
["2012-01-19",1,8204822.7669931296,9178855.4550000001,974032.68800687045,0.10611700911754585,{"$f":"'Tagesmengenallokation 03'!C20","v":7163108.7697140202},2015746.6852859799,0.21960762920478738,{"$f":"'Tagesmengenallokation 04'!C20","v":7190570.7407672843},1988284.7142327158,0.21661575606898101,6.5,null,"Eingabefelder"]
["2012-01-20",1,9657037.8837827593,10014020.901799999,356983.01801723987,3.5648319642819289E-2,{"$f":"'Tagesmengenallokation 03'!C21","v":9436730.340122249},577290.5616777502,5.7648228153187042E-2,{"$f":"'Tagesmengenallokation 04'!C21","v":9724699.0614407882},289321.84035921097,2.8891675301696843E-2,3.2,null,"Berechnung"]
["2012-01-21",1,7779274.06292383,7993001.7648,213727.70187617,2.673935377036888E-2,{"$f":"'Tagesmengenallokation 03'!C22","v":8149509.6852589948},-156507.92045899481,-1.9580618779321754E-2,{"$f":"'Tagesmengenallokation 04'!C22","v":8330755.1130963154},-337753.34829631541,-4.2256133332001913E-2,4.5]
["2012-01-22",1,7937416.8673886964,8718255.5040000007,780838.63661130425,8.956363302876931E-2,{"$f":"'Tagesmengenallokation 03'!C23","v":7831727.608286228},886527.89571377262,0.10168638614766762,{"$f":"'Tagesmengenallokation 04'!C23","v":7957004.9899708908},761250.51402910985,8.7316839209385683E-2,5.2]
["2012-01-23",1,9013105.9135684501,11143782.4515,2130676.5379315503,0.19119868385843733,{"$f":"'Tagesmengenallokation 03'!C24","v":8846779.6654921956},2297002.7860078048,0.20612415901017689,{"$f":"'Tagesmengenallokation 04'!C24","v":9052449.560754858},2091332.8907451425,0.18766813690477602,4.2]
["2012-01-24",1,10495734.621256601,12400488.0198,1904753.3985433988,0.15360309977333614,{"$f":"'Tagesmengenallokation 03'!C25","v":10418521.057398295},1981966.9624017049,0.15982975502553415,{"$f":"'Tagesmengenallokation 04'!C25","v":10812644.816807197},1587843.2029928025,0.12804683174222459,1.9]
["2012-01-25",1,11773155.687906617,12811597.438499998,1038441.750593381,8.1054822053085313E-2,{"$f":"'Tagesmengenallokation 03'!C26","v":11692921.916902857},1118675.5215971414,8.7317411194596323E-2,{"$f":"'Tagesmengenallokation 04'!C26","v":12253842.12917494},557755.30932505801,4.3535188488591857E-2,-0.3]
["2012-01-26",1,12431600.938184559,13401689.763000002,970088.82481544279,7.2385560475643027E-2,{"$f":"'Tagesmengenallokation 03'!C27","v":11791808.833835209},1609880.9291647933,0.12012521985171051,{"$f":"'Tagesmengenallokation 04'!C27","v":12359731.062809348},1041958.700190654,7.7748307759469351E-2,-0.4]
["2012-01-27",1,10381857.470796315,11362943.26,981085.78920368478,8.6340815645653837E-2,{"$f":"'Tagesmengenallokation 03'!C28","v":10560983.311766127},801959.94823387265,7.0576780142601242E-2,{"$f":"'Tagesmengenallokation 04'!C28","v":10986964.205498397},375979.05450160243,3.3088174947166149E-2,1.5]
["2012-01-28",1,10586822.075645424,11279649.699999999,692827.62435457483,6.1422796166673052E-2,{"$f":"'Tagesmengenallokation 03'!C29","v":9964441.0863886643},1315208.6136113349,0.11660012931175824,{"$f":"'Tagesmengenallokation 04'!C29","v":10374558.912764499},905090.78723550029,8.0241036850240158E-2,1.7]
["2012-01-29",1,11433925.350798128,13130185.660800003,1696260.3100018743,0.12918783890969929,{"$f":"'Tagesmengenallokation 03'!C30","v":11513765.399195503},1616420.2616044991,0.12310719005522523,{"$f":"'Tagesmengenallokation 04'!C30","v":12095514.798116328},1034670.8626836743,7.8800931640492386E-2,-0.6]
["2012-01-30",1,13061296.714403912,14735842.8672,1674546.1527960878,0.1136376227601749,{"$f":"'Tagesmengenallokation 03'!C31","v":12346163.748799965},2389679.1184000354,0.16216779317857272,{"$f":"'Tagesmengenallokation 04'!C31","v":12974377.761823397},1761465.1053766031,0.11953609449089518,-1.3]
["2012-01-31",1,13581009.190342924,15485299.6428,1904290.4524570759,0.12297407840877586,{"$f":"'Tagesmengenallokation 03'!C32","v":13285237.55139534},2200062.0914046597,0.14207423441286746,{"$f":"'Tagesmengenallokation 04'!C32","v":14023433.831107331},1461865.8116926681,9.4403456530618254E-2,-3.2]
["2012-02-01",2,14799106.182172101,14477520.789999999,-321585.39217210189,-2.2212739103384973E-2,{"$f":"'Tagesmengenallokation 03'!C33","v":14391058.091858521},86462.698141478002,5.9722033486009594E-3,{"$f":"'Tagesmengenallokation 04'!C33","v":15254772.744762842},-777251.95476284251,-5.3686813235295831E-2,-6.2]
["2012-02-02",2,15817744.291843181,16393272.050000001,575527.75815681927,3.5107558539957201E-2,{"$f":"'Tagesmengenallokation 03'!C34","v":15155635.9999696},1237636.050030401,7.5496584590042284E-2,{"$f":"'Tagesmengenallokation 04'!C34","v":16080926.922737675},312345.12726232596,1.9053251011125989E-2,-8.5]
["2012-02-03",2,16194880.014918309,17882157.420000002,1687277.4050816931,9.4355360231567237E-2,{"$f":"'Tagesmengenallokation 03'!C35","v":15650050.561449323},2232106.8585506789,0.12482312990121741,{"$f":"'Tagesmengenallokation 04'!C35","v":16616580.189637303},1265577.2303626984,7.0773184724748847E-2,-11]
["2012-02-04",2,15507475.040839259,15170495.93,-336979.11083925888,-2.2212794650494916E-2,{"$f":"'Tagesmengenallokation 03'!C36","v":15060841.713135008},109654.21686499193,7.2281234160676468E-3,{"$f":"'Tagesmengenallokation 04'!C36","v":16033122.024277385},-862626.09427738562,-5.6862089298710596E-2,-11.5]
["2012-02-05",2,15798166.139651336,15454870.52,-343295.61965133622,-2.2212778761690734E-2,{"$f":"'Tagesmengenallokation 03'!C37","v":15429704.643786386},25165.876213613898,1.6283459755322427E-3,{"$f":"'Tagesmengenallokation 04'!C37","v":16406085.971406113},-951215.4514061138,-6.1547940513325884E-2,-11.9]
["2012-02-06",2,16584255.597064616,17990835.52,1406579.9229353834,7.8183135039599505E-2,{"$f":"'Tagesmengenallokation 03'!C38","v":16091481.861553606},1899353.6584463939,0.10557339909727516,{"$f":"'Tagesmengenallokation 04'!C38","v":17071551.041944981},919284.47805501893,5.1097375496155888E-2,-12.3]
["2012-02-07",2,16571348.028170263,16532266.32,-39081.708170263097,-2.3639655576431036E-3,{"$f":"'Tagesmengenallokation 03'!C39","v":16096186.869737681},436079.4502623193,2.6377475527040704E-2,{"$f":"'Tagesmengenallokation 04'!C39","v":17077116.666075043},-544850.34607504308,-3.2956784963953031E-2,-12.4]
["2012-02-08",2,15476716.885026691,15290311.02,-186405.86502669193,-1.2191110094678239E-2,{"$f":"'Tagesmengenallokation 03'!C40","v":14961801.622898994},328509.39710100554,2.1484808037672314E-2,{"$f":"'Tagesmengenallokation 04'!C40","v":15875885.681917327},-585574.66191732697,-3.8297106000746803E-2,-8]
["2012-02-09",2,15529194.779197572,16094224.17,565029.39080242813,3.5107587966598339E-2,{"$f":"'Tagesmengenallokation 03'!C41","v":15466441.048216917},627783.1217830833,3.9006734040233221E-2,{"$f":"'Tagesmengenallokation 04'!C41","v":16414363.49526995},-320139.32526995055,-1.9891566184761955E-2,-9.6999999999999993]
["2012-02-10",2,15421770.011431241,15236026.619999999,-185743.39143124223,-1.2191065037089194E-2,{"$f":"'Tagesmengenallokation 03'!C42","v":15154828.941730551},81197.678269447759,5.3293211080939788E-3,{"$f":"'Tagesmengenallokation 04'!C42","v":16088305.855687371},-852279.23568737134,-5.5938418653627385E-2,-8.9]
["2012-02-11",2,15286546.893845063,15398558.24,112011.34615493752,7.2741450471623843E-3,{"$f":"'Tagesmengenallokation 03'!C43","v":14900440.714828758},498117.52517124265,3.2348322317430324E-2,{"$f":"'Tagesmengenallokation 04'!C43","v":15863164.618044628},-464606.37804462761,-3.0172070060282968E-2,-10.7]
["2012-02-12",2,15573489.000207799,16441813.970000001,868324.96979220212,5.2811993334589594E-2,{"$f":"'Tagesmengenallokation 03'!C44","v":15252758.402676707},1189055.5673232935,7.2319001388342158E-2,{"$f":"'Tagesmengenallokation 04'!C44","v":16219288.030864688},222525.93913531303,1.3534147724900516E-2,-11]
["2012-02-13",2,14913807.567039851,14445276,-468531.5670398511,-3.2434933540892615E-2,{"$f":"'Tagesmengenallokation 03'!C45","v":14610256.214965643},-164980.21496564336,-1.1421049688883989E-2,{"$f":"'Tagesmengenallokation 04'!C45","v":15483540.299157115},-1038264.2991571147,-7.1875698266832336E-2,-6.5]
["2012-02-14",2,12477388.024346637,12931376.93,453988.90565336309,3.5107545631906899E-2,{"$f":"'Tagesmengenallokation 03'!C46","v":12282726.143769354},648650.78623064607,5.0160999075497995E-2,{"$f":"'Tagesmengenallokation 04'!C46","v":12904491.104253931},26885.825746068731,2.0791154640071828E-3,-1.2]
["2012-02-15",2,11115428.810195919,11950511.970000001,835083.15980408154,6.9878442187283257E-2,{"$f":"'Tagesmengenallokation 03'!C47","v":10600120.67868595},1350391.2913140506,0.11299861417686614,{"$f":"'Tagesmengenallokation 04'!C47","v":11026101.572418222},924410.39758177847,7.7353204607666565E-2,1.5]
["2012-02-16",2,11154272.393664474,11344043.550000001,189771.15633552708,1.6728704848415984E-2,{"$f":"'Tagesmengenallokation 03'!C48","v":10313358.698322698},1030684.8516773023,9.0856919504447978E-2,{"$f":"'Tagesmengenallokation 04'!C48","v":10699440.544979556},644603.00502044521,5.682303688092287E-2,2]
["2012-02-17",2,9657037.8837827593,10008408.710000001,351370.82621724159,3.5107561691217301E-2,{"$f":"'Tagesmengenallokation 03'!C49","v":9436730.340122249},571678.36987775192,5.7119806598880579E-2,{"$f":"'Tagesmengenallokation 04'!C49","v":9724699.0614407882},283709.64855921268,2.8347128577567118E-2,3.2]
["2012-02-18",2,7779274.06292383,8213020.29,433746.22707617003,5.281202429321772E-2,{"$f":"'Tagesmengenallokation 03'!C50","v":7676216.183829667},536804.10617033299,6.5360133935616155E-2,{"$f":"'Tagesmengenallokation 04'!C50","v":7801493.565514328},411526.72448567208,5.010662459786424E-2,5.2]
["2012-02-19",2,9410769.0229136907,9935481.8900000006,524712.86708630994,5.281201987942126E-2,{"$f":"'Tagesmengenallokation 03'!C51","v":9653993.5089890379},281488.38101096265,2.8331628412938775E-2,{"$f":"'Tagesmengenallokation 04'!C51","v":9999488.7316492088},-64006.841649208218,-6.4422483335841718E-3,2.5]
["2012-02-20",2,12486144.852115925,12335758.619999999,-150386.23211592622,-1.219108096620054E-2,{"$f":"'Tagesmengenallokation 03'!C52","v":11373667.422458578},962091.19754142128,7.799205765761176E-2,{"$f":"'Tagesmengenallokation 04'!C52","v":11884003.974907208},451754.64509279095,3.6621553567071252E-2,0.4]
["2012-02-21",2,13052039.738485929,14411877.720000001,1359837.981514072,9.4355364924236393E-2,{"$f":"'Tagesmengenallokation 03'!C53","v":11950429.827588901},2461447.8924110997,0.17079300423117244,{"$f":"'Tagesmengenallokation 04'!C53","v":12532179.226509726},1879698.493490275,0.13042703594978011,-0.6]
["2012-02-22",2,11115428.810195919,12165836.51,1050407.6998040807,8.6340770644145429E-2,{"$f":"'Tagesmengenallokation 03'!C54","v":10663835.803529786},1502000.7064702138,0.12346053682667923,{"$f":"'Tagesmengenallokation 04'!C54","v":11097695.008156054},1068141.5018439461,8.7798442874516824E-2,1.4]
["2012-02-23",2,8972674.6996130422,9386053.1999999993,413378.50038695708,4.4041781095696016E-2,{"$f":"'Tagesmengenallokation 03'!C55","v":7950846.7830206547},1435206.4169793446,0.15290840424592358,{"$f":"'Tagesmengenallokation 04'!C55","v":8060481.2019578107},1325571.9980421886,0.14122783770735378,5.4]
["2012-02-24",2,6625084.4348874772,7186985.1200000001,561900.68511252292,7.8183087307202179E-2,{"$f":"'Tagesmengenallokation 03'!C56","v":6135648.8387653939},1051336.2812346062,0.1462833529888547,{"$f":"'Tagesmengenallokation 04'!C56","v":6071293.7647777926},1115691.3552222075,0.15523774386528957,7.9]
["2012-02-25",2,6323186.5016411655,6553255.6600000001,230069.15835883468,3.5107612200015202E-2,{"$f":"'Tagesmengenallokation 03'!C57","v":6191661.5167803215},361594.14321967866,5.5177786733819977E-2,{"$f":"'Tagesmengenallokation 04'!C57","v":6158171.1387355309},395084.52126446925,6.0288281392102627E-2,7.4]
["2012-02-26",2,8680780.8228227217,8828469.3000000007,147688.47717727907,1.672866180519867E-2,{"$f":"'Tagesmengenallokation 03'!C58","v":8038945.0712937787},789524.22870622203,8.9429345210071912E-2,{"$f":"'Tagesmengenallokation 04'!C58","v":8188000.3830314688},640468.91696853191,7.2545862165316916E-2,4.9000000000000004]
["2012-02-27",2,9770023.4118585791,10220136.119999999,450112.70814142004,4.4041752757146259E-2,{"$f":"'Tagesmengenallokation 03'!C59","v":8846779.6654921956},1373356.4545078035,0.13437751106076301,{"$f":"'Tagesmengenallokation 04'!C59","v":9052449.560754858},1167686.5592451412,0.11425352319526066,4.2]
["2012-02-28",2,7463144.1911619483,8023838.1299999999,560693.93883805163,6.9878520697183061E-2,{"$f":"'Tagesmengenallokation 03'!C60","v":7405840.4820830217},617997.64791697823,7.7020203785813188E-2,{"$f":"'Tagesmengenallokation 04'!C60","v":7454975.3181951065},568862.81180489343,7.089659619104173E-2,6.2]
["2012-02-29",2,5206813.3166168872,5345830.16,139016.84338311292,2.6004725032849327E-2,{"$f":"'Tagesmengenallokation 03'!C61","v":6572841.1598370792},-1227010.9998370791,-0.22952674572756704,{"$f":"'Tagesmengenallokation 04'!C61","v":6545794.2616109001},-1199964.1016108999,-0.2244673073584702,7.3]
["2012-03-01",3,4562933.9766102443,4949935.2,387001.22338975593,7.8183088818971999E-2,{"$f":"'Tagesmengenallokation 03'!C62","v":6317058.3095410243},-1367123.1095410241,-0.27619010235548619,{"$f":"'Tagesmengenallokation 04'!C62","v":6264772.38889453},-1314837.1888945298,-0.26562715182504404,7.7]
["2012-03-02",3,5188929.7212682599,5327469.9000000004,138540.17873174045,2.6004873107164893E-2,{"$f":"'Tagesmengenallokation 03'!C63","v":7183444.2341618994},-1855974.3341618991,-0.34837819246278595,{"$f":"'Tagesmengenallokation 04'!C63","v":7218061.8187462213},-1890591.9187462209,-0.35487613336796531,6.4]
["2012-03-03",3,4319805.8906543264,4811709.25,491903.35934567358,0.10223048272205425,{"$f":"'Tagesmengenallokation 03'!C64","v":5927898.1056272956},-1116188.8556272956,-0.23197346257513285,{"$f":"'Tagesmengenallokation 04'!C64","v":5869530.5024199253},-1057821.2524199253,-0.21984313628674162,7.8]
["2012-03-04",3,5739059.2464673631,5781111.4400000004,42052.19353263732,7.2740672739284402E-3,{"$f":"'Tagesmengenallokation 03'!C65","v":6658283.0808279933},-877171.64082799293,-0.15173062306994603,{"$f":"'Tagesmengenallokation 04'!C65","v":6657856.8836122146},-876745.44361221418,-0.15165690070354604,6.9]
["2012-03-05",3,9013105.9135684501,10039443.65,1026337.7364315502,0.10223053908286543,{"$f":"'Tagesmengenallokation 03'!C66","v":9129637.4798055552},909806.17019444518,9.0623166174596259E-2,{"$f":"'Tagesmengenallokation 04'!C66","v":9368128.3562009912},671315.29379900917,6.6867778454935509E-2,3.8]
["2012-03-06",{"$f":"IF(A67<>\"\",MONTH(A67),\"\")","v":3},9763400.1027166341,9740374.2200000007,{"$f":"D67-C67","v":-23025.882716633379},{"$f":"IF(E67<>0,E67/D67,\"\")","v":-2.3639628413202156E-3},{"$f":"'Tagesmengenallokation 03'!C67","v":9541538.1454547755},{"$f":"IF(G67<>0,D67-G67,\"\")","v":198836.07454522513},{"$f":"IF(H67<>\"\",H67/D67,\"\")","v":2.0413597060465416E-2},{"$f":"'Tagesmengenallokation 04'!C67","v":9829506.8667733148},{"$f":"IF(J67<>0,D67-J67,\"\")","v":-89132.646773314103},{"$f":"IF(K67<>\"\",K67/D67,\"\")","v":-9.1508441832036814E-3},3.2]
["2012-03-07",3,8940797.4234700017,9006310.5600000005,65513.136529998854,7.2741369613617728E-3,{"$f":"'Tagesmengenallokation 03'!C68","v":8492391.333139345},513919.22686065547,5.7062125876842451E-2,{"$f":"'Tagesmengenallokation 04'!C68","v":8665544.233943563},340766.32605643757,3.7836395246005988E-2,4.5999999999999996]
["2012-03-08",3,9726471.8368062917,10174578.48,448106.64319370873,4.4041789453444634E-2,{"$f":"'Tagesmengenallokation 03'!C69","v":8806592.1375782751},1367986.3424217254,0.134451402100908,{"$f":"'Tagesmengenallokation 04'!C69","v":9012262.0328409374},1162316.4471590631,0.11423730717137906,4.2]
["2012-03-09",3,9657037.8837827593,10382554.83,725516.94621724077,6.98784603690112E-2,{"$f":"'Tagesmengenallokation 03'!C70","v":9436730.340122249},945824.4898777511,9.1097471225947871E-2,{"$f":"'Tagesmengenallokation 04'!C70","v":9724699.0614407882},657855.76855921187,6.3361646466663715E-2,3.2]
["2012-03-10",3,8509613.9562740941,8242277,-267336.95627409406,-3.2434842492444022E-2,{"$f":"'Tagesmengenallokation 03'!C71","v":7676216.183829667},566060.81617033295,6.8677722936311525E-2,{"$f":"'Tagesmengenallokation 04'!C71","v":7801493.565514328},440783.43448567204,5.3478357313843254E-2,5.2]
["2012-03-11",3,6454831.2866296107,6689690.29,234859.00337038934,3.5107604864976397E-2,{"$f":"'Tagesmengenallokation 03'!C72","v":6318055.7098123021},371634.58018769789,5.5553331182346545E-2,{"$f":"'Tagesmengenallokation 04'!C72","v":6284565.3317675125},405124.95823248755,6.055959852701754E-2,7.4]
["2012-03-12",3,5960366.500272383,6350427.5999999996,390061.09972761665,6.142280871411189E-2,{"$f":"'Tagesmengenallokation 03'!C73","v":5999802.534545646},350625.06545435358,5.5212827787274293E-2,{"$f":"'Tagesmengenallokation 04'!C73","v":5918063.9518931611},432363.64810683858,6.808417878928949E-2,8.1999999999999993]
["2012-03-13",3,5956530.8388931248,6057871.0499999998,101340.21110687498,1.6728684098826267E-2,{"$f":"'Tagesmengenallokation 03'!C74","v":5927475.6694376376},130395.38056236226,2.152495150294793E-2,{"$f":"'Tagesmengenallokation 04'!C74","v":5840139.7998484485},217731.25015155133,3.5941876007999765E-2,8.3000000000000007]
["2012-03-14",3,5911129.059200448,5725425,-185704.05920044798,-3.2434982416230759E-2,{"$f":"'Tagesmengenallokation 03'!C75","v":6433241.5521391416},-707816.5521391416,-0.1236269014333681,{"$f":"'Tagesmengenallokation 04'!C75","v":6393395.7770161359},-667970.77701613586,-0.11666745735314599,7.5]
["2012-03-15",3,4562933.9766102443,4861543.5,298609.52338975575,6.1422781342953273E-2,{"$f":"'Tagesmengenallokation 03'!C76","v":6247735.1237598918},-1386191.6237598918,-0.28513405747781373,{"$f":"'Tagesmengenallokation 04'!C76","v":6189367.5205525216},-1327824.0205525216,-0.27312807559009222,7.8]
["2012-03-16",3,3372029.6177000301,3625364.34,253334.72229996976,6.9878417323421288E-2,{"$f":"'Tagesmengenallokation 03'!C77","v":4230990.9803525507},-605626.64035255089,-0.16705262797188294,{"$f":"'Tagesmengenallokation 04'!C77","v":4035470.4335094797},-410106.09350947989,-0.11312134589746638,10.9]
["2012-03-17",3,3213044.0849303249,3423313.3,210269.21506967489,6.1422720225366136E-2,{"$f":"'Tagesmengenallokation 03'!C78","v":3882888.5014991635},-459575.20149916364,-0.13424865363598584,{"$f":"'Tagesmengenallokation 04'!C78","v":3679615.9153603041},-256302.61536030425,-7.486975129045427E-2,11.2]
["2012-03-18",3,5055383.4745132839,5484151.6799999997,428768.20548671577,7.8183141259637046E-2,{"$f":"'Tagesmengenallokation 03'!C79","v":6318055.7098123021},-833904.02981230244,-0.1520570688906078,{"$f":"'Tagesmengenallokation 04'!C79","v":6284565.3317675125},-800413.65176751278,-0.14595031254998272,7.4]
["2012-03-19",3,7468103.2236767747,7884499.7400000002,416396.51632322557,5.2812040085529324E-2,{"$f":"'Tagesmengenallokation 03'!C80","v":7052589.1507031061},831910.58929689415,0.10551215888516145,{"$f":"'Tagesmengenallokation 04'!C80","v":7065956.1984240869},818543.54157591332,0.10381680113745724,6.7]
["2012-03-20",3,7463144.1911619483,8168411.79,705267.59883805178,8.6340847764489567E-2,{"$f":"'Tagesmengenallokation 03'!C81","v":7334049.8990966929},834361.89090330712,0.10214493494619804,{"$f":"'Tagesmengenallokation 04'!C81","v":7375892.4689098839},792519.32109011617,9.7022449585651482E-2,6.3]
["2012-03-21",3,5911129.059200448,6469730.25,558601.19079955202,8.6340723525459503E-2,{"$f":"'Tagesmengenallokation 03'!C82","v":6019544.2988192756},450185.95118072443,6.9583419058425883E-2,{"$f":"'Tagesmengenallokation 04'!C82","v":5943502.4306266811},526227.81937331893,8.1336902627944796E-2,8.1]
["2012-03-22",3,3951057.4547270034,4171354.79,220297.33527299669,5.2811939133328115E-2,{"$f":"'Tagesmengenallokation 03'!C83","v":4435097.6416946733},-263742.8516946733,-6.3227144410478997E-2,{"$f":"'Tagesmengenallokation 04'!C83","v":4248297.1842805715},-76942.394280571491,-1.844542076953648E-2,10.6]
["2012-03-23",3,3922706.3169871671,4027439.26,104732.94301283266,2.6004847311547702E-2,{"$f":"'Tagesmengenallokation 03'!C84","v":4117352.0411175182},-89912.781117518432,-2.2325049569467233E-2,{"$f":"'Tagesmengenallokation 04'!C84","v":3916556.8928008173},110882.36719918251,2.7531729230643325E-2,11.1]
["2012-03-24",3,3739171.3346302109,3875221.14,136049.80536978925,3.5107623656746786E-2,{"$f":"'Tagesmengenallokation 03'!C85","v":4211059.4160269871},-335838.27602698701,-8.6662996483082511E-2,{"$f":"'Tagesmengenallokation 04'!C85","v":4024258.9586128863},-149037.81861288613,-3.8459177742018132E-2,10.6]
["2012-03-25",3,3285127.2985122763,3181922,-103205.29851227626,-3.2434892656789283E-2,{"$f":"'Tagesmengenallokation 03'!C86","v":3855449.7022028062},-673527.70220280625,-0.21167322838297301,{"$f":"'Tagesmengenallokation 04'!C86","v":3647538.4413095796},-465616.44130957965,-0.14633182124187194,11.4]
["2012-03-26",3,3969216.9520145576,4344307.5999999996,375090.64798544208,8.6340720437347043E-2,{"$f":"'Tagesmengenallokation 03'!C87","v":4106602.8589649638},237704.74103503581,5.471636976972713E-2,{"$f":"'Tagesmengenallokation 04'!C87","v":3903330.2728261044},440977.3271738952,0.10150692993606052,11.2]
["2012-03-27",3,3967049.9318592353,3842421,-124628.93185923528,-3.2435001749999616E-2,{"$f":"'Tagesmengenallokation 03'!C88","v":4451996.6401320007},-609575.64013200067,-0.15864363642922019,{"$f":"'Tagesmengenallokation 04'!C88","v":4265196.1827178989},-422775.18271789886,-0.11002833440632842,10.6]
["2012-03-28",3,3383292.5400609742,3440853.15,57560.609939025715,1.6728586612022579E-2,{"$f":"'Tagesmengenallokation 03'!C89","v":3694273.776657314},-253420.62665731413,-7.365052084751543E-2,{"$f":"'Tagesmengenallokation 04'!C89","v":3476571.1963818348},-35718.046381834894,-1.0380578543968054E-2,11.9]
["2012-03-29",3,3951057.4547270034,4171354.79,220297.33527299669,5.2811939133328115E-2,{"$f":"'Tagesmengenallokation 03'!C90","v":4259782.6919264561},-88427.901926456019,-2.1198844590837602E-2,{"$f":"'Tagesmengenallokation 04'!C90","v":4064262.1450833846},107092.64491661545,2.567334842227972E-2,10.9]
["2012-03-30",3,5188929.7212682599,5226951.5999999996,38021.878731739707,7.2741975899948469E-3,{"$f":"'Tagesmengenallokation 03'!C91","v":4951521.8698127437},275429.73018725589,5.2694142066908735E-2,{"$f":"'Tagesmengenallokation 04'!C91","v":4796792.6980057489},430158.90199425071,8.2296323921241352E-2,9.6999999999999993]
["2012-03-31",3,5620486.5369180972,5770548.8399999999,150062.30308190268,2.6004857985380585E-2,{"$f":"'Tagesmengenallokation 03'!C92","v":5159899.626411126},610649.21358887386,0.10582168707350788,{"$f":"'Tagesmengenallokation 04'!C92","v":5036255.5746322153},734293.26536778454,0.12724842744209139,9]
["2012-04-01",4,7937416.8673886964,8303100.4800000004,365683.61261130404,4.404181468020775E-2,{"$f":"'Tagesmengenallokation 03'!C93","v":7831727.608286228},471372.87171377242,5.6770705455050981E-2,{"$f":"'Tagesmengenallokation 04'!C93","v":7957004.9899708908},346095.49002910964,4.1682681169854956E-2,5.2]
["2012-04-02",4,6703455.3610555772,7401860.4000000004,698405.0389444232,9.4355337874843348E-2,{"$f":"'Tagesmengenallokation 03'!C94","v":6697019.6605825294},704840.73941747099,9.5224808538333275E-2,{"$f":"'Tagesmengenallokation 04'!C94","v":6676502.6598064983},725357.74019350205,9.7996679347465407E-2,7.2]
["2012-04-03",4,3967049.9318592353,3996117.84,29067.908140764572,7.2740367788464849E-3,{"$f":"'Tagesmengenallokation 03'!C95","v":4632232.6362609901},-636114.7962609902,-0.15918319272111112,{"$f":"'Tagesmengenallokation 04'!C95","v":4455133.0931846267},-459015.25318462681,-0.11486529465923528,10.3]
["2012-04-04",4,3935916.7297270093,3964756.64,28839.910272990819,7.2740682194786157E-3,{"$f":"'Tagesmengenallokation 03'!C96","v":5094222.9733743351},-1129466.333374335,-0.28487658535690979,{"$f":"'Tagesmengenallokation 04'!C96","v":4947830.6313474653},-983073.9913474652,-0.24795317357674321,9.5]
["2012-04-05",4,5226321.2206237884,5517722.79,291401.56937621161,5.2811926308500109E-2,{"$f":"'Tagesmengenallokation 03'!C97","v":6596449.7412702441},-1078726.9512702441,-0.19550220123875489,{"$f":"'Tagesmengenallokation 04'!C97","v":6569402.8430440649},-1051680.0530440649,-0.19060037864716015,7.3]
["2012-04-06",4,5890573.8596662451,6047846.96,157273.1003337549,2.6004808219180681E-2,{"$f":"'Tagesmengenallokation 03'!C98","v":6971279.1438746927},-923432.18387469277,-0.15268775648296046,{"$f":"'Tagesmengenallokation 04'!C98","v":6984646.1915956736},-936799.2315956736,-0.15489797241755496,6.7]
["2012-04-07",4,7779274.06292383,8665113.1500000004,885839.08707617037,0.10223052737357161,{"$f":"'Tagesmengenallokation 03'!C99","v":7404677.0800611963},1260436.069938804,0.1454610053117199,{"$f":"'Tagesmengenallokation 04'!C99","v":7498857.5021000756},1166255.6478999248,0.13459208526318259,5.6]
["2012-04-08",4,10117857.267625678,10093994.85,-23862.417625678703,-2.3640211809379617E-3,{"$f":"'Tagesmengenallokation 03'!C100","v":9194073.1370299775},899921.71297002211,8.9154168031898906E-2,{"$f":"'Tagesmengenallokation 04'!C100","v":9482041.8583485167},611952.99165148288,6.0625451146478729E-2,3.2]
["2012-04-09",4,8242034.1020643646,8222596.0899999999,-19438.012064364739,-2.3639750574644533E-3,{"$f":"'Tagesmengenallokation 03'!C101","v":7770959.7290024124},451636.36099758744,5.4926249089001213E-2,{"$f":"'Tagesmengenallokation 04'!C101","v":7857489.7798946816},365106.3101053182,4.4402802485865291E-2,5.7]
["2012-04-10",4,3410322.647673083,3798661.6,388338.95232691709,0.10223046778552664,{"$f":"'Tagesmengenallokation 03'!C102","v":3414301.2287698537},384360.37123014638,0.10118310386746383,{"$f":"'Tagesmengenallokation 04'!C102","v":3188109.0285331812},610552.57146681892,0.16072833954643892,12.5]
["2012-04-11",4,5911129.059200448,6297967.5,386838.44079955202,6.1422743257972041E-2,{"$f":"'Tagesmengenallokation 03'!C103","v":6156510.5787383523},141456.92126164772,2.2460725823314858E-2,{"$f":"'Tagesmengenallokation 04'!C103","v":6092155.504750751},205811.99524924904,3.2679113578983864E-2,7.9]
["2012-04-12",4,6672830.1319035329,6850988.8200000003,178158.68809646741,2.6004813725045227E-2,{"$f":"'Tagesmengenallokation 03'!C104","v":6666769.8352989005},184218.98470109981,2.6889400864779079E-2,{"$f":"'Tagesmengenallokation 04'!C104","v":6646252.8345228685},204735.98547713179,2.988415115777868E-2,7.2]
["2012-04-13",4,6625084.4348874772,7315324.1399999997,690239.70511252247,9.4355313845672251E-2,{"$f":"'Tagesmengenallokation 03'!C105","v":6342033.5111910226},973290.62880897708,0.13304818900464704,{"$f":"'Tagesmengenallokation 04'!C105","v":6295922.0351256886},1019402.104874311,0.13935159746377432,7.6]
["2012-04-14",4,5620486.5369180972,6260501.0999999996,640014.56308190245,0.10223056475174208,{"$f":"'Tagesmengenallokation 03'!C106","v":4852907.748841757},1407593.3511582427,0.22483717016809449,{"$f":"'Tagesmengenallokation 04'!C106","v":4706515.4068148872},1553985.6931851124,0.24822065651982914,9.5]
["2012-04-15",4,6454831.2866296107,7002292.6399999997,547461.35337038897,7.8183158219218465E-2,{"$f":"'Tagesmengenallokation 03'!C107","v":6318055.7098123021},684236.93018769752,9.7716128897420304E-2,{"$f":"'Tagesmengenallokation 04'!C107","v":6284565.3317675125},717727.30823248718,0.10249890216420421,7.4]
["2012-04-16",4,8242034.1020643646,7983103,-258931.10206436459,-3.2434894309188368E-2,{"$f":"'Tagesmengenallokation 03'!C108","v":7915061.8432379477},68041.156762052327,8.5231465461553385E-3,{"$f":"'Tagesmengenallokation 04'!C108","v":8016944.4860062394},-33841.486006239429,-4.2391393429646882E-3,5.5]
["2012-04-17",4,8236517.0870107384,9014867.6699999999,778350.58298926149,8.6340766329769267E-2,{"$f":"'Tagesmengenallokation 03'!C109","v":7693500.9697901169},1321366.700209883,0.14657638343457605,{"$f":"'Tagesmengenallokation 04'!C109","v":7772434.7749311468},1242432.8950688532,0.13782042516314089,5.8]
["2012-04-18",4,6648474.2965851128,6697190.2400000002,48715.943414887413,7.2740868437518678E-3,{"$f":"'Tagesmengenallokation 03'!C110","v":6019544.2988192756},677645.94118072465,0.10118361833793818,{"$f":"'Tagesmengenallokation 04'!C110","v":5943502.4306266811},753687.80937331915,0.11253791252215035,8.1]
["2012-04-19",4,5933018.1984799281,6551154.7800000003,618136.58152007218,9.435536211221561E-2,{"$f":"'Tagesmengenallokation 03'!C111","v":5769498.0725955302},781656.70740447007,0.11931586623335284,{"$f":"'Tagesmengenallokation 04'!C111","v":5671270.4598422348},879884.32015776541,0.13430980486737415,8.5]
["2012-04-20",4,5890573.8596662451,5990791.7999999998,100217.94033375476,1.6728663535553807E-2,{"$f":"'Tagesmengenallokation 03'!C112","v":5662894.5422373498},327897.25776265003,5.4733542528159637E-2,{"$f":"'Tagesmengenallokation 04'!C112","v":5559374.5903785871},431417.20962141268,7.201338721559522E-2,8.6]
["2012-04-21",4,5620486.5369180972,6206061.96,585575.42308190279,9.4355394267108289E-2,{"$f":"'Tagesmengenallokation 03'!C113","v":6191661.5167803215},14400.443219678476,2.3203834110090767E-3,{"$f":"'Tagesmengenallokation 04'!C113","v":6158171.1387355309},47890.821264469065,7.7167810397544053E-3,7.4]
["2012-04-22",4,6454831.2866296107,6564649.3499999996,109818.06337038893,1.6728702100499693E-2,{"$f":"'Tagesmengenallokation 03'!C114","v":6932869.1604890274},-368219.81048902776,-5.6091314380565929E-2,{"$f":"'Tagesmengenallokation 04'!C114","v":6960331.1315422915},-395681.78154229186,-6.027462556584106E-2,6.5]
["2012-04-23",4,5960366.500272383,5773116,-187250.50027238298,-3.243491041447686E-2,{"$f":"'Tagesmengenallokation 03'!C115","v":5999802.534545646},-226686.53454564605,-3.9265889433998218E-2,{"$f":"'Tagesmengenallokation 04'!C115","v":5918063.9518931611},-144947.95189316105,-2.5107403331781495E-2,8.1999999999999993]
["2012-04-24",4,5956530.8388931248,5827095.0099999998,-129435.82889312506,-2.2212754154685571E-2,{"$f":"'Tagesmengenallokation 03'!C116","v":5927475.6694376376},-100380.65943763778,-1.7226535566242256E-2,{"$f":"'Tagesmengenallokation 04'!C116","v":5840139.7998484485},-13044.789848448709,-2.2386437540596596E-3,8.3000000000000007]
["2012-04-25",4,3935916.7297270093,4041001.96,105085.23027299065,2.600474617760162E-2,{"$f":"'Tagesmengenallokation 03'!C117","v":4244439.3990751011},-203437.43907510117,-5.0343316110418611E-2,{"$f":"'Tagesmengenallokation 04'!C117","v":4048918.8522320301},-7916.8922320301645,-1.9591409037649078E-3,10.9]
["2012-04-26",4,2469963.9241207573,2511986.4,42022.475879242644,1.6728783196932374E-2,{"$f":"'Tagesmengenallokation 03'!C118","v":3161304.7089922763},-649318.30899227643,-0.25848798743188917,{"$f":"'Tagesmengenallokation 04'!C118","v":2930577.8250953401},-418591.42509534024,-0.166637615990015,13]
["2012-04-27",4,1768278.5052506451,1969634.9,201356.3947493548,0.10223031423202078,{"$f":"'Tagesmengenallokation 03'!C119","v":2358517.7280589053},-388882.82805890543,-0.19743904215898361,{"$f":"'Tagesmengenallokation 04'!C119","v":2128255.5652434235},-158620.66524342354,-8.0533029366723519E-2,14.9]
["2012-04-28",4,1061695.4300441083,1069474.6399999999,7779.2099558915943,7.2738610762117699E-3,{"$f":"'Tagesmengenallokation 03'!C120","v":988604.50637611921},80870.133623880683,7.5616691223160462E-2,{"$f":"'Tagesmengenallokation 04'!C120","v":840028.08003310033},229446.55996689957,0.21454137516238775,20.8]
["2012-04-29",4,1258133.9917326514,1267353.3600000001,9219.3682673487347,7.2745049315596829E-3,{"$f":"'Tagesmengenallokation 03'!C121","v":1261923.7243206853},5429.6356793148443,4.2842318888197404E-3,{"$f":"'Tagesmengenallokation 04'!C121","v":1085431.8292973579},181921.53070264217,0.14354444186161477,19]
["2012-04-30",4,1788905.0079016231,1802013.2,13108.192098376807,7.2741931626121312E-3,{"$f":"'Tagesmengenallokation 03'!C122","v":1633813.1072638982},168200.09273610171,9.3340100247934765E-2,{"$f":"'Tagesmengenallokation 04'!C122","v":1432193.8424363288},369819.35756367119,0.20522566514144913,17.399999999999999]
["2012-05-01",5,1789077.7798379906,1906159.2,117081.42016200931,6.1422687130229893E-2,{"$f":"'Tagesmengenallokation 03'!C123","v":1868344.5233460753},37814.676653924631,1.983815237149375E-2,{"$f":"'Tagesmengenallokation 04'!C123","v":1654097.8534647389},252061.34653526102,0.13223520183165238,16.5]
["2012-05-02",5,2088832.2010435716,2306459.4,217627.19895642833,9.4355529933207727E-2,{"$f":"'Tagesmengenallokation 03'!C124","v":1773072.9501776053},533386.44982239464,0.23125767998447952,{"$f":"'Tagesmengenallokation 04'!C124","v":1562831.0673998408},743628.3326001591,0.3224111955320606,16.8]
["2012-05-03",5,2902534.293648269,3092482.8,189948.50635173079,6.142265572236353E-2,{"$f":"'Tagesmengenallokation 03'!C125","v":2722330.8598040896},370151.94019591017,0.11969409828113198,{"$f":"'Tagesmengenallokation 04'!C125","v":2488713.7311899359},603769.06881006388,0.19523764814797478,14]
["2012-05-04",5,2081834.152140884,2197909.79,116075.63785911608,5.2811829851813923E-2,{"$f":"'Tagesmengenallokation 03'!C126","v":2431558.7286945828},-233648.93869458279,-0.10630506300014378,{"$f":"'Tagesmengenallokation 04'!C126","v":2200129.2506545899},-2219.4606545898132,-1.0098051633819845E-3,14.7]
["2012-05-05",5,2744480.3098340603,2658260,-86220.309834060259,-3.2434867106325288E-2,{"$f":"'Tagesmengenallokation 03'!C127","v":3231150.681122269},-572890.68112226902,-0.21551341145044842,{"$f":"'Tagesmengenallokation 04'!C127","v":3004958.4808855965},-346698.48088559648,-0.13042308912055123,12.5]
["2012-05-06",5,3285127.2985122763,3372837.32,87710.02148772357,2.600481824831195E-2,{"$f":"'Tagesmengenallokation 03'!C128","v":3594613.6271380093},-221776.30713800946,-6.5753632949605012E-2,{"$f":"'Tagesmengenallokation 04'!C128","v":3376911.0468625301},-4073.726862530224,-1.2078041352229299E-3,11.9]
["2012-05-07",5,3969216.9520145576,3921410.4,-47806.552014557645,-1.2191162652742912E-2,{"$f":"'Tagesmengenallokation 03'!C129","v":4050335.5907139149},-128925.19071391504,-3.287725016333793E-2,{"$f":"'Tagesmengenallokation 04'!C129","v":3844691.2203956242},76719.179604375735,1.9564180174657501E-2,11.3]
["2012-05-08",5,2480086.225607296,2618367.48,138281.254392704,5.28120118543116E-2,{"$f":"'Tagesmengenallokation 03'!C130","v":2456900.9784187237},161466.5015812763,6.1666860291618157E-2,{"$f":"'Tagesmengenallokation 04'!C130","v":2225471.5003787302},392895.97962126974,0.15005379597109483,14.7]
["2012-05-09",{"$f":"IF(A131<>\"\",MONTH(A131),\"\")","v":5},2088832.2010435716,2185066.7999999998,{"$f":"D131-C131","v":96234.598956428235},{"$f":"IF(E131<>0,E131/D131,\"\")","v":4.4041948262830338E-2},{"$f":"'Tagesmengenallokation 03'!C131","v":1746817.8459273849},{"$f":"IF(G131<>0,D131-G131,\"\")","v":438248.9540726149},{"$f":"IF(H131<>\"\",H131/D131,\"\")","v":0.20056547199042837},{"$f":"'Tagesmengenallokation 04'!C131","v":1537960.9552855575},{"$f":"IF(J131<>0,D131-J131,\"\")","v":647105.84471444227},{"$f":"IF(K131<>\"\",K131/D131,\"\")","v":0.29614922743526301},16.899999999999999]
["2012-05-10",5,989083.86578226672,977171.22,-11912.645782266743,-1.219095030476516E-2,{"$f":"'Tagesmengenallokation 03'!C132","v":1131026.4116027402},-153855.1916027402,-0.15744957327206199,{"$f":"'Tagesmengenallokation 04'!C132","v":971909.63206579594},5261.587934204028,5.3845097220567226E-3,20.100000000000001]
["2012-05-11",5,872742.32086764672,853777.24,-18965.080867646728,-2.2213148792355634E-2,{"$f":"'Tagesmengenallokation 03'!C133","v":860869.23723555775},-7091.9972355577629,-8.3066131343086207E-3,{"$f":"'Tagesmengenallokation 04'!C133","v":737449.23198649031},116328.00801350968,0.13625100619162639,22.7]
["2012-05-12",5,3213044.0849303249,3267708.15,54664.06506967498,1.6728564045621695E-2,{"$f":"'Tagesmengenallokation 03'!C134","v":3673472.1222862755},-405763.97228627559,-0.12417387161282308,{"$f":"'Tagesmengenallokation 04'!C134","v":3461338.454701954},-193630.30470195413,-5.9255691087943131E-2,11.6]
["2012-05-13",5,5055383.4745132839,4896564,-158819.47451328393,-3.2434881789206456E-2,{"$f":"'Tagesmengenallokation 03'!C135","v":5076874.46003199},-180310.46003198996,-3.6823874870621512E-2,{"$f":"'Tagesmengenallokation 04'!C135","v":4939256.3192029474},-42692.31920294743,-8.7188320632483173E-3,9.3000000000000007]
["2012-05-14",5,3969216.9520145576,4036746,67529.047985442448,1.6728584851621195E-2,{"$f":"'Tagesmengenallokation 03'!C136","v":4634990.6749855205},-598244.67498552054,-0.1481997319091963,{"$f":"'Tagesmengenallokation 04'!C136","v":4457891.1319091571},-421145.13190915715,-0.10432787495402414,10.3]
["2012-05-15",5,5247194.6312375739,5082349,-164845.63123757392,-3.2434929446516547E-2,{"$f":"'Tagesmengenallokation 03'!C137","v":5523724.8180085998},-441375.8180085998,-8.6844846351283589E-2,{"$f":"'Tagesmengenallokation 04'!C137","v":5404953.3373054275},-322604.33730542753,-6.3475439664892663E-2,8.9]
["2012-05-16",5,6648474.2965851128,6890378.4199999999,241904.12341488712,3.5107523661216729E-2,{"$f":"'Tagesmengenallokation 03'!C138","v":7208610.9922728511},-318232.57227285113,-4.6185064574849742E-2,{"$f":"'Tagesmengenallokation 04'!C138","v":7243228.5768571729},-352850.15685717296,-5.1209111510187991E-2,6.4]
["2012-05-17",5,5933018.1984799281,5919025.8099999996,-13992.388479928486,-2.3639681476449732E-3,{"$f":"'Tagesmengenallokation 03'!C139","v":5436709.4130483251},482316.39695167448,8.1485773577269549E-2,{"$f":"'Tagesmengenallokation 04'!C139","v":5313065.3612694144},605960.44873058517,0.10237503065231358,9]
["2012-05-18",5,3372029.6177000301,3266094,-105935.6177000301,-3.2434956771002332E-2,{"$f":"'Tagesmengenallokation 03'!C140","v":2915354.0253974451},350739.97460255492,0.10738820579032782,{"$f":"'Tagesmengenallokation 04'!C140","v":2682216.0132944798},583877.98670552019,0.17876949858317617,13.5]
["2012-05-19",5,1681598.3433864831,1824221.28,142622.93661351688,7.8182914637152393E-2,{"$f":"'Tagesmengenallokation 03'!C141","v":1616799.2929251818},207421.98707481823,0.11370440052909493,{"$f":"'Tagesmengenallokation 04'!C141","v":1410779.0055885999},413442.27441140008,0.22664041854143926,17.100000000000001]
["2012-05-20",5,1258133.9917326514,1230795.0900000001,-27338.901732651284,-2.2212390961562321E-2,{"$f":"'Tagesmengenallokation 03'!C142","v":1388905.1388824144},-158110.04888241435,-0.12846171565602715,{"$f":"'Tagesmengenallokation 04'!C142","v":1201220.4920856722},29574.597914327867,2.4028855944109969E-2,18.3]
["2012-05-21",5,1524254.8243494339,1505896.38,-18358.444349433994,-1.2191040893154943E-2,{"$f":"'Tagesmengenallokation 03'!C143","v":1519515.5138213551},-13619.133821355179,-9.0438718109908597E-3,{"$f":"'Tagesmengenallokation 04'!C143","v":1325534.4914028589},180361.88859714102,0.119770451003502,17.899999999999999]
["2012-05-22",5,1524774.558436054,1609790.48,85015.921563945943,5.2811792975658509E-2,{"$f":"'Tagesmengenallokation 03'!C144","v":1477588.7455563901},132201.73444360984,8.2123565821814182E-2,{"$f":"'Tagesmengenallokation 04'!C144","v":1286740.6168505461},323049.86314945389,0.20067820450115589,18.100000000000001]
["2012-05-23",5,1122914.9444034912,1131143.52,8228.5755965088028,7.2745637056814885E-3,{"$f":"'Tagesmengenallokation 03'!C145","v":1349334.520090915},-218191.00009091501,-0.19289417853086849,{"$f":"'Tagesmengenallokation 04'!C145","v":1168034.6358803478},-36891.115880347788,-3.2614000989324314E-2,18.7]
["2012-05-24",5,1127930.1125760691,1223594.3999999999,95664.287423930829,7.8183005270317379E-2,{"$f":"'Tagesmengenallokation 03'!C146","v":1117552.4397789005},106041.96022109943,8.666430658811404E-2,{"$f":"'Tagesmengenallokation 04'!C146","v":959973.31140842475},263621.08859157516,0.21544809995172842,20.2]
["2012-05-25",5,1292147.4307190748,1401739.36,109591.92928092531,7.8182815156824376E-2,{"$f":"'Tagesmengenallokation 03'!C147","v":1441596.4383786714},-39857.078378671315,-2.8434015278468967E-2,{"$f":"'Tagesmengenallokation 04'!C147","v":1252326.7742143122},149412.5857856879,0.10659084709277757,18.2]
["2012-05-26",5,1432027.6285279333,1553483.68,121456.05147206667,7.8183023765056009E-2,{"$f":"'Tagesmengenallokation 03'!C148","v":1593043.2721040733},-39559.592104073381,-2.546508380704288E-2,{"$f":"'Tagesmengenallokation 04'!C148","v":1388471.8487406485},165011.83125935146,0.10622051160482836,17.2]
["2012-05-27",5,1722284.5718063489,1818312.93,96028.358193651075,5.2811788669209471E-2,{"$f":"'Tagesmengenallokation 03'!C149","v":2134639.9770980589},-316327.04709805897,-0.17396733085875321,{"$f":"'Tagesmengenallokation 04'!C149","v":1908213.1122727538},-89900.182272753911,-4.944153494676734E-2,15.4]
["2012-05-28",5,1524254.8243494339,1564951.14,40696.315650566015,2.6004847442435818E-2,{"$f":"'Tagesmengenallokation 03'!C150","v":1586787.5390215146},-21836.399021514691,-1.39534062523605E-2,{"$f":"'Tagesmengenallokation 04'!C150","v":1388184.3600961945},176766.77990380535,0.11295354556807784,17.600000000000001]
["2012-05-29",5,1524774.558436054,1506409.44,-18365.118436054094,-1.2191319271110047E-2,{"$f":"'Tagesmengenallokation 03'!C151","v":1222835.3838929255},283574.05610707449,0.18824500735143726,{"$f":"'Tagesmengenallokation 04'!C151","v":1054322.0146943203},452087.42530567967,0.30010926199830484,19.5]
["2012-05-30",5,1512077.2948438386,1523156.96,11079.665156161413,7.2741453751170946E-3,{"$f":"'Tagesmengenallokation 03'!C152","v":1367927.2289010333},155229.73109896667,0.1019131548326882,{"$f":"'Tagesmengenallokation 04'!C152","v":1185026.4677941836},338130.49220581632,0.2219932029892811,18.600000000000001]
["2012-05-31",5,1781763.6634507785,1950140.44,168376.77654922148,8.6340846584988251E-2,{"$f":"'Tagesmengenallokation 03'!C153","v":1431490.1056594371},518650.33434056281,0.26595537618847737,{"$f":"'Tagesmengenallokation 04'!C153","v":1243805.4588626951},706334.9811373048,0.36219698163754033,18.3]
["2012-06-01",6,1768278.5052506451,1866871.34,98592.834749354981,5.281179941910457E-2,{"$f":"'Tagesmengenallokation 03'!C154","v":1767637.1748372638},99234.165162736317,5.3155331616337474E-2,{"$f":"'Tagesmengenallokation 04'!C154","v":1557395.2920594993},309476.04794050078,0.1657725635985717,16.8]
["2012-06-02",6,1681598.3433864831,1775358.21,93759.866613516817,5.2811802195973069E-2,{"$f":"'Tagesmengenallokation 03'!C155","v":1616799.2929251818},158558.91707481816,8.9310943662923192E-2,{"$f":"'Tagesmengenallokation 04'!C155","v":1410779.0055885999},364579.20441140002,0.2053552924462495,17.100000000000001]
["2012-06-03",6,1722284.5718063489,1851676.47,129391.89819365111,6.9878242927421938E-2,{"$f":"'Tagesmengenallokation 03'!C156","v":2008468.4270239787},-156791.9570239787,-8.4675676104464789E-2,{"$f":"'Tagesmengenallokation 04'!C156","v":1785943.2308230363},65733.239176963689,3.5499311160423014E-2,15.8]
["2012-06-04",6,2480741.6827287399,2619059.63,138317.94727125997,5.2812064943805796E-2,{"$f":"'Tagesmengenallokation 03'!C157","v":2651642.9696860481},-32583.339686048217,-1.2440854462732572E-2,{"$f":"'Tagesmengenallokation 04'!C157","v":2418329.9937691283},200729.63623087155,7.6641873263065624E-2,14.2]
["2012-06-05",6,3410322.647673083,3699566.08,289243.43232691707,7.8183069601210381E-2,{"$f":"'Tagesmengenallokation 03'!C158","v":4275986.8676768811},-576420.78767688107,-0.15580767452513811,{"$f":"'Tagesmengenallokation 04'!C158","v":4080466.3208338111},-380900.240833811,-0.1029580855152102,10.9]
["2012-06-06",6,2460034.4972572764,2621025,160990.50274272356,6.1422726888420966E-2,{"$f":"'Tagesmengenallokation 03'!C159","v":2795475.0181593709},-174450.01815937087,-6.655793750894054E-2,{"$f":"'Tagesmengenallokation 04'!C159","v":2561830.481966685},59194.518033314962,2.2584491957655866E-2,13.8]
["2012-06-07",6,1302501.7349126844,1261582,-40919.73491268442,-3.243525582378666E-2,{"$f":"'Tagesmengenallokation 03'!C160","v":1514859.6396528203},-253277.6396528203,-0.20076193196543729,{"$f":"'Tagesmengenallokation 04'!C160","v":1320878.6172343241},-59296.617234324105,-4.7001793965294449E-2,17.899999999999999]
["2012-06-08",6,1506794.0533604161,1663780.98,156986.92663958389,9.4355524270738983E-2,{"$f":"'Tagesmengenallokation 03'!C161","v":1821415.5117577096},-157634.53175770957,-9.4744761271227884E-2,{"$f":"'Tagesmengenallokation 04'!C161","v":1608477.2997260417},55303.680273958249,3.3239759883514387E-2,16.600000000000001]
["2012-06-09",6,1980918.2963421429,2052994.02,72075.723657857161,3.5107615003114892E-2,{"$f":"'Tagesmengenallokation 03'!C162","v":1850630.1755359778},202363.8444640222,9.8570109066378184E-2,{"$f":"'Tagesmengenallokation 04'!C162","v":1632634.6655569659},420359.35444303416,0.20475430047430637,16.2]
["2012-06-10",6,2388505.5033593853,2498545.44,110039.93664061464,4.4041599115609696E-2,{"$f":"'Tagesmengenallokation 03'!C163","v":2721638.8463822738},-223093.40638227388,-8.928931321828347E-2,{"$f":"'Tagesmengenallokation 04'!C163","v":2487994.3101895885},10551.129810411483,4.2229089139205261E-3,13.8]
["2012-06-11",6,2480741.6827287399,2619059.63,138317.94727125997,5.2812064943805796E-2,{"$f":"'Tagesmengenallokation 03'!C164","v":2611685.7058845689},7373.9241154310293,2.8154853868031363E-3,{"$f":"'Tagesmengenallokation 04'!C164","v":2378624.4285867894},240435.20141321048,9.1802110444201876E-2,14.3]
["2012-06-12",6,2914394.5273267757,3133347.96,218953.43267322425,6.9878428910022578E-2,{"$f":"'Tagesmengenallokation 03'!C165","v":3514599.4965762515},-381251.5365762515,-0.1216754543201935,{"$f":"'Tagesmengenallokation 04'!C165","v":3290855.6417487231},-157507.68174872315,-5.0268174412625127E-2,12.3]
["2012-06-13",6,2891064.6187984431,2996255.73,105191.11120155687,3.510752107983682E-2,{"$f":"'Tagesmengenallokation 03'!C166","v":2837838.3064035745},158417.42359642545,5.2871796626126254E-2,{"$f":"'Tagesmengenallokation 04'!C166","v":2604287.9666648116},391967.76333518839,0.13081919524111796,13.7]
["2012-06-14",6,2097420.6714083878,2031528,-65892.671408387832,-3.2435029892961272E-2,{"$f":"'Tagesmengenallokation 03'!C167","v":2447871.3077333448},-416343.30773334485,-0.20494096450225882,{"$f":"'Tagesmengenallokation 04'!C167","v":2216441.8296933514},-184913.82969335141,-9.1022043355223958E-2,14.7]
["2012-06-15",6,1118694.4044592658,1235247,116552.59554073424,9.4355700148014324E-2,{"$f":"'Tagesmengenallokation 03'!C168","v":1344974.0371733541},-109727.03717335407,-8.8830037371759707E-2,{"$f":"'Tagesmengenallokation 04'!C168","v":1163674.1529627868},71572.847037213156,5.7942133870564475E-2,18.7]
["2012-06-16",6,827076.26200739283,921256.95,94180.687992607127,0.10223064042296466,{"$f":"'Tagesmengenallokation 03'!C169","v":999787.06862577039},-78530.118625770439,-8.5242362215851339E-2,{"$f":"'Tagesmengenallokation 04'!C169","v":849739.30103416624},71517.648965833709,7.7630512275466371E-2,20.7]
["2012-06-17",6,954466.62808129378,933725.81,-20740.818081293721,-2.2212964297617221E-2,{"$f":"'Tagesmengenallokation 03'!C170","v":1469893.8107182698},-536168.00071826973,-0.57422424760676771,{"$f":"'Tagesmengenallokation 04'!C170","v":1275912.7882997736},-342186.97829977353,-0.36647479874179928,17.899999999999999]
["2012-06-18",6,798355.56208781619,858334.14,59978.577912183828,6.9877889177498903E-2,{"$f":"'Tagesmengenallokation 03'!C171","v":915708.16471455037},-57374.024714550353,-6.6843461119407824E-2,{"$f":"'Tagesmengenallokation 04'!C171","v":784969.10767745692},73365.032322543091,8.5473743736376478E-2,22.1]
["2012-06-19",6,883957.47418391972,967491.31,83533.835816080333,8.6340657484644825E-2,{"$f":"'Tagesmengenallokation 03'!C172","v":971786.21898013493},-4294.9089801348746,-4.4392222811126588E-3,{"$f":"'Tagesmengenallokation 04'!C172","v":833130.90669016726},134360.40330983279,0.1388750492341195,21.5]
["2012-06-20",6,984594.85074765142,1058565.93,73971.079252348514,6.9878575491607323E-2,{"$f":"'Tagesmengenallokation 03'!C173","v":1213827.2528510876},-155261.32285108767,-0.14667137723872115,{"$f":"'Tagesmengenallokation 04'!C173","v":1045313.8836524828},13252.046347517171,1.2518867244780088E-2,19.5]
["2012-06-21",6,880417.74873790052,929507.31,49089.561262099538,5.2812453150152781E-2,{"$f":"'Tagesmengenallokation 03'!C174","v":1117552.4397789005},-188045.12977890042,-0.20230624090401225,{"$f":"'Tagesmengenallokation 04'!C174","v":959973.31140842475},-30466.001408424694,-3.2776505446121443E-2,20.2]
["2012-06-22",6,1506794.0533604161,1561618.99,54824.936639583902,3.510775483050696E-2,{"$f":"'Tagesmengenallokation 03'!C175","v":1504365.4019935399},57253.588006460108,3.6662968606996839E-2,{"$f":"'Tagesmengenallokation 04'!C175","v":1310384.3795750439},251234.61042495607,0.16088086276727212,17.899999999999999]
["2012-06-23",6,1432027.6285279333,1400909.39,-31118.238527933368,-2.2212884537759697E-2,{"$f":"'Tagesmengenallokation 03'!C176","v":1459381.3492521788},-58471.959252178902,-4.1738573293579613E-2,{"$f":"'Tagesmengenallokation 04'!C176","v":1263848.1512428769},137061.23875712301,9.7837333189067288E-2,17.8]
["2012-06-24",6,1258133.9917326514,1230795.0900000001,-27338.901732651284,-2.2212390961562321E-2,{"$f":"'Tagesmengenallokation 03'!C177","v":1469893.8107182698},-239098.7207182697,-0.19426362898333441,{"$f":"'Tagesmengenallokation 04'!C177","v":1275912.7882997736},-45117.698299773503,-3.6657359674528357E-2,17.899999999999999]
["2012-06-25",6,1788905.0079016231,1853994.35,65089.342098376947,3.5107626999174482E-2,{"$f":"'Tagesmengenallokation 03'!C178","v":2141680.5194300315},-287686.16943003144,-0.15517100655135838,{"$f":"'Tagesmengenallokation 04'!C178","v":1917119.560392603},-63125.210392602952,-3.4048221556124456E-2,15.6]
["2012-06-26",6,1524774.558436054,1521178.16,-3596.3984360541217,-2.3642190840119093E-3,{"$f":"'Tagesmengenallokation 03'!C179","v":1733717.0942446084},-212538.93424460851,-0.13971994854607203,{"$f":"'Tagesmengenallokation 04'!C179","v":1526267.8637518457},-5089.703751845751,-3.3458958889113627E-3,17]
["2012-06-27",6,1122914.9444034912,1185525.42,62610.47559650871,5.2812427755879507E-2,{"$f":"'Tagesmengenallokation 03'!C180","v":1154374.7083071792},31150.711692820769,2.6275869894734752E-2,{"$f":"'Tagesmengenallokation 04'!C180","v":992155.72088222625},193369.69911777368,0.16310885946062101,19.899999999999999]
["2012-06-28",6,796779.20335630141,841205.32,44426.116643698537,5.281245325897195E-2,{"$f":"'Tagesmengenallokation 03'!C181","v":905915.94068199687},-64710.620681996923,-7.6926071606390853E-2,{"$f":"'Tagesmengenallokation 04'!C181","v":776439.24619587034},64766.073804129614,7.6991992637575821E-2,22.2]
["2012-06-29",6,680091.70068134519,744360.38,64268.679318654817,8.6340811581958207E-2,{"$f":"'Tagesmengenallokation 03'!C182","v":769428.10710222542},-25067.727102225414,-3.3676869129205152E-2,{"$f":"'Tagesmengenallokation 04'!C182","v":662436.94554755196},81923.43445244804,0.11005883259456668,24.3]
["2012-06-30",6,643377.7297957699,697944.8,54567.070204230142,7.8182501258308876E-2,{"$f":"'Tagesmengenallokation 03'!C183","v":742177.20082632254},-44232.400826322497,-6.3375213664923782E-2,{"$f":"'Tagesmengenallokation 04'!C183","v":633379.73239723593},64565.067602764117,9.2507412624557292E-2,24.1]
["2012-07-01",7,1089009.4907889082,1054797,-34212.49078890821,-3.2435142296487578E-2,{"$f":"'Tagesmengenallokation 03'!C184","v":1701481.9283278389},-646684.92832783889,-0.61308946491868943,{"$f":"'Tagesmengenallokation 04'!C184","v":1492625.0376860115},-437828.03768601152,-0.41508274832599212,16.899999999999999]
["2012-07-02",7,1524254.8243494339,1609242.21,84987.385650566081,5.2812053476130286E-2,{"$f":"'Tagesmengenallokation 03'!C185","v":1785756.1452667895},-176513.93526678951,-0.10968761207599043,{"$f":"'Tagesmengenallokation 04'!C185","v":1575514.262489025},33727.947510974947,2.0958900593947848E-2,16.8]
["2012-07-03",7,1307825.1424531683,1355410.73,47585.587546831695,3.5107872834112576E-2,{"$f":"'Tagesmengenallokation 03'!C186","v":1564614.716265752},-209203.986265752,-0.15434729977809161,{"$f":"'Tagesmengenallokation 04'!C186","v":1367540.4023543904},-12129.672354390379,-8.9490750559355382E-3,17.7]
["2012-07-04",7,876344.64738307393,933694.3,57349.65261692612,6.1422301300250108E-2,{"$f":"'Tagesmengenallokation 03'!C187","v":1027408.9421145235},-93714.642114523449,-0.10036972713073587,{"$f":"'Tagesmengenallokation 04'!C187","v":880291.13372508029},53403.166274919757,5.7195557769732293E-2,20.9]
["2012-07-05",7,880417.74873790052,878341.77,-2075.9787379004993,-2.3635204527509826E-3,{"$f":"'Tagesmengenallokation 03'!C188","v":931345.49737772066},-53003.727377720643,-6.0345220036297081E-2,{"$f":"'Tagesmengenallokation 04'!C188","v":798031.99581320491},80309.774186795112,9.1433399765099538E-2,21.9]
["2012-07-06",7,980727.57770941406,1092404.55,111676.97229058598,0.10223041664426057,{"$f":"'Tagesmengenallokation 03'!C189","v":1401773.2394257151},-309368.68942571501,-0.28319974447718566,{"$f":"'Tagesmengenallokation 04'!C189","v":1215679.101337821},-123274.55133782094,-0.11284697719157334,18.399999999999999]
["2012-07-07",7,930076.57345179876,927882.71,-2193.8634517987957,-2.3643758291377105E-3,{"$f":"'Tagesmengenallokation 03'!C190","v":1127089.0327207833},-199206.3227207833,-0.21468912026691747,{"$f":"'Tagesmengenallokation 04'!C190","v":961736.08598055772},-33853.375980557757,-3.6484542297978331E-2,19.7]
["2012-07-08",7,954466.62808129378,1053908.3400000001,99441.711918706307,9.4355180753865467E-2,{"$f":"'Tagesmengenallokation 03'!C191","v":1245238.8183119434},-191330.47831194336,-0.18154375579943066,{"$f":"'Tagesmengenallokation 04'!C191","v":1070348.3604892485},-16440.020489248447,-1.5599098958879523E-2,19.100000000000001]
["2012-07-09",7,1131443.5800339053,1117815.96,-13627.620033905376,-1.2191291340933597E-2,{"$f":"'Tagesmengenallokation 03'!C192","v":1191033.0283904267},-73217.068390426692,-6.5500110045330448E-2,{"$f":"'Tagesmengenallokation 04'!C192","v":1025680.0816502015},92135.878349798499,8.2424908613577583E-2,19.7]
["2012-07-10",7,1132519.9000739781,1096941,-35578.900073978119,-3.2434652432517447E-2,{"$f":"'Tagesmengenallokation 03'!C193","v":1192233.3170889497},-95292.317088949727,-8.6870959412538806E-2,{"$f":"'Tagesmengenallokation 04'!C193","v":1026880.3703487244},70060.62965127558,6.3869095649880511E-2,19.7]
["2012-07-11",7,1512077.2948438386,1596385.66,84308.365156161366,5.2812028614790597E-2,{"$f":"'Tagesmengenallokation 03'!C194","v":1553153.0472065592},43232.612793440698,2.7081559222625878E-2,{"$f":"'Tagesmengenallokation 04'!C194","v":1356078.7332951976},240306.92670480232,0.15053187505129703,17.7]
["2012-07-12",{"$f":"IF(A195<>\"\",MONTH(A195),\"\")","v":7},2097420.6714083878,2275311.36,{"$f":"D195-C195","v":177890.68859161204},{"$f":"IF(E195<>0,E195/D195,\"\")","v":7.8183009024141673E-2},{"$f":"'Tagesmengenallokation 03'!C195","v":2166603.3864664733},{"$f":"IF(G195<>0,D195-G195,\"\")","v":108707.97353352653},{"$f":"IF(H195<>\"\",H195/D195,\"\")","v":4.7777185770973576E-2},{"$f":"'Tagesmengenallokation 04'!C195","v":1941087.4277488333},{"$f":"IF(J195<>0,D195-J195,\"\")","v":334223.93225116655},{"$f":"IF(K195<>\"\",K195/D195,\"\")","v":0.14689151477324253},15.5]
["2012-07-13",7,2081834.152140884,2298731.34,216897.18785911589,9.4355170647786923E-2,{"$f":"'Tagesmengenallokation 03'!C196","v":2087459.1744100843},211272.16558991559,9.19081590412891E-2,{"$f":"'Tagesmengenallokation 04'!C196","v":1863895.6763228308},434835.66367716901,0.18916332505266537,15.7]
["2012-07-14",7,1432027.6285279333,1470261.34,38233.711472066818,2.600470435553098E-2,{"$f":"'Tagesmengenallokation 03'!C197","v":1524337.0092987774},-54075.669298777357,-3.6779630823168728E-2,{"$f":"'Tagesmengenallokation 04'!C197","v":1324218.4328320213},146042.90716797882,9.9331257100168879E-2,17.5]
["2012-07-15",7,2388505.5033593853,2498545.44,110039.93664061464,4.4041599115609696E-2,{"$f":"'Tagesmengenallokation 03'!C198","v":2523768.9516447214},-25223.511644721497,-1.0095278333109482E-2,{"$f":"'Tagesmengenallokation 04'!C198","v":2290707.6743469411},207837.76565305889,8.3183504420499516E-2,14.3]
["2012-07-16",7,2106249.506623548,2203286.4,97036.893376451917,4.4041888234072485E-2,{"$f":"'Tagesmengenallokation 03'!C199","v":2276651.7645898522},-73365.364589852281,-3.3298151611089816E-2,{"$f":"'Tagesmengenallokation 04'!C199","v":2048541.9507999846},154744.44920001528,7.0233469965600148E-2,15.2]
["2012-07-17",7,1789077.7798379906,1940816.64,151738.86016200925,7.818299628861862E-2,{"$f":"'Tagesmengenallokation 03'!C200","v":1564614.716265752},376201.92373424792,0.19383692203620428,{"$f":"'Tagesmengenallokation 04'!C200","v":1367540.4023543904},573276.23764560954,0.29537887600016122,17.7]
["2012-07-18",7,1122914.9444034912,1239907.32,116992.37559650885,9.4355742327990169E-2,{"$f":"'Tagesmengenallokation 03'!C201","v":1005419.9881080564},234487.3318919437,0.18911682196693838,{"$f":"'Tagesmengenallokation 04'!C201","v":861179.58983640908},378727.73016359098,0.3054484186476058,21.1]
["2012-07-19",7,1302501.7349126844,1425587.66,123085.9250873155,8.6340481571870159E-2,{"$f":"'Tagesmengenallokation 03'!C202","v":1283663.665477925},141923.99452207494,9.9554729957521473E-2,{"$f":"'Tagesmengenallokation 04'!C202","v":1108773.2076552301},316814.45234476984,0.2222342836109916,19.100000000000001]
["2012-07-20",7,1768278.5052506451,1849744.08,81465.574749354972,4.4041538302614799E-2,{"$f":"'Tagesmengenallokation 03'!C203","v":2394770.7038889648},-545026.62388896476,-0.29464974629839863,{"$f":"'Tagesmengenallokation 04'!C203","v":2163897.0039070859},-314152.92390708579,-0.16983588557130874,14.8]
["2012-07-21",7,1980918.2963421429,2052994.02,72075.723657857161,3.5107615003114892E-2,{"$f":"'Tagesmengenallokation 03'!C204","v":2706107.8102000323},-653113.79020003229,-0.31812746838884232,{"$f":"'Tagesmengenallokation 04'!C204","v":2472557.4704612694},-419563.45046126936,-0.20436662083471113,13.7]
["2012-07-22",7,2388505.5033593853,2544814.7999999998,156309.29664061451,6.142266094987129E-2,{"$f":"'Tagesmengenallokation 03'!C205","v":2485785.2180379671},59029.581962032709,2.3196022736913003E-2,{"$f":"'Tagesmengenallokation 04'!C205","v":2253039.8221207098},291774.97787929,0.11465470016886495,14.4]
["2012-07-23",7,1788905.0079016231,1888648.45,99743.442098376807,5.2812074210198734E-2,{"$f":"'Tagesmengenallokation 03'!C206","v":1733260.6660119933},155387.78398800665,8.2274593764660994E-2,{"$f":"'Tagesmengenallokation 04'!C206","v":1525811.4355192306},362837.0144807694,0.19211463863524703,17]
["2012-07-24",7,993086.2337964857,1058076.8,64990.566203514347,6.1423297631622152E-2,{"$f":"'Tagesmengenallokation 03'!C207","v":1023885.4171143776},34191.382885622443,3.2314651342532454E-2,{"$f":"'Tagesmengenallokation 04'!C207","v":878213.08413520025},179863.7158647998,0.16999117253567964,21]
["2012-07-25",7,730021.17054534541,799008.31,68987.139454654651,8.6340953643716981E-2,{"$f":"'Tagesmengenallokation 03'!C208","v":843714.66038963094},-44706.350389630883,-5.5952297153994406E-2,{"$f":"'Tagesmengenallokation 04'!C208","v":723720.21367530688},75288.096324693179,9.4226925280280469E-2,23]
["2012-07-26",7,686573.03248971188,724854.36,38281.327510288102,5.2812440157341545E-2,{"$f":"'Tagesmengenallokation 03'!C209","v":754950.49596452469},-30096.135964524699,-4.1520252378042813E-2,{"$f":"'Tagesmengenallokation 04'!C209","v":652172.72050944576},72681.639490554226,0.10027067987913355,24.8]
["2012-07-27",7,646151.70700251614,669661.64,23509.932997483877,3.5107181885890723E-2,{"$f":"'Tagesmengenallokation 03'!C210","v":734164.39875541441},-64502.758755414397,-9.6321418015543489E-2,{"$f":"'Tagesmengenallokation 04'!C210","v":634453.47506222141},35208.164937778609,5.2576051597906383E-2,25.2]
["2012-07-28",7,747806.99175921292,767772.84,19965.848240787047,2.6004889989058543E-2,{"$f":"'Tagesmengenallokation 03'!C211","v":926880.77092266467},-159107.9309226647,-0.2072330807152083,{"$f":"'Tagesmengenallokation 04'!C211","v":786851.25953530311},-19078.419535303139,-2.4849041983958615E-2,21.4]
["2012-07-29",7,1089009.4907889082,1118084.82,29075.329211091856,2.6004582739162719E-2,{"$f":"'Tagesmengenallokation 03'!C212","v":1491146.297191913},-373061.47719191294,-0.33366115925973572,{"$f":"'Tagesmengenallokation 04'!C212","v":1295613.0991826116},-177528.2791826115,-0.15877890121306851,17.8]
["2012-07-30",7,1524254.8243494339,1520660.07,-3594.754349433817,-2.363943408755263E-3,{"$f":"'Tagesmengenallokation 03'!C213","v":1682625.0886692896},-161965.01866928954,-0.10650968080544755,{"$f":"'Tagesmengenallokation 04'!C213","v":1478053.6653058652},42606.404694134835,2.8018362245899462E-2,17.2]
["2012-07-31",7,1132519.9000739781,1184696.28,52176.379926021909,4.4041988488409796E-2,{"$f":"'Tagesmengenallokation 03'!C214","v":1416665.1525978115},-231968.87259781151,-0.19580450830639184,{"$f":"'Tagesmengenallokation 04'!C214","v":1230571.0145099172},-45874.734509917209,-3.8722780922311337E-2,18.399999999999999]
["2012-08-01",8,793029.44430266903,814202.96,21173.515697330935,2.6005205995972964E-2,{"$f":"'Tagesmengenallokation 03'!C215","v":894204.89215985814},-80001.932159858174,-9.8257972631121585E-2,{"$f":"'Tagesmengenallokation 04'!C215","v":765973.74835946411},48229.211640535854,5.9234876326826245E-2,22.3]
["2012-08-02",8,796779.20335630141,818052.88,21273.676643698593,2.6005258539886313E-2,{"$f":"'Tagesmengenallokation 03'!C216","v":922648.0023687653},-104595.1223687653,-0.12785863227908359,{"$f":"'Tagesmengenallokation 04'!C216","v":790629.94584829186},27422.934151708148,3.3522202319864886E-2,22]
["2012-08-03",8,789622.63259520684,795408.64,5786.0074047931703,7.2742576756435161E-3,{"$f":"'Tagesmengenallokation 03'!C217","v":991247.30058148422},-195838.6605814842,-0.24621138209095164,{"$f":"'Tagesmengenallokation 04'!C217","v":848424.91887631663},-53016.278876316617,-6.665288282047907E-2,21.2]
["2012-08-04",8,930076.57345179876,1017968.41,87891.836548201274,8.6340436191140027E-2,{"$f":"'Tagesmengenallokation 03'!C218","v":1011237.3055955161},6731.1044044839218,6.6122920302447517E-3,{"$f":"'Tagesmengenallokation 04'!C218","v":859705.91415915545},158262.49584084458,0.15546896572246735,20.6]
["2012-08-05",8,954466.62808129378,924481,-29985.628081293777,-3.2435093940593455E-2,{"$f":"'Tagesmengenallokation 03'!C219","v":958035.00633137405},-33554.006331374054,-3.6294965858004714E-2,{"$f":"'Tagesmengenallokation 04'!C219","v":816616.36596119136},107864.63403880864,0.11667587980586798,21.3]
["2012-08-06",8,1307004.6323341008,1379878.96,72874.327665899182,5.2812115974215E-2,{"$f":"'Tagesmengenallokation 03'!C220","v":1733260.6660119933},-353381.70601199334,-0.25609616224019632,{"$f":"'Tagesmengenallokation 04'!C220","v":1525811.4355192306},-145932.47551923059,-0.10575744666708346,17]
["2012-08-07",8,1524774.558436054,1506409.44,-18365.118436054094,-1.2191319271110047E-2,{"$f":"'Tagesmengenallokation 03'!C221","v":1610699.2516251453},-104289.81162514538,-6.9230720981903415E-2,{"$f":"'Tagesmengenallokation 04'!C221","v":1410580.6751583891},95828.764841610799,6.3614023051801111E-2,17.5]
["2012-08-08",8,1512077.2948438386,1537802.7,25725.405156161403,1.6728677323925498E-2,{"$f":"'Tagesmengenallokation 03'!C222","v":1598903.8445352733},-61101.144535273314,-3.9732759303435554E-2,{"$f":"'Tagesmengenallokation 04'!C222","v":1398785.2680685173},139017.43193148263,9.0400044122358886E-2,17.5]
["2012-08-09",8,1302501.7349126844,1425587.66,123085.9250873155,8.6340481571870159E-2,{"$f":"'Tagesmengenallokation 03'!C223","v":1451719.0431682917},-26131.383168291766,-1.8330253481775909E-2,{"$f":"'Tagesmengenallokation 04'!C223","v":1262449.3790039329},163138.28099606698,0.11443581168208694,18.2]
["2012-08-10",8,1292147.4307190748,1426770.42,134622.98928092513,9.4355046469862439E-2,{"$f":"'Tagesmengenallokation 03'!C224","v":1326803.9296462366},99966.490353763336,7.0064874455249324E-2,{"$f":"'Tagesmengenallokation 04'!C224","v":1147106.4309356348},279663.98906436516,0.19601190573068172,18.8]
["2012-08-11",8,1432027.6285279333,1539613.29,107585.66147206677,6.987836632149802E-2,{"$f":"'Tagesmengenallokation 03'!C225","v":1593043.2721040733},-53429.982104073279,-3.470350798548464E-2,{"$f":"'Tagesmengenallokation 04'!C225","v":1388471.8487406485},151141.44125935156,9.816844414180885E-2,17.2]
["2012-08-12",8,1258133.9917326514,1230795.0900000001,-27338.901732651284,-2.2212390961562321E-2,{"$f":"'Tagesmengenallokation 03'!C226","v":1449048.1554158833},-218253.0654158832,-0.17732688990161896,{"$f":"'Tagesmengenallokation 04'!C226","v":1256629.2026908528},-25834.112690852722,-2.0989775553014858E-2,18]
["2012-08-13",8,1131443.5800339053,1128774.94,-2668.6400339053944,-2.364191425002219E-3,{"$f":"'Tagesmengenallokation 03'!C227","v":1120142.1357996676},8632.804200332379,7.64794105043861E-3,{"$f":"'Tagesmengenallokation 04'!C227","v":962563.00742919208},166211.93257080787,0.1472498428879081,20.2]
["2012-08-14",8,883957.47418391972,856187,-27770.474183919723,-3.2435057042351403E-2,{"$f":"'Tagesmengenallokation 03'!C228","v":962120.39048154256},-105933.39048154256,-0.12372693171181362,{"$f":"'Tagesmengenallokation 04'!C228","v":824824.04907161498},31362.95092838502,3.663095904093968E-2,21.6]
["2012-08-15",8,730021.17054534541,791937.44,61916.269454654539,7.8183283586964317E-2,{"$f":"'Tagesmengenallokation 03'!C229","v":786694.58346851123},5242.8565314887092,6.6202912839790845E-3,{"$f":"'Tagesmengenallokation 04'!C229","v":676967.70141119487},114969.73858880508,0.14517527873010408,24]
["2012-08-16",8,880417.74873790052,963617.67,83199.921262099524,8.6341215870501337E-2,{"$f":"'Tagesmengenallokation 03'!C230","v":1318356.3772278954},-354738.70722789539,-0.36813221495605758,{"$f":"'Tagesmengenallokation 04'!C230","v":1140261.8427746361},-176644.17277463607,-0.18331354672505754,18.899999999999999]
["2012-08-17",8,872742.32086764672,896043.44,23301.119132353226,2.6004452565774296E-2,{"$f":"'Tagesmengenallokation 03'!C231","v":1109333.1382980822},-213289.69829808222,-0.23803499783233972,{"$f":"'Tagesmengenallokation 04'!C231","v":951754.00992760668},-55710.569927606732,-6.2173961038771444E-2,20.2]
["2012-08-18",8,643377.7297957699,623165,-20212.729795769905,-3.2435598590694129E-2,{"$f":"'Tagesmengenallokation 03'!C232","v":777788.88932286191},-154623.88932286191,-0.24812672297523436,{"$f":"'Tagesmengenallokation 04'!C232","v":662114.45562405256},-38949.455624052556,-6.2502636739952586E-2,23.4]
["2012-08-19",8,604527.74267599068,597246.71999999997,-7281.0226759907091,-1.2190979761246256E-2,{"$f":"'Tagesmengenallokation 03'!C233","v":700926.6690052778},-103679.94900527783,-0.17359651469543078,{"$f":"'Tagesmengenallokation 04'!C233","v":604683.67802094854},-7436.9580209485721,-1.245207009416238E-2,25.7]
["2012-08-20",8,628679.40776828944,615018.29,-13661.117768289405,-2.2212539025935969E-2,{"$f":"'Tagesmengenallokation 03'!C234","v":716983.92962236155},-101965.63962236152,-0.16579285735122043,{"$f":"'Tagesmengenallokation 04'!C234","v":622634.3135142728},-7616.0235142727615,-1.2383409791394595E-2,26]
["2012-08-21",8,630592.74026726303,647428.92000000004,16836.179732737015,2.6004676672053844E-2,{"$f":"'Tagesmengenallokation 03'!C235","v":711428.85876611504},-63999.938766114996,-9.8852455905298439E-2,{"$f":"'Tagesmengenallokation 04'!C235","v":618837.87068596552},28591.049314034521,4.4160908527278206E-2,26.3]
["2012-08-22",8,793029.44430266903,775797.16,-17232.284302668995,-2.2212358063632243E-2,{"$f":"'Tagesmengenallokation 03'!C236","v":802114.79179540265},-26317.631795402616,-3.3923341244768951E-2,{"$f":"'Tagesmengenallokation 04'!C236","v":689493.8887143879},86303.271285612136,0.11124463421032907,23.7]
["2012-08-23",8,880417.74873790052,852759,-27658.748737900518,-3.2434426066333531E-2,{"$f":"'Tagesmengenallokation 03'!C237","v":998821.58980839408},-146062.58980839408,-0.17128237850130468,{"$f":"'Tagesmengenallokation 04'!C237","v":855999.20810322638},-3240.2081032263814,-3.7996762311818242E-3,21.2]
["2012-08-24",8,789622.63259520684,780112.32,-9510.3125952068949,-1.2190952958167479E-2,{"$f":"'Tagesmengenallokation 03'!C238","v":1194457.198880346},-414344.87888034608,-0.53113489975436623,{"$f":"'Tagesmengenallokation 04'!C238","v":1027527.0028637436},-247414.68286374363,-0.3171526413834147,19.600000000000001]
["2012-08-25",8,930076.57345179876,927882.71,-2193.8634517987957,-2.3643758291377105E-3,{"$f":"'Tagesmengenallokation 03'!C239","v":1059805.8264180624},-131923.11641806248,-0.14217650032304457,{"$f":"'Tagesmengenallokation 04'!C239","v":902226.69804758672},25656.011952413246,2.7650059297271792E-2,20.2]
["2012-08-26",8,1722284.5718063489,1818312.93,96028.358193651075,5.2811788669209471E-2,{"$f":"'Tagesmengenallokation 03'!C240","v":1948353.6213145859},-130040.69131458597,-7.1517223008795289E-2,{"$f":"'Tagesmengenallokation 04'!C240","v":1728021.1364010291},90291.793598970864,4.9656905645482523E-2,16]
["2012-08-27",8,1524254.8243494339,1638769.59,114514.7656505662,6.9878502963046929E-2,{"$f":"'Tagesmengenallokation 03'!C241","v":1785756.1452667895},-146986.55526678939,-8.9693240687233763E-2,{"$f":"'Tagesmengenallokation 04'!C241","v":1575514.262489025},63255.327510975068,3.8599280763426336E-2,16.8]
["2012-08-28",8,1132519.9000739781,1107910.4099999999,-24609.490073978202,-2.2212527160908439E-2,{"$f":"'Tagesmengenallokation 03'!C242","v":1288180.6687753485},-180270.25877534854,-0.16271194597345517,{"$f":"'Tagesmengenallokation 04'!C242","v":1113290.210952654},-5379.8009526540991,-4.8558086503168608E-3,19.100000000000001]
["2012-08-29",8,876344.64738307393,959158.69,82814.042616926017,8.6340293301128329E-2,{"$f":"'Tagesmengenallokation 03'!C243","v":945587.19322871312},13571.496771286824,1.4149375815264547E-2,{"$f":"'Tagesmengenallokation 04'!C243","v":809634.31496166671},149524.37503833324,0.1558911748360777,21.7]
["2012-08-30",8,1302501.7349126844,1286813.6399999999,-15688.094912684523,-1.2191427278222295E-2,{"$f":"'Tagesmengenallokation 03'!C244","v":1472353.6538098645},-185540.01380986464,-0.14418561324067458,{"$f":"'Tagesmengenallokation 04'!C244","v":1281505.5251040203},5308.114895979641,4.1250067072491096E-3,18.100000000000001]
["2012-08-31",8,2451864.4307522769,2683565.81,231701.37924772315,8.6340859756192503E-2,{"$f":"'Tagesmengenallokation 03'!C245","v":2468883.8912685066},214681.91873149341,7.9998753125973612E-2,{"$f":"'Tagesmengenallokation 04'!C245","v":2236956.0801558322},446609.72984416783,0.16642399011789757,14.6]
["2012-09-01",9,2744480.3098340603,2711425.2,-33055.109834060073,-1.2191046182671781E-2,{"$f":"'Tagesmengenallokation 03'!C246","v":2547801.7356044636},163623.46439553658,6.0345925971159585E-2,{"$f":"'Tagesmengenallokation 04'!C246","v":2314302.9195263432},397122.28047365695,0.146462561634987,14.1]
["2012-09-02",9,1722284.5718063489,1901721.78,179437.20819365117,9.4355131271437173E-2,{"$f":"'Tagesmengenallokation 03'!C247","v":2070555.4066259109},-168833.62662591087,-8.8779351638866369E-2,{"$f":"'Tagesmengenallokation 04'!C247","v":1845994.4475884822},55727.332411517855,2.9303620012974693E-2,15.6]
["2012-09-03",9,1307004.6323341008,1316581.76,9577.1276658992283,7.2742369345138343E-3,{"$f":"'Tagesmengenallokation 03'!C248","v":1339983.1395458339},-23401.379545833915,-1.7774345852880354E-2,{"$f":"'Tagesmengenallokation 04'!C248","v":1160285.6408352321},156296.11916476791,0.11871356866190209,18.8]
["2012-09-04",9,1132519.9000739781,1239543.33,107023.42992602196,8.6341015546444799E-2,{"$f":"'Tagesmengenallokation 03'!C249","v":1340972.4653456649},-101429.13534566481,-8.182782553125012E-2,{"$f":"'Tagesmengenallokation 04'!C249","v":1161274.9666350631},78268.363364937017,6.3142902285583682E-2,18.8]
["2012-09-05",9,1296831.621007913,1256090,-40741.621007913025,-3.2435272160365118E-2,{"$f":"'Tagesmengenallokation 03'!C250","v":1446191.4025947354},-190101.40259473538,-0.1513437752029993,{"$f":"'Tagesmengenallokation 04'!C250","v":1256921.7384303757},-831.73843037569895,-6.6216467798939479E-4,18.2]
["2012-09-06",9,1781763.6634507785,1915624.68,133861.01654922147,6.9878519496429481E-2,{"$f":"'Tagesmengenallokation 03'!C251","v":1947847.4144800215},-32222.734480021521,-1.6821006127370169E-2,{"$f":"'Tagesmengenallokation 04'!C251","v":1729851.9045010095},185772.77549899044,9.6977647781709753E-2,16.2]
["2012-09-07",9,1768278.5052506451,1918253.12,149974.61474935501,7.8182911934664284E-2,{"$f":"'Tagesmengenallokation 03'!C252","v":2024857.8589545647},-106604.73895456456,-5.5573864493213776E-2,{"$f":"'Tagesmengenallokation 04'!C252","v":1803410.1982507631},114842.92174923699,5.9868492094117896E-2,15.9]
["2012-09-08",9,1227193.4463602114,1236185.6000000001,8992.1536397887394,7.2741129162067078E-3,{"$f":"'Tagesmengenallokation 03'!C253","v":1459381.3492521788},-223195.74925217871,-0.18055197314398314,{"$f":"'Tagesmengenallokation 04'!C253","v":1263848.1512428769},-27662.551242876798,-2.2377344666429374E-2,17.8]
["2012-09-09",9,954466.62808129378,933725.81,-20740.818081293721,-2.2212964297617221E-2,{"$f":"'Tagesmengenallokation 03'!C254","v":1166956.5797494184},-233230.76974941837,-0.24978507314627874,{"$f":"'Tagesmengenallokation 04'!C254","v":1000026.3837328159},-66300.573732815799,-7.100647001801931E-2,19.600000000000001]
["2012-09-10",9,882492.82457549532,863315.68,-19177.144575495273,-2.2213362990806874E-2,{"$f":"'Tagesmengenallokation 03'!C255","v":960581.7407562841},-97266.060756284045,-0.11266569461159798,{"$f":"'Tagesmengenallokation 04'!C255","v":823285.39934635651},40030.280653643538,4.6368068576773142E-2,21.6]
["2012-09-11",9,1132519.9000739781,1107910.4099999999,-24609.490073978202,-2.2212527160908439E-2,{"$f":"'Tagesmengenallokation 03'!C256","v":1397158.5834222124},-289248.17342221248,-0.2610754180224848,{"$f":"'Tagesmengenallokation 04'!C256","v":1212659.410185904},-104749.00018590409,-9.4546453612530001E-2,18.5]
["2012-09-12",9,2891064.6187984431,2940250.95,49186.33120155707,1.6728616719452829E-2,{"$f":"'Tagesmengenallokation 03'!C257","v":3488737.4099985673},-548486.45999856712,-0.18654409753649331,{"$f":"'Tagesmengenallokation 04'!C257","v":3264993.5551710394},-324742.60517103923,-0.11044724096459835,12.3]
["2012-09-13",9,3951057.4547270034,3826931,-124126.45472700335,-3.2434986344672366E-2,{"$f":"'Tagesmengenallokation 03'!C258","v":4202307.2226558747},-375376.22265587468,-9.808805610968023E-2,{"$f":"'Tagesmengenallokation 04'!C258","v":4004095.8710404071},-177164.8710404071,-4.6294242315946407E-2,11]
["2012-09-14",{"$f":"IF(A259<>\"\",MONTH(A259),\"\")","v":9},2881478.9907518411,3097960.05,{"$f":"D259-C259","v":216481.05924815871},{"$f":"IF(E259<>0,E259/D259,\"\")","v":6.9878583246468506E-2},{"$f":"'Tagesmengenallokation 03'!C259","v":3428108.3705842737},{"$f":"IF(G259<>0,D259-G259,\"\")","v":-330148.3205842739},{"$f":"IF(H259<>\"\",H259/D259,\"\")","v":-0.10656958619730229},{"$f":"'Tagesmengenallokation 04'!C259","v":3203093.6845743218},{"$f":"IF(J259<>0,D259-J259,\"\")","v":-105133.63457432203},{"$f":"IF(K259<>\"\",K259/D259,\"\")","v":-3.3936407467333882E-2},12.4]
["2012-09-15",9,2334213.3441246999,2486970.2000000002,152756.85587530024,6.1422873452725825E-2,{"$f":"'Tagesmengenallokation 03'!C260","v":2746990.4662769097},-260020.2662769095,-0.10455302853122626,{"$f":"'Tagesmengenallokation 04'!C260","v":2513608.43036689},-26638.230366889853,-1.0711117634980045E-2,13.6]
["2012-09-16",9,2027893.7218628007,2082037.16,54143.438137199264,2.6005029678336417E-2,{"$f":"'Tagesmengenallokation 03'!C261","v":2721638.8463822738},-639601.68638227391,-0.30719993795993245,{"$f":"'Tagesmengenallokation 04'!C261","v":2487994.3101895885},-405957.15018958854,-0.19498074193334214,13.8]
["2012-09-17",9,1788905.0079016231,1802013.2,13108.192098376807,7.2741931626121312E-3,{"$f":"'Tagesmengenallokation 03'!C262","v":1954749.5039278823},-152736.30392788234,-8.4758704280236324E-2,{"$f":"'Tagesmengenallokation 04'!C262","v":1736753.9939488703},65259.206051129615,3.6214610442992103E-2,16.2]
["2012-09-18",9,1524774.558436054,1476872,-47902.558436054038,-3.2435145656532209E-2,{"$f":"'Tagesmengenallokation 03'!C263","v":1759695.9753936441},-282823.97539364407,-0.19150202278440112,{"$f":"'Tagesmengenallokation 04'!C263","v":1550839.0847518167},-73967.084751816699,-5.0083612358969971E-2,16.899999999999999]
["2012-09-19",9,3383292.5400609742,3342543.06,-40749.480060974136,-1.2191160840564949E-2,{"$f":"'Tagesmengenallokation 03'!C264","v":3746982.4893161608},-404439.42931616073,-0.12099752256180679,{"$f":"'Tagesmengenallokation 04'!C264","v":3531035.5570857399},-188492.49708573986,-5.6391942811872063E-2,11.8]
["2012-09-20",9,4562933.9766102443,4905739.3499999996,342805.37338975538,6.987843196148516E-2,{"$f":"'Tagesmengenallokation 03'!C265","v":4922713.3800983308},-16974.030098331161,-3.4600350502378735E-3,{"$f":"'Tagesmengenallokation 04'!C265","v":4763980.5125941858},141758.83740581386,2.8896528594780289E-2,9.8000000000000007]
["2012-09-21",9,2881478.9907518411,2818864.55,-62614.440751841292,-2.2212646135069278E-2,{"$f":"'Tagesmengenallokation 03'!C266","v":3048631.6116533219},-229767.06165332207,-8.1510500975764191E-2,{"$f":"'Tagesmengenallokation 04'!C266","v":2816695.8631144371},2168.6868855627254,7.6934767424803206E-4,13.2]
["2012-09-22",9,2744480.3098340603,2844338.2,99857.890165939927,3.5107600835210077E-2,{"$f":"'Tagesmengenallokation 03'!C267","v":3092867.5425649728},-248529.34256497258,-8.7376860657770075E-2,{"$f":"'Tagesmengenallokation 04'!C267","v":2863689.477570931},-19351.277570930775,-6.8034376400565779E-3,12.8]
["2012-09-23",9,2388505.5033593853,2382872.04,-5633.4633593852632,-2.3641485001373651E-3,{"$f":"'Tagesmengenallokation 03'!C268","v":2523768.9516447214},-140896.9116447214,-5.9129029708503103E-2,{"$f":"'Tagesmengenallokation 04'!C268","v":2290707.6743469411},92164.36565305898,3.8677849295281078E-2,14.3]
["2012-09-24",9,1788905.0079016231,1836667.3,47762.2920983769,2.6004868763317614E-2,{"$f":"'Tagesmengenallokation 03'!C269","v":2045921.645947028},-209254.3459470279,-0.11393154652833853,{"$f":"'Tagesmengenallokation 04'!C269","v":1824473.9852432264},12193.314756773645,6.6388260719694005E-3,15.9]
["2012-09-25",9,1789077.7798379906,1906159.2,117081.42016200931,6.1422687130229893E-2,{"$f":"'Tagesmengenallokation 03'!C270","v":2945845.9828024507},-1039686.7828024507,-0.54543544044088799,{"$f":"'Tagesmengenallokation 04'!C270","v":2712707.9706994854},-806548.77069948544,-0.42312770659422649,13.5]
["2012-09-26",9,2088832.2010435716,2144602.6,55770.398956428515,2.6005003890431033E-2,{"$f":"'Tagesmengenallokation 03'!C271","v":3291807.0271144835},-1147204.4271144834,-0.53492634351673518,{"$f":"'Tagesmengenallokation 04'!C271","v":3063534.4941329253},-918931.8941329252,-0.42848586219793128,12.7]
["2012-09-27",9,2097420.6714083878,2153419.6800000002,55999.008591612335,2.6004688780225289E-2,{"$f":"'Tagesmengenallokation 03'!C272","v":3501403.6817348716},-1347984.0017348714,-0.62597366145315037,{"$f":"'Tagesmengenallokation 04'!C272","v":3277659.8269073428},-1124240.1469073426,-0.52207201287737026,12.3]
["2012-09-28",9,3119133.2311618049,3021143,-97990.23116180487,-3.2434820583403322E-2,{"$f":"'Tagesmengenallokation 03'!C273","v":3140227.814959052},-119084.81495905202,-3.9417139459817695E-2,{"$f":"'Tagesmengenallokation 04'!C273","v":2909500.9310621163},111642.06893788371,3.6953586420068074E-2,13]
["2012-09-29",9,3684036.4385884781,3603981.99,-80054.448588477913,-2.2212777092284499E-2,{"$f":"'Tagesmengenallokation 03'!C274","v":4438725.5240615522},-834743.53406155203,-0.23161701040064075,{"$f":"'Tagesmengenallokation 04'!C274","v":4265079.0768772},-661097.08687719982,-0.18343518050632651,10.199999999999999]
["2012-09-30",9,3993644.8009391599,4371044.53,377399.72906084033,8.6340856623769127E-2,{"$f":"'Tagesmengenallokation 03'!C275","v":4355394.200111323},15650.329888677225,3.5804553765727077E-3,{"$f":"'Tagesmengenallokation 04'!C275","v":4171717.9103724477},199326.61962755257,4.5601598944944303E-2,10.5]
["2012-10-01",10,3106693.2086788318,3221536.0363999996,114842.82772116782,3.5648469060585872E-2,{"$f":"'Tagesmengenallokation 03'!C276","v":3317615.2145366925},-96079.178136692848,-2.982402712591083E-2,{"$f":"'Tagesmengenallokation 04'!C276","v":3089342.6815551342},132193.35484486539,4.1034262336729514E-2,12.7]
["2012-10-02",10,2868197.4149970952,3547065.3119999999,678867.89700290468,0.19138860925572512,{"$f":"'Tagesmengenallokation 03'!C277","v":3267958.2543985513},279107.05760144861,7.8686754556564709E-2,{"$f":"'Tagesmengenallokation 04'!C277","v":3038780.1894045095},508285.12259549042,0.14329736779188193,12.8]
["2012-10-03",10,2711340.8484737799,2915039.82,203698.97152621998,6.9878623999798398E-2,{"$f":"'Tagesmengenallokation 03'!C278","v":3243935.2058294881},-328895.38582948828,-0.11282706451313186,{"$f":"'Tagesmengenallokation 04'!C278","v":3014757.1408354463},-99717.320835446473,-3.4207876047280372E-2,12.8]
["2012-10-04",10,2551603.6300794608,2800144.9189999998,248541.28892053897,8.8760152102877285E-2,{"$f":"'Tagesmengenallokation 03'!C279","v":3161304.7089922763},-361159.78999227658,-0.12897896374636766,{"$f":"'Tagesmengenallokation 04'!C279","v":2930577.8250953401},-130432.90609534038,-4.6580769877410902E-2,13]
["2012-10-05",10,2334710.5066350671,2468956.1233999999,134245.61676493287,5.4373431545661981E-2,{"$f":"'Tagesmengenallokation 03'!C280","v":2829250.1741755563},-360294.05077555636,-0.14592970987244414,{"$f":"'Tagesmengenallokation 04'!C280","v":2595699.8344367929},-126743.71103679296,-5.1334938614564833E-2,13.7]
["2012-10-06",10,1765959.3410716874,1727584.8,-38374.541071687359,-2.2212826294655614E-2,{"$f":"'Tagesmengenallokation 03'!C281","v":2058633.9851694591},-331049.18516945909,-0.19162543289884182,{"$f":"'Tagesmengenallokation 04'!C281","v":1833118.0264518191},-105533.22645181906,-6.1087146895376171E-2,15.5]
["2012-10-07",10,3336179.1832815208,3629474.784,293295.60071847914,8.0809378263606957E-2,{"$f":"'Tagesmengenallokation 03'!C282","v":3963240.4667825303},-333765.68278253032,-9.1959774525473131E-2,{"$f":"'Tagesmengenallokation 04'!C282","v":3759967.8806436709},-130493.09664367093,-3.5953713528726068E-2,11.2]
["2012-10-08",10,5250467.948677985,5339796,89328.051322015002,1.6728738573910877E-2,{"$f":"'Tagesmengenallokation 03'!C283","v":6137396.8815640388},-797600.88156403881,-0.14936916720489674,{"$f":"'Tagesmengenallokation 04'!C283","v":6067149.9411714822},-727353.94117148221,-0.13621380688915499,8]
["2012-10-09",10,3793794.0065356726,4437089.16,643295.15346432757,0.14498134481127431,{"$f":"'Tagesmengenallokation 03'!C284","v":3828419.1464597234},608670.01354027679,0.13717777389451349,{"$f":"'Tagesmengenallokation 04'!C284","v":3614328.1805506055},822760.97944939462,0.18542809255818393,11.7]
["2012-10-10",10,5414001.6935609104,6814993.2335999999,1400991.5400390895,0.20557489817183866,{"$f":"'Tagesmengenallokation 03'!C285","v":5094222.9733743351},1720770.2602256648,0.25249772101632345,{"$f":"'Tagesmengenallokation 04'!C285","v":4947830.6313474653},1867162.6022525346,0.27397864359524998,9.5]
["2012-10-11",10,4691720.3831303418,5057834.8379999995,366114.45486965775,7.2385608980151867E-2,{"$f":"'Tagesmengenallokation 03'!C286","v":4376183.5390444361},681651.29895556346,0.13477136379271457,{"$f":"'Tagesmengenallokation 04'!C286","v":4186367.9354293272},871466.90257067233,0.17230038751428925,10.7]
["2012-10-12",10,4039815.63133759,4190716.9709999994,150901.33966240939,3.6008477954167575E-2,{"$f":"'Tagesmengenallokation 03'!C287","v":4346552.7115157433},-155835.74051574385,-3.7185937774881023E-2,{"$f":"'Tagesmengenallokation 04'!C287","v":4156737.1079006353},33979.863099364098,8.1083650684373801E-3,10.7]
["2012-10-13",10,4949486.3360166745,5852507.8751999997,903021.53918332513,0.15429650987910304,{"$f":"'Tagesmengenallokation 03'!C288","v":5411421.5493529113},441086.32584708836,7.5367062335138679E-2,{"$f":"'Tagesmengenallokation 04'!C288","v":5307901.5974941486},544606.27770585101,9.3055197757805672E-2,8.6]
["2012-10-14",10,4728718.8830158263,5340468.8920000009,611750.00898417458,0.11454986843956219,{"$f":"'Tagesmengenallokation 03'!C289","v":4708874.4792575724},631594.41274242848,0.11826572263880315,{"$f":"'Tagesmengenallokation 04'!C289","v":4546247.970977257},794220.92102274392,0.14871745104863046,9.9]
["2012-10-15",10,6180316.8081132881,6650619.3159999987,470302.50788671058,7.0715595877704374E-2,{"$f":"'Tagesmengenallokation 03'!C290","v":6275998.4077202193},374620.90827977937,5.6328725263002172E-2,{"$f":"'Tagesmengenallokation 04'!C290","v":6217630.8045128491},432988.51148714963,6.5104991116461869E-2,7.8]
["2012-10-16",10,6548440.5588033386,7325835.8250000002,777395.26619666163,0.10611693802142523,{"$f":"'Tagesmengenallokation 03'!C291","v":5995810.6365356622},1330025.188464338,0.18155268835339181,{"$f":"'Tagesmengenallokation 04'!C291","v":5914072.0538831772},1411763.771116823,0.19271026608309544,8.1999999999999993]
["2012-10-17",10,3878009.1993590696,4668929.2539999997,790920.05464093015,0.1694007365743071,{"$f":"'Tagesmengenallokation 03'!C292","v":3539320.8454514681},1129608.4085485316,0.24194164166886126,{"$f":"'Tagesmengenallokation 04'!C292","v":3316942.4070633664},1351986.8469366333,0.28957107152102363,12.2]
["2012-10-18",10,3241867.2973685195,3266563.8462999999,24696.548931480385,7.56040600873419E-3,{"$f":"'Tagesmengenallokation 03'!C293","v":3760562.5828857399},-493998.73658574,-0.15122886305904806,{"$f":"'Tagesmengenallokation 04'!C293","v":3544615.650655319},-278051.80435531912,-8.5120578515636633E-2,11.8]
["2012-10-19",10,2974706.802820392,3329000.8716000002,354294.06877960823,0.10642654731698095,{"$f":"'Tagesmengenallokation 03'!C294","v":2829250.1741755563},499750.6974244439,0.15012032639818787,{"$f":"'Tagesmengenallokation 04'!C294","v":2595699.8344367929},733301.03716320731,0.22027661314812594,13.7]
["2012-10-20",10,2833521.0229006405,3349391.4612000003,515870.43829935975,0.15401915371054797,{"$f":"'Tagesmengenallokation 03'!C295","v":2915752.409445317},433639.05175468326,0.12946801136207639,{"$f":"'Tagesmengenallokation 04'!C295","v":2683816.6609064317},665574.80029356852,0.1987151421396143,13.2]
["2012-10-21",10,2991209.7270007553,3133362.8969999999,142153.16999924462,4.5367604925477173E-2,{"$f":"'Tagesmengenallokation 03'!C296","v":3594613.6271380093},-461250.73013800941,-0.1472062909086044,{"$f":"'Tagesmengenallokation 04'!C296","v":3376911.0468625301},-243548.14986253018,-7.7727399560297464E-2,11.9]
["2012-10-22",10,2869278.0245385747,3331629.4356,462351.41106142523,0.13877636153678641,{"$f":"'Tagesmengenallokation 03'!C297","v":4574394.9689115807},-1242765.5333115808,-0.37302033654525224,{"$f":"'Tagesmengenallokation 04'!C297","v":4393952.2206167579},-1062322.7850167579,-0.31885982686590175,10.4]
["2012-10-23",10,4775965.6230833689,5748173.1623999998,972207.53931663092,0.16913330754822128,{"$f":"'Tagesmengenallokation 03'!C298","v":6064417.5597606217},-316244.39736062195,-5.5016504970525688E-2,{"$f":"'Tagesmengenallokation 04'!C298","v":5988375.6915680273},-240202.52916802745,-4.178762928355087E-2,8.1]
["2012-10-24",10,4870287.999827926,5004093.8064000001,133805.80657207407,2.6739268236926884E-2,{"$f":"'Tagesmengenallokation 03'!C299","v":5615204.960763636},-611111.15436363593,-0.12212224190962478,{"$f":"'Tagesmengenallokation 04'!C299","v":5506496.3299782146},-502402.52357821446,-0.10039830247300027,8.6999999999999993]
["2012-10-25",10,5089884.640561251,5028580.62,-61304.020561250858,-1.2191118169096959E-2,{"$f":"'Tagesmengenallokation 03'!C300","v":6317058.3095410243},-1288477.6895410242,-0.25623089036624097,{"$f":"'Tagesmengenallokation 04'!C300","v":6264772.38889453},-1236191.7688945299,-0.24583314106129014,7.7]
["2012-10-26",10,6550474.1208795067,6598472.4000000004,47998.27912049368,7.2741501685289582E-3,{"$f":"'Tagesmengenallokation 03'!C301","v":6067317.3769572135},531155.02304278687,8.0496665113396065E-2,{"$f":"'Tagesmengenallokation 04'!C301","v":5997070.4365646569},601401.96343534347,9.1142604981623243E-2,8]
["2012-10-27",10,10521869.580376679,11013754.120500002,491884.54012332298,4.4660933478419838E-2,{"$f":"'Tagesmengenallokation 03'!C302","v":10267624.121001761},746129.99949824065,6.7745292961412865E-2,{"$f":"'Tagesmengenallokation 04'!C302","v":10717125.657444363},296628.4630556386,2.6932548140285908E-2,1.2]
["2012-10-28",10,11495705.805358503,12969533.158400001,1473827.353041498,0.11363765642458315,{"$f":"'Tagesmengenallokation 03'!C303","v":11007790.205405587},1961742.9529944137,0.15125779232260556,{"$f":"'Tagesmengenallokation 04'!C303","v":11525514.422465725},1444018.7359342761,0.11133929944109253,0.3]
["2012-10-29",10,12486144.852115925,15437839.096500002,2951694.2443840764,0.19119866620797152,{"$f":"'Tagesmengenallokation 03'!C304","v":11729824.823598061},3708014.2729019411,0.24018998058754257,{"$f":"'Tagesmengenallokation 04'!C304","v":12283685.142559931},3154153.9539400712,0.20431317713728256,-0.2]
["2012-10-30",10,9688694.9862763472,10141630.301199999,452935.31492365152,4.4660996454392386E-2,{"$f":"'Tagesmengenallokation 03'!C305","v":8698232.0817234255},1443398.2194765732,0.14232408169185426,{"$f":"'Tagesmengenallokation 04'!C305","v":8887596.0913361106},1254034.2098638881,0.12365213211484408,4.4000000000000004]
["2012-10-31",10,9543510.8360004891,11181171.0528,1637660.2167995106,0.14646589423112405,{"$f":"'Tagesmengenallokation 03'!C306","v":8634042.2973184884},2547128.7554815114,0.2278051863667408,{"$f":"'Tagesmengenallokation 04'!C306","v":8823406.3069311734},2357764.7458688263,0.21086921349605797,4.4000000000000004]
["2012-11-01",11,6522760.2451054389,6573082.8167999992,50322.571694560349,7.6558554177869149E-3,{"$f":"'Tagesmengenallokation 03'!C307","v":5972850.687621206},600232.12917879317,9.1316684409433108E-2,{"$f":"'Tagesmengenallokation 04'!C307","v":5891112.104968721},681970.71183127817,0.10375203399054156,8.1999999999999993]
["2012-11-02",11,6254414.5650126589,7182277.0656000003,927862.50058734138,0.12918778990459742,{"$f":"'Tagesmengenallokation 03'!C308","v":6067317.3769572135},1114959.6886427868,0.15523763264201562,{"$f":"'Tagesmengenallokation 04'!C308","v":5997070.4365646569},1185206.6290353434,0.1650182272571982,8]
["2012-11-03",11,4949486.3360166745,5284898.9855999993,335412.64958332479,6.3466236629543663E-2,{"$f":"'Tagesmengenallokation 03'!C309","v":4381168.5118613616},903730.47373863775,0.17100241200467078,{"$f":"'Tagesmengenallokation 04'!C309","v":4204068.9687849991},1080830.0168150002,0.20451289982268084,10.3]
["2012-11-04",11,5256499.3547710711,5296543.8886000002,40044.533828929067,7.5605025977635706E-3,{"$f":"'Tagesmengenallokation 03'!C310","v":5265810.8129182011},30733.075681799091,5.8024772999516402E-3,{"$f":"'Tagesmengenallokation 04'!C310","v":5142166.7611392904},154377.12746070977,2.9146766402329435E-2,9]
["2012-11-05",11,6180316.8081132881,6899643.4056000002,719326.59748671204,0.10425561948649122,{"$f":"'Tagesmengenallokation 03'!C311","v":6981203.413434512},-81560.007834511809,-1.1820901898830708E-2,{"$f":"'Tagesmengenallokation 04'!C311","v":6987635.1530279936},-87991.747427993454,-1.2753086247410434E-2,6.8]
["2012-11-06",11,8313892.4445435461,9289599.3344000001,975706.88985645398,0.10503218220008122,{"$f":"'Tagesmengenallokation 03'!C312","v":8125320.0861730576},1164279.2482269425,0.12533148161896923,{"$f":"'Tagesmengenallokation 04'!C312","v":8250597.4678577194},1039001.8665422807,0.1118457135922739,5.2]
["2012-11-07",11,7944747.4641342694,8877131.9616,932384.49746573064,0.10503217722784411,{"$f":"'Tagesmengenallokation 03'!C313","v":7208610.9922728511},1668520.969327149,0.18795721146702626,{"$f":"'Tagesmengenallokation 04'!C313","v":7243228.5768571729},1633903.3847428272,0.18405757533070793,6.4]
["2012-11-08",11,7819103.9449760048,8190696.9900000002,371593.04502399545,4.536769526179181E-2,{"$f":"'Tagesmengenallokation 03'!C314","v":6666769.8352989005},1523927.1547010997,0.18605585783012829,{"$f":"'Tagesmengenallokation 04'!C314","v":6646252.8345228685},1544444.1554771317,0.18856077295531007,7.2]
["2012-11-09",11,7076824.9473937759,7774373.9000000004,697548.95260622445,8.9724132332537343E-2,{"$f":"'Tagesmengenallokation 03'!C315","v":8602954.2440185249},-828580.34401852451,-0.10657840164061629,{"$f":"'Tagesmengenallokation 04'!C315","v":8792318.25363121},-1017944.3536312096,-0.13093586271059199,4.4000000000000004]
["2012-11-10",11,4884515.0060383696,5770950.6474000001,886435.64136163052,0.15360305355600268,{"$f":"'Tagesmengenallokation 03'!C316","v":5222311.2564970637},548639.39090293646,9.5069153147257682E-2,{"$f":"'Tagesmengenallokation 04'!C316","v":5103539.7757938914},667410.87160610873,0.11565007437843866,8.9]
["2012-11-11",11,5122013.529612503,5357989.08,235975.55038749706,4.4041812490498218E-2,{"$f":"'Tagesmengenallokation 03'!C317","v":5457740.9361138223},-99751.856113822199,-1.8617405639397497E-2,{"$f":"'Tagesmengenallokation 04'!C317","v":5349032.3053284008},8956.7746715992689,1.6716672128042614E-3,8.6999999999999993]
["2012-11-12",11,7007408.8860952193,7330246.2000000002,322837.31390478089,4.4041810478996038E-2,{"$f":"'Tagesmengenallokation 03'!C318","v":7267389.407161708},62856.792838292196,8.574990678797691E-3,{"$f":"'Tagesmengenallokation 04'!C318","v":7302006.9917460298},28239.20825397037,3.8524228905122406E-3,6.4]
["2012-11-13",11,8081690.4695134331,8688854.6699999999,607164.20048656687,6.9878507990578098E-2,{"$f":"'Tagesmengenallokation 03'!C319","v":8484046.1191784255},204808.5508215744,2.3571409420474795E-2,{"$f":"'Tagesmengenallokation 04'!C319","v":8649134.9133410286},39719.75665897131,4.5713454957546562E-3,4.7]
["2012-11-14",11,8788501.8759563286,10670297.160499999,1881795.2845436707,0.17635828283300517,{"$f":"'Tagesmengenallokation 03'!C320","v":7422391.4418311575},3247905.7186688418,0.30438756014145046,{"$f":"'Tagesmengenallokation 04'!C320","v":7478883.7022337234},3191413.4582662759,0.29909321270643313,6.1]
["2012-11-15",11,9726471.8368062917,9705417.3611999992,-21054.475606292486,-2.1693529317413367E-3,{"$f":"'Tagesmengenallokation 03'!C321","v":8735826.6273260955},969590.73387390375,9.9902013256029765E-2,{"$f":"'Tagesmengenallokation 04'!C321","v":8933332.911524469},772084.4496755302,7.955190600686006E-2,4.3]
["2012-11-16",11,9508942.9361482039,10499640.539999999,990697.6038517952,9.4355382936928175E-2,{"$f":"'Tagesmengenallokation 03'!C322","v":9909301.5005468689},590339.03945313022,5.6224690474320778E-2,{"$f":"'Tagesmengenallokation 04'!C322","v":10254796.72320704},244843.81679295935,2.3319257060295452E-2,2.5]
["2012-11-17",{"$f":"IF(A323<>\"\",MONTH(A323),\"\")","v":11},8364258.9299279451,9703962.3264000006,{"$f":"D323-C323","v":1339703.3964720555},{"$f":"IF(E323<>0,E323/D323,\"\")","v":0.13805735754222181},{"$f":"'Tagesmengenallokation 03'!C323","v":9272057.712487828},{"$f":"IF(G323<>0,D323-G323,\"\")","v":431904.61391217262},{"$f":"IF(H323<>\"\",H323/D323,\"\")","v":4.4508067878330441E-2},{"$f":"'Tagesmengenallokation 04'!C323","v":9592967.4468491748},{"$f":"IF(J323<>0,D323-J323,\"\")","v":110994.8795508258},{"$f":"IF(K323<>\"\",K323/D323,\"\")","v":1.1438098770113729E-2},2.8]
["2012-11-18",11,7564076.4168687901,8620294.0103999991,1056217.593531209,0.12252686419476294,{"$f":"'Tagesmengenallokation 03'!C324","v":7554897.3957074517},1065396.6146925474,0.12359167951895771,{"$f":"'Tagesmengenallokation 04'!C324","v":7649077.817746331},971216.19265366811,0.11266624914207557,5.6]
["2012-11-19",11,7932136.7153970236,8535747.4509999994,603610.73560297582,7.0715627315363017E-2,{"$f":"'Tagesmengenallokation 03'!C325","v":9891406.5821214803},-1355659.1311214808,-0.1588213731607839,{"$f":"'Tagesmengenallokation 04'!C325","v":10220526.362022366},-1684778.911022367,-0.19737918919156727,2.7]
["2012-11-20",11,9083483.0497599002,11035478.153099999,1951995.1033400986,0.17688359999079512,{"$f":"'Tagesmengenallokation 03'!C326","v":9884179.2832590286},1151298.8698409703,0.10432704898405844,{"$f":"'Tagesmengenallokation 04'!C326","v":10213299.063159913},822179.08994008601,7.4503259263770646E-2,2.7]
["2012-11-21",11,9016738.9424114358,11248709.359999999,2231970.4175885636,0.19842013391557339,{"$f":"'Tagesmengenallokation 03'!C327","v":9333593.9594234228},1915115.4005765766,0.17025201196740464,{"$f":"'Tagesmengenallokation 04'!C327","v":9605061.3781232685},1643647.9818767309,0.14611880610245681,3.4]
["2012-11-22",11,6899523.4563675523,7429902.5741999997,530379.1178324474,7.1384397377452141E-2,{"$f":"'Tagesmengenallokation 03'!C328","v":7735705.8939465936},-305803.31974659394,-4.1158456210244547E-2,{"$f":"'Tagesmengenallokation 04'!C328","v":7822235.9448388629},-392333.37063886318,-5.2804645380038095E-2,5.7]
["2012-11-23",11,7763156.7084872313,9431420.3609999996,1668263.6525127683,0.17688360699213759,{"$f":"'Tagesmengenallokation 03'!C329","v":7041901.9649672024},2389518.3960327972,0.25335721498680397,{"$f":"'Tagesmengenallokation 04'!C329","v":7062279.7504226565},2369140.610577343,0.25119658756532687,6.6]
["2012-11-24",11,6394786.4549864698,7906498.0320000006,1511711.5770135308,0.19119862812779748,{"$f":"'Tagesmengenallokation 03'!C330","v":6525305.8722195104},1381192.1597804902,0.17469076121822655,{"$f":"'Tagesmengenallokation 04'!C330","v":6524879.6750037316},1381618.356996269,0.17474466589436177,6.9]
["2012-11-25",11,4728718.8830158263,5338178.8109999998,609459.92798417341,0.11417000995326408,{"$f":"'Tagesmengenallokation 03'!C331","v":4952692.1723654652},385486.63863453455,7.2213137154602258E-2,{"$f":"'Tagesmengenallokation 04'!C331","v":4806299.8303385954},531878.98066140432,9.9636786157368817E-2,9.5]
["2012-11-26",11,5529749.9385561496,5356028,-173721.9385561496,-3.2434845104646504E-2,{"$f":"'Tagesmengenallokation 03'!C332","v":5727956.1963348519},-371928.19633485191,-6.9441047794158633E-2,{"$f":"'Tagesmengenallokation 04'!C332","v":5624436.2444760911},-268408.24447609112,-5.0113301214275041E-2,8.6]
["2012-11-27",11,6850538.1014323151,7666451.0388000002,815912.93736768514,0.10642641989603012,{"$f":"'Tagesmengenallokation 03'!C333","v":6976381.3968836498},690069.64191635046,9.0011615338557532E-2,{"$f":"'Tagesmengenallokation 04'!C333","v":6982813.1364771314},683637.90232286882,8.9172669187211812E-2,6.8]
["2012-11-28",11,8098551.0943428148,9572973.8112000003,1474422.7168571856,0.15401929911603532,{"$f":"'Tagesmengenallokation 03'!C334","v":8136639.0813735304},1436334.7298264699,0.1500405995204975,{"$f":"'Tagesmengenallokation 04'!C334","v":8269802.9881686987},1303170.8230313016,0.13613019827826578,5.0999999999999996]
["2012-11-29",11,10384693.927554911,11292620.692299999,907926.76474508829,8.0400005409211023E-2,{"$f":"'Tagesmengenallokation 03'!C335","v":10247524.821767984},1045095.8705320153,9.254679662132155E-2,{"$f":"'Tagesmengenallokation 04'!C335","v":10625537.177612728},667083.51468727179,5.9072515837012944E-2,2.1]
["2012-11-30",11,11209233.004499095,12759246.292000001,1550013.2875009067,0.12148157124866844,{"$f":"'Tagesmengenallokation 03'!C336","v":10998111.737192703},1761134.5548072979,0.13802810248372763,{"$f":"'Tagesmengenallokation 04'!C336","v":11478399.433413493},1280846.8585865088,0.10038577744122668,0.8]
["2012-12-01",12,12757405.312802954,15455660.295999998,2698254.9831970446,0.17458037583132999,{"$f":"'Tagesmengenallokation 03'!C337","v":12376035.220485188},3079625.0755148102,0.19925548417441813,{"$f":"'Tagesmengenallokation 04'!C337","v":13093087.872650808},2362572.4233491905,0.15286130635005196,-2.8]
["2012-12-02",12,11738679.102426892,15491486.025,3752806.9225731082,0.24224964064240623,{"$f":"'Tagesmengenallokation 03'!C338","v":11459037.346283194},4032448.6787168067,0.26030095965030614,{"$f":"'Tagesmengenallokation 04'!C338","v":12033902.896852421},3457583.1281475797,0.2231924763426677,-0.5]
["2012-12-03",12,11203653.699101506,14220042.782400001,3016389.083298495,0.21212236344547772,{"$f":"'Tagesmengenallokation 03'!C339","v":11004075.098591298},3215967.683808703,0.22615738454662546,{"$f":"'Tagesmengenallokation 04'!C339","v":11469056.59819435},2750986.1842056513,0.19345836199666841,1]
["2012-12-04",12,9837863.4058536906,11716610.020800002,1878746.6149463113,0.16034899272153397,{"$f":"'Tagesmengenallokation 03'!C340","v":9747856.0945970211},1968753.9262029808,0.16803101944230756,{"$f":"'Tagesmengenallokation 04'!C340","v":10060543.613409853},1656066.4073901493,0.14134347771669489,2.9]
["2012-12-05",12,10561643.982261704,13244573.848000001,2682929.8657382969,0.20256822881042966,{"$f":"'Tagesmengenallokation 03'!C341","v":10407028.048146242},2837545.7998537589,0.2142421366227833,{"$f":"'Tagesmengenallokation 04'!C341","v":10809164.376606949},2435409.4713930525,0.18387979102557625,1.8]
["2012-12-06",12,12250959.414516935,14728183.460800001,2477224.0462830663,0.16819616980439955,{"$f":"'Tagesmengenallokation 03'!C342","v":11961547.631329274},2766635.8294707276,0.18784637201419341,{"$f":"'Tagesmengenallokation 04'!C342","v":12550120.667208286},2178062.7935917154,0.14788400751448869,-0.7]
["2012-12-07",12,13536114.101932323,16448891.229,2912777.1270676777,0.1770804540267337,{"$f":"'Tagesmengenallokation 03'!C343","v":13140068.371930899},3308822.8570691012,0.20115780516777476,{"$f":"'Tagesmengenallokation 04'!C343","v":13878264.651642891},2570626.5773571096,0.15627962648479313,-3.2]
["2012-12-08",12,13529730.13880216,17442330.410999998,3912600.2721978389,0.22431637172349167,{"$f":"'Tagesmengenallokation 03'!C344","v":13090627.425066311},4351702.9859336875,0.24949091568574391,{"$f":"'Tagesmengenallokation 04'!C344","v":13890189.635392077},3552140.7756079212,0.20365058406230885,-4.5]
["2012-12-09",12,13568886.991142569,16812024.1536,3243137.1624574307,0.19290581150889971,{"$f":"'Tagesmengenallokation 03'!C345","v":13145156.918084286},3666867.2355157137,0.21810980058165799,{"$f":"'Tagesmengenallokation 04'!C345","v":13922430.813787334},2889593.3398126662,0.17187658745980985,-4]
["2012-12-10",12,11135215.240309617,13201319.808,2066104.5676903836,0.15650742484386479,{"$f":"'Tagesmengenallokation 03'!C346","v":10941220.320484834},2260099.4875151664,0.171202540381269,{"$f":"'Tagesmengenallokation 04'!C346","v":11398482.862587387},1802836.9454126135,0.13656490196685442,1.1000000000000001]
["2012-12-11",12,12940757.344938036,16417309.567800002,3476552.2228619661,0.21176138565850536,{"$f":"'Tagesmengenallokation 03'!C347","v":12600509.179489192},3816800.3883108106,0.23248635061355427,{"$f":"'Tagesmengenallokation 04'!C347","v":13259995.847176092},3157313.7206239104,0.19231614702670222,-1.8]
["2012-12-12",12,15222887.821198907,19300742.923,4077855.1018010937,0.21127969623084614,{"$f":"'Tagesmengenallokation 03'!C348","v":14720843.849390022},4579899.073609978,0.23729133598024754,{"$f":"'Tagesmengenallokation 04'!C348","v":15614577.211922921},3686165.7110770792,0.19098569033238655,-7.2]
["2012-12-13",12,15103973.984190023,19347472.752500001,4243498.7683099788,0.21933090810331551,{"$f":"'Tagesmengenallokation 03'!C349","v":14611223.785122724},4736248.9673772771,0.2447993610310307,{"$f":"'Tagesmengenallokation 04'!C349","v":15490614.406127788},3856858.3463722132,0.19934688089295,-6.7]
["2012-12-14",12,10593437.35556829,12415368.35,1821930.9944317099,0.14674804186794102,{"$f":"'Tagesmengenallokation 03'!C350","v":10433089.158657983},1982279.1913420167,0.1596633410672843,{"$f":"'Tagesmengenallokation 04'!C350","v":10843206.985033818},1572161.364966182,0.12663026344813863,1.7]
["2012-12-15",12,7119683.4223632673,9577181.4656000007,2457498.0432367334,0.25659929824486977,{"$f":"'Tagesmengenallokation 03'!C351","v":7200973.4475491783},2376208.0180508224,0.24811141217130059,{"$f":"'Tagesmengenallokation 04'!C351","v":7272367.3877654532},2304814.0778345475,0.24065682436039684,5.9]
["2012-12-16",12,7191544.787225008,8403319.1424000002,1211774.3551749922,0.14420187245547211,{"$f":"'Tagesmengenallokation 03'!C352","v":7278027.8976687519},1125291.2447312484,0.13391033062798369,{"$f":"'Tagesmengenallokation 04'!C352","v":7341940.5867914455},1061378.5556085547,0.12630468242640414,6]
["2012-12-17",12,7854679.2083478393,9613363.9211999997,1758684.7128521604,0.18294165572716928,{"$f":"'Tagesmengenallokation 03'!C353","v":7915061.8432379477},1698302.0779620521,0.17666054170869872,{"$f":"'Tagesmengenallokation 04'!C353","v":8016944.4860062394},1596419.4351937603,0.16606251966319874,5.5]
["2012-12-18",12,9007033.981426321,11899631.48,2892597.4985736795,0.2430829478572793,{"$f":"'Tagesmengenallokation 03'!C354","v":8982055.2988350205},2917576.1811649799,0.24518206182003377,{"$f":"'Tagesmengenallokation 04'!C354","v":9204107.039411094},2695524.4405889064,0.22652167381144028,4]
["2012-12-19",12,10419731.649188844,13158452.866800001,2738721.2176111564,0.20813398393675936,{"$f":"'Tagesmengenallokation 03'!C355","v":10276727.561514199},2881725.3052858021,0.21900183360892395,{"$f":"'Tagesmengenallokation 04'!C355","v":10662809.408171054},2495643.4586289469,0.18966085784489811,2]
["2012-12-20",12,12371832.947786696,15224604.779999999,2852771.8322133031,0.18737904027307717,{"$f":"'Tagesmengenallokation 03'!C356","v":12072728.547509847},3151876.2324901521,0.20702515947281966,{"$f":"'Tagesmengenallokation 04'!C356","v":12674765.468007943},2549839.3119920567,0.16748147809667194,-0.9]
["2012-12-21",12,8375667.4613707652,10078205.9574,1702538.4960292345,0.16893269528582441,{"$f":"'Tagesmengenallokation 03'!C357","v":8391203.2667961996},1687002.6906038001,0.16739117038634296,{"$f":"'Tagesmengenallokation 04'!C357","v":8556292.0609588027},1521913.896441197,0.15101039836596314,4.7]
["2012-12-22",12,7779274.06292383,9157894.3673999999,1378620.3044761699,0.15053900483759033,{"$f":"'Tagesmengenallokation 03'!C358","v":7811783.6098740343},1346110.7575259656,0.14698911163660183,{"$f":"'Tagesmengenallokation 04'!C358","v":7952874.2783733802},1205020.0890266197,0.13158265870768443,5]
["2012-12-23",12,3654698.1606174274,4265911.7982000001,611213.63758257264,0.1432785454777743,{"$f":"'Tagesmengenallokation 03'!C359","v":3909102.333864077},356809.46433592308,8.3642016341378342E-2,{"$f":"'Tagesmengenallokation 04'!C359","v":3703457.9635457862},562453.83465421386,0.13184844442670873,11.3]
["2012-12-24",12,5529749.9385561496,7018539.0911999997,1488789.1526438501,0.21212237095188755,{"$f":"'Tagesmengenallokation 03'!C360","v":5727956.1963348519},1290582.8948651478,0.18388198428406693,{"$f":"'Tagesmengenallokation 04'!C360","v":5624436.2444760911},1394102.8467239086,0.19863148564234195,8.6]
["2012-12-25",12,6029473.1979028508,7521986.9759999998,1492513.778097149,0.19842014920515452,{"$f":"'Tagesmengenallokation 03'!C361","v":6202407.0719019016},1319579.9040980982,0.17542969807158812,{"$f":"'Tagesmengenallokation 04'!C361","v":6138051.9979143003},1383934.9780856995,0.18398529304841216,7.9]
["2012-12-26",12,6498902.7333235098,8233512.0719999997,1734609.3386764899,0.21067672258299569,{"$f":"'Tagesmengenallokation 03'!C362","v":6642912.8785750298},1590599.1934249699,0.19318599153260219,{"$f":"'Tagesmengenallokation 04'!C362","v":6622395.8777989987},1611116.194201001,0.19567788084989657,7.2]
["2012-12-27",12,6597681.2230695104,8448759.7389000002,1851078.5158304898,0.21909470419755289,{"$f":"'Tagesmengenallokation 03'!C363","v":6737257.6660242574},1711502.0728757428,0.20257435715630548,{"$f":"'Tagesmengenallokation 04'!C363","v":6723355.2650230248},1725404.4738769755,0.20421985323275593,7.1]
["2012-12-28",12,7610105.2935122168,9429017.7384000011,1818912.4448877843,0.19290582490689359,{"$f":"'Tagesmengenallokation 03'!C364","v":7680843.124581743},1748174.613818258,0.18540368279282754,{"$f":"'Tagesmengenallokation 04'!C364","v":7767373.1754740123},1661644.5629259888,0.17622668755398388,5.7]
["2012-12-29",12,7265997.2490388919,8614180.2960000001,1348183.0469611082,0.15650740994905085,{"$f":"'Tagesmengenallokation 03'!C365","v":7336764.2702278076},1277416.0257721925,0.14829223232828798,{"$f":"'Tagesmengenallokation 04'!C365","v":7423294.3211200768},1190885.9748799233,0.13824716153583549,5.7]
["2012-12-30",12,6527752.2314227978,8426863.9056000002,1899111.6741772024,0.22536399014527386,{"$f":"'Tagesmengenallokation 03'!C366","v":6658283.0808279933},1768580.8247720068,0.20987414114955763,{"$f":"'Tagesmengenallokation 04'!C366","v":6657856.8836122146},1769007.0219877856,0.20992471716698868,6.9]
["2012-12-31",12,8474191.9035023265,10005511.773,1531319.8694976736,0.15304763056997839,{"$f":"'Tagesmengenallokation 03'!C367","v":8490107.0689464249},1515404.7040535752,0.15145699075012972,{"$f":"'Tagesmengenallokation 04'!C367","v":8655195.863109028},1350315.9098909721,0.13495720564087652,4.7]

{"sheet":"Eingabemaske","index":6,"n_rows":77,"n_cols":10,"rows_kept":77,"cut":false,"hidden":false,"merged":[[5,0,5,1],[2,0,2,1],[13,1,13,3],[13,4,13,5]]}
["Dateneingabe",null,null,null,null,null,null,null,"Berechnung"]
[null,null,{"$f":"Berechnungsblatt!K4","v":1}]
["Auswahl der angewendeten Haushaltskunden Profile:",null,null,null,null,null,null,null,"Als-Ob-Allokation auf Basis der Ist-Temperatur starten. "]
[]
[]
[]
[]
[]
[]
[]
["Eingabe der unternehmenseigenen Kundenwerte (Spalte \"B\")"]
[]
[]
[null,"\"alte\" Profile\n(vor der Umstellung)",null,null,"\"neue\" Profile\n(nach der Umstellung)"]
["Lastprofil","Original- Kundenwerte\n (\"altes Profil\")","h-Wert \n(\"altes Profil\")","hochgerechnete Jahresmenge","h-Wert \n(\"neues Profil\")","Kundenwert (\"neues Profil\")"]
["Einfamilienhaus 03",3327287,{"$f":"'h-Wertberechnung'!$F$20","v":334.14118306521476},{"$f":"B16*C16","v":1111783614.5775092},{"$f":"'h-Wertberechnung'!$F$20","v":334.14118306521476},null,null,null,"Jetzt kann nun sehr vereinfacht der Kundenwert für verschiedene Ausprägungen berechnet werden. "]
["Einfamilienhaus 04",null,{"$f":"'h-Wertberechnung'!$I$20","v":324.29914766620448},null,{"$f":"'h-Wertberechnung'!$I$20","v":324.29914766620448},{"$f":"D16/E17","v":3428265.6077833693}]
["Mehrfamilienhaus 03",1010447,{"$f":"'h-Wertberechnung'!$L$20","v":329.16581463376264},{"$f":"B18*C18","v":332604609.89924157},{"$f":"'h-Wertberechnung'!$L$20","v":329.16581463376264},null,null,null,"Dies ist von dem Netzbetreiber wie folgt vorzunehmen:"]
["Mehrfamilienhaus 04",null,{"$f":"'h-Wertberechnung'!$O$20","v":325.24331891202638},null,{"$f":"'h-Wertberechnung'!$O$20","v":325.24331891202638},{"$f":"D18/E19","v":1022633.1812497778},null,null,"Der Kundenwert des \"alten Profils\" (Spalte \"B\") wird mit dem Jahres h-Wert des \"alten Profils\" (Spalte \"C\")"]
["BA1",null,{"$f":"'h-Wertberechnung'!$AH$20","v":387.87204455950126},null,{"$f":"'h-Wertberechnung'!$AH$20","v":387.87204455950126},null,null,null,"multipliziert (= hochgerechnete Jahrsmenge, Spalte \"D\"). Danach wird diese \"Jahresmenge\" durch den Jahres "]
["BA2",null,{"$f":"'h-Wertberechnung'!$AE$20","v":379.77335493297511},null,{"$f":"'h-Wertberechnung'!$AE$20","v":379.77335493297511},null,null,null,"h-Wert des \"neuen Profils\" (Spalte \"E\") dividiert. Anschließend wird der berechnete Kundenwert des \"neuen Profills\""]
["BA3",null,{"$f":"'h-Wertberechnung'!$AB$20","v":373.64188122077269},null,{"$f":"'h-Wertberechnung'!$AB$20","v":373.64188122077269},null,null,null,"in die Spalte \"F\" eingetragen."]
["BA4",8278,{"$f":"'h-Wertberechnung'!$Y$20","v":368.31674585810038},null,{"$f":"'h-Wertberechnung'!$Y$20","v":368.31674585810038},8278]
["BA5",null,{"$f":"'h-Wertberechnung'!$V$20","v":355.73894327589795},null,{"$f":"'h-Wertberechnung'!$V$20","v":355.73894327589795},null,null,null,"Falls keine Umstellung gewünscht ist, soll einfach der Kundenwert des \"alten Profils\" (Spalte \"B\") als "]
["BH1",null,{"$f":"'h-Wertberechnung'!$BN$20","v":348.18191032915496},null,{"$f":"'h-Wertberechnung'!$BN$20","v":348.18191032915496},null,null,null,"der Kundenwert des \"neuen Profils\" (Spalte \"F\") übernommen werden."]
["BH2",null,{"$f":"'h-Wertberechnung'!$BK$20","v":350.80214252209078},null,{"$f":"'h-Wertberechnung'!$BK$20","v":350.80214252209078}]
["BH3",69767,{"$f":"'h-Wertberechnung'!$BH$20","v":347.37690165592306},null,{"$f":"'h-Wertberechnung'!$BH$20","v":347.37690165592306},69767,null,null,"Beispiel 1:","Umstellung der Profilausprägung \"03\" auf \"04\" für die Kundengruppe \"Einfamilienhaus\""]
["BH4",null,{"$f":"'h-Wertberechnung'!$BE$20","v":338.8606154537905},null,{"$f":"'h-Wertberechnung'!$BE$20","v":338.8606154537905},null,null,null,"Der Kundenwert der Kundengruppe Einfamilienhaus 03 (Zelle \"B16\") wird mit dem Jahres h-Wert "]
["BH5",null,{"$f":"'h-Wertberechnung'!$BB$20","v":328.98934294236921},null,{"$f":"'h-Wertberechnung'!$BB$20","v":328.98934294236921},null,null,null,"des \"alten Profils\" (Zelle \"C16\") multipliziert. Die berechnete \"Jahresmenge\" (Zelle \"D16\") wird "]
["KO1",null,{"$f":"'h-Wertberechnung'!$DZ$20","v":330.81984958510947},null,{"$f":"'h-Wertberechnung'!$DZ$20","v":330.81984958510947},null,null,null,"durch den Jahres h-Wert des \"neuen Profils\" Einfamilienhaus 04 (Zelle \"E17\") dividiert. Anschließend wird "]
["KO2",null,{"$f":"'h-Wertberechnung'!$DW$20","v":348.68254511225922},null,{"$f":"'h-Wertberechnung'!$DW$20","v":348.68254511225922},null,null,null,"der neue Kundenwert in die Zelle \"F17\" eingetragen."]
["KO3",345983,{"$f":"'h-Wertberechnung'!$DT$20","v":350.51066846074809},null,{"$f":"'h-Wertberechnung'!$DT$20","v":350.51066846074809},345983]
["KO4",69372,{"$f":"'h-Wertberechnung'!$DQ$20","v":347.33248137623349},null,{"$f":"'h-Wertberechnung'!$DQ$20","v":347.33248137623349},69372,null,null,"Beispiel 2:","Bei der Kundengruppe BA4 wird keine Umstellung geplant."]
["KO5",null,{"$f":"'h-Wertberechnung'!$DN$20","v":331.64119597079014},null,{"$f":"'h-Wertberechnung'!$DN$20","v":331.64119597079014},null,null,null,"Der Kundenwert des \"alten\" Profils (Zelle \"B23\") wird einfach als Kundenwert des \"neuen Profils\" (Zelle \"F23\")"]
["HA1",null,{"$f":"'h-Wertberechnung'!$DJ$20","v":335.15092436391222},null,{"$f":"'h-Wertberechnung'!$DJ$20","v":335.15092436391222},null,null,null,"übernommen."]
["HA2",null,{"$f":"'h-Wertberechnung'!$DG$20","v":343.17084194268352},null,{"$f":"'h-Wertberechnung'!$DG$20","v":343.17084194268352}]
["HA3",143866,{"$f":"'h-Wertberechnung'!$DD$20","v":344.39837103769298},null,{"$f":"'h-Wertberechnung'!$DD$20","v":344.39837103769298},143866]
["HA4",null,{"$f":"'h-Wertberechnung'!$DA$20","v":338.5531341968578},null,{"$f":"'h-Wertberechnung'!$DA$20","v":338.5531341968578}]
["HA5",null,{"$f":"'h-Wertberechnung'!$CX$20","v":322.07606193601447},null,{"$f":"'h-Wertberechnung'!$CX$20","v":322.07606193601447}]
["GA1",null,{"$f":"'h-Wertberechnung'!$CD$20","v":355.43036282680652},null,{"$f":"'h-Wertberechnung'!$CD$20","v":355.43036282680652}]
["GA2",null,{"$f":"'h-Wertberechnung'!$CA$20","v":345.90420394630735},null,{"$f":"'h-Wertberechnung'!$CA$20","v":345.90420394630735}]
["GA3",68316,{"$f":"'h-Wertberechnung'!$BX$20","v":345.3211631713304},null,{"$f":"'h-Wertberechnung'!$BX$20","v":345.3211631713304},68316]
["GA4",null,{"$f":"'h-Wertberechnung'!$BU$20","v":335.96509238304901},null,{"$f":"'h-Wertberechnung'!$BU$20","v":335.96509238304901}]
["GA5",null,{"$f":"'h-Wertberechnung'!$BR$20","v":317.21399232545565},null,{"$f":"'h-Wertberechnung'!$BR$20","v":317.21399232545565}]
["GB1",null,{"$f":"'h-Wertberechnung'!$CT$20","v":352.35616548766717},null,{"$f":"'h-Wertberechnung'!$CT$20","v":352.35616548766717},null,null,null,"Anschließend kann nun die 2. Berechnung \"Als-Ob-Alllokation 04\" gestartet werden."]
["GB2",null,{"$f":"'h-Wertberechnung'!$CQ$20","v":344.88940138454547},null,{"$f":"'h-Wertberechnung'!$CQ$20","v":344.88940138454547}]
["GB3",12099,{"$f":"'h-Wertberechnung'!$CN$20","v":329.06668489164667},null,{"$f":"'h-Wertberechnung'!$CN$20","v":329.06668489164667},12099]
["GB4",null,{"$f":"'h-Wertberechnung'!$CK$20","v":324.92139065412204},null,{"$f":"'h-Wertberechnung'!$CK$20","v":324.92139065412204}]
["GB5",null,{"$f":"'h-Wertberechnung'!$CH$20","v":320.68212138412673},null,{"$f":"'h-Wertberechnung'!$CH$20","v":320.68212138412673}]
["ME1",null,{"$f":"'h-Wertberechnung'!$EP$20","v":340.66720219821377},null,{"$f":"'h-Wertberechnung'!$EP$20","v":340.66720219821377}]
["ME2",null,{"$f":"'h-Wertberechnung'!$EM$20","v":335.83677059484768},null,{"$f":"'h-Wertberechnung'!$EM$20","v":335.83677059484768}]
["ME3",155033,{"$f":"'h-Wertberechnung'!$EJ$20","v":338.96524799749443},null,{"$f":"'h-Wertberechnung'!$EJ$20","v":338.96524799749443},155033]
["ME4",null,{"$f":"'h-Wertberechnung'!$EG$20","v":327.33148157575135},null,{"$f":"'h-Wertberechnung'!$EG$20","v":327.33148157575135}]
["ME5",null,{"$f":"'h-Wertberechnung'!$ED$20","v":315.53966713112015},null,{"$f":"'h-Wertberechnung'!$ED$20","v":315.53966713112015}]
["PD1",null,{"$f":"'h-Wertberechnung'!$FV$20","v":349.95734214685984},null,{"$f":"'h-Wertberechnung'!$FV$20","v":349.95734214685984}]
["PD2",null,{"$f":"'h-Wertberechnung'!$FS$20","v":351.74313733419359},null,{"$f":"'h-Wertberechnung'!$FS$20","v":351.74313733419359}]
["PD3",17748,{"$f":"'h-Wertberechnung'!$FP$20","v":350.74612899788985},null,{"$f":"'h-Wertberechnung'!$FP$20","v":350.74612899788985},17748]
["PD4",null,{"$f":"'h-Wertberechnung'!$FM$20","v":330.768474564602},null,{"$f":"'h-Wertberechnung'!$FM$20","v":330.768474564602}]
["PD5",null,{"$f":"'h-Wertberechnung'!$FJ$20","v":308.36294341574916},null,{"$f":"'h-Wertberechnung'!$FJ$20","v":308.36294341574916}]
["BD1",null,{"$f":"'h-Wertberechnung'!$AX$20","v":357.18553443707737},null,{"$f":"'h-Wertberechnung'!$AX$20","v":357.18553443707737}]
["BD2",null,{"$f":"'h-Wertberechnung'!$AU$20","v":341.93107591438218},null,{"$f":"'h-Wertberechnung'!$AU$20","v":341.93107591438218}]
["BD3",666992,{"$f":"'h-Wertberechnung'!$AR$20","v":349.53555848161079},null,{"$f":"'h-Wertberechnung'!$AR$20","v":349.53555848161079},666992]
["BD4",null,{"$f":"'h-Wertberechnung'!$AO$20","v":356.20384642108166},null,{"$f":"'h-Wertberechnung'!$AO$20","v":356.20384642108166}]
["BD5",null,{"$f":"'h-Wertberechnung'!$AL$20","v":351.7802350892436},null,{"$f":"'h-Wertberechnung'!$AL$20","v":351.7802350892436}]
["WA1",null,{"$f":"'h-Wertberechnung'!$GL$20","v":385.33294096558268},null,{"$f":"'h-Wertberechnung'!$GL$20","v":385.33294096558268}]
["WA2",null,{"$f":"'h-Wertberechnung'!$GI$20","v":383.25080788387379},null,{"$f":"'h-Wertberechnung'!$GI$20","v":383.25080788387379}]
["WA3",1750,{"$f":"'h-Wertberechnung'!$GF$20","v":381.25937337490961},null,{"$f":"'h-Wertberechnung'!$GF$20","v":381.25937337490961},1750]
["WA4",null,{"$f":"'h-Wertberechnung'!$GC$20","v":375.03965879391336},null,{"$f":"'h-Wertberechnung'!$GC$20","v":375.03965879391336}]
["WA5",null,{"$f":"'h-Wertberechnung'!$FZ$20","v":363.38363261881955},null,{"$f":"'h-Wertberechnung'!$FZ$20","v":363.38363261881955}]
["HK3",2172,{"$f":"'h-Wertberechnung'!$R$20","v":359.29198429639337},null,{"$f":"'h-Wertberechnung'!$R$20","v":359.29198429639337},2172]
["MF1",null,{"$f":"'h-Wertberechnung'!$FF$20","v":327.44660464233493},null,{"$f":"'h-Wertberechnung'!$FF$20","v":327.44660464233493}]
["MF2",null,{"$f":"'h-Wertberechnung'!$FC$20","v":326.74367244940061},null,{"$f":"'h-Wertberechnung'!$FC$20","v":326.74367244940061}]
["MF3",null,{"$f":"'h-Wertberechnung'!$EZ$20","v":329.37194105214661},null,{"$f":"'h-Wertberechnung'!$EZ$20","v":329.37194105214661}]
["MF4",null,{"$f":"'h-Wertberechnung'!$EW$20","v":325.48321138270637},null,{"$f":"'h-Wertberechnung'!$EW$20","v":325.48321138270637}]
["MF5",null,{"$f":"'h-Wertberechnung'!$ET$20","v":324.90306416132142},null,{"$f":"'h-Wertberechnung'!$ET$20","v":324.90306416132142}]
["GHD03",null,{"$f":"'h-Wertberechnung'!$GP$20","v":346.777790211693},null,{"$f":"'h-Wertberechnung'!$GP$20","v":346.777790211693}]
["GHD04",null,{"$f":"'h-Wertberechnung'!$GS$20","v":341.13281920849016},null,{"$f":"'h-Wertberechnung'!$GS$20","v":341.13281920849016}]

{"sheet":"Auswertung","index":8,"n_rows":32,"n_cols":8,"rows_kept":32,"cut":false,"hidden":false,"merged":[]}
[]
[]
[null,"Werte"]
["Monat","Summe von Restlast [kWh]","Summe von Netzkontosaldo 0 [kWh]","Summe von SLP-Allokation [kWh]","Summe von Als-Ob Allokation Basis Ist-Temperatur mit KW 03 [kWh]","Summe von Als-Ob-Allokation 03 vs. Restlast [kWh]","Summe von Als-Ob Allokation Basis Ist-Temperatur mit KW 04 [kWh]","Summe von Als-Ob-Allokation 04 vs. Restlast [kWh]"]
[1,351341053.97600001,42367998.504534975,308973055.47146499,301601981.22644943,49739072.749550611,312100701.55023539,39240352.425764643]
[2,365648512.45000011,10884521.041365817,354763991.40863413,343315128.81137633,22333383.63862364,359685461.96067494,5963050.4893250931]
[3,185248567.23999995,7520690.4338881709,177727876.80611181,188177254.74501237,-2928687.5050123776,186801450.4167136,-1552883.1767135817]
[4,173008339.27000001,7288029.4745569266,165720309.79544306,167704132.10441464,5304207.1655853661,165948068.44894928,7060270.8210507147]
[5,79292402.13000001,1533256.5271891521,77759145.60281086,79584773.536322832,-292371.40632283268,73879705.75500153,5412696.3749984568]
[6,50632310.840000018,2345347.7551596221,48286963.084840372,54351011.865633659,-3718701.0256336653,48625596.924451642,2006713.9155483579]
[7,44248288.20000001,2132562.2072195928,42115725.992780395,47347603.04850325,-3099314.8485032283,41671304.190990269,2576984.0090097291]
[8,34367473.130000003,1066154.9534649905,33301318.176535014,37708940.222102225,-3341467.0921022245,32755994.389574278,1611478.7404257182]
[9,69444787.430000007,1573822.2790512112,67870965.150948778,79058805.323558971,-9614017.8935589809,72824023.370325148,-3379235.940325134]
[10,175521789.38950002,17439212.488622986,158082576.90087706,163632224.67878667,11889564.710713314,161126490.08997357,14395299.29952641]
[11,249289154.92070004,26031918.646855455,223257236.27384457,226049367.31926167,23239787.601438321,228702794.12918222,20586360.791517738]
[12,375318952.99800009,73029745.651376158,302289207.34662384,298952513.61192769,76366439.386072293,309311156.74615198,66007796.251848087]
["Gesamtergebnis",2153361631.9742007,193213259.96328503,1960148372.0109148,1987483736.4933498,165877895.48085022,1993432747.9722238,159928884.00197625]
[]
[]
["Prozentuale Abweichung Netzkontosaldo 0","Prozentuale Abweichung Also-Ob-Allokation 03","Prozentuale Abweichung Als-Ob-Allokation 04"]
[{"$f":"IF($D$5=\"\",\"\",GETPIVOTDATA(\"Summe von Netzkontosaldo 0 [kWh]\",$A$3,\"Monat\",1)/GETPIVOTDATA(\"Summe von SLP-Allokation [kWh]\",$A$3,\"Monat\",1))","v":0.13712522096752169},{"$f":"IF($E$5=0,\"\",GETPIVOTDATA(\"Summe von Als-Ob-Allokation 03 vs. Restlast [kWh]\",$A$3,\"Monat\",1)/GETPIVOTDATA(\"Summe von Als-Ob Allokation Basis Ist-Temperatur mit KW 03 [kWh]\",$A$3,\"Monat\",1))","v":0.16491626662162215},{"$f":"IF($G$5=0,\"\",GETPIVOTDATA(\"Summe von Als-Ob-Allokation 04 vs. Restlast [kWh]\",$A$3,\"Monat\",1)/GETPIVOTDATA(\"Summe von Als-Ob Allokation Basis Ist-Temperatur mit KW 04 [kWh]\",$A$3,\"Monat\",1))","v":0.12572977962194218}]
[{"$f":"IF($D$5=\"\",\"\",GETPIVOTDATA(\"Summe von Netzkontosaldo 0 [kWh]\",$A$3,\"Monat\",2)/GETPIVOTDATA(\"Summe von SLP-Allokation [kWh]\",$A$3,\"Monat\",2))","v":3.0681019790502091E-2},{"$f":"IF($E$5=0,\"\",GETPIVOTDATA(\"Summe von Als-Ob-Allokation 03 vs. Restlast [kWh]\",$A$3,\"Monat\",2)/GETPIVOTDATA(\"Summe von Als-Ob Allokation Basis Ist-Temperatur mit KW 03 [kWh]\",$A$3,\"Monat\",2))","v":6.505213946133441E-2},{"$f":"IF($G$5=0,\"\",GETPIVOTDATA(\"Summe von Als-Ob-Allokation 04 vs. Restlast [kWh]\",$A$3,\"Monat\",2)/GETPIVOTDATA(\"Summe von Als-Ob Allokation Basis Ist-Temperatur mit KW 04 [kWh]\",$A$3,\"Monat\",2))","v":1.657851406287042E-2}]
[{"$f":"IF($D$5=\"\",\"\",GETPIVOTDATA(\"Summe von Netzkontosaldo 0 [kWh]\",$A$3,\"Monat\",3)/GETPIVOTDATA(\"Summe von SLP-Allokation [kWh]\",$A$3,\"Monat\",3))","v":4.2315761427188472E-2},{"$f":"IF($E$5=0,\"\",GETPIVOTDATA(\"Summe von Als-Ob-Allokation 03 vs. Restlast [kWh]\",$A$3,\"Monat\",3)/GETPIVOTDATA(\"Summe von Als-Ob Allokation Basis Ist-Temperatur mit KW 03 [kWh]\",$A$3,\"Monat\",3))","v":-1.5563451114115067E-2},{"$f":"IF($G$5=0,\"\",GETPIVOTDATA(\"Summe von Als-Ob-Allokation 04 vs. Restlast [kWh]\",$A$3,\"Monat\",3)/GETPIVOTDATA(\"Summe von Als-Ob Allokation Basis Ist-Temperatur mit KW 04 [kWh]\",$A$3,\"Monat\",3))","v":-8.3130145576998226E-3}]
[{"$f":"IF($D$5=\"\",\"\",GETPIVOTDATA(\"Summe von Netzkontosaldo 0 [kWh]\",$A$3,\"Monat\",4)/GETPIVOTDATA(\"Summe von SLP-Allokation [kWh]\",$A$3,\"Monat\",4))","v":4.3977889514887521E-2},{"$f":"IF($E$5=0,\"\",GETPIVOTDATA(\"Summe von Als-Ob-Allokation 03 vs. Restlast [kWh]\",$A$3,\"Monat\",4)/GETPIVOTDATA(\"Summe von Als-Ob Allokation Basis Ist-Temperatur mit KW 03 [kWh]\",$A$3,\"Monat\",4))","v":3.1628362992766938E-2},{"$f":"IF($G$5=0,\"\",GETPIVOTDATA(\"Summe von Als-Ob-Allokation 04 vs. Restlast [kWh]\",$A$3,\"Monat\",4)/GETPIVOTDATA(\"Summe von Als-Ob Allokation Basis Ist-Temperatur mit KW 04 [kWh]\",$A$3,\"Monat\",4))","v":4.2545061759623137E-2}]
[{"$f":"IF($D$5=\"\",\"\",GETPIVOTDATA(\"Summe von Netzkontosaldo 0 [kWh]\",$A$3,\"Monat\",5)/GETPIVOTDATA(\"Summe von SLP-Allokation [kWh]\",$A$3,\"Monat\",5))","v":1.9718021787699883E-2},{"$f":"IF($E$5=0,\"\",GETPIVOTDATA(\"Summe von Als-Ob-Allokation 03 vs. Restlast [kWh]\",$A$3,\"Monat\",5)/GETPIVOTDATA(\"Summe von Als-Ob Allokation Basis Ist-Temperatur mit KW 03 [kWh]\",$A$3,\"Monat\",5))","v":-3.6737103510056874E-3},{"$f":"IF($G$5=0,\"\",GETPIVOTDATA(\"Summe von Als-Ob-Allokation 04 vs. Restlast [kWh]\",$A$3,\"Monat\",5)/GETPIVOTDATA(\"Summe von Als-Ob Allokation Basis Ist-Temperatur mit KW 04 [kWh]\",$A$3,\"Monat\",5))","v":7.3263642832416487E-2}]
[{"$f":"IF($D$5=\"\",\"\",GETPIVOTDATA(\"Summe von Netzkontosaldo 0 [kWh]\",$A$3,\"Monat\",6)/GETPIVOTDATA(\"Summe von SLP-Allokation [kWh]\",$A$3,\"Monat\",6))","v":4.8571034609048352E-2},{"$f":"IF($E$5=0,\"\",GETPIVOTDATA(\"Summe von Als-Ob-Allokation 03 vs. Restlast [kWh]\",$A$3,\"Monat\",6)/GETPIVOTDATA(\"Summe von Als-Ob Allokation Basis Ist-Temperatur mit KW 03 [kWh]\",$A$3,\"Monat\",6))","v":-6.842008820051082E-2},{"$f":"IF($G$5=0,\"\",GETPIVOTDATA(\"Summe von Als-Ob-Allokation 04 vs. Restlast [kWh]\",$A$3,\"Monat\",6)/GETPIVOTDATA(\"Summe von Als-Ob Allokation Basis Ist-Temperatur mit KW 04 [kWh]\",$A$3,\"Monat\",6))","v":4.126867416488765E-2}]
[{"$f":"IF($D$5=\"\",\"\",GETPIVOTDATA(\"Summe von Netzkontosaldo 0 [kWh]\",$A$3,\"Monat\",7)/GETPIVOTDATA(\"Summe von SLP-Allokation [kWh]\",$A$3,\"Monat\",7))","v":5.0635769821115346E-2},{"$f":"IF($E$5=0,\"\",GETPIVOTDATA(\"Summe von Als-Ob-Allokation 03 vs. Restlast [kWh]\",$A$3,\"Monat\",7)/GETPIVOTDATA(\"Summe von Als-Ob Allokation Basis Ist-Temperatur mit KW 03 [kWh]\",$A$3,\"Monat\",7))","v":-6.5458748678961981E-2},{"$f":"IF($G$5=0,\"\",GETPIVOTDATA(\"Summe von Als-Ob-Allokation 04 vs. Restlast [kWh]\",$A$3,\"Monat\",7)/GETPIVOTDATA(\"Summe von Als-Ob Allokation Basis Ist-Temperatur mit KW 04 [kWh]\",$A$3,\"Monat\",7))","v":6.184073330651594E-2}]
[{"$f":"IF($D$5=\"\",\"\",GETPIVOTDATA(\"Summe von Netzkontosaldo 0 [kWh]\",$A$3,\"Monat\",8)/GETPIVOTDATA(\"Summe von SLP-Allokation [kWh]\",$A$3,\"Monat\",8))","v":3.2015397943503367E-2},{"$f":"IF($E$5=0,\"\",GETPIVOTDATA(\"Summe von Als-Ob-Allokation 03 vs. Restlast [kWh]\",$A$3,\"Monat\",8)/GETPIVOTDATA(\"Summe von Als-Ob Allokation Basis Ist-Temperatur mit KW 03 [kWh]\",$A$3,\"Monat\",8))","v":-8.8612065797163422E-2},{"$f":"IF($G$5=0,\"\",GETPIVOTDATA(\"Summe von Als-Ob-Allokation 04 vs. Restlast [kWh]\",$A$3,\"Monat\",8)/GETPIVOTDATA(\"Summe von Als-Ob Allokation Basis Ist-Temperatur mit KW 04 [kWh]\",$A$3,\"Monat\",8))","v":4.9196453060164978E-2}]
[{"$f":"IF($D$5=\"\",\"\",GETPIVOTDATA(\"Summe von Netzkontosaldo 0 [kWh]\",$A$3,\"Monat\",9)/GETPIVOTDATA(\"Summe von SLP-Allokation [kWh]\",$A$3,\"Monat\",9))","v":2.3188447011928348E-2},{"$f":"IF($E$5=0,\"\",GETPIVOTDATA(\"Summe von Als-Ob-Allokation 03 vs. Restlast [kWh]\",$A$3,\"Monat\",9)/GETPIVOTDATA(\"Summe von Als-Ob Allokation Basis Ist-Temperatur mit KW 03 [kWh]\",$A$3,\"Monat\",9))","v":-0.12160590909782026},{"$f":"IF($G$5=0,\"\",GETPIVOTDATA(\"Summe von Als-Ob-Allokation 04 vs. Restlast [kWh]\",$A$3,\"Monat\",9)/GETPIVOTDATA(\"Summe von Als-Ob Allokation Basis Ist-Temperatur mit KW 04 [kWh]\",$A$3,\"Monat\",9))","v":-4.6402763592736748E-2}]
[{"$f":"IF($D$5=\"\",\"\",GETPIVOTDATA(\"Summe von Netzkontosaldo 0 [kWh]\",$A$3,\"Monat\",10)/GETPIVOTDATA(\"Summe von SLP-Allokation [kWh]\",$A$3,\"Monat\",10))","v":0.11031710660661827},{"$f":"IF($E$5=0,\"\",GETPIVOTDATA(\"Summe von Als-Ob-Allokation 03 vs. Restlast [kWh]\",$A$3,\"Monat\",10)/GETPIVOTDATA(\"Summe von Als-Ob Allokation Basis Ist-Temperatur mit KW 03 [kWh]\",$A$3,\"Monat\",10))","v":7.2660288852350249E-2},{"$f":"IF($G$5=0,\"\",GETPIVOTDATA(\"Summe von Als-Ob-Allokation 04 vs. Restlast [kWh]\",$A$3,\"Monat\",10)/GETPIVOTDATA(\"Summe von Als-Ob Allokation Basis Ist-Temperatur mit KW 04 [kWh]\",$A$3,\"Monat\",10))","v":8.9341605415025338E-2}]
[{"$f":"IF($D$5=\"\",\"\",GETPIVOTDATA(\"Summe von Netzkontosaldo 0 [kWh]\",$A$3,\"Monat\",11)/GETPIVOTDATA(\"Summe von SLP-Allokation [kWh]\",$A$3,\"Monat\",11))","v":0.11660055943237166},{"$f":"IF($E$5=0,\"\",GETPIVOTDATA(\"Summe von Als-Ob-Allokation 03 vs. Restlast [kWh]\",$A$3,\"Monat\",11)/GETPIVOTDATA(\"Summe von Als-Ob Allokation Basis Ist-Temperatur mit KW 03 [kWh]\",$A$3,\"Monat\",11))","v":0.10280846116510257},{"$f":"IF($G$5=0,\"\",GETPIVOTDATA(\"Summe von Als-Ob-Allokation 04 vs. Restlast [kWh]\",$A$3,\"Monat\",11)/GETPIVOTDATA(\"Summe von Als-Ob Allokation Basis Ist-Temperatur mit KW 04 [kWh]\",$A$3,\"Monat\",11))","v":9.0013595460882667E-2}]
[{"$f":"IF($D$5=\"\",\"\",GETPIVOTDATA(\"Summe von Netzkontosaldo 0 [kWh]\",$A$3,\"Monat\",12)/GETPIVOTDATA(\"Summe von SLP-Allokation [kWh]\",$A$3,\"Monat\",12))","v":0.24158899450100332},{"$f":"IF($E$5=0,\"\",GETPIVOTDATA(\"Summe von Als-Ob-Allokation 03 vs. Restlast [kWh]\",$A$3,\"Monat\",12)/GETPIVOTDATA(\"Summe von Als-Ob Allokation Basis Ist-Temperatur mit KW 03 [kWh]\",$A$3,\"Monat\",12))","v":0.25544672116456624},{"$f":"IF($G$5=0,\"\",GETPIVOTDATA(\"Summe von Als-Ob-Allokation 04 vs. Restlast [kWh]\",$A$3,\"Monat\",12)/GETPIVOTDATA(\"Summe von Als-Ob Allokation Basis Ist-Temperatur mit KW 04 [kWh]\",$A$3,\"Monat\",12))","v":0.21340257152773803}]

{"sheet":"Als-Ob-Allokation KW03","index":13,"n_rows":367,"n_cols":4,"rows_kept":367,"cut":false,"hidden":false,"merged":[]}
["Datum","Temperatur",null,"Summe Tagesmengen Abfragezeitraum"]
[{"$f":"IF(Tageswerte!A2<>0,Tageswerte!A2,\"\")","v":"2012-01-01"},{"$f":"IF(Tageswerte!M2<>\"\",Tageswerte!M2,\"\")","v":10.199999999999999},null,{"$f":"SUM('Tagesmengenallokation 03'!C2:C1000)","v":1987483736.4933481}]
[{"$f":"IF(Tageswerte!A3<>0,Tageswerte!A3,\"\")","v":"2012-01-02"},{"$f":"IF(Tageswerte!M3<>\"\",Tageswerte!M3,\"\")","v":9}]
[{"$f":"IF(Tageswerte!A4<>0,Tageswerte!A4,\"\")","v":"2012-01-03"},{"$f":"IF(Tageswerte!M4<>\"\",Tageswerte!M4,\"\")","v":5.9}]
[{"$f":"IF(Tageswerte!A5<>0,Tageswerte!A5,\"\")","v":"2012-01-04"},{"$f":"IF(Tageswerte!M5<>\"\",Tageswerte!M5,\"\")","v":5.5}]
[{"$f":"IF(Tageswerte!A6<>0,Tageswerte!A6,\"\")","v":"2012-01-05"},{"$f":"IF(Tageswerte!M6<>\"\",Tageswerte!M6,\"\")","v":4.5}]
[{"$f":"IF(Tageswerte!A7<>0,Tageswerte!A7,\"\")","v":"2012-01-06"},{"$f":"IF(Tageswerte!M7<>\"\",Tageswerte!M7,\"\")","v":2.9}]
[{"$f":"IF(Tageswerte!A8<>0,Tageswerte!A8,\"\")","v":"2012-01-07"},{"$f":"IF(Tageswerte!M8<>\"\",Tageswerte!M8,\"\")","v":3.7}]
[{"$f":"IF(Tageswerte!A9<>0,Tageswerte!A9,\"\")","v":"2012-01-08"},{"$f":"IF(Tageswerte!M9<>\"\",Tageswerte!M9,\"\")","v":3.9}]
[{"$f":"IF(Tageswerte!A10<>0,Tageswerte!A10,\"\")","v":"2012-01-09"},{"$f":"IF(Tageswerte!M10<>\"\",Tageswerte!M10,\"\")","v":4.2}]
[{"$f":"IF(Tageswerte!A11<>0,Tageswerte!A11,\"\")","v":"2012-01-10"},{"$f":"IF(Tageswerte!M11<>\"\",Tageswerte!M11,\"\")","v":4.8}]
[{"$f":"IF(Tageswerte!A12<>0,Tageswerte!A12,\"\")","v":"2012-01-11"},{"$f":"IF(Tageswerte!M12<>\"\",Tageswerte!M12,\"\")","v":2.5}]
[{"$f":"IF(Tageswerte!A13<>0,Tageswerte!A13,\"\")","v":"2012-01-12"},{"$f":"IF(Tageswerte!M13<>\"\",Tageswerte!M13,\"\")","v":3.5}]
[{"$f":"IF(Tageswerte!A14<>0,Tageswerte!A14,\"\")","v":"2012-01-13"},{"$f":"IF(Tageswerte!M14<>\"\",Tageswerte!M14,\"\")","v":2.6}]
[{"$f":"IF(Tageswerte!A15<>0,Tageswerte!A15,\"\")","v":"2012-01-14"},{"$f":"IF(Tageswerte!M15<>\"\",Tageswerte!M15,\"\")","v":0.8}]
[{"$f":"IF(Tageswerte!A16<>0,Tageswerte!A16,\"\")","v":"2012-01-15"},{"$f":"IF(Tageswerte!M16<>\"\",Tageswerte!M16,\"\")","v":-1.8}]
[{"$f":"IF(Tageswerte!A17<>0,Tageswerte!A17,\"\")","v":"2012-01-16"},{"$f":"IF(Tageswerte!M17<>\"\",Tageswerte!M17,\"\")","v":-2.6}]
[{"$f":"IF(Tageswerte!A18<>0,Tageswerte!A18,\"\")","v":"2012-01-17"},{"$f":"IF(Tageswerte!M18<>\"\",Tageswerte!M18,\"\")","v":-3}]
[{"$f":"IF(Tageswerte!A19<>0,Tageswerte!A19,\"\")","v":"2012-01-18"},{"$f":"IF(Tageswerte!M19<>\"\",Tageswerte!M19,\"\")","v":-1.4}]
[{"$f":"IF(Tageswerte!A20<>0,Tageswerte!A20,\"\")","v":"2012-01-19"},{"$f":"IF(Tageswerte!M20<>\"\",Tageswerte!M20,\"\")","v":6.5}]
[{"$f":"IF(Tageswerte!A21<>0,Tageswerte!A21,\"\")","v":"2012-01-20"},{"$f":"IF(Tageswerte!M21<>\"\",Tageswerte!M21,\"\")","v":3.2}]
[{"$f":"IF(Tageswerte!A22<>0,Tageswerte!A22,\"\")","v":"2012-01-21"},{"$f":"IF(Tageswerte!M22<>\"\",Tageswerte!M22,\"\")","v":4.5}]
[{"$f":"IF(Tageswerte!A23<>0,Tageswerte!A23,\"\")","v":"2012-01-22"},{"$f":"IF(Tageswerte!M23<>\"\",Tageswerte!M23,\"\")","v":5.2}]
[{"$f":"IF(Tageswerte!A24<>0,Tageswerte!A24,\"\")","v":"2012-01-23"},{"$f":"IF(Tageswerte!M24<>\"\",Tageswerte!M24,\"\")","v":4.2}]
[{"$f":"IF(Tageswerte!A25<>0,Tageswerte!A25,\"\")","v":"2012-01-24"},{"$f":"IF(Tageswerte!M25<>\"\",Tageswerte!M25,\"\")","v":1.9}]
[{"$f":"IF(Tageswerte!A26<>0,Tageswerte!A26,\"\")","v":"2012-01-25"},{"$f":"IF(Tageswerte!M26<>\"\",Tageswerte!M26,\"\")","v":-0.3}]
[{"$f":"IF(Tageswerte!A27<>0,Tageswerte!A27,\"\")","v":"2012-01-26"},{"$f":"IF(Tageswerte!M27<>\"\",Tageswerte!M27,\"\")","v":-0.4}]
[{"$f":"IF(Tageswerte!A28<>0,Tageswerte!A28,\"\")","v":"2012-01-27"},{"$f":"IF(Tageswerte!M28<>\"\",Tageswerte!M28,\"\")","v":1.5}]
[{"$f":"IF(Tageswerte!A29<>0,Tageswerte!A29,\"\")","v":"2012-01-28"},{"$f":"IF(Tageswerte!M29<>\"\",Tageswerte!M29,\"\")","v":1.7}]
[{"$f":"IF(Tageswerte!A30<>0,Tageswerte!A30,\"\")","v":"2012-01-29"},{"$f":"IF(Tageswerte!M30<>\"\",Tageswerte!M30,\"\")","v":-0.6}]
[{"$f":"IF(Tageswerte!A31<>0,Tageswerte!A31,\"\")","v":"2012-01-30"},{"$f":"IF(Tageswerte!M31<>\"\",Tageswerte!M31,\"\")","v":-1.3}]
[{"$f":"IF(Tageswerte!A32<>0,Tageswerte!A32,\"\")","v":"2012-01-31"},{"$f":"IF(Tageswerte!M32<>\"\",Tageswerte!M32,\"\")","v":-3.2}]
[{"$f":"IF(Tageswerte!A33<>0,Tageswerte!A33,\"\")","v":"2012-02-01"},{"$f":"IF(Tageswerte!M33<>\"\",Tageswerte!M33,\"\")","v":-6.2}]
[{"$f":"IF(Tageswerte!A34<>0,Tageswerte!A34,\"\")","v":"2012-02-02"},{"$f":"IF(Tageswerte!M34<>\"\",Tageswerte!M34,\"\")","v":-8.5}]
[{"$f":"IF(Tageswerte!A35<>0,Tageswerte!A35,\"\")","v":"2012-02-03"},{"$f":"IF(Tageswerte!M35<>\"\",Tageswerte!M35,\"\")","v":-11}]
[{"$f":"IF(Tageswerte!A36<>0,Tageswerte!A36,\"\")","v":"2012-02-04"},{"$f":"IF(Tageswerte!M36<>\"\",Tageswerte!M36,\"\")","v":-11.5}]
[{"$f":"IF(Tageswerte!A37<>0,Tageswerte!A37,\"\")","v":"2012-02-05"},{"$f":"IF(Tageswerte!M37<>\"\",Tageswerte!M37,\"\")","v":-11.9}]
[{"$f":"IF(Tageswerte!A38<>0,Tageswerte!A38,\"\")","v":"2012-02-06"},{"$f":"IF(Tageswerte!M38<>\"\",Tageswerte!M38,\"\")","v":-12.3}]
[{"$f":"IF(Tageswerte!A39<>0,Tageswerte!A39,\"\")","v":"2012-02-07"},{"$f":"IF(Tageswerte!M39<>\"\",Tageswerte!M39,\"\")","v":-12.4}]
[{"$f":"IF(Tageswerte!A40<>0,Tageswerte!A40,\"\")","v":"2012-02-08"},{"$f":"IF(Tageswerte!M40<>\"\",Tageswerte!M40,\"\")","v":-8}]
[{"$f":"IF(Tageswerte!A41<>0,Tageswerte!A41,\"\")","v":"2012-02-09"},{"$f":"IF(Tageswerte!M41<>\"\",Tageswerte!M41,\"\")","v":-9.6999999999999993}]
[{"$f":"IF(Tageswerte!A42<>0,Tageswerte!A42,\"\")","v":"2012-02-10"},{"$f":"IF(Tageswerte!M42<>\"\",Tageswerte!M42,\"\")","v":-8.9}]
[{"$f":"IF(Tageswerte!A43<>0,Tageswerte!A43,\"\")","v":"2012-02-11"},{"$f":"IF(Tageswerte!M43<>\"\",Tageswerte!M43,\"\")","v":-10.7}]
[{"$f":"IF(Tageswerte!A44<>0,Tageswerte!A44,\"\")","v":"2012-02-12"},{"$f":"IF(Tageswerte!M44<>\"\",Tageswerte!M44,\"\")","v":-11}]
[{"$f":"IF(Tageswerte!A45<>0,Tageswerte!A45,\"\")","v":"2012-02-13"},{"$f":"IF(Tageswerte!M45<>\"\",Tageswerte!M45,\"\")","v":-6.5}]
[{"$f":"IF(Tageswerte!A46<>0,Tageswerte!A46,\"\")","v":"2012-02-14"},{"$f":"IF(Tageswerte!M46<>\"\",Tageswerte!M46,\"\")","v":-1.2}]
[{"$f":"IF(Tageswerte!A47<>0,Tageswerte!A47,\"\")","v":"2012-02-15"},{"$f":"IF(Tageswerte!M47<>\"\",Tageswerte!M47,\"\")","v":1.5}]
[{"$f":"IF(Tageswerte!A48<>0,Tageswerte!A48,\"\")","v":"2012-02-16"},{"$f":"IF(Tageswerte!M48<>\"\",Tageswerte!M48,\"\")","v":2}]
[{"$f":"IF(Tageswerte!A49<>0,Tageswerte!A49,\"\")","v":"2012-02-17"},{"$f":"IF(Tageswerte!M49<>\"\",Tageswerte!M49,\"\")","v":3.2}]
[{"$f":"IF(Tageswerte!A50<>0,Tageswerte!A50,\"\")","v":"2012-02-18"},{"$f":"IF(Tageswerte!M50<>\"\",Tageswerte!M50,\"\")","v":5.2}]
[{"$f":"IF(Tageswerte!A51<>0,Tageswerte!A51,\"\")","v":"2012-02-19"},{"$f":"IF(Tageswerte!M51<>\"\",Tageswerte!M51,\"\")","v":2.5}]
[{"$f":"IF(Tageswerte!A52<>0,Tageswerte!A52,\"\")","v":"2012-02-20"},{"$f":"IF(Tageswerte!M52<>\"\",Tageswerte!M52,\"\")","v":0.4}]
[{"$f":"IF(Tageswerte!A53<>0,Tageswerte!A53,\"\")","v":"2012-02-21"},{"$f":"IF(Tageswerte!M53<>\"\",Tageswerte!M53,\"\")","v":-0.6}]
[{"$f":"IF(Tageswerte!A54<>0,Tageswerte!A54,\"\")","v":"2012-02-22"},{"$f":"IF(Tageswerte!M54<>\"\",Tageswerte!M54,\"\")","v":1.4}]
[{"$f":"IF(Tageswerte!A55<>0,Tageswerte!A55,\"\")","v":"2012-02-23"},{"$f":"IF(Tageswerte!M55<>\"\",Tageswerte!M55,\"\")","v":5.4}]
[{"$f":"IF(Tageswerte!A56<>0,Tageswerte!A56,\"\")","v":"2012-02-24"},{"$f":"IF(Tageswerte!M56<>\"\",Tageswerte!M56,\"\")","v":7.9}]
[{"$f":"IF(Tageswerte!A57<>0,Tageswerte!A57,\"\")","v":"2012-02-25"},{"$f":"IF(Tageswerte!M57<>\"\",Tageswerte!M57,\"\")","v":7.4}]
[{"$f":"IF(Tageswerte!A58<>0,Tageswerte!A58,\"\")","v":"2012-02-26"},{"$f":"IF(Tageswerte!M58<>\"\",Tageswerte!M58,\"\")","v":4.9000000000000004}]
[{"$f":"IF(Tageswerte!A59<>0,Tageswerte!A59,\"\")","v":"2012-02-27"},{"$f":"IF(Tageswerte!M59<>\"\",Tageswerte!M59,\"\")","v":4.2}]
[{"$f":"IF(Tageswerte!A60<>0,Tageswerte!A60,\"\")","v":"2012-02-28"},{"$f":"IF(Tageswerte!M60<>\"\",Tageswerte!M60,\"\")","v":6.2}]
[{"$f":"IF(Tageswerte!A61<>0,Tageswerte!A61,\"\")","v":"2012-02-29"},{"$f":"IF(Tageswerte!M61<>\"\",Tageswerte!M61,\"\")","v":7.3}]
[{"$f":"IF(Tageswerte!A62<>0,Tageswerte!A62,\"\")","v":"2012-03-01"},{"$f":"IF(Tageswerte!M62<>\"\",Tageswerte!M62,\"\")","v":7.7}]
[{"$f":"IF(Tageswerte!A63<>0,Tageswerte!A63,\"\")","v":"2012-03-02"},{"$f":"IF(Tageswerte!M63<>\"\",Tageswerte!M63,\"\")","v":6.4}]
[{"$f":"IF(Tageswerte!A64<>0,Tageswerte!A64,\"\")","v":"2012-03-03"},{"$f":"IF(Tageswerte!M64<>\"\",Tageswerte!M64,\"\")","v":7.8}]
[{"$f":"IF(Tageswerte!A65<>0,Tageswerte!A65,\"\")","v":"2012-03-04"},{"$f":"IF(Tageswerte!M65<>\"\",Tageswerte!M65,\"\")","v":6.9}]
[{"$f":"IF(Tageswerte!A66<>0,Tageswerte!A66,\"\")","v":"2012-03-05"},{"$f":"IF(Tageswerte!M66<>\"\",Tageswerte!M66,\"\")","v":3.8}]
[{"$f":"IF(Tageswerte!A67<>0,Tageswerte!A67,\"\")","v":"2012-03-06"},{"$f":"IF(Tageswerte!M67<>\"\",Tageswerte!M67,\"\")","v":3.2}]
[{"$f":"IF(Tageswerte!A68<>0,Tageswerte!A68,\"\")","v":"2012-03-07"},{"$f":"IF(Tageswerte!M68<>\"\",Tageswerte!M68,\"\")","v":4.5999999999999996}]
[{"$f":"IF(Tageswerte!A69<>0,Tageswerte!A69,\"\")","v":"2012-03-08"},{"$f":"IF(Tageswerte!M69<>\"\",Tageswerte!M69,\"\")","v":4.2}]
[{"$f":"IF(Tageswerte!A70<>0,Tageswerte!A70,\"\")","v":"2012-03-09"},{"$f":"IF(Tageswerte!M70<>\"\",Tageswerte!M70,\"\")","v":3.2}]
[{"$f":"IF(Tageswerte!A71<>0,Tageswerte!A71,\"\")","v":"2012-03-10"},{"$f":"IF(Tageswerte!M71<>\"\",Tageswerte!M71,\"\")","v":5.2}]
[{"$f":"IF(Tageswerte!A72<>0,Tageswerte!A72,\"\")","v":"2012-03-11"},{"$f":"IF(Tageswerte!M72<>\"\",Tageswerte!M72,\"\")","v":7.4}]
[{"$f":"IF(Tageswerte!A73<>0,Tageswerte!A73,\"\")","v":"2012-03-12"},{"$f":"IF(Tageswerte!M73<>\"\",Tageswerte!M73,\"\")","v":8.1999999999999993}]
[{"$f":"IF(Tageswerte!A74<>0,Tageswerte!A74,\"\")","v":"2012-03-13"},{"$f":"IF(Tageswerte!M74<>\"\",Tageswerte!M74,\"\")","v":8.3000000000000007}]
[{"$f":"IF(Tageswerte!A75<>0,Tageswerte!A75,\"\")","v":"2012-03-14"},{"$f":"IF(Tageswerte!M75<>\"\",Tageswerte!M75,\"\")","v":7.5}]
[{"$f":"IF(Tageswerte!A76<>0,Tageswerte!A76,\"\")","v":"2012-03-15"},{"$f":"IF(Tageswerte!M76<>\"\",Tageswerte!M76,\"\")","v":7.8}]
[{"$f":"IF(Tageswerte!A77<>0,Tageswerte!A77,\"\")","v":"2012-03-16"},{"$f":"IF(Tageswerte!M77<>\"\",Tageswerte!M77,\"\")","v":10.9}]
[{"$f":"IF(Tageswerte!A78<>0,Tageswerte!A78,\"\")","v":"2012-03-17"},{"$f":"IF(Tageswerte!M78<>\"\",Tageswerte!M78,\"\")","v":11.2}]
[{"$f":"IF(Tageswerte!A79<>0,Tageswerte!A79,\"\")","v":"2012-03-18"},{"$f":"IF(Tageswerte!M79<>\"\",Tageswerte!M79,\"\")","v":7.4}]
[{"$f":"IF(Tageswerte!A80<>0,Tageswerte!A80,\"\")","v":"2012-03-19"},{"$f":"IF(Tageswerte!M80<>\"\",Tageswerte!M80,\"\")","v":6.7}]
[{"$f":"IF(Tageswerte!A81<>0,Tageswerte!A81,\"\")","v":"2012-03-20"},{"$f":"IF(Tageswerte!M81<>\"\",Tageswerte!M81,\"\")","v":6.3}]
[{"$f":"IF(Tageswerte!A82<>0,Tageswerte!A82,\"\")","v":"2012-03-21"},{"$f":"IF(Tageswerte!M82<>\"\",Tageswerte!M82,\"\")","v":8.1}]
[{"$f":"IF(Tageswerte!A83<>0,Tageswerte!A83,\"\")","v":"2012-03-22"},{"$f":"IF(Tageswerte!M83<>\"\",Tageswerte!M83,\"\")","v":10.6}]
[{"$f":"IF(Tageswerte!A84<>0,Tageswerte!A84,\"\")","v":"2012-03-23"},{"$f":"IF(Tageswerte!M84<>\"\",Tageswerte!M84,\"\")","v":11.1}]
[{"$f":"IF(Tageswerte!A85<>0,Tageswerte!A85,\"\")","v":"2012-03-24"},{"$f":"IF(Tageswerte!M85<>\"\",Tageswerte!M85,\"\")","v":10.6}]
[{"$f":"IF(Tageswerte!A86<>0,Tageswerte!A86,\"\")","v":"2012-03-25"},{"$f":"IF(Tageswerte!M86<>\"\",Tageswerte!M86,\"\")","v":11.4}]
[{"$f":"IF(Tageswerte!A87<>0,Tageswerte!A87,\"\")","v":"2012-03-26"},{"$f":"IF(Tageswerte!M87<>\"\",Tageswerte!M87,\"\")","v":11.2}]
[{"$f":"IF(Tageswerte!A88<>0,Tageswerte!A88,\"\")","v":"2012-03-27"},{"$f":"IF(Tageswerte!M88<>\"\",Tageswerte!M88,\"\")","v":10.6}]
[{"$f":"IF(Tageswerte!A89<>0,Tageswerte!A89,\"\")","v":"2012-03-28"},{"$f":"IF(Tageswerte!M89<>\"\",Tageswerte!M89,\"\")","v":11.9}]
[{"$f":"IF(Tageswerte!A90<>0,Tageswerte!A90,\"\")","v":"2012-03-29"},{"$f":"IF(Tageswerte!M90<>\"\",Tageswerte!M90,\"\")","v":10.9}]
[{"$f":"IF(Tageswerte!A91<>0,Tageswerte!A91,\"\")","v":"2012-03-30"},{"$f":"IF(Tageswerte!M91<>\"\",Tageswerte!M91,\"\")","v":9.6999999999999993}]
[{"$f":"IF(Tageswerte!A92<>0,Tageswerte!A92,\"\")","v":"2012-03-31"},{"$f":"IF(Tageswerte!M92<>\"\",Tageswerte!M92,\"\")","v":9}]
[{"$f":"IF(Tageswerte!A93<>0,Tageswerte!A93,\"\")","v":"2012-04-01"},{"$f":"IF(Tageswerte!M93<>\"\",Tageswerte!M93,\"\")","v":5.2}]
[{"$f":"IF(Tageswerte!A94<>0,Tageswerte!A94,\"\")","v":"2012-04-02"},{"$f":"IF(Tageswerte!M94<>\"\",Tageswerte!M94,\"\")","v":7.2}]
[{"$f":"IF(Tageswerte!A95<>0,Tageswerte!A95,\"\")","v":"2012-04-03"},{"$f":"IF(Tageswerte!M95<>\"\",Tageswerte!M95,\"\")","v":10.3}]
[{"$f":"IF(Tageswerte!A96<>0,Tageswerte!A96,\"\")","v":"2012-04-04"},{"$f":"IF(Tageswerte!M96<>\"\",Tageswerte!M96,\"\")","v":9.5}]
[{"$f":"IF(Tageswerte!A97<>0,Tageswerte!A97,\"\")","v":"2012-04-05"},{"$f":"IF(Tageswerte!M97<>\"\",Tageswerte!M97,\"\")","v":7.3}]
[{"$f":"IF(Tageswerte!A98<>0,Tageswerte!A98,\"\")","v":"2012-04-06"},{"$f":"IF(Tageswerte!M98<>\"\",Tageswerte!M98,\"\")","v":6.7}]
[{"$f":"IF(Tageswerte!A99<>0,Tageswerte!A99,\"\")","v":"2012-04-07"},{"$f":"IF(Tageswerte!M99<>\"\",Tageswerte!M99,\"\")","v":5.6}]
[{"$f":"IF(Tageswerte!A100<>0,Tageswerte!A100,\"\")","v":"2012-04-08"},{"$f":"IF(Tageswerte!M100<>\"\",Tageswerte!M100,\"\")","v":3.2}]
[{"$f":"IF(Tageswerte!A101<>0,Tageswerte!A101,\"\")","v":"2012-04-09"},{"$f":"IF(Tageswerte!M101<>\"\",Tageswerte!M101,\"\")","v":5.7}]
[{"$f":"IF(Tageswerte!A102<>0,Tageswerte!A102,\"\")","v":"2012-04-10"},{"$f":"IF(Tageswerte!M102<>\"\",Tageswerte!M102,\"\")","v":12.5}]
[{"$f":"IF(Tageswerte!A103<>0,Tageswerte!A103,\"\")","v":"2012-04-11"},{"$f":"IF(Tageswerte!M103<>\"\",Tageswerte!M103,\"\")","v":7.9}]
[{"$f":"IF(Tageswerte!A104<>0,Tageswerte!A104,\"\")","v":"2012-04-12"},{"$f":"IF(Tageswerte!M104<>\"\",Tageswerte!M104,\"\")","v":7.2}]
[{"$f":"IF(Tageswerte!A105<>0,Tageswerte!A105,\"\")","v":"2012-04-13"},{"$f":"IF(Tageswerte!M105<>\"\",Tageswerte!M105,\"\")","v":7.6}]
[{"$f":"IF(Tageswerte!A106<>0,Tageswerte!A106,\"\")","v":"2012-04-14"},{"$f":"IF(Tageswerte!M106<>\"\",Tageswerte!M106,\"\")","v":9.5}]
[{"$f":"IF(Tageswerte!A107<>0,Tageswerte!A107,\"\")","v":"2012-04-15"},{"$f":"IF(Tageswerte!M107<>\"\",Tageswerte!M107,\"\")","v":7.4}]
[{"$f":"IF(Tageswerte!A108<>0,Tageswerte!A108,\"\")","v":"2012-04-16"},{"$f":"IF(Tageswerte!M108<>\"\",Tageswerte!M108,\"\")","v":5.5}]
[{"$f":"IF(Tageswerte!A109<>0,Tageswerte!A109,\"\")","v":"2012-04-17"},{"$f":"IF(Tageswerte!M109<>\"\",Tageswerte!M109,\"\")","v":5.8}]
[{"$f":"IF(Tageswerte!A110<>0,Tageswerte!A110,\"\")","v":"2012-04-18"},{"$f":"IF(Tageswerte!M110<>\"\",Tageswerte!M110,\"\")","v":8.1}]
[{"$f":"IF(Tageswerte!A111<>0,Tageswerte!A111,\"\")","v":"2012-04-19"},{"$f":"IF(Tageswerte!M111<>\"\",Tageswerte!M111,\"\")","v":8.5}]
[{"$f":"IF(Tageswerte!A112<>0,Tageswerte!A112,\"\")","v":"2012-04-20"},{"$f":"IF(Tageswerte!M112<>\"\",Tageswerte!M112,\"\")","v":8.6}]
[{"$f":"IF(Tageswerte!A113<>0,Tageswerte!A113,\"\")","v":"2012-04-21"},{"$f":"IF(Tageswerte!M113<>\"\",Tageswerte!M113,\"\")","v":7.4}]
[{"$f":"IF(Tageswerte!A114<>0,Tageswerte!A114,\"\")","v":"2012-04-22"},{"$f":"IF(Tageswerte!M114<>\"\",Tageswerte!M114,\"\")","v":6.5}]
[{"$f":"IF(Tageswerte!A115<>0,Tageswerte!A115,\"\")","v":"2012-04-23"},{"$f":"IF(Tageswerte!M115<>\"\",Tageswerte!M115,\"\")","v":8.1999999999999993}]
[{"$f":"IF(Tageswerte!A116<>0,Tageswerte!A116,\"\")","v":"2012-04-24"},{"$f":"IF(Tageswerte!M116<>\"\",Tageswerte!M116,\"\")","v":8.3000000000000007}]
[{"$f":"IF(Tageswerte!A117<>0,Tageswerte!A117,\"\")","v":"2012-04-25"},{"$f":"IF(Tageswerte!M117<>\"\",Tageswerte!M117,\"\")","v":10.9}]
[{"$f":"IF(Tageswerte!A118<>0,Tageswerte!A118,\"\")","v":"2012-04-26"},{"$f":"IF(Tageswerte!M118<>\"\",Tageswerte!M118,\"\")","v":13}]
[{"$f":"IF(Tageswerte!A119<>0,Tageswerte!A119,\"\")","v":"2012-04-27"},{"$f":"IF(Tageswerte!M119<>\"\",Tageswerte!M119,\"\")","v":14.9}]
[{"$f":"IF(Tageswerte!A120<>0,Tageswerte!A120,\"\")","v":"2012-04-28"},{"$f":"IF(Tageswerte!M120<>\"\",Tageswerte!M120,\"\")","v":20.8}]
[{"$f":"IF(Tageswerte!A121<>0,Tageswerte!A121,\"\")","v":"2012-04-29"},{"$f":"IF(Tageswerte!M121<>\"\",Tageswerte!M121,\"\")","v":19}]
[{"$f":"IF(Tageswerte!A122<>0,Tageswerte!A122,\"\")","v":"2012-04-30"},{"$f":"IF(Tageswerte!M122<>\"\",Tageswerte!M122,\"\")","v":17.399999999999999}]
[{"$f":"IF(Tageswerte!A123<>0,Tageswerte!A123,\"\")","v":"2012-05-01"},{"$f":"IF(Tageswerte!M123<>\"\",Tageswerte!M123,\"\")","v":16.5}]
[{"$f":"IF(Tageswerte!A124<>0,Tageswerte!A124,\"\")","v":"2012-05-02"},{"$f":"IF(Tageswerte!M124<>\"\",Tageswerte!M124,\"\")","v":16.8}]
[{"$f":"IF(Tageswerte!A125<>0,Tageswerte!A125,\"\")","v":"2012-05-03"},{"$f":"IF(Tageswerte!M125<>\"\",Tageswerte!M125,\"\")","v":14}]
[{"$f":"IF(Tageswerte!A126<>0,Tageswerte!A126,\"\")","v":"2012-05-04"},{"$f":"IF(Tageswerte!M126<>\"\",Tageswerte!M126,\"\")","v":14.7}]
[{"$f":"IF(Tageswerte!A127<>0,Tageswerte!A127,\"\")","v":"2012-05-05"},{"$f":"IF(Tageswerte!M127<>\"\",Tageswerte!M127,\"\")","v":12.5}]
[{"$f":"IF(Tageswerte!A128<>0,Tageswerte!A128,\"\")","v":"2012-05-06"},{"$f":"IF(Tageswerte!M128<>\"\",Tageswerte!M128,\"\")","v":11.9}]
[{"$f":"IF(Tageswerte!A129<>0,Tageswerte!A129,\"\")","v":"2012-05-07"},{"$f":"IF(Tageswerte!M129<>\"\",Tageswerte!M129,\"\")","v":11.3}]
[{"$f":"IF(Tageswerte!A130<>0,Tageswerte!A130,\"\")","v":"2012-05-08"},{"$f":"IF(Tageswerte!M130<>\"\",Tageswerte!M130,\"\")","v":14.7}]
[{"$f":"IF(Tageswerte!A131<>0,Tageswerte!A131,\"\")","v":"2012-05-09"},{"$f":"IF(Tageswerte!M131<>\"\",Tageswerte!M131,\"\")","v":16.899999999999999}]
[{"$f":"IF(Tageswerte!A132<>0,Tageswerte!A132,\"\")","v":"2012-05-10"},{"$f":"IF(Tageswerte!M132<>\"\",Tageswerte!M132,\"\")","v":20.100000000000001}]
[{"$f":"IF(Tageswerte!A133<>0,Tageswerte!A133,\"\")","v":"2012-05-11"},{"$f":"IF(Tageswerte!M133<>\"\",Tageswerte!M133,\"\")","v":22.7}]
[{"$f":"IF(Tageswerte!A134<>0,Tageswerte!A134,\"\")","v":"2012-05-12"},{"$f":"IF(Tageswerte!M134<>\"\",Tageswerte!M134,\"\")","v":11.6}]
[{"$f":"IF(Tageswerte!A135<>0,Tageswerte!A135,\"\")","v":"2012-05-13"},{"$f":"IF(Tageswerte!M135<>\"\",Tageswerte!M135,\"\")","v":9.3000000000000007}]
[{"$f":"IF(Tageswerte!A136<>0,Tageswerte!A136,\"\")","v":"2012-05-14"},{"$f":"IF(Tageswerte!M136<>\"\",Tageswerte!M136,\"\")","v":10.3}]
[{"$f":"IF(Tageswerte!A137<>0,Tageswerte!A137,\"\")","v":"2012-05-15"},{"$f":"IF(Tageswerte!M137<>\"\",Tageswerte!M137,\"\")","v":8.9}]
[{"$f":"IF(Tageswerte!A138<>0,Tageswerte!A138,\"\")","v":"2012-05-16"},{"$f":"IF(Tageswerte!M138<>\"\",Tageswerte!M138,\"\")","v":6.4}]
[{"$f":"IF(Tageswerte!A139<>0,Tageswerte!A139,\"\")","v":"2012-05-17"},{"$f":"IF(Tageswerte!M139<>\"\",Tageswerte!M139,\"\")","v":9}]
[{"$f":"IF(Tageswerte!A140<>0,Tageswerte!A140,\"\")","v":"2012-05-18"},{"$f":"IF(Tageswerte!M140<>\"\",Tageswerte!M140,\"\")","v":13.5}]
[{"$f":"IF(Tageswerte!A141<>0,Tageswerte!A141,\"\")","v":"2012-05-19"},{"$f":"IF(Tageswerte!M141<>\"\",Tageswerte!M141,\"\")","v":17.100000000000001}]
[{"$f":"IF(Tageswerte!A142<>0,Tageswerte!A142,\"\")","v":"2012-05-20"},{"$f":"IF(Tageswerte!M142<>\"\",Tageswerte!M142,\"\")","v":18.3}]
[{"$f":"IF(Tageswerte!A143<>0,Tageswerte!A143,\"\")","v":"2012-05-21"},{"$f":"IF(Tageswerte!M143<>\"\",Tageswerte!M143,\"\")","v":17.899999999999999}]
[{"$f":"IF(Tageswerte!A144<>0,Tageswerte!A144,\"\")","v":"2012-05-22"},{"$f":"IF(Tageswerte!M144<>\"\",Tageswerte!M144,\"\")","v":18.100000000000001}]
[{"$f":"IF(Tageswerte!A145<>0,Tageswerte!A145,\"\")","v":"2012-05-23"},{"$f":"IF(Tageswerte!M145<>\"\",Tageswerte!M145,\"\")","v":18.7}]
[{"$f":"IF(Tageswerte!A146<>0,Tageswerte!A146,\"\")","v":"2012-05-24"},{"$f":"IF(Tageswerte!M146<>\"\",Tageswerte!M146,\"\")","v":20.2}]
[{"$f":"IF(Tageswerte!A147<>0,Tageswerte!A147,\"\")","v":"2012-05-25"},{"$f":"IF(Tageswerte!M147<>\"\",Tageswerte!M147,\"\")","v":18.2}]
[{"$f":"IF(Tageswerte!A148<>0,Tageswerte!A148,\"\")","v":"2012-05-26"},{"$f":"IF(Tageswerte!M148<>\"\",Tageswerte!M148,\"\")","v":17.2}]
[{"$f":"IF(Tageswerte!A149<>0,Tageswerte!A149,\"\")","v":"2012-05-27"},{"$f":"IF(Tageswerte!M149<>\"\",Tageswerte!M149,\"\")","v":15.4}]
[{"$f":"IF(Tageswerte!A150<>0,Tageswerte!A150,\"\")","v":"2012-05-28"},{"$f":"IF(Tageswerte!M150<>\"\",Tageswerte!M150,\"\")","v":17.600000000000001}]
[{"$f":"IF(Tageswerte!A151<>0,Tageswerte!A151,\"\")","v":"2012-05-29"},{"$f":"IF(Tageswerte!M151<>\"\",Tageswerte!M151,\"\")","v":19.5}]
[{"$f":"IF(Tageswerte!A152<>0,Tageswerte!A152,\"\")","v":"2012-05-30"},{"$f":"IF(Tageswerte!M152<>\"\",Tageswerte!M152,\"\")","v":18.600000000000001}]
[{"$f":"IF(Tageswerte!A153<>0,Tageswerte!A153,\"\")","v":"2012-05-31"},{"$f":"IF(Tageswerte!M153<>\"\",Tageswerte!M153,\"\")","v":18.3}]
[{"$f":"IF(Tageswerte!A154<>0,Tageswerte!A154,\"\")","v":"2012-06-01"},{"$f":"IF(Tageswerte!M154<>\"\",Tageswerte!M154,\"\")","v":16.8}]
[{"$f":"IF(Tageswerte!A155<>0,Tageswerte!A155,\"\")","v":"2012-06-02"},{"$f":"IF(Tageswerte!M155<>\"\",Tageswerte!M155,\"\")","v":17.100000000000001}]
[{"$f":"IF(Tageswerte!A156<>0,Tageswerte!A156,\"\")","v":"2012-06-03"},{"$f":"IF(Tageswerte!M156<>\"\",Tageswerte!M156,\"\")","v":15.8}]
[{"$f":"IF(Tageswerte!A157<>0,Tageswerte!A157,\"\")","v":"2012-06-04"},{"$f":"IF(Tageswerte!M157<>\"\",Tageswerte!M157,\"\")","v":14.2}]
[{"$f":"IF(Tageswerte!A158<>0,Tageswerte!A158,\"\")","v":"2012-06-05"},{"$f":"IF(Tageswerte!M158<>\"\",Tageswerte!M158,\"\")","v":10.9}]
[{"$f":"IF(Tageswerte!A159<>0,Tageswerte!A159,\"\")","v":"2012-06-06"},{"$f":"IF(Tageswerte!M159<>\"\",Tageswerte!M159,\"\")","v":13.8}]
[{"$f":"IF(Tageswerte!A160<>0,Tageswerte!A160,\"\")","v":"2012-06-07"},{"$f":"IF(Tageswerte!M160<>\"\",Tageswerte!M160,\"\")","v":17.899999999999999}]
[{"$f":"IF(Tageswerte!A161<>0,Tageswerte!A161,\"\")","v":"2012-06-08"},{"$f":"IF(Tageswerte!M161<>\"\",Tageswerte!M161,\"\")","v":16.600000000000001}]
[{"$f":"IF(Tageswerte!A162<>0,Tageswerte!A162,\"\")","v":"2012-06-09"},{"$f":"IF(Tageswerte!M162<>\"\",Tageswerte!M162,\"\")","v":16.2}]
[{"$f":"IF(Tageswerte!A163<>0,Tageswerte!A163,\"\")","v":"2012-06-10"},{"$f":"IF(Tageswerte!M163<>\"\",Tageswerte!M163,\"\")","v":13.8}]
[{"$f":"IF(Tageswerte!A164<>0,Tageswerte!A164,\"\")","v":"2012-06-11"},{"$f":"IF(Tageswerte!M164<>\"\",Tageswerte!M164,\"\")","v":14.3}]
[{"$f":"IF(Tageswerte!A165<>0,Tageswerte!A165,\"\")","v":"2012-06-12"},{"$f":"IF(Tageswerte!M165<>\"\",Tageswerte!M165,\"\")","v":12.3}]
[{"$f":"IF(Tageswerte!A166<>0,Tageswerte!A166,\"\")","v":"2012-06-13"},{"$f":"IF(Tageswerte!M166<>\"\",Tageswerte!M166,\"\")","v":13.7}]
[{"$f":"IF(Tageswerte!A167<>0,Tageswerte!A167,\"\")","v":"2012-06-14"},{"$f":"IF(Tageswerte!M167<>\"\",Tageswerte!M167,\"\")","v":14.7}]
[{"$f":"IF(Tageswerte!A168<>0,Tageswerte!A168,\"\")","v":"2012-06-15"},{"$f":"IF(Tageswerte!M168<>\"\",Tageswerte!M168,\"\")","v":18.7}]
[{"$f":"IF(Tageswerte!A169<>0,Tageswerte!A169,\"\")","v":"2012-06-16"},{"$f":"IF(Tageswerte!M169<>\"\",Tageswerte!M169,\"\")","v":20.7}]
[{"$f":"IF(Tageswerte!A170<>0,Tageswerte!A170,\"\")","v":"2012-06-17"},{"$f":"IF(Tageswerte!M170<>\"\",Tageswerte!M170,\"\")","v":17.899999999999999}]
[{"$f":"IF(Tageswerte!A171<>0,Tageswerte!A171,\"\")","v":"2012-06-18"},{"$f":"IF(Tageswerte!M171<>\"\",Tageswerte!M171,\"\")","v":22.1}]
[{"$f":"IF(Tageswerte!A172<>0,Tageswerte!A172,\"\")","v":"2012-06-19"},{"$f":"IF(Tageswerte!M172<>\"\",Tageswerte!M172,\"\")","v":21.5}]
[{"$f":"IF(Tageswerte!A173<>0,Tageswerte!A173,\"\")","v":"2012-06-20"},{"$f":"IF(Tageswerte!M173<>\"\",Tageswerte!M173,\"\")","v":19.5}]
[{"$f":"IF(Tageswerte!A174<>0,Tageswerte!A174,\"\")","v":"2012-06-21"},{"$f":"IF(Tageswerte!M174<>\"\",Tageswerte!M174,\"\")","v":20.2}]
[{"$f":"IF(Tageswerte!A175<>0,Tageswerte!A175,\"\")","v":"2012-06-22"},{"$f":"IF(Tageswerte!M175<>\"\",Tageswerte!M175,\"\")","v":17.899999999999999}]
[{"$f":"IF(Tageswerte!A176<>0,Tageswerte!A176,\"\")","v":"2012-06-23"},{"$f":"IF(Tageswerte!M176<>\"\",Tageswerte!M176,\"\")","v":17.8}]
[{"$f":"IF(Tageswerte!A177<>0,Tageswerte!A177,\"\")","v":"2012-06-24"},{"$f":"IF(Tageswerte!M177<>\"\",Tageswerte!M177,\"\")","v":17.899999999999999}]
[{"$f":"IF(Tageswerte!A178<>0,Tageswerte!A178,\"\")","v":"2012-06-25"},{"$f":"IF(Tageswerte!M178<>\"\",Tageswerte!M178,\"\")","v":15.6}]
[{"$f":"IF(Tageswerte!A179<>0,Tageswerte!A179,\"\")","v":"2012-06-26"},{"$f":"IF(Tageswerte!M179<>\"\",Tageswerte!M179,\"\")","v":17}]
[{"$f":"IF(Tageswerte!A180<>0,Tageswerte!A180,\"\")","v":"2012-06-27"},{"$f":"IF(Tageswerte!M180<>\"\",Tageswerte!M180,\"\")","v":19.899999999999999}]
[{"$f":"IF(Tageswerte!A181<>0,Tageswerte!A181,\"\")","v":"2012-06-28"},{"$f":"IF(Tageswerte!M181<>\"\",Tageswerte!M181,\"\")","v":22.2}]
[{"$f":"IF(Tageswerte!A182<>0,Tageswerte!A182,\"\")","v":"2012-06-29"},{"$f":"IF(Tageswerte!M182<>\"\",Tageswerte!M182,\"\")","v":24.3}]
[{"$f":"IF(Tageswerte!A183<>0,Tageswerte!A183,\"\")","v":"2012-06-30"},{"$f":"IF(Tageswerte!M183<>\"\",Tageswerte!M183,\"\")","v":24.1}]
[{"$f":"IF(Tageswerte!A184<>0,Tageswerte!A184,\"\")","v":"2012-07-01"},{"$f":"IF(Tageswerte!M184<>\"\",Tageswerte!M184,\"\")","v":16.899999999999999}]
[{"$f":"IF(Tageswerte!A185<>0,Tageswerte!A185,\"\")","v":"2012-07-02"},{"$f":"IF(Tageswerte!M185<>\"\",Tageswerte!M185,\"\")","v":16.8}]
[{"$f":"IF(Tageswerte!A186<>0,Tageswerte!A186,\"\")","v":"2012-07-03"},{"$f":"IF(Tageswerte!M186<>\"\",Tageswerte!M186,\"\")","v":17.7}]
[{"$f":"IF(Tageswerte!A187<>0,Tageswerte!A187,\"\")","v":"2012-07-04"},{"$f":"IF(Tageswerte!M187<>\"\",Tageswerte!M187,\"\")","v":20.9}]
[{"$f":"IF(Tageswerte!A188<>0,Tageswerte!A188,\"\")","v":"2012-07-05"},{"$f":"IF(Tageswerte!M188<>\"\",Tageswerte!M188,\"\")","v":21.9}]
[{"$f":"IF(Tageswerte!A189<>0,Tageswerte!A189,\"\")","v":"2012-07-06"},{"$f":"IF(Tageswerte!M189<>\"\",Tageswerte!M189,\"\")","v":18.399999999999999}]
[{"$f":"IF(Tageswerte!A190<>0,Tageswerte!A190,\"\")","v":"2012-07-07"},{"$f":"IF(Tageswerte!M190<>\"\",Tageswerte!M190,\"\")","v":19.7}]
[{"$f":"IF(Tageswerte!A191<>0,Tageswerte!A191,\"\")","v":"2012-07-08"},{"$f":"IF(Tageswerte!M191<>\"\",Tageswerte!M191,\"\")","v":19.100000000000001}]
[{"$f":"IF(Tageswerte!A192<>0,Tageswerte!A192,\"\")","v":"2012-07-09"},{"$f":"IF(Tageswerte!M192<>\"\",Tageswerte!M192,\"\")","v":19.7}]
[{"$f":"IF(Tageswerte!A193<>0,Tageswerte!A193,\"\")","v":"2012-07-10"},{"$f":"IF(Tageswerte!M193<>\"\",Tageswerte!M193,\"\")","v":19.7}]
[{"$f":"IF(Tageswerte!A194<>0,Tageswerte!A194,\"\")","v":"2012-07-11"},{"$f":"IF(Tageswerte!M194<>\"\",Tageswerte!M194,\"\")","v":17.7}]
[{"$f":"IF(Tageswerte!A195<>0,Tageswerte!A195,\"\")","v":"2012-07-12"},{"$f":"IF(Tageswerte!M195<>\"\",Tageswerte!M195,\"\")","v":15.5}]
[{"$f":"IF(Tageswerte!A196<>0,Tageswerte!A196,\"\")","v":"2012-07-13"},{"$f":"IF(Tageswerte!M196<>\"\",Tageswerte!M196,\"\")","v":15.7}]
[{"$f":"IF(Tageswerte!A197<>0,Tageswerte!A197,\"\")","v":"2012-07-14"},{"$f":"IF(Tageswerte!M197<>\"\",Tageswerte!M197,\"\")","v":17.5}]
[{"$f":"IF(Tageswerte!A198<>0,Tageswerte!A198,\"\")","v":"2012-07-15"},{"$f":"IF(Tageswerte!M198<>\"\",Tageswerte!M198,\"\")","v":14.3}]
[{"$f":"IF(Tageswerte!A199<>0,Tageswerte!A199,\"\")","v":"2012-07-16"},{"$f":"IF(Tageswerte!M199<>\"\",Tageswerte!M199,\"\")","v":15.2}]
[{"$f":"IF(Tageswerte!A200<>0,Tageswerte!A200,\"\")","v":"2012-07-17"},{"$f":"IF(Tageswerte!M200<>\"\",Tageswerte!M200,\"\")","v":17.7}]
[{"$f":"IF(Tageswerte!A201<>0,Tageswerte!A201,\"\")","v":"2012-07-18"},{"$f":"IF(Tageswerte!M201<>\"\",Tageswerte!M201,\"\")","v":21.1}]
[{"$f":"IF(Tageswerte!A202<>0,Tageswerte!A202,\"\")","v":"2012-07-19"},{"$f":"IF(Tageswerte!M202<>\"\",Tageswerte!M202,\"\")","v":19.100000000000001}]
[{"$f":"IF(Tageswerte!A203<>0,Tageswerte!A203,\"\")","v":"2012-07-20"},{"$f":"IF(Tageswerte!M203<>\"\",Tageswerte!M203,\"\")","v":14.8}]
[{"$f":"IF(Tageswerte!A204<>0,Tageswerte!A204,\"\")","v":"2012-07-21"},{"$f":"IF(Tageswerte!M204<>\"\",Tageswerte!M204,\"\")","v":13.7}]
[{"$f":"IF(Tageswerte!A205<>0,Tageswerte!A205,\"\")","v":"2012-07-22"},{"$f":"IF(Tageswerte!M205<>\"\",Tageswerte!M205,\"\")","v":14.4}]
[{"$f":"IF(Tageswerte!A206<>0,Tageswerte!A206,\"\")","v":"2012-07-23"},{"$f":"IF(Tageswerte!M206<>\"\",Tageswerte!M206,\"\")","v":17}]
[{"$f":"IF(Tageswerte!A207<>0,Tageswerte!A207,\"\")","v":"2012-07-24"},{"$f":"IF(Tageswerte!M207<>\"\",Tageswerte!M207,\"\")","v":21}]
[{"$f":"IF(Tageswerte!A208<>0,Tageswerte!A208,\"\")","v":"2012-07-25"},{"$f":"IF(Tageswerte!M208<>\"\",Tageswerte!M208,\"\")","v":23}]
[{"$f":"IF(Tageswerte!A209<>0,Tageswerte!A209,\"\")","v":"2012-07-26"},{"$f":"IF(Tageswerte!M209<>\"\",Tageswerte!M209,\"\")","v":24.8}]
[{"$f":"IF(Tageswerte!A210<>0,Tageswerte!A210,\"\")","v":"2012-07-27"},{"$f":"IF(Tageswerte!M210<>\"\",Tageswerte!M210,\"\")","v":25.2}]
[{"$f":"IF(Tageswerte!A211<>0,Tageswerte!A211,\"\")","v":"2012-07-28"},{"$f":"IF(Tageswerte!M211<>\"\",Tageswerte!M211,\"\")","v":21.4}]
[{"$f":"IF(Tageswerte!A212<>0,Tageswerte!A212,\"\")","v":"2012-07-29"},{"$f":"IF(Tageswerte!M212<>\"\",Tageswerte!M212,\"\")","v":17.8}]
[{"$f":"IF(Tageswerte!A213<>0,Tageswerte!A213,\"\")","v":"2012-07-30"},{"$f":"IF(Tageswerte!M213<>\"\",Tageswerte!M213,\"\")","v":17.2}]
[{"$f":"IF(Tageswerte!A214<>0,Tageswerte!A214,\"\")","v":"2012-07-31"},{"$f":"IF(Tageswerte!M214<>\"\",Tageswerte!M214,\"\")","v":18.399999999999999}]
[{"$f":"IF(Tageswerte!A215<>0,Tageswerte!A215,\"\")","v":"2012-08-01"},{"$f":"IF(Tageswerte!M215<>\"\",Tageswerte!M215,\"\")","v":22.3}]
[{"$f":"IF(Tageswerte!A216<>0,Tageswerte!A216,\"\")","v":"2012-08-02"},{"$f":"IF(Tageswerte!M216<>\"\",Tageswerte!M216,\"\")","v":22}]
[{"$f":"IF(Tageswerte!A217<>0,Tageswerte!A217,\"\")","v":"2012-08-03"},{"$f":"IF(Tageswerte!M217<>\"\",Tageswerte!M217,\"\")","v":21.2}]
[{"$f":"IF(Tageswerte!A218<>0,Tageswerte!A218,\"\")","v":"2012-08-04"},{"$f":"IF(Tageswerte!M218<>\"\",Tageswerte!M218,\"\")","v":20.6}]
[{"$f":"IF(Tageswerte!A219<>0,Tageswerte!A219,\"\")","v":"2012-08-05"},{"$f":"IF(Tageswerte!M219<>\"\",Tageswerte!M219,\"\")","v":21.3}]
[{"$f":"IF(Tageswerte!A220<>0,Tageswerte!A220,\"\")","v":"2012-08-06"},{"$f":"IF(Tageswerte!M220<>\"\",Tageswerte!M220,\"\")","v":17}]
[{"$f":"IF(Tageswerte!A221<>0,Tageswerte!A221,\"\")","v":"2012-08-07"},{"$f":"IF(Tageswerte!M221<>\"\",Tageswerte!M221,\"\")","v":17.5}]
[{"$f":"IF(Tageswerte!A222<>0,Tageswerte!A222,\"\")","v":"2012-08-08"},{"$f":"IF(Tageswerte!M222<>\"\",Tageswerte!M222,\"\")","v":17.5}]
[{"$f":"IF(Tageswerte!A223<>0,Tageswerte!A223,\"\")","v":"2012-08-09"},{"$f":"IF(Tageswerte!M223<>\"\",Tageswerte!M223,\"\")","v":18.2}]
[{"$f":"IF(Tageswerte!A224<>0,Tageswerte!A224,\"\")","v":"2012-08-10"},{"$f":"IF(Tageswerte!M224<>\"\",Tageswerte!M224,\"\")","v":18.8}]
[{"$f":"IF(Tageswerte!A225<>0,Tageswerte!A225,\"\")","v":"2012-08-11"},{"$f":"IF(Tageswerte!M225<>\"\",Tageswerte!M225,\"\")","v":17.2}]
[{"$f":"IF(Tageswerte!A226<>0,Tageswerte!A226,\"\")","v":"2012-08-12"},{"$f":"IF(Tageswerte!M226<>\"\",Tageswerte!M226,\"\")","v":18}]
[{"$f":"IF(Tageswerte!A227<>0,Tageswerte!A227,\"\")","v":"2012-08-13"},{"$f":"IF(Tageswerte!M227<>\"\",Tageswerte!M227,\"\")","v":20.2}]
[{"$f":"IF(Tageswerte!A228<>0,Tageswerte!A228,\"\")","v":"2012-08-14"},{"$f":"IF(Tageswerte!M228<>\"\",Tageswerte!M228,\"\")","v":21.6}]
[{"$f":"IF(Tageswerte!A229<>0,Tageswerte!A229,\"\")","v":"2012-08-15"},{"$f":"IF(Tageswerte!M229<>\"\",Tageswerte!M229,\"\")","v":24}]
[{"$f":"IF(Tageswerte!A230<>0,Tageswerte!A230,\"\")","v":"2012-08-16"},{"$f":"IF(Tageswerte!M230<>\"\",Tageswerte!M230,\"\")","v":18.899999999999999}]
[{"$f":"IF(Tageswerte!A231<>0,Tageswerte!A231,\"\")","v":"2012-08-17"},{"$f":"IF(Tageswerte!M231<>\"\",Tageswerte!M231,\"\")","v":20.2}]
[{"$f":"IF(Tageswerte!A232<>0,Tageswerte!A232,\"\")","v":"2012-08-18"},{"$f":"IF(Tageswerte!M232<>\"\",Tageswerte!M232,\"\")","v":23.4}]
[{"$f":"IF(Tageswerte!A233<>0,Tageswerte!A233,\"\")","v":"2012-08-19"},{"$f":"IF(Tageswerte!M233<>\"\",Tageswerte!M233,\"\")","v":25.7}]
[{"$f":"IF(Tageswerte!A234<>0,Tageswerte!A234,\"\")","v":"2012-08-20"},{"$f":"IF(Tageswerte!M234<>\"\",Tageswerte!M234,\"\")","v":26}]
[{"$f":"IF(Tageswerte!A235<>0,Tageswerte!A235,\"\")","v":"2012-08-21"},{"$f":"IF(Tageswerte!M235<>\"\",Tageswerte!M235,\"\")","v":26.3}]
[{"$f":"IF(Tageswerte!A236<>0,Tageswerte!A236,\"\")","v":"2012-08-22"},{"$f":"IF(Tageswerte!M236<>\"\",Tageswerte!M236,\"\")","v":23.7}]
[{"$f":"IF(Tageswerte!A237<>0,Tageswerte!A237,\"\")","v":"2012-08-23"},{"$f":"IF(Tageswerte!M237<>\"\",Tageswerte!M237,\"\")","v":21.2}]
[{"$f":"IF(Tageswerte!A238<>0,Tageswerte!A238,\"\")","v":"2012-08-24"},{"$f":"IF(Tageswerte!M238<>\"\",Tageswerte!M238,\"\")","v":19.600000000000001}]
[{"$f":"IF(Tageswerte!A239<>0,Tageswerte!A239,\"\")","v":"2012-08-25"},{"$f":"IF(Tageswerte!M239<>\"\",Tageswerte!M239,\"\")","v":20.2}]
[{"$f":"IF(Tageswerte!A240<>0,Tageswerte!A240,\"\")","v":"2012-08-26"},{"$f":"IF(Tageswerte!M240<>\"\",Tageswerte!M240,\"\")","v":16}]
[{"$f":"IF(Tageswerte!A241<>0,Tageswerte!A241,\"\")","v":"2012-08-27"},{"$f":"IF(Tageswerte!M241<>\"\",Tageswerte!M241,\"\")","v":16.8}]
[{"$f":"IF(Tageswerte!A242<>0,Tageswerte!A242,\"\")","v":"2012-08-28"},{"$f":"IF(Tageswerte!M242<>\"\",Tageswerte!M242,\"\")","v":19.100000000000001}]
[{"$f":"IF(Tageswerte!A243<>0,Tageswerte!A243,\"\")","v":"2012-08-29"},{"$f":"IF(Tageswerte!M243<>\"\",Tageswerte!M243,\"\")","v":21.7}]
[{"$f":"IF(Tageswerte!A244<>0,Tageswerte!A244,\"\")","v":"2012-08-30"},{"$f":"IF(Tageswerte!M244<>\"\",Tageswerte!M244,\"\")","v":18.100000000000001}]
[{"$f":"IF(Tageswerte!A245<>0,Tageswerte!A245,\"\")","v":"2012-08-31"},{"$f":"IF(Tageswerte!M245<>\"\",Tageswerte!M245,\"\")","v":14.6}]
[{"$f":"IF(Tageswerte!A246<>0,Tageswerte!A246,\"\")","v":"2012-09-01"},{"$f":"IF(Tageswerte!M246<>\"\",Tageswerte!M246,\"\")","v":14.1}]
[{"$f":"IF(Tageswerte!A247<>0,Tageswerte!A247,\"\")","v":"2012-09-02"},{"$f":"IF(Tageswerte!M247<>\"\",Tageswerte!M247,\"\")","v":15.6}]
[{"$f":"IF(Tageswerte!A248<>0,Tageswerte!A248,\"\")","v":"2012-09-03"},{"$f":"IF(Tageswerte!M248<>\"\",Tageswerte!M248,\"\")","v":18.8}]
[{"$f":"IF(Tageswerte!A249<>0,Tageswerte!A249,\"\")","v":"2012-09-04"},{"$f":"IF(Tageswerte!M249<>\"\",Tageswerte!M249,\"\")","v":18.8}]
[{"$f":"IF(Tageswerte!A250<>0,Tageswerte!A250,\"\")","v":"2012-09-05"},{"$f":"IF(Tageswerte!M250<>\"\",Tageswerte!M250,\"\")","v":18.2}]
[{"$f":"IF(Tageswerte!A251<>0,Tageswerte!A251,\"\")","v":"2012-09-06"},{"$f":"IF(Tageswerte!M251<>\"\",Tageswerte!M251,\"\")","v":16.2}]
[{"$f":"IF(Tageswerte!A252<>0,Tageswerte!A252,\"\")","v":"2012-09-07"},{"$f":"IF(Tageswerte!M252<>\"\",Tageswerte!M252,\"\")","v":15.9}]
[{"$f":"IF(Tageswerte!A253<>0,Tageswerte!A253,\"\")","v":"2012-09-08"},{"$f":"IF(Tageswerte!M253<>\"\",Tageswerte!M253,\"\")","v":17.8}]
[{"$f":"IF(Tageswerte!A254<>0,Tageswerte!A254,\"\")","v":"2012-09-09"},{"$f":"IF(Tageswerte!M254<>\"\",Tageswerte!M254,\"\")","v":19.600000000000001}]
[{"$f":"IF(Tageswerte!A255<>0,Tageswerte!A255,\"\")","v":"2012-09-10"},{"$f":"IF(Tageswerte!M255<>\"\",Tageswerte!M255,\"\")","v":21.6}]
[{"$f":"IF(Tageswerte!A256<>0,Tageswerte!A256,\"\")","v":"2012-09-11"},{"$f":"IF(Tageswerte!M256<>\"\",Tageswerte!M256,\"\")","v":18.5}]
[{"$f":"IF(Tageswerte!A257<>0,Tageswerte!A257,\"\")","v":"2012-09-12"},{"$f":"IF(Tageswerte!M257<>\"\",Tageswerte!M257,\"\")","v":12.3}]
[{"$f":"IF(Tageswerte!A258<>0,Tageswerte!A258,\"\")","v":"2012-09-13"},{"$f":"IF(Tageswerte!M258<>\"\",Tageswerte!M258,\"\")","v":11}]
[{"$f":"IF(Tageswerte!A259<>0,Tageswerte!A259,\"\")","v":"2012-09-14"},{"$f":"IF(Tageswerte!M259<>\"\",Tageswerte!M259,\"\")","v":12.4}]
[{"$f":"IF(Tageswerte!A260<>0,Tageswerte!A260,\"\")","v":"2012-09-15"},{"$f":"IF(Tageswerte!M260<>\"\",Tageswerte!M260,\"\")","v":13.6}]
[{"$f":"IF(Tageswerte!A261<>0,Tageswerte!A261,\"\")","v":"2012-09-16"},{"$f":"IF(Tageswerte!M261<>\"\",Tageswerte!M261,\"\")","v":13.8}]
[{"$f":"IF(Tageswerte!A262<>0,Tageswerte!A262,\"\")","v":"2012-09-17"},{"$f":"IF(Tageswerte!M262<>\"\",Tageswerte!M262,\"\")","v":16.2}]
[{"$f":"IF(Tageswerte!A263<>0,Tageswerte!A263,\"\")","v":"2012-09-18"},{"$f":"IF(Tageswerte!M263<>\"\",Tageswerte!M263,\"\")","v":16.899999999999999}]
[{"$f":"IF(Tageswerte!A264<>0,Tageswerte!A264,\"\")","v":"2012-09-19"},{"$f":"IF(Tageswerte!M264<>\"\",Tageswerte!M264,\"\")","v":11.8}]
[{"$f":"IF(Tageswerte!A265<>0,Tageswerte!A265,\"\")","v":"2012-09-20"},{"$f":"IF(Tageswerte!M265<>\"\",Tageswerte!M265,\"\")","v":9.8000000000000007}]
[{"$f":"IF(Tageswerte!A266<>0,Tageswerte!A266,\"\")","v":"2012-09-21"},{"$f":"IF(Tageswerte!M266<>\"\",Tageswerte!M266,\"\")","v":13.2}]
[{"$f":"IF(Tageswerte!A267<>0,Tageswerte!A267,\"\")","v":"2012-09-22"},{"$f":"IF(Tageswerte!M267<>\"\",Tageswerte!M267,\"\")","v":12.8}]
[{"$f":"IF(Tageswerte!A268<>0,Tageswerte!A268,\"\")","v":"2012-09-23"},{"$f":"IF(Tageswerte!M268<>\"\",Tageswerte!M268,\"\")","v":14.3}]
[{"$f":"IF(Tageswerte!A269<>0,Tageswerte!A269,\"\")","v":"2012-09-24"},{"$f":"IF(Tageswerte!M269<>\"\",Tageswerte!M269,\"\")","v":15.9}]
[{"$f":"IF(Tageswerte!A270<>0,Tageswerte!A270,\"\")","v":"2012-09-25"},{"$f":"IF(Tageswerte!M270<>\"\",Tageswerte!M270,\"\")","v":13.5}]
[{"$f":"IF(Tageswerte!A271<>0,Tageswerte!A271,\"\")","v":"2012-09-26"},{"$f":"IF(Tageswerte!M271<>\"\",Tageswerte!M271,\"\")","v":12.7}]
[{"$f":"IF(Tageswerte!A272<>0,Tageswerte!A272,\"\")","v":"2012-09-27"},{"$f":"IF(Tageswerte!M272<>\"\",Tageswerte!M272,\"\")","v":12.3}]
[{"$f":"IF(Tageswerte!A273<>0,Tageswerte!A273,\"\")","v":"2012-09-28"},{"$f":"IF(Tageswerte!M273<>\"\",Tageswerte!M273,\"\")","v":13}]
[{"$f":"IF(Tageswerte!A274<>0,Tageswerte!A274,\"\")","v":"2012-09-29"},{"$f":"IF(Tageswerte!M274<>\"\",Tageswerte!M274,\"\")","v":10.199999999999999}]
[{"$f":"IF(Tageswerte!A275<>0,Tageswerte!A275,\"\")","v":"2012-09-30"},{"$f":"IF(Tageswerte!M275<>\"\",Tageswerte!M275,\"\")","v":10.5}]
[{"$f":"IF(Tageswerte!A276<>0,Tageswerte!A276,\"\")","v":"2012-10-01"},{"$f":"IF(Tageswerte!M276<>\"\",Tageswerte!M276,\"\")","v":12.7}]
[{"$f":"IF(Tageswerte!A277<>0,Tageswerte!A277,\"\")","v":"2012-10-02"},{"$f":"IF(Tageswerte!M277<>\"\",Tageswerte!M277,\"\")","v":12.8}]
[{"$f":"IF(Tageswerte!A278<>0,Tageswerte!A278,\"\")","v":"2012-10-03"},{"$f":"IF(Tageswerte!M278<>\"\",Tageswerte!M278,\"\")","v":12.8}]
[{"$f":"IF(Tageswerte!A279<>0,Tageswerte!A279,\"\")","v":"2012-10-04"},{"$f":"IF(Tageswerte!M279<>\"\",Tageswerte!M279,\"\")","v":13}]
[{"$f":"IF(Tageswerte!A280<>0,Tageswerte!A280,\"\")","v":"2012-10-05"},{"$f":"IF(Tageswerte!M280<>\"\",Tageswerte!M280,\"\")","v":13.7}]
[{"$f":"IF(Tageswerte!A281<>0,Tageswerte!A281,\"\")","v":"2012-10-06"},{"$f":"IF(Tageswerte!M281<>\"\",Tageswerte!M281,\"\")","v":15.5}]
[{"$f":"IF(Tageswerte!A282<>0,Tageswerte!A282,\"\")","v":"2012-10-07"},{"$f":"IF(Tageswerte!M282<>\"\",Tageswerte!M282,\"\")","v":11.2}]
[{"$f":"IF(Tageswerte!A283<>0,Tageswerte!A283,\"\")","v":"2012-10-08"},{"$f":"IF(Tageswerte!M283<>\"\",Tageswerte!M283,\"\")","v":8}]
[{"$f":"IF(Tageswerte!A284<>0,Tageswerte!A284,\"\")","v":"2012-10-09"},{"$f":"IF(Tageswerte!M284<>\"\",Tageswerte!M284,\"\")","v":11.7}]
[{"$f":"IF(Tageswerte!A285<>0,Tageswerte!A285,\"\")","v":"2012-10-10"},{"$f":"IF(Tageswerte!M285<>\"\",Tageswerte!M285,\"\")","v":9.5}]
[{"$f":"IF(Tageswerte!A286<>0,Tageswerte!A286,\"\")","v":"2012-10-11"},{"$f":"IF(Tageswerte!M286<>\"\",Tageswerte!M286,\"\")","v":10.7}]
[{"$f":"IF(Tageswerte!A287<>0,Tageswerte!A287,\"\")","v":"2012-10-12"},{"$f":"IF(Tageswerte!M287<>\"\",Tageswerte!M287,\"\")","v":10.7}]
[{"$f":"IF(Tageswerte!A288<>0,Tageswerte!A288,\"\")","v":"2012-10-13"},{"$f":"IF(Tageswerte!M288<>\"\",Tageswerte!M288,\"\")","v":8.6}]
[{"$f":"IF(Tageswerte!A289<>0,Tageswerte!A289,\"\")","v":"2012-10-14"},{"$f":"IF(Tageswerte!M289<>\"\",Tageswerte!M289,\"\")","v":9.9}]
[{"$f":"IF(Tageswerte!A290<>0,Tageswerte!A290,\"\")","v":"2012-10-15"},{"$f":"IF(Tageswerte!M290<>\"\",Tageswerte!M290,\"\")","v":7.8}]
[{"$f":"IF(Tageswerte!A291<>0,Tageswerte!A291,\"\")","v":"2012-10-16"},{"$f":"IF(Tageswerte!M291<>\"\",Tageswerte!M291,\"\")","v":8.1999999999999993}]
[{"$f":"IF(Tageswerte!A292<>0,Tageswerte!A292,\"\")","v":"2012-10-17"},{"$f":"IF(Tageswerte!M292<>\"\",Tageswerte!M292,\"\")","v":12.2}]
[{"$f":"IF(Tageswerte!A293<>0,Tageswerte!A293,\"\")","v":"2012-10-18"},{"$f":"IF(Tageswerte!M293<>\"\",Tageswerte!M293,\"\")","v":11.8}]
[{"$f":"IF(Tageswerte!A294<>0,Tageswerte!A294,\"\")","v":"2012-10-19"},{"$f":"IF(Tageswerte!M294<>\"\",Tageswerte!M294,\"\")","v":13.7}]
[{"$f":"IF(Tageswerte!A295<>0,Tageswerte!A295,\"\")","v":"2012-10-20"},{"$f":"IF(Tageswerte!M295<>\"\",Tageswerte!M295,\"\")","v":13.2}]
[{"$f":"IF(Tageswerte!A296<>0,Tageswerte!A296,\"\")","v":"2012-10-21"},{"$f":"IF(Tageswerte!M296<>\"\",Tageswerte!M296,\"\")","v":11.9}]
[{"$f":"IF(Tageswerte!A297<>0,Tageswerte!A297,\"\")","v":"2012-10-22"},{"$f":"IF(Tageswerte!M297<>\"\",Tageswerte!M297,\"\")","v":10.4}]
[{"$f":"IF(Tageswerte!A298<>0,Tageswerte!A298,\"\")","v":"2012-10-23"},{"$f":"IF(Tageswerte!M298<>\"\",Tageswerte!M298,\"\")","v":8.1}]
[{"$f":"IF(Tageswerte!A299<>0,Tageswerte!A299,\"\")","v":"2012-10-24"},{"$f":"IF(Tageswerte!M299<>\"\",Tageswerte!M299,\"\")","v":8.6999999999999993}]
[{"$f":"IF(Tageswerte!A300<>0,Tageswerte!A300,\"\")","v":"2012-10-25"},{"$f":"IF(Tageswerte!M300<>\"\",Tageswerte!M300,\"\")","v":7.7}]
[{"$f":"IF(Tageswerte!A301<>0,Tageswerte!A301,\"\")","v":"2012-10-26"},{"$f":"IF(Tageswerte!M301<>\"\",Tageswerte!M301,\"\")","v":8}]
[{"$f":"IF(Tageswerte!A302<>0,Tageswerte!A302,\"\")","v":"2012-10-27"},{"$f":"IF(Tageswerte!M302<>\"\",Tageswerte!M302,\"\")","v":1.2}]
[{"$f":"IF(Tageswerte!A303<>0,Tageswerte!A303,\"\")","v":"2012-10-28"},{"$f":"IF(Tageswerte!M303<>\"\",Tageswerte!M303,\"\")","v":0.3}]
[{"$f":"IF(Tageswerte!A304<>0,Tageswerte!A304,\"\")","v":"2012-10-29"},{"$f":"IF(Tageswerte!M304<>\"\",Tageswerte!M304,\"\")","v":-0.2}]
[{"$f":"IF(Tageswerte!A305<>0,Tageswerte!A305,\"\")","v":"2012-10-30"},{"$f":"IF(Tageswerte!M305<>\"\",Tageswerte!M305,\"\")","v":4.4000000000000004}]
[{"$f":"IF(Tageswerte!A306<>0,Tageswerte!A306,\"\")","v":"2012-10-31"},{"$f":"IF(Tageswerte!M306<>\"\",Tageswerte!M306,\"\")","v":4.4000000000000004}]
[{"$f":"IF(Tageswerte!A307<>0,Tageswerte!A307,\"\")","v":"2012-11-01"},{"$f":"IF(Tageswerte!M307<>\"\",Tageswerte!M307,\"\")","v":8.1999999999999993}]
[{"$f":"IF(Tageswerte!A308<>0,Tageswerte!A308,\"\")","v":"2012-11-02"},{"$f":"IF(Tageswerte!M308<>\"\",Tageswerte!M308,\"\")","v":8}]
[{"$f":"IF(Tageswerte!A309<>0,Tageswerte!A309,\"\")","v":"2012-11-03"},{"$f":"IF(Tageswerte!M309<>\"\",Tageswerte!M309,\"\")","v":10.3}]
[{"$f":"IF(Tageswerte!A310<>0,Tageswerte!A310,\"\")","v":"2012-11-04"},{"$f":"IF(Tageswerte!M310<>\"\",Tageswerte!M310,\"\")","v":9}]
[{"$f":"IF(Tageswerte!A311<>0,Tageswerte!A311,\"\")","v":"2012-11-05"},{"$f":"IF(Tageswerte!M311<>\"\",Tageswerte!M311,\"\")","v":6.8}]
[{"$f":"IF(Tageswerte!A312<>0,Tageswerte!A312,\"\")","v":"2012-11-06"},{"$f":"IF(Tageswerte!M312<>\"\",Tageswerte!M312,\"\")","v":5.2}]
[{"$f":"IF(Tageswerte!A313<>0,Tageswerte!A313,\"\")","v":"2012-11-07"},{"$f":"IF(Tageswerte!M313<>\"\",Tageswerte!M313,\"\")","v":6.4}]
[{"$f":"IF(Tageswerte!A314<>0,Tageswerte!A314,\"\")","v":"2012-11-08"},{"$f":"IF(Tageswerte!M314<>\"\",Tageswerte!M314,\"\")","v":7.2}]
[{"$f":"IF(Tageswerte!A315<>0,Tageswerte!A315,\"\")","v":"2012-11-09"},{"$f":"IF(Tageswerte!M315<>\"\",Tageswerte!M315,\"\")","v":4.4000000000000004}]
[{"$f":"IF(Tageswerte!A316<>0,Tageswerte!A316,\"\")","v":"2012-11-10"},{"$f":"IF(Tageswerte!M316<>\"\",Tageswerte!M316,\"\")","v":8.9}]
[{"$f":"IF(Tageswerte!A317<>0,Tageswerte!A317,\"\")","v":"2012-11-11"},{"$f":"IF(Tageswerte!M317<>\"\",Tageswerte!M317,\"\")","v":8.6999999999999993}]
[{"$f":"IF(Tageswerte!A318<>0,Tageswerte!A318,\"\")","v":"2012-11-12"},{"$f":"IF(Tageswerte!M318<>\"\",Tageswerte!M318,\"\")","v":6.4}]
[{"$f":"IF(Tageswerte!A319<>0,Tageswerte!A319,\"\")","v":"2012-11-13"},{"$f":"IF(Tageswerte!M319<>\"\",Tageswerte!M319,\"\")","v":4.7}]
[{"$f":"IF(Tageswerte!A320<>0,Tageswerte!A320,\"\")","v":"2012-11-14"},{"$f":"IF(Tageswerte!M320<>\"\",Tageswerte!M320,\"\")","v":6.1}]
[{"$f":"IF(Tageswerte!A321<>0,Tageswerte!A321,\"\")","v":"2012-11-15"},{"$f":"IF(Tageswerte!M321<>\"\",Tageswerte!M321,\"\")","v":4.3}]
[{"$f":"IF(Tageswerte!A322<>0,Tageswerte!A322,\"\")","v":"2012-11-16"},{"$f":"IF(Tageswerte!M322<>\"\",Tageswerte!M322,\"\")","v":2.5}]
[{"$f":"IF(Tageswerte!A323<>0,Tageswerte!A323,\"\")","v":"2012-11-17"},{"$f":"IF(Tageswerte!M323<>\"\",Tageswerte!M323,\"\")","v":2.8}]
[{"$f":"IF(Tageswerte!A324<>0,Tageswerte!A324,\"\")","v":"2012-11-18"},{"$f":"IF(Tageswerte!M324<>\"\",Tageswerte!M324,\"\")","v":5.6}]
[{"$f":"IF(Tageswerte!A325<>0,Tageswerte!A325,\"\")","v":"2012-11-19"},{"$f":"IF(Tageswerte!M325<>\"\",Tageswerte!M325,\"\")","v":2.7}]
[{"$f":"IF(Tageswerte!A326<>0,Tageswerte!A326,\"\")","v":"2012-11-20"},{"$f":"IF(Tageswerte!M326<>\"\",Tageswerte!M326,\"\")","v":2.7}]
[{"$f":"IF(Tageswerte!A327<>0,Tageswerte!A327,\"\")","v":"2012-11-21"},{"$f":"IF(Tageswerte!M327<>\"\",Tageswerte!M327,\"\")","v":3.4}]
[{"$f":"IF(Tageswerte!A328<>0,Tageswerte!A328,\"\")","v":"2012-11-22"},{"$f":"IF(Tageswerte!M328<>\"\",Tageswerte!M328,\"\")","v":5.7}]
[{"$f":"IF(Tageswerte!A329<>0,Tageswerte!A329,\"\")","v":"2012-11-23"},{"$f":"IF(Tageswerte!M329<>\"\",Tageswerte!M329,\"\")","v":6.6}]
[{"$f":"IF(Tageswerte!A330<>0,Tageswerte!A330,\"\")","v":"2012-11-24"},{"$f":"IF(Tageswerte!M330<>\"\",Tageswerte!M330,\"\")","v":6.9}]
[{"$f":"IF(Tageswerte!A331<>0,Tageswerte!A331,\"\")","v":"2012-11-25"},{"$f":"IF(Tageswerte!M331<>\"\",Tageswerte!M331,\"\")","v":9.5}]
[{"$f":"IF(Tageswerte!A332<>0,Tageswerte!A332,\"\")","v":"2012-11-26"},{"$f":"IF(Tageswerte!M332<>\"\",Tageswerte!M332,\"\")","v":8.6}]
[{"$f":"IF(Tageswerte!A333<>0,Tageswerte!A333,\"\")","v":"2012-11-27"},{"$f":"IF(Tageswerte!M333<>\"\",Tageswerte!M333,\"\")","v":6.8}]
[{"$f":"IF(Tageswerte!A334<>0,Tageswerte!A334,\"\")","v":"2012-11-28"},{"$f":"IF(Tageswerte!M334<>\"\",Tageswerte!M334,\"\")","v":5.0999999999999996}]
[{"$f":"IF(Tageswerte!A335<>0,Tageswerte!A335,\"\")","v":"2012-11-29"},{"$f":"IF(Tageswerte!M335<>\"\",Tageswerte!M335,\"\")","v":2.1}]
[{"$f":"IF(Tageswerte!A336<>0,Tageswerte!A336,\"\")","v":"2012-11-30"},{"$f":"IF(Tageswerte!M336<>\"\",Tageswerte!M336,\"\")","v":0.8}]
[{"$f":"IF(Tageswerte!A337<>0,Tageswerte!A337,\"\")","v":"2012-12-01"},{"$f":"IF(Tageswerte!M337<>\"\",Tageswerte!M337,\"\")","v":-2.8}]
[{"$f":"IF(Tageswerte!A338<>0,Tageswerte!A338,\"\")","v":"2012-12-02"},{"$f":"IF(Tageswerte!M338<>\"\",Tageswerte!M338,\"\")","v":-0.5}]
[{"$f":"IF(Tageswerte!A339<>0,Tageswerte!A339,\"\")","v":"2012-12-03"},{"$f":"IF(Tageswerte!M339<>\"\",Tageswerte!M339,\"\")","v":1}]
[{"$f":"IF(Tageswerte!A340<>0,Tageswerte!A340,\"\")","v":"2012-12-04"},{"$f":"IF(Tageswerte!M340<>\"\",Tageswerte!M340,\"\")","v":2.9}]
[{"$f":"IF(Tageswerte!A341<>0,Tageswerte!A341,\"\")","v":"2012-12-05"},{"$f":"IF(Tageswerte!M341<>\"\",Tageswerte!M341,\"\")","v":1.8}]
[{"$f":"IF(Tageswerte!A342<>0,Tageswerte!A342,\"\")","v":"2012-12-06"},{"$f":"IF(Tageswerte!M342<>\"\",Tageswerte!M342,\"\")","v":-0.7}]
[{"$f":"IF(Tageswerte!A343<>0,Tageswerte!A343,\"\")","v":"2012-12-07"},{"$f":"IF(Tageswerte!M343<>\"\",Tageswerte!M343,\"\")","v":-3.2}]
[{"$f":"IF(Tageswerte!A344<>0,Tageswerte!A344,\"\")","v":"2012-12-08"},{"$f":"IF(Tageswerte!M344<>\"\",Tageswerte!M344,\"\")","v":-4.5}]
[{"$f":"IF(Tageswerte!A345<>0,Tageswerte!A345,\"\")","v":"2012-12-09"},{"$f":"IF(Tageswerte!M345<>\"\",Tageswerte!M345,\"\")","v":-4}]
[{"$f":"IF(Tageswerte!A346<>0,Tageswerte!A346,\"\")","v":"2012-12-10"},{"$f":"IF(Tageswerte!M346<>\"\",Tageswerte!M346,\"\")","v":1.1000000000000001}]
[{"$f":"IF(Tageswerte!A347<>0,Tageswerte!A347,\"\")","v":"2012-12-11"},{"$f":"IF(Tageswerte!M347<>\"\",Tageswerte!M347,\"\")","v":-1.8}]
[{"$f":"IF(Tageswerte!A348<>0,Tageswerte!A348,\"\")","v":"2012-12-12"},{"$f":"IF(Tageswerte!M348<>\"\",Tageswerte!M348,\"\")","v":-7.2}]
[{"$f":"IF(Tageswerte!A349<>0,Tageswerte!A349,\"\")","v":"2012-12-13"},{"$f":"IF(Tageswerte!M349<>\"\",Tageswerte!M349,\"\")","v":-6.7}]
[{"$f":"IF(Tageswerte!A350<>0,Tageswerte!A350,\"\")","v":"2012-12-14"},{"$f":"IF(Tageswerte!M350<>\"\",Tageswerte!M350,\"\")","v":1.7}]
[{"$f":"IF(Tageswerte!A351<>0,Tageswerte!A351,\"\")","v":"2012-12-15"},{"$f":"IF(Tageswerte!M351<>\"\",Tageswerte!M351,\"\")","v":5.9}]
[{"$f":"IF(Tageswerte!A352<>0,Tageswerte!A352,\"\")","v":"2012-12-16"},{"$f":"IF(Tageswerte!M352<>\"\",Tageswerte!M352,\"\")","v":6}]
[{"$f":"IF(Tageswerte!A353<>0,Tageswerte!A353,\"\")","v":"2012-12-17"},{"$f":"IF(Tageswerte!M353<>\"\",Tageswerte!M353,\"\")","v":5.5}]
[{"$f":"IF(Tageswerte!A354<>0,Tageswerte!A354,\"\")","v":"2012-12-18"},{"$f":"IF(Tageswerte!M354<>\"\",Tageswerte!M354,\"\")","v":4}]
[{"$f":"IF(Tageswerte!A355<>0,Tageswerte!A355,\"\")","v":"2012-12-19"},{"$f":"IF(Tageswerte!M355<>\"\",Tageswerte!M355,\"\")","v":2}]
[{"$f":"IF(Tageswerte!A356<>0,Tageswerte!A356,\"\")","v":"2012-12-20"},{"$f":"IF(Tageswerte!M356<>\"\",Tageswerte!M356,\"\")","v":-0.9}]
[{"$f":"IF(Tageswerte!A357<>0,Tageswerte!A357,\"\")","v":"2012-12-21"},{"$f":"IF(Tageswerte!M357<>\"\",Tageswerte!M357,\"\")","v":4.7}]
[{"$f":"IF(Tageswerte!A358<>0,Tageswerte!A358,\"\")","v":"2012-12-22"},{"$f":"IF(Tageswerte!M358<>\"\",Tageswerte!M358,\"\")","v":5}]
[{"$f":"IF(Tageswerte!A359<>0,Tageswerte!A359,\"\")","v":"2012-12-23"},{"$f":"IF(Tageswerte!M359<>\"\",Tageswerte!M359,\"\")","v":11.3}]
[{"$f":"IF(Tageswerte!A360<>0,Tageswerte!A360,\"\")","v":"2012-12-24"},{"$f":"IF(Tageswerte!M360<>\"\",Tageswerte!M360,\"\")","v":8.6}]
[{"$f":"IF(Tageswerte!A361<>0,Tageswerte!A361,\"\")","v":"2012-12-25"},{"$f":"IF(Tageswerte!M361<>\"\",Tageswerte!M361,\"\")","v":7.9}]
[{"$f":"IF(Tageswerte!A362<>0,Tageswerte!A362,\"\")","v":"2012-12-26"},{"$f":"IF(Tageswerte!M362<>\"\",Tageswerte!M362,\"\")","v":7.2}]
[{"$f":"IF(Tageswerte!A363<>0,Tageswerte!A363,\"\")","v":"2012-12-27"},{"$f":"IF(Tageswerte!M363<>\"\",Tageswerte!M363,\"\")","v":7.1}]
[{"$f":"IF(Tageswerte!A364<>0,Tageswerte!A364,\"\")","v":"2012-12-28"},{"$f":"IF(Tageswerte!M364<>\"\",Tageswerte!M364,\"\")","v":5.7}]
[{"$f":"IF(Tageswerte!A365<>0,Tageswerte!A365,\"\")","v":"2012-12-29"},{"$f":"IF(Tageswerte!M365<>\"\",Tageswerte!M365,\"\")","v":5.7}]
[{"$f":"IF(Tageswerte!A366<>0,Tageswerte!A366,\"\")","v":"2012-12-30"},{"$f":"IF(Tageswerte!M366<>\"\",Tageswerte!M366,\"\")","v":6.9}]
[{"$f":"IF(Tageswerte!A367<>0,Tageswerte!A367,\"\")","v":"2012-12-31"},{"$f":"IF(Tageswerte!M367<>\"\",Tageswerte!M367,\"\")","v":4.7}]

{"sheet":"Als-Ob-Allokation KW 04","index":14,"n_rows":367,"n_cols":4,"rows_kept":367,"cut":false,"hidden":false,"merged":[]}
["Datum","Temperatur",null,"Summe Tagesmengen Abfragezeitraum"]
[{"$f":"IF('Als-Ob-Allokation KW03'!A2<>\"\",'Als-Ob-Allokation KW03'!A2,\"\")","v":"2012-01-01"},{"$f":"IF('Als-Ob-Allokation KW03'!B2<>\"\",'Als-Ob-Allokation KW03'!B2,\"\")","v":10.199999999999999},null,{"$f":"SUM('Tagesmengenallokation 04'!C2:C1000)","v":1993432747.9722245}]
[{"$f":"IF('Als-Ob-Allokation KW03'!A3<>\"\",'Als-Ob-Allokation KW03'!A3,\"\")","v":"2012-01-02"},{"$f":"IF('Als-Ob-Allokation KW03'!B3<>\"\",'Als-Ob-Allokation KW03'!B3,\"\")","v":9}]
[{"$f":"IF('Als-Ob-Allokation KW03'!A4<>\"\",'Als-Ob-Allokation KW03'!A4,\"\")","v":"2012-01-03"},{"$f":"IF('Als-Ob-Allokation KW03'!B4<>\"\",'Als-Ob-Allokation KW03'!B4,\"\")","v":5.9}]
[{"$f":"IF('Als-Ob-Allokation KW03'!A5<>\"\",'Als-Ob-Allokation KW03'!A5,\"\")","v":"2012-01-04"},{"$f":"IF('Als-Ob-Allokation KW03'!B5<>\"\",'Als-Ob-Allokation KW03'!B5,\"\")","v":5.5}]
[{"$f":"IF('Als-Ob-Allokation KW03'!A6<>\"\",'Als-Ob-Allokation KW03'!A6,\"\")","v":"2012-01-05"},{"$f":"IF('Als-Ob-Allokation KW03'!B6<>\"\",'Als-Ob-Allokation KW03'!B6,\"\")","v":4.5}]
[{"$f":"IF('Als-Ob-Allokation KW03'!A7<>\"\",'Als-Ob-Allokation KW03'!A7,\"\")","v":"2012-01-06"},{"$f":"IF('Als-Ob-Allokation KW03'!B7<>\"\",'Als-Ob-Allokation KW03'!B7,\"\")","v":2.9}]
[{"$f":"IF('Als-Ob-Allokation KW03'!A8<>\"\",'Als-Ob-Allokation KW03'!A8,\"\")","v":"2012-01-07"},{"$f":"IF('Als-Ob-Allokation KW03'!B8<>\"\",'Als-Ob-Allokation KW03'!B8,\"\")","v":3.7}]
[{"$f":"IF('Als-Ob-Allokation KW03'!A9<>\"\",'Als-Ob-Allokation KW03'!A9,\"\")","v":"2012-01-08"},{"$f":"IF('Als-Ob-Allokation KW03'!B9<>\"\",'Als-Ob-Allokation KW03'!B9,\"\")","v":3.9}]
[{"$f":"IF('Als-Ob-Allokation KW03'!A10<>\"\",'Als-Ob-Allokation KW03'!A10,\"\")","v":"2012-01-09"},{"$f":"IF('Als-Ob-Allokation KW03'!B10<>\"\",'Als-Ob-Allokation KW03'!B10,\"\")","v":4.2}]
[{"$f":"IF('Als-Ob-Allokation KW03'!A11<>\"\",'Als-Ob-Allokation KW03'!A11,\"\")","v":"2012-01-10"},{"$f":"IF('Als-Ob-Allokation KW03'!B11<>\"\",'Als-Ob-Allokation KW03'!B11,\"\")","v":4.8}]
[{"$f":"IF('Als-Ob-Allokation KW03'!A12<>\"\",'Als-Ob-Allokation KW03'!A12,\"\")","v":"2012-01-11"},{"$f":"IF('Als-Ob-Allokation KW03'!B12<>\"\",'Als-Ob-Allokation KW03'!B12,\"\")","v":2.5}]
[{"$f":"IF('Als-Ob-Allokation KW03'!A13<>\"\",'Als-Ob-Allokation KW03'!A13,\"\")","v":"2012-01-12"},{"$f":"IF('Als-Ob-Allokation KW03'!B13<>\"\",'Als-Ob-Allokation KW03'!B13,\"\")","v":3.5}]
[{"$f":"IF('Als-Ob-Allokation KW03'!A14<>\"\",'Als-Ob-Allokation KW03'!A14,\"\")","v":"2012-01-13"},{"$f":"IF('Als-Ob-Allokation KW03'!B14<>\"\",'Als-Ob-Allokation KW03'!B14,\"\")","v":2.6}]
[{"$f":"IF('Als-Ob-Allokation KW03'!A15<>\"\",'Als-Ob-Allokation KW03'!A15,\"\")","v":"2012-01-14"},{"$f":"IF('Als-Ob-Allokation KW03'!B15<>\"\",'Als-Ob-Allokation KW03'!B15,\"\")","v":0.8}]
[{"$f":"IF('Als-Ob-Allokation KW03'!A16<>\"\",'Als-Ob-Allokation KW03'!A16,\"\")","v":"2012-01-15"},{"$f":"IF('Als-Ob-Allokation KW03'!B16<>\"\",'Als-Ob-Allokation KW03'!B16,\"\")","v":-1.8}]
[{"$f":"IF('Als-Ob-Allokation KW03'!A17<>\"\",'Als-Ob-Allokation KW03'!A17,\"\")","v":"2012-01-16"},{"$f":"IF('Als-Ob-Allokation KW03'!B17<>\"\",'Als-Ob-Allokation KW03'!B17,\"\")","v":-2.6}]
[{"$f":"IF('Als-Ob-Allokation KW03'!A18<>\"\",'Als-Ob-Allokation KW03'!A18,\"\")","v":"2012-01-17"},{"$f":"IF('Als-Ob-Allokation KW03'!B18<>\"\",'Als-Ob-Allokation KW03'!B18,\"\")","v":-3}]
[{"$f":"IF('Als-Ob-Allokation KW03'!A19<>\"\",'Als-Ob-Allokation KW03'!A19,\"\")","v":"2012-01-18"},{"$f":"IF('Als-Ob-Allokation KW03'!B19<>\"\",'Als-Ob-Allokation KW03'!B19,\"\")","v":-1.4}]
[{"$f":"IF('Als-Ob-Allokation KW03'!A20<>\"\",'Als-Ob-Allokation KW03'!A20,\"\")","v":"2012-01-19"},{"$f":"IF('Als-Ob-Allokation KW03'!B20<>\"\",'Als-Ob-Allokation KW03'!B20,\"\")","v":6.5}]
[{"$f":"IF('Als-Ob-Allokation KW03'!A21<>\"\",'Als-Ob-Allokation KW03'!A21,\"\")","v":"2012-01-20"},{"$f":"IF('Als-Ob-Allokation KW03'!B21<>\"\",'Als-Ob-Allokation KW03'!B21,\"\")","v":3.2}]
[{"$f":"IF('Als-Ob-Allokation KW03'!A22<>\"\",'Als-Ob-Allokation KW03'!A22,\"\")","v":"2012-01-21"},{"$f":"IF('Als-Ob-Allokation KW03'!B22<>\"\",'Als-Ob-Allokation KW03'!B22,\"\")","v":4.5}]
[{"$f":"IF('Als-Ob-Allokation KW03'!A23<>\"\",'Als-Ob-Allokation KW03'!A23,\"\")","v":"2012-01-22"},{"$f":"IF('Als-Ob-Allokation KW03'!B23<>\"\",'Als-Ob-Allokation KW03'!B23,\"\")","v":5.2}]
[{"$f":"IF('Als-Ob-Allokation KW03'!A24<>\"\",'Als-Ob-Allokation KW03'!A24,\"\")","v":"2012-01-23"},{"$f":"IF('Als-Ob-Allokation KW03'!B24<>\"\",'Als-Ob-Allokation KW03'!B24,\"\")","v":4.2}]
[{"$f":"IF('Als-Ob-Allokation KW03'!A25<>\"\",'Als-Ob-Allokation KW03'!A25,\"\")","v":"2012-01-24"},{"$f":"IF('Als-Ob-Allokation KW03'!B25<>\"\",'Als-Ob-Allokation KW03'!B25,\"\")","v":1.9}]
[{"$f":"IF('Als-Ob-Allokation KW03'!A26<>\"\",'Als-Ob-Allokation KW03'!A26,\"\")","v":"2012-01-25"},{"$f":"IF('Als-Ob-Allokation KW03'!B26<>\"\",'Als-Ob-Allokation KW03'!B26,\"\")","v":-0.3}]
[{"$f":"IF('Als-Ob-Allokation KW03'!A27<>\"\",'Als-Ob-Allokation KW03'!A27,\"\")","v":"2012-01-26"},{"$f":"IF('Als-Ob-Allokation KW03'!B27<>\"\",'Als-Ob-Allokation KW03'!B27,\"\")","v":-0.4}]
[{"$f":"IF('Als-Ob-Allokation KW03'!A28<>\"\",'Als-Ob-Allokation KW03'!A28,\"\")","v":"2012-01-27"},{"$f":"IF('Als-Ob-Allokation KW03'!B28<>\"\",'Als-Ob-Allokation KW03'!B28,\"\")","v":1.5}]
[{"$f":"IF('Als-Ob-Allokation KW03'!A29<>\"\",'Als-Ob-Allokation KW03'!A29,\"\")","v":"2012-01-28"},{"$f":"IF('Als-Ob-Allokation KW03'!B29<>\"\",'Als-Ob-Allokation KW03'!B29,\"\")","v":1.7}]
[{"$f":"IF('Als-Ob-Allokation KW03'!A30<>\"\",'Als-Ob-Allokation KW03'!A30,\"\")","v":"2012-01-29"},{"$f":"IF('Als-Ob-Allokation KW03'!B30<>\"\",'Als-Ob-Allokation KW03'!B30,\"\")","v":-0.6}]
[{"$f":"IF('Als-Ob-Allokation KW03'!A31<>\"\",'Als-Ob-Allokation KW03'!A31,\"\")","v":"2012-01-30"},{"$f":"IF('Als-Ob-Allokation KW03'!B31<>\"\",'Als-Ob-Allokation KW03'!B31,\"\")","v":-1.3}]
[{"$f":"IF('Als-Ob-Allokation KW03'!A32<>\"\",'Als-Ob-Allokation KW03'!A32,\"\")","v":"2012-01-31"},{"$f":"IF('Als-Ob-Allokation KW03'!B32<>\"\",'Als-Ob-Allokation KW03'!B32,\"\")","v":-3.2}]
[{"$f":"IF('Als-Ob-Allokation KW03'!A33<>\"\",'Als-Ob-Allokation KW03'!A33,\"\")","v":"2012-02-01"},{"$f":"IF('Als-Ob-Allokation KW03'!B33<>\"\",'Als-Ob-Allokation KW03'!B33,\"\")","v":-6.2}]
[{"$f":"IF('Als-Ob-Allokation KW03'!A34<>\"\",'Als-Ob-Allokation KW03'!A34,\"\")","v":"2012-02-02"},{"$f":"IF('Als-Ob-Allokation KW03'!B34<>\"\",'Als-Ob-Allokation KW03'!B34,\"\")","v":-8.5}]
[{"$f":"IF('Als-Ob-Allokation KW03'!A35<>\"\",'Als-Ob-Allokation KW03'!A35,\"\")","v":"2012-02-03"},{"$f":"IF('Als-Ob-Allokation KW03'!B35<>\"\",'Als-Ob-Allokation KW03'!B35,\"\")","v":-11}]
[{"$f":"IF('Als-Ob-Allokation KW03'!A36<>\"\",'Als-Ob-Allokation KW03'!A36,\"\")","v":"2012-02-04"},{"$f":"IF('Als-Ob-Allokation KW03'!B36<>\"\",'Als-Ob-Allokation KW03'!B36,\"\")","v":-11.5}]
[{"$f":"IF('Als-Ob-Allokation KW03'!A37<>\"\",'Als-Ob-Allokation KW03'!A37,\"\")","v":"2012-02-05"},{"$f":"IF('Als-Ob-Allokation KW03'!B37<>\"\",'Als-Ob-Allokation KW03'!B37,\"\")","v":-11.9}]
[{"$f":"IF('Als-Ob-Allokation KW03'!A38<>\"\",'Als-Ob-Allokation KW03'!A38,\"\")","v":"2012-02-06"},{"$f":"IF('Als-Ob-Allokation KW03'!B38<>\"\",'Als-Ob-Allokation KW03'!B38,\"\")","v":-12.3}]
[{"$f":"IF('Als-Ob-Allokation KW03'!A39<>\"\",'Als-Ob-Allokation KW03'!A39,\"\")","v":"2012-02-07"},{"$f":"IF('Als-Ob-Allokation KW03'!B39<>\"\",'Als-Ob-Allokation KW03'!B39,\"\")","v":-12.4}]
[{"$f":"IF('Als-Ob-Allokation KW03'!A40<>\"\",'Als-Ob-Allokation KW03'!A40,\"\")","v":"2012-02-08"},{"$f":"IF('Als-Ob-Allokation KW03'!B40<>\"\",'Als-Ob-Allokation KW03'!B40,\"\")","v":-8}]
[{"$f":"IF('Als-Ob-Allokation KW03'!A41<>\"\",'Als-Ob-Allokation KW03'!A41,\"\")","v":"2012-02-09"},{"$f":"IF('Als-Ob-Allokation KW03'!B41<>\"\",'Als-Ob-Allokation KW03'!B41,\"\")","v":-9.6999999999999993}]
[{"$f":"IF('Als-Ob-Allokation KW03'!A42<>\"\",'Als-Ob-Allokation KW03'!A42,\"\")","v":"2012-02-10"},{"$f":"IF('Als-Ob-Allokation KW03'!B42<>\"\",'Als-Ob-Allokation KW03'!B42,\"\")","v":-8.9}]
[{"$f":"IF('Als-Ob-Allokation KW03'!A43<>\"\",'Als-Ob-Allokation KW03'!A43,\"\")","v":"2012-02-11"},{"$f":"IF('Als-Ob-Allokation KW03'!B43<>\"\",'Als-Ob-Allokation KW03'!B43,\"\")","v":-10.7}]
[{"$f":"IF('Als-Ob-Allokation KW03'!A44<>\"\",'Als-Ob-Allokation KW03'!A44,\"\")","v":"2012-02-12"},{"$f":"IF('Als-Ob-Allokation KW03'!B44<>\"\",'Als-Ob-Allokation KW03'!B44,\"\")","v":-11}]
[{"$f":"IF('Als-Ob-Allokation KW03'!A45<>\"\",'Als-Ob-Allokation KW03'!A45,\"\")","v":"2012-02-13"},{"$f":"IF('Als-Ob-Allokation KW03'!B45<>\"\",'Als-Ob-Allokation KW03'!B45,\"\")","v":-6.5}]
[{"$f":"IF('Als-Ob-Allokation KW03'!A46<>\"\",'Als-Ob-Allokation KW03'!A46,\"\")","v":"2012-02-14"},{"$f":"IF('Als-Ob-Allokation KW03'!B46<>\"\",'Als-Ob-Allokation KW03'!B46,\"\")","v":-1.2}]
[{"$f":"IF('Als-Ob-Allokation KW03'!A47<>\"\",'Als-Ob-Allokation KW03'!A47,\"\")","v":"2012-02-15"},{"$f":"IF('Als-Ob-Allokation KW03'!B47<>\"\",'Als-Ob-Allokation KW03'!B47,\"\")","v":1.5}]
[{"$f":"IF('Als-Ob-Allokation KW03'!A48<>\"\",'Als-Ob-Allokation KW03'!A48,\"\")","v":"2012-02-16"},{"$f":"IF('Als-Ob-Allokation KW03'!B48<>\"\",'Als-Ob-Allokation KW03'!B48,\"\")","v":2}]
[{"$f":"IF('Als-Ob-Allokation KW03'!A49<>\"\",'Als-Ob-Allokation KW03'!A49,\"\")","v":"2012-02-17"},{"$f":"IF('Als-Ob-Allokation KW03'!B49<>\"\",'Als-Ob-Allokation KW03'!B49,\"\")","v":3.2}]
[{"$f":"IF('Als-Ob-Allokation KW03'!A50<>\"\",'Als-Ob-Allokation KW03'!A50,\"\")","v":"2012-02-18"},{"$f":"IF('Als-Ob-Allokation KW03'!B50<>\"\",'Als-Ob-Allokation KW03'!B50,\"\")","v":5.2}]
[{"$f":"IF('Als-Ob-Allokation KW03'!A51<>\"\",'Als-Ob-Allokation KW03'!A51,\"\")","v":"2012-02-19"},{"$f":"IF('Als-Ob-Allokation KW03'!B51<>\"\",'Als-Ob-Allokation KW03'!B51,\"\")","v":2.5}]
[{"$f":"IF('Als-Ob-Allokation KW03'!A52<>\"\",'Als-Ob-Allokation KW03'!A52,\"\")","v":"2012-02-20"},{"$f":"IF('Als-Ob-Allokation KW03'!B52<>\"\",'Als-Ob-Allokation KW03'!B52,\"\")","v":0.4}]
[{"$f":"IF('Als-Ob-Allokation KW03'!A53<>\"\",'Als-Ob-Allokation KW03'!A53,\"\")","v":"2012-02-21"},{"$f":"IF('Als-Ob-Allokation KW03'!B53<>\"\",'Als-Ob-Allokation KW03'!B53,\"\")","v":-0.6}]
[{"$f":"IF('Als-Ob-Allokation KW03'!A54<>\"\",'Als-Ob-Allokation KW03'!A54,\"\")","v":"2012-02-22"},{"$f":"IF('Als-Ob-Allokation KW03'!B54<>\"\",'Als-Ob-Allokation KW03'!B54,\"\")","v":1.4}]
[{"$f":"IF('Als-Ob-Allokation KW03'!A55<>\"\",'Als-Ob-Allokation KW03'!A55,\"\")","v":"2012-02-23"},{"$f":"IF('Als-Ob-Allokation KW03'!B55<>\"\",'Als-Ob-Allokation KW03'!B55,\"\")","v":5.4}]
[{"$f":"IF('Als-Ob-Allokation KW03'!A56<>\"\",'Als-Ob-Allokation KW03'!A56,\"\")","v":"2012-02-24"},{"$f":"IF('Als-Ob-Allokation KW03'!B56<>\"\",'Als-Ob-Allokation KW03'!B56,\"\")","v":7.9}]
[{"$f":"IF('Als-Ob-Allokation KW03'!A57<>\"\",'Als-Ob-Allokation KW03'!A57,\"\")","v":"2012-02-25"},{"$f":"IF('Als-Ob-Allokation KW03'!B57<>\"\",'Als-Ob-Allokation KW03'!B57,\"\")","v":7.4}]
[{"$f":"IF('Als-Ob-Allokation KW03'!A58<>\"\",'Als-Ob-Allokation KW03'!A58,\"\")","v":"2012-02-26"},{"$f":"IF('Als-Ob-Allokation KW03'!B58<>\"\",'Als-Ob-Allokation KW03'!B58,\"\")","v":4.9000000000000004}]
[{"$f":"IF('Als-Ob-Allokation KW03'!A59<>\"\",'Als-Ob-Allokation KW03'!A59,\"\")","v":"2012-02-27"},{"$f":"IF('Als-Ob-Allokation KW03'!B59<>\"\",'Als-Ob-Allokation KW03'!B59,\"\")","v":4.2}]
[{"$f":"IF('Als-Ob-Allokation KW03'!A60<>\"\",'Als-Ob-Allokation KW03'!A60,\"\")","v":"2012-02-28"},{"$f":"IF('Als-Ob-Allokation KW03'!B60<>\"\",'Als-Ob-Allokation KW03'!B60,\"\")","v":6.2}]
[{"$f":"IF('Als-Ob-Allokation KW03'!A61<>\"\",'Als-Ob-Allokation KW03'!A61,\"\")","v":"2012-02-29"},{"$f":"IF('Als-Ob-Allokation KW03'!B61<>\"\",'Als-Ob-Allokation KW03'!B61,\"\")","v":7.3}]
[{"$f":"IF('Als-Ob-Allokation KW03'!A62<>\"\",'Als-Ob-Allokation KW03'!A62,\"\")","v":"2012-03-01"},{"$f":"IF('Als-Ob-Allokation KW03'!B62<>\"\",'Als-Ob-Allokation KW03'!B62,\"\")","v":7.7}]
[{"$f":"IF('Als-Ob-Allokation KW03'!A63<>\"\",'Als-Ob-Allokation KW03'!A63,\"\")","v":"2012-03-02"},{"$f":"IF('Als-Ob-Allokation KW03'!B63<>\"\",'Als-Ob-Allokation KW03'!B63,\"\")","v":6.4}]
[{"$f":"IF('Als-Ob-Allokation KW03'!A64<>\"\",'Als-Ob-Allokation KW03'!A64,\"\")","v":"2012-03-03"},{"$f":"IF('Als-Ob-Allokation KW03'!B64<>\"\",'Als-Ob-Allokation KW03'!B64,\"\")","v":7.8}]
[{"$f":"IF('Als-Ob-Allokation KW03'!A65<>\"\",'Als-Ob-Allokation KW03'!A65,\"\")","v":"2012-03-04"},{"$f":"IF('Als-Ob-Allokation KW03'!B65<>\"\",'Als-Ob-Allokation KW03'!B65,\"\")","v":6.9}]
[{"$f":"IF('Als-Ob-Allokation KW03'!A66<>\"\",'Als-Ob-Allokation KW03'!A66,\"\")","v":"2012-03-05"},{"$f":"IF('Als-Ob-Allokation KW03'!B66<>\"\",'Als-Ob-Allokation KW03'!B66,\"\")","v":3.8}]
[{"$f":"IF('Als-Ob-Allokation KW03'!A67<>\"\",'Als-Ob-Allokation KW03'!A67,\"\")","v":"2012-03-06"},{"$f":"IF('Als-Ob-Allokation KW03'!B67<>\"\",'Als-Ob-Allokation KW03'!B67,\"\")","v":3.2}]
[{"$f":"IF('Als-Ob-Allokation KW03'!A68<>\"\",'Als-Ob-Allokation KW03'!A68,\"\")","v":"2012-03-07"},{"$f":"IF('Als-Ob-Allokation KW03'!B68<>\"\",'Als-Ob-Allokation KW03'!B68,\"\")","v":4.5999999999999996}]
[{"$f":"IF('Als-Ob-Allokation KW03'!A69<>\"\",'Als-Ob-Allokation KW03'!A69,\"\")","v":"2012-03-08"},{"$f":"IF('Als-Ob-Allokation KW03'!B69<>\"\",'Als-Ob-Allokation KW03'!B69,\"\")","v":4.2}]
[{"$f":"IF('Als-Ob-Allokation KW03'!A70<>\"\",'Als-Ob-Allokation KW03'!A70,\"\")","v":"2012-03-09"},{"$f":"IF('Als-Ob-Allokation KW03'!B70<>\"\",'Als-Ob-Allokation KW03'!B70,\"\")","v":3.2}]
[{"$f":"IF('Als-Ob-Allokation KW03'!A71<>\"\",'Als-Ob-Allokation KW03'!A71,\"\")","v":"2012-03-10"},{"$f":"IF('Als-Ob-Allokation KW03'!B71<>\"\",'Als-Ob-Allokation KW03'!B71,\"\")","v":5.2}]
[{"$f":"IF('Als-Ob-Allokation KW03'!A72<>\"\",'Als-Ob-Allokation KW03'!A72,\"\")","v":"2012-03-11"},{"$f":"IF('Als-Ob-Allokation KW03'!B72<>\"\",'Als-Ob-Allokation KW03'!B72,\"\")","v":7.4}]
[{"$f":"IF('Als-Ob-Allokation KW03'!A73<>\"\",'Als-Ob-Allokation KW03'!A73,\"\")","v":"2012-03-12"},{"$f":"IF('Als-Ob-Allokation KW03'!B73<>\"\",'Als-Ob-Allokation KW03'!B73,\"\")","v":8.1999999999999993}]
[{"$f":"IF('Als-Ob-Allokation KW03'!A74<>\"\",'Als-Ob-Allokation KW03'!A74,\"\")","v":"2012-03-13"},{"$f":"IF('Als-Ob-Allokation KW03'!B74<>\"\",'Als-Ob-Allokation KW03'!B74,\"\")","v":8.3000000000000007}]
[{"$f":"IF('Als-Ob-Allokation KW03'!A75<>\"\",'Als-Ob-Allokation KW03'!A75,\"\")","v":"2012-03-14"},{"$f":"IF('Als-Ob-Allokation KW03'!B75<>\"\",'Als-Ob-Allokation KW03'!B75,\"\")","v":7.5}]
[{"$f":"IF('Als-Ob-Allokation KW03'!A76<>\"\",'Als-Ob-Allokation KW03'!A76,\"\")","v":"2012-03-15"},{"$f":"IF('Als-Ob-Allokation KW03'!B76<>\"\",'Als-Ob-Allokation KW03'!B76,\"\")","v":7.8}]
[{"$f":"IF('Als-Ob-Allokation KW03'!A77<>\"\",'Als-Ob-Allokation KW03'!A77,\"\")","v":"2012-03-16"},{"$f":"IF('Als-Ob-Allokation KW03'!B77<>\"\",'Als-Ob-Allokation KW03'!B77,\"\")","v":10.9}]
[{"$f":"IF('Als-Ob-Allokation KW03'!A78<>\"\",'Als-Ob-Allokation KW03'!A78,\"\")","v":"2012-03-17"},{"$f":"IF('Als-Ob-Allokation KW03'!B78<>\"\",'Als-Ob-Allokation KW03'!B78,\"\")","v":11.2}]
[{"$f":"IF('Als-Ob-Allokation KW03'!A79<>\"\",'Als-Ob-Allokation KW03'!A79,\"\")","v":"2012-03-18"},{"$f":"IF('Als-Ob-Allokation KW03'!B79<>\"\",'Als-Ob-Allokation KW03'!B79,\"\")","v":7.4}]
[{"$f":"IF('Als-Ob-Allokation KW03'!A80<>\"\",'Als-Ob-Allokation KW03'!A80,\"\")","v":"2012-03-19"},{"$f":"IF('Als-Ob-Allokation KW03'!B80<>\"\",'Als-Ob-Allokation KW03'!B80,\"\")","v":6.7}]
[{"$f":"IF('Als-Ob-Allokation KW03'!A81<>\"\",'Als-Ob-Allokation KW03'!A81,\"\")","v":"2012-03-20"},{"$f":"IF('Als-Ob-Allokation KW03'!B81<>\"\",'Als-Ob-Allokation KW03'!B81,\"\")","v":6.3}]
[{"$f":"IF('Als-Ob-Allokation KW03'!A82<>\"\",'Als-Ob-Allokation KW03'!A82,\"\")","v":"2012-03-21"},{"$f":"IF('Als-Ob-Allokation KW03'!B82<>\"\",'Als-Ob-Allokation KW03'!B82,\"\")","v":8.1}]
[{"$f":"IF('Als-Ob-Allokation KW03'!A83<>\"\",'Als-Ob-Allokation KW03'!A83,\"\")","v":"2012-03-22"},{"$f":"IF('Als-Ob-Allokation KW03'!B83<>\"\",'Als-Ob-Allokation KW03'!B83,\"\")","v":10.6}]
[{"$f":"IF('Als-Ob-Allokation KW03'!A84<>\"\",'Als-Ob-Allokation KW03'!A84,\"\")","v":"2012-03-23"},{"$f":"IF('Als-Ob-Allokation KW03'!B84<>\"\",'Als-Ob-Allokation KW03'!B84,\"\")","v":11.1}]
[{"$f":"IF('Als-Ob-Allokation KW03'!A85<>\"\",'Als-Ob-Allokation KW03'!A85,\"\")","v":"2012-03-24"},{"$f":"IF('Als-Ob-Allokation KW03'!B85<>\"\",'Als-Ob-Allokation KW03'!B85,\"\")","v":10.6}]
[{"$f":"IF('Als-Ob-Allokation KW03'!A86<>\"\",'Als-Ob-Allokation KW03'!A86,\"\")","v":"2012-03-25"},{"$f":"IF('Als-Ob-Allokation KW03'!B86<>\"\",'Als-Ob-Allokation KW03'!B86,\"\")","v":11.4}]
[{"$f":"IF('Als-Ob-Allokation KW03'!A87<>\"\",'Als-Ob-Allokation KW03'!A87,\"\")","v":"2012-03-26"},{"$f":"IF('Als-Ob-Allokation KW03'!B87<>\"\",'Als-Ob-Allokation KW03'!B87,\"\")","v":11.2}]
[{"$f":"IF('Als-Ob-Allokation KW03'!A88<>\"\",'Als-Ob-Allokation KW03'!A88,\"\")","v":"2012-03-27"},{"$f":"IF('Als-Ob-Allokation KW03'!B88<>\"\",'Als-Ob-Allokation KW03'!B88,\"\")","v":10.6}]
[{"$f":"IF('Als-Ob-Allokation KW03'!A89<>\"\",'Als-Ob-Allokation KW03'!A89,\"\")","v":"2012-03-28"},{"$f":"IF('Als-Ob-Allokation KW03'!B89<>\"\",'Als-Ob-Allokation KW03'!B89,\"\")","v":11.9}]
[{"$f":"IF('Als-Ob-Allokation KW03'!A90<>\"\",'Als-Ob-Allokation KW03'!A90,\"\")","v":"2012-03-29"},{"$f":"IF('Als-Ob-Allokation KW03'!B90<>\"\",'Als-Ob-Allokation KW03'!B90,\"\")","v":10.9}]
[{"$f":"IF('Als-Ob-Allokation KW03'!A91<>\"\",'Als-Ob-Allokation KW03'!A91,\"\")","v":"2012-03-30"},{"$f":"IF('Als-Ob-Allokation KW03'!B91<>\"\",'Als-Ob-Allokation KW03'!B91,\"\")","v":9.6999999999999993}]
[{"$f":"IF('Als-Ob-Allokation KW03'!A92<>\"\",'Als-Ob-Allokation KW03'!A92,\"\")","v":"2012-03-31"},{"$f":"IF('Als-Ob-Allokation KW03'!B92<>\"\",'Als-Ob-Allokation KW03'!B92,\"\")","v":9}]
[{"$f":"IF('Als-Ob-Allokation KW03'!A93<>\"\",'Als-Ob-Allokation KW03'!A93,\"\")","v":"2012-04-01"},{"$f":"IF('Als-Ob-Allokation KW03'!B93<>\"\",'Als-Ob-Allokation KW03'!B93,\"\")","v":5.2}]
[{"$f":"IF('Als-Ob-Allokation KW03'!A94<>\"\",'Als-Ob-Allokation KW03'!A94,\"\")","v":"2012-04-02"},{"$f":"IF('Als-Ob-Allokation KW03'!B94<>\"\",'Als-Ob-Allokation KW03'!B94,\"\")","v":7.2}]
[{"$f":"IF('Als-Ob-Allokation KW03'!A95<>\"\",'Als-Ob-Allokation KW03'!A95,\"\")","v":"2012-04-03"},{"$f":"IF('Als-Ob-Allokation KW03'!B95<>\"\",'Als-Ob-Allokation KW03'!B95,\"\")","v":10.3}]
[{"$f":"IF('Als-Ob-Allokation KW03'!A96<>\"\",'Als-Ob-Allokation KW03'!A96,\"\")","v":"2012-04-04"},{"$f":"IF('Als-Ob-Allokation KW03'!B96<>\"\",'Als-Ob-Allokation KW03'!B96,\"\")","v":9.5}]
[{"$f":"IF('Als-Ob-Allokation KW03'!A97<>\"\",'Als-Ob-Allokation KW03'!A97,\"\")","v":"2012-04-05"},{"$f":"IF('Als-Ob-Allokation KW03'!B97<>\"\",'Als-Ob-Allokation KW03'!B97,\"\")","v":7.3}]
[{"$f":"IF('Als-Ob-Allokation KW03'!A98<>\"\",'Als-Ob-Allokation KW03'!A98,\"\")","v":"2012-04-06"},{"$f":"IF('Als-Ob-Allokation KW03'!B98<>\"\",'Als-Ob-Allokation KW03'!B98,\"\")","v":6.7}]
[{"$f":"IF('Als-Ob-Allokation KW03'!A99<>\"\",'Als-Ob-Allokation KW03'!A99,\"\")","v":"2012-04-07"},{"$f":"IF('Als-Ob-Allokation KW03'!B99<>\"\",'Als-Ob-Allokation KW03'!B99,\"\")","v":5.6}]
[{"$f":"IF('Als-Ob-Allokation KW03'!A100<>\"\",'Als-Ob-Allokation KW03'!A100,\"\")","v":"2012-04-08"},{"$f":"IF('Als-Ob-Allokation KW03'!B100<>\"\",'Als-Ob-Allokation KW03'!B100,\"\")","v":3.2}]
[{"$f":"IF('Als-Ob-Allokation KW03'!A101<>\"\",'Als-Ob-Allokation KW03'!A101,\"\")","v":"2012-04-09"},{"$f":"IF('Als-Ob-Allokation KW03'!B101<>\"\",'Als-Ob-Allokation KW03'!B101,\"\")","v":5.7}]
[{"$f":"IF('Als-Ob-Allokation KW03'!A102<>\"\",'Als-Ob-Allokation KW03'!A102,\"\")","v":"2012-04-10"},{"$f":"IF('Als-Ob-Allokation KW03'!B102<>\"\",'Als-Ob-Allokation KW03'!B102,\"\")","v":12.5}]
[{"$f":"IF('Als-Ob-Allokation KW03'!A103<>\"\",'Als-Ob-Allokation KW03'!A103,\"\")","v":"2012-04-11"},{"$f":"IF('Als-Ob-Allokation KW03'!B103<>\"\",'Als-Ob-Allokation KW03'!B103,\"\")","v":7.9}]
[{"$f":"IF('Als-Ob-Allokation KW03'!A104<>\"\",'Als-Ob-Allokation KW03'!A104,\"\")","v":"2012-04-12"},{"$f":"IF('Als-Ob-Allokation KW03'!B104<>\"\",'Als-Ob-Allokation KW03'!B104,\"\")","v":7.2}]
[{"$f":"IF('Als-Ob-Allokation KW03'!A105<>\"\",'Als-Ob-Allokation KW03'!A105,\"\")","v":"2012-04-13"},{"$f":"IF('Als-Ob-Allokation KW03'!B105<>\"\",'Als-Ob-Allokation KW03'!B105,\"\")","v":7.6}]
[{"$f":"IF('Als-Ob-Allokation KW03'!A106<>\"\",'Als-Ob-Allokation KW03'!A106,\"\")","v":"2012-04-14"},{"$f":"IF('Als-Ob-Allokation KW03'!B106<>\"\",'Als-Ob-Allokation KW03'!B106,\"\")","v":9.5}]
[{"$f":"IF('Als-Ob-Allokation KW03'!A107<>\"\",'Als-Ob-Allokation KW03'!A107,\"\")","v":"2012-04-15"},{"$f":"IF('Als-Ob-Allokation KW03'!B107<>\"\",'Als-Ob-Allokation KW03'!B107,\"\")","v":7.4}]
[{"$f":"IF('Als-Ob-Allokation KW03'!A108<>\"\",'Als-Ob-Allokation KW03'!A108,\"\")","v":"2012-04-16"},{"$f":"IF('Als-Ob-Allokation KW03'!B108<>\"\",'Als-Ob-Allokation KW03'!B108,\"\")","v":5.5}]
[{"$f":"IF('Als-Ob-Allokation KW03'!A109<>\"\",'Als-Ob-Allokation KW03'!A109,\"\")","v":"2012-04-17"},{"$f":"IF('Als-Ob-Allokation KW03'!B109<>\"\",'Als-Ob-Allokation KW03'!B109,\"\")","v":5.8}]
[{"$f":"IF('Als-Ob-Allokation KW03'!A110<>\"\",'Als-Ob-Allokation KW03'!A110,\"\")","v":"2012-04-18"},{"$f":"IF('Als-Ob-Allokation KW03'!B110<>\"\",'Als-Ob-Allokation KW03'!B110,\"\")","v":8.1}]
[{"$f":"IF('Als-Ob-Allokation KW03'!A111<>\"\",'Als-Ob-Allokation KW03'!A111,\"\")","v":"2012-04-19"},{"$f":"IF('Als-Ob-Allokation KW03'!B111<>\"\",'Als-Ob-Allokation KW03'!B111,\"\")","v":8.5}]
[{"$f":"IF('Als-Ob-Allokation KW03'!A112<>\"\",'Als-Ob-Allokation KW03'!A112,\"\")","v":"2012-04-20"},{"$f":"IF('Als-Ob-Allokation KW03'!B112<>\"\",'Als-Ob-Allokation KW03'!B112,\"\")","v":8.6}]
[{"$f":"IF('Als-Ob-Allokation KW03'!A113<>\"\",'Als-Ob-Allokation KW03'!A113,\"\")","v":"2012-04-21"},{"$f":"IF('Als-Ob-Allokation KW03'!B113<>\"\",'Als-Ob-Allokation KW03'!B113,\"\")","v":7.4}]
[{"$f":"IF('Als-Ob-Allokation KW03'!A114<>\"\",'Als-Ob-Allokation KW03'!A114,\"\")","v":"2012-04-22"},{"$f":"IF('Als-Ob-Allokation KW03'!B114<>\"\",'Als-Ob-Allokation KW03'!B114,\"\")","v":6.5}]
[{"$f":"IF('Als-Ob-Allokation KW03'!A115<>\"\",'Als-Ob-Allokation KW03'!A115,\"\")","v":"2012-04-23"},{"$f":"IF('Als-Ob-Allokation KW03'!B115<>\"\",'Als-Ob-Allokation KW03'!B115,\"\")","v":8.1999999999999993}]
[{"$f":"IF('Als-Ob-Allokation KW03'!A116<>\"\",'Als-Ob-Allokation KW03'!A116,\"\")","v":"2012-04-24"},{"$f":"IF('Als-Ob-Allokation KW03'!B116<>\"\",'Als-Ob-Allokation KW03'!B116,\"\")","v":8.3000000000000007}]
[{"$f":"IF('Als-Ob-Allokation KW03'!A117<>\"\",'Als-Ob-Allokation KW03'!A117,\"\")","v":"2012-04-25"},{"$f":"IF('Als-Ob-Allokation KW03'!B117<>\"\",'Als-Ob-Allokation KW03'!B117,\"\")","v":10.9}]
[{"$f":"IF('Als-Ob-Allokation KW03'!A118<>\"\",'Als-Ob-Allokation KW03'!A118,\"\")","v":"2012-04-26"},{"$f":"IF('Als-Ob-Allokation KW03'!B118<>\"\",'Als-Ob-Allokation KW03'!B118,\"\")","v":13}]
[{"$f":"IF('Als-Ob-Allokation KW03'!A119<>\"\",'Als-Ob-Allokation KW03'!A119,\"\")","v":"2012-04-27"},{"$f":"IF('Als-Ob-Allokation KW03'!B119<>\"\",'Als-Ob-Allokation KW03'!B119,\"\")","v":14.9}]
[{"$f":"IF('Als-Ob-Allokation KW03'!A120<>\"\",'Als-Ob-Allokation KW03'!A120,\"\")","v":"2012-04-28"},{"$f":"IF('Als-Ob-Allokation KW03'!B120<>\"\",'Als-Ob-Allokation KW03'!B120,\"\")","v":20.8}]
[{"$f":"IF('Als-Ob-Allokation KW03'!A121<>\"\",'Als-Ob-Allokation KW03'!A121,\"\")","v":"2012-04-29"},{"$f":"IF('Als-Ob-Allokation KW03'!B121<>\"\",'Als-Ob-Allokation KW03'!B121,\"\")","v":19}]
[{"$f":"IF('Als-Ob-Allokation KW03'!A122<>\"\",'Als-Ob-Allokation KW03'!A122,\"\")","v":"2012-04-30"},{"$f":"IF('Als-Ob-Allokation KW03'!B122<>\"\",'Als-Ob-Allokation KW03'!B122,\"\")","v":17.399999999999999}]
[{"$f":"IF('Als-Ob-Allokation KW03'!A123<>\"\",'Als-Ob-Allokation KW03'!A123,\"\")","v":"2012-05-01"},{"$f":"IF('Als-Ob-Allokation KW03'!B123<>\"\",'Als-Ob-Allokation KW03'!B123,\"\")","v":16.5}]
[{"$f":"IF('Als-Ob-Allokation KW03'!A124<>\"\",'Als-Ob-Allokation KW03'!A124,\"\")","v":"2012-05-02"},{"$f":"IF('Als-Ob-Allokation KW03'!B124<>\"\",'Als-Ob-Allokation KW03'!B124,\"\")","v":16.8}]
[{"$f":"IF('Als-Ob-Allokation KW03'!A125<>\"\",'Als-Ob-Allokation KW03'!A125,\"\")","v":"2012-05-03"},{"$f":"IF('Als-Ob-Allokation KW03'!B125<>\"\",'Als-Ob-Allokation KW03'!B125,\"\")","v":14}]
[{"$f":"IF('Als-Ob-Allokation KW03'!A126<>\"\",'Als-Ob-Allokation KW03'!A126,\"\")","v":"2012-05-04"},{"$f":"IF('Als-Ob-Allokation KW03'!B126<>\"\",'Als-Ob-Allokation KW03'!B126,\"\")","v":14.7}]
[{"$f":"IF('Als-Ob-Allokation KW03'!A127<>\"\",'Als-Ob-Allokation KW03'!A127,\"\")","v":"2012-05-05"},{"$f":"IF('Als-Ob-Allokation KW03'!B127<>\"\",'Als-Ob-Allokation KW03'!B127,\"\")","v":12.5}]
[{"$f":"IF('Als-Ob-Allokation KW03'!A128<>\"\",'Als-Ob-Allokation KW03'!A128,\"\")","v":"2012-05-06"},{"$f":"IF('Als-Ob-Allokation KW03'!B128<>\"\",'Als-Ob-Allokation KW03'!B128,\"\")","v":11.9}]
[{"$f":"IF('Als-Ob-Allokation KW03'!A129<>\"\",'Als-Ob-Allokation KW03'!A129,\"\")","v":"2012-05-07"},{"$f":"IF('Als-Ob-Allokation KW03'!B129<>\"\",'Als-Ob-Allokation KW03'!B129,\"\")","v":11.3}]
[{"$f":"IF('Als-Ob-Allokation KW03'!A130<>\"\",'Als-Ob-Allokation KW03'!A130,\"\")","v":"2012-05-08"},{"$f":"IF('Als-Ob-Allokation KW03'!B130<>\"\",'Als-Ob-Allokation KW03'!B130,\"\")","v":14.7}]
[{"$f":"IF('Als-Ob-Allokation KW03'!A131<>\"\",'Als-Ob-Allokation KW03'!A131,\"\")","v":"2012-05-09"},{"$f":"IF('Als-Ob-Allokation KW03'!B131<>\"\",'Als-Ob-Allokation KW03'!B131,\"\")","v":16.899999999999999}]
[{"$f":"IF('Als-Ob-Allokation KW03'!A132<>\"\",'Als-Ob-Allokation KW03'!A132,\"\")","v":"2012-05-10"},{"$f":"IF('Als-Ob-Allokation KW03'!B132<>\"\",'Als-Ob-Allokation KW03'!B132,\"\")","v":20.100000000000001}]
[{"$f":"IF('Als-Ob-Allokation KW03'!A133<>\"\",'Als-Ob-Allokation KW03'!A133,\"\")","v":"2012-05-11"},{"$f":"IF('Als-Ob-Allokation KW03'!B133<>\"\",'Als-Ob-Allokation KW03'!B133,\"\")","v":22.7}]
[{"$f":"IF('Als-Ob-Allokation KW03'!A134<>\"\",'Als-Ob-Allokation KW03'!A134,\"\")","v":"2012-05-12"},{"$f":"IF('Als-Ob-Allokation KW03'!B134<>\"\",'Als-Ob-Allokation KW03'!B134,\"\")","v":11.6}]
[{"$f":"IF('Als-Ob-Allokation KW03'!A135<>\"\",'Als-Ob-Allokation KW03'!A135,\"\")","v":"2012-05-13"},{"$f":"IF('Als-Ob-Allokation KW03'!B135<>\"\",'Als-Ob-Allokation KW03'!B135,\"\")","v":9.3000000000000007}]
[{"$f":"IF('Als-Ob-Allokation KW03'!A136<>\"\",'Als-Ob-Allokation KW03'!A136,\"\")","v":"2012-05-14"},{"$f":"IF('Als-Ob-Allokation KW03'!B136<>\"\",'Als-Ob-Allokation KW03'!B136,\"\")","v":10.3}]
[{"$f":"IF('Als-Ob-Allokation KW03'!A137<>\"\",'Als-Ob-Allokation KW03'!A137,\"\")","v":"2012-05-15"},{"$f":"IF('Als-Ob-Allokation KW03'!B137<>\"\",'Als-Ob-Allokation KW03'!B137,\"\")","v":8.9}]
[{"$f":"IF('Als-Ob-Allokation KW03'!A138<>\"\",'Als-Ob-Allokation KW03'!A138,\"\")","v":"2012-05-16"},{"$f":"IF('Als-Ob-Allokation KW03'!B138<>\"\",'Als-Ob-Allokation KW03'!B138,\"\")","v":6.4}]
[{"$f":"IF('Als-Ob-Allokation KW03'!A139<>\"\",'Als-Ob-Allokation KW03'!A139,\"\")","v":"2012-05-17"},{"$f":"IF('Als-Ob-Allokation KW03'!B139<>\"\",'Als-Ob-Allokation KW03'!B139,\"\")","v":9}]
[{"$f":"IF('Als-Ob-Allokation KW03'!A140<>\"\",'Als-Ob-Allokation KW03'!A140,\"\")","v":"2012-05-18"},{"$f":"IF('Als-Ob-Allokation KW03'!B140<>\"\",'Als-Ob-Allokation KW03'!B140,\"\")","v":13.5}]
[{"$f":"IF('Als-Ob-Allokation KW03'!A141<>\"\",'Als-Ob-Allokation KW03'!A141,\"\")","v":"2012-05-19"},{"$f":"IF('Als-Ob-Allokation KW03'!B141<>\"\",'Als-Ob-Allokation KW03'!B141,\"\")","v":17.100000000000001}]
[{"$f":"IF('Als-Ob-Allokation KW03'!A142<>\"\",'Als-Ob-Allokation KW03'!A142,\"\")","v":"2012-05-20"},{"$f":"IF('Als-Ob-Allokation KW03'!B142<>\"\",'Als-Ob-Allokation KW03'!B142,\"\")","v":18.3}]
[{"$f":"IF('Als-Ob-Allokation KW03'!A143<>\"\",'Als-Ob-Allokation KW03'!A143,\"\")","v":"2012-05-21"},{"$f":"IF('Als-Ob-Allokation KW03'!B143<>\"\",'Als-Ob-Allokation KW03'!B143,\"\")","v":17.899999999999999}]
[{"$f":"IF('Als-Ob-Allokation KW03'!A144<>\"\",'Als-Ob-Allokation KW03'!A144,\"\")","v":"2012-05-22"},{"$f":"IF('Als-Ob-Allokation KW03'!B144<>\"\",'Als-Ob-Allokation KW03'!B144,\"\")","v":18.100000000000001}]
[{"$f":"IF('Als-Ob-Allokation KW03'!A145<>\"\",'Als-Ob-Allokation KW03'!A145,\"\")","v":"2012-05-23"},{"$f":"IF('Als-Ob-Allokation KW03'!B145<>\"\",'Als-Ob-Allokation KW03'!B145,\"\")","v":18.7}]
[{"$f":"IF('Als-Ob-Allokation KW03'!A146<>\"\",'Als-Ob-Allokation KW03'!A146,\"\")","v":"2012-05-24"},{"$f":"IF('Als-Ob-Allokation KW03'!B146<>\"\",'Als-Ob-Allokation KW03'!B146,\"\")","v":20.2}]
[{"$f":"IF('Als-Ob-Allokation KW03'!A147<>\"\",'Als-Ob-Allokation KW03'!A147,\"\")","v":"2012-05-25"},{"$f":"IF('Als-Ob-Allokation KW03'!B147<>\"\",'Als-Ob-Allokation KW03'!B147,\"\")","v":18.2}]
[{"$f":"IF('Als-Ob-Allokation KW03'!A148<>\"\",'Als-Ob-Allokation KW03'!A148,\"\")","v":"2012-05-26"},{"$f":"IF('Als-Ob-Allokation KW03'!B148<>\"\",'Als-Ob-Allokation KW03'!B148,\"\")","v":17.2}]
[{"$f":"IF('Als-Ob-Allokation KW03'!A149<>\"\",'Als-Ob-Allokation KW03'!A149,\"\")","v":"2012-05-27"},{"$f":"IF('Als-Ob-Allokation KW03'!B149<>\"\",'Als-Ob-Allokation KW03'!B149,\"\")","v":15.4}]
[{"$f":"IF('Als-Ob-Allokation KW03'!A150<>\"\",'Als-Ob-Allokation KW03'!A150,\"\")","v":"2012-05-28"},{"$f":"IF('Als-Ob-Allokation KW03'!B150<>\"\",'Als-Ob-Allokation KW03'!B150,\"\")","v":17.600000000000001}]
[{"$f":"IF('Als-Ob-Allokation KW03'!A151<>\"\",'Als-Ob-Allokation KW03'!A151,\"\")","v":"2012-05-29"},{"$f":"IF('Als-Ob-Allokation KW03'!B151<>\"\",'Als-Ob-Allokation KW03'!B151,\"\")","v":19.5}]
[{"$f":"IF('Als-Ob-Allokation KW03'!A152<>\"\",'Als-Ob-Allokation KW03'!A152,\"\")","v":"2012-05-30"},{"$f":"IF('Als-Ob-Allokation KW03'!B152<>\"\",'Als-Ob-Allokation KW03'!B152,\"\")","v":18.600000000000001}]
[{"$f":"IF('Als-Ob-Allokation KW03'!A153<>\"\",'Als-Ob-Allokation KW03'!A153,\"\")","v":"2012-05-31"},{"$f":"IF('Als-Ob-Allokation KW03'!B153<>\"\",'Als-Ob-Allokation KW03'!B153,\"\")","v":18.3}]
[{"$f":"IF('Als-Ob-Allokation KW03'!A154<>\"\",'Als-Ob-Allokation KW03'!A154,\"\")","v":"2012-06-01"},{"$f":"IF('Als-Ob-Allokation KW03'!B154<>\"\",'Als-Ob-Allokation KW03'!B154,\"\")","v":16.8}]
[{"$f":"IF('Als-Ob-Allokation KW03'!A155<>\"\",'Als-Ob-Allokation KW03'!A155,\"\")","v":"2012-06-02"},{"$f":"IF('Als-Ob-Allokation KW03'!B155<>\"\",'Als-Ob-Allokation KW03'!B155,\"\")","v":17.100000000000001}]
[{"$f":"IF('Als-Ob-Allokation KW03'!A156<>\"\",'Als-Ob-Allokation KW03'!A156,\"\")","v":"2012-06-03"},{"$f":"IF('Als-Ob-Allokation KW03'!B156<>\"\",'Als-Ob-Allokation KW03'!B156,\"\")","v":15.8}]
[{"$f":"IF('Als-Ob-Allokation KW03'!A157<>\"\",'Als-Ob-Allokation KW03'!A157,\"\")","v":"2012-06-04"},{"$f":"IF('Als-Ob-Allokation KW03'!B157<>\"\",'Als-Ob-Allokation KW03'!B157,\"\")","v":14.2}]
[{"$f":"IF('Als-Ob-Allokation KW03'!A158<>\"\",'Als-Ob-Allokation KW03'!A158,\"\")","v":"2012-06-05"},{"$f":"IF('Als-Ob-Allokation KW03'!B158<>\"\",'Als-Ob-Allokation KW03'!B158,\"\")","v":10.9}]
[{"$f":"IF('Als-Ob-Allokation KW03'!A159<>\"\",'Als-Ob-Allokation KW03'!A159,\"\")","v":"2012-06-06"},{"$f":"IF('Als-Ob-Allokation KW03'!B159<>\"\",'Als-Ob-Allokation KW03'!B159,\"\")","v":13.8}]
[{"$f":"IF('Als-Ob-Allokation KW03'!A160<>\"\",'Als-Ob-Allokation KW03'!A160,\"\")","v":"2012-06-07"},{"$f":"IF('Als-Ob-Allokation KW03'!B160<>\"\",'Als-Ob-Allokation KW03'!B160,\"\")","v":17.899999999999999}]
[{"$f":"IF('Als-Ob-Allokation KW03'!A161<>\"\",'Als-Ob-Allokation KW03'!A161,\"\")","v":"2012-06-08"},{"$f":"IF('Als-Ob-Allokation KW03'!B161<>\"\",'Als-Ob-Allokation KW03'!B161,\"\")","v":16.600000000000001}]
[{"$f":"IF('Als-Ob-Allokation KW03'!A162<>\"\",'Als-Ob-Allokation KW03'!A162,\"\")","v":"2012-06-09"},{"$f":"IF('Als-Ob-Allokation KW03'!B162<>\"\",'Als-Ob-Allokation KW03'!B162,\"\")","v":16.2}]
[{"$f":"IF('Als-Ob-Allokation KW03'!A163<>\"\",'Als-Ob-Allokation KW03'!A163,\"\")","v":"2012-06-10"},{"$f":"IF('Als-Ob-Allokation KW03'!B163<>\"\",'Als-Ob-Allokation KW03'!B163,\"\")","v":13.8}]
[{"$f":"IF('Als-Ob-Allokation KW03'!A164<>\"\",'Als-Ob-Allokation KW03'!A164,\"\")","v":"2012-06-11"},{"$f":"IF('Als-Ob-Allokation KW03'!B164<>\"\",'Als-Ob-Allokation KW03'!B164,\"\")","v":14.3}]
[{"$f":"IF('Als-Ob-Allokation KW03'!A165<>\"\",'Als-Ob-Allokation KW03'!A165,\"\")","v":"2012-06-12"},{"$f":"IF('Als-Ob-Allokation KW03'!B165<>\"\",'Als-Ob-Allokation KW03'!B165,\"\")","v":12.3}]
[{"$f":"IF('Als-Ob-Allokation KW03'!A166<>\"\",'Als-Ob-Allokation KW03'!A166,\"\")","v":"2012-06-13"},{"$f":"IF('Als-Ob-Allokation KW03'!B166<>\"\",'Als-Ob-Allokation KW03'!B166,\"\")","v":13.7}]
[{"$f":"IF('Als-Ob-Allokation KW03'!A167<>\"\",'Als-Ob-Allokation KW03'!A167,\"\")","v":"2012-06-14"},{"$f":"IF('Als-Ob-Allokation KW03'!B167<>\"\",'Als-Ob-Allokation KW03'!B167,\"\")","v":14.7}]
[{"$f":"IF('Als-Ob-Allokation KW03'!A168<>\"\",'Als-Ob-Allokation KW03'!A168,\"\")","v":"2012-06-15"},{"$f":"IF('Als-Ob-Allokation KW03'!B168<>\"\",'Als-Ob-Allokation KW03'!B168,\"\")","v":18.7}]
[{"$f":"IF('Als-Ob-Allokation KW03'!A169<>\"\",'Als-Ob-Allokation KW03'!A169,\"\")","v":"2012-06-16"},{"$f":"IF('Als-Ob-Allokation KW03'!B169<>\"\",'Als-Ob-Allokation KW03'!B169,\"\")","v":20.7}]
[{"$f":"IF('Als-Ob-Allokation KW03'!A170<>\"\",'Als-Ob-Allokation KW03'!A170,\"\")","v":"2012-06-17"},{"$f":"IF('Als-Ob-Allokation KW03'!B170<>\"\",'Als-Ob-Allokation KW03'!B170,\"\")","v":17.899999999999999}]
[{"$f":"IF('Als-Ob-Allokation KW03'!A171<>\"\",'Als-Ob-Allokation KW03'!A171,\"\")","v":"2012-06-18"},{"$f":"IF('Als-Ob-Allokation KW03'!B171<>\"\",'Als-Ob-Allokation KW03'!B171,\"\")","v":22.1}]
[{"$f":"IF('Als-Ob-Allokation KW03'!A172<>\"\",'Als-Ob-Allokation KW03'!A172,\"\")","v":"2012-06-19"},{"$f":"IF('Als-Ob-Allokation KW03'!B172<>\"\",'Als-Ob-Allokation KW03'!B172,\"\")","v":21.5}]
[{"$f":"IF('Als-Ob-Allokation KW03'!A173<>\"\",'Als-Ob-Allokation KW03'!A173,\"\")","v":"2012-06-20"},{"$f":"IF('Als-Ob-Allokation KW03'!B173<>\"\",'Als-Ob-Allokation KW03'!B173,\"\")","v":19.5}]
[{"$f":"IF('Als-Ob-Allokation KW03'!A174<>\"\",'Als-Ob-Allokation KW03'!A174,\"\")","v":"2012-06-21"},{"$f":"IF('Als-Ob-Allokation KW03'!B174<>\"\",'Als-Ob-Allokation KW03'!B174,\"\")","v":20.2}]
[{"$f":"IF('Als-Ob-Allokation KW03'!A175<>\"\",'Als-Ob-Allokation KW03'!A175,\"\")","v":"2012-06-22"},{"$f":"IF('Als-Ob-Allokation KW03'!B175<>\"\",'Als-Ob-Allokation KW03'!B175,\"\")","v":17.899999999999999}]
[{"$f":"IF('Als-Ob-Allokation KW03'!A176<>\"\",'Als-Ob-Allokation KW03'!A176,\"\")","v":"2012-06-23"},{"$f":"IF('Als-Ob-Allokation KW03'!B176<>\"\",'Als-Ob-Allokation KW03'!B176,\"\")","v":17.8}]
[{"$f":"IF('Als-Ob-Allokation KW03'!A177<>\"\",'Als-Ob-Allokation KW03'!A177,\"\")","v":"2012-06-24"},{"$f":"IF('Als-Ob-Allokation KW03'!B177<>\"\",'Als-Ob-Allokation KW03'!B177,\"\")","v":17.899999999999999}]
[{"$f":"IF('Als-Ob-Allokation KW03'!A178<>\"\",'Als-Ob-Allokation KW03'!A178,\"\")","v":"2012-06-25"},{"$f":"IF('Als-Ob-Allokation KW03'!B178<>\"\",'Als-Ob-Allokation KW03'!B178,\"\")","v":15.6}]
[{"$f":"IF('Als-Ob-Allokation KW03'!A179<>\"\",'Als-Ob-Allokation KW03'!A179,\"\")","v":"2012-06-26"},{"$f":"IF('Als-Ob-Allokation KW03'!B179<>\"\",'Als-Ob-Allokation KW03'!B179,\"\")","v":17}]
[{"$f":"IF('Als-Ob-Allokation KW03'!A180<>\"\",'Als-Ob-Allokation KW03'!A180,\"\")","v":"2012-06-27"},{"$f":"IF('Als-Ob-Allokation KW03'!B180<>\"\",'Als-Ob-Allokation KW03'!B180,\"\")","v":19.899999999999999}]
[{"$f":"IF('Als-Ob-Allokation KW03'!A181<>\"\",'Als-Ob-Allokation KW03'!A181,\"\")","v":"2012-06-28"},{"$f":"IF('Als-Ob-Allokation KW03'!B181<>\"\",'Als-Ob-Allokation KW03'!B181,\"\")","v":22.2}]
[{"$f":"IF('Als-Ob-Allokation KW03'!A182<>\"\",'Als-Ob-Allokation KW03'!A182,\"\")","v":"2012-06-29"},{"$f":"IF('Als-Ob-Allokation KW03'!B182<>\"\",'Als-Ob-Allokation KW03'!B182,\"\")","v":24.3}]
[{"$f":"IF('Als-Ob-Allokation KW03'!A183<>\"\",'Als-Ob-Allokation KW03'!A183,\"\")","v":"2012-06-30"},{"$f":"IF('Als-Ob-Allokation KW03'!B183<>\"\",'Als-Ob-Allokation KW03'!B183,\"\")","v":24.1}]
[{"$f":"IF('Als-Ob-Allokation KW03'!A184<>\"\",'Als-Ob-Allokation KW03'!A184,\"\")","v":"2012-07-01"},{"$f":"IF('Als-Ob-Allokation KW03'!B184<>\"\",'Als-Ob-Allokation KW03'!B184,\"\")","v":16.899999999999999}]
[{"$f":"IF('Als-Ob-Allokation KW03'!A185<>\"\",'Als-Ob-Allokation KW03'!A185,\"\")","v":"2012-07-02"},{"$f":"IF('Als-Ob-Allokation KW03'!B185<>\"\",'Als-Ob-Allokation KW03'!B185,\"\")","v":16.8}]
[{"$f":"IF('Als-Ob-Allokation KW03'!A186<>\"\",'Als-Ob-Allokation KW03'!A186,\"\")","v":"2012-07-03"},{"$f":"IF('Als-Ob-Allokation KW03'!B186<>\"\",'Als-Ob-Allokation KW03'!B186,\"\")","v":17.7}]
[{"$f":"IF('Als-Ob-Allokation KW03'!A187<>\"\",'Als-Ob-Allokation KW03'!A187,\"\")","v":"2012-07-04"},{"$f":"IF('Als-Ob-Allokation KW03'!B187<>\"\",'Als-Ob-Allokation KW03'!B187,\"\")","v":20.9}]
[{"$f":"IF('Als-Ob-Allokation KW03'!A188<>\"\",'Als-Ob-Allokation KW03'!A188,\"\")","v":"2012-07-05"},{"$f":"IF('Als-Ob-Allokation KW03'!B188<>\"\",'Als-Ob-Allokation KW03'!B188,\"\")","v":21.9}]
[{"$f":"IF('Als-Ob-Allokation KW03'!A189<>\"\",'Als-Ob-Allokation KW03'!A189,\"\")","v":"2012-07-06"},{"$f":"IF('Als-Ob-Allokation KW03'!B189<>\"\",'Als-Ob-Allokation KW03'!B189,\"\")","v":18.399999999999999}]
[{"$f":"IF('Als-Ob-Allokation KW03'!A190<>\"\",'Als-Ob-Allokation KW03'!A190,\"\")","v":"2012-07-07"},{"$f":"IF('Als-Ob-Allokation KW03'!B190<>\"\",'Als-Ob-Allokation KW03'!B190,\"\")","v":19.7}]
[{"$f":"IF('Als-Ob-Allokation KW03'!A191<>\"\",'Als-Ob-Allokation KW03'!A191,\"\")","v":"2012-07-08"},{"$f":"IF('Als-Ob-Allokation KW03'!B191<>\"\",'Als-Ob-Allokation KW03'!B191,\"\")","v":19.100000000000001}]
[{"$f":"IF('Als-Ob-Allokation KW03'!A192<>\"\",'Als-Ob-Allokation KW03'!A192,\"\")","v":"2012-07-09"},{"$f":"IF('Als-Ob-Allokation KW03'!B192<>\"\",'Als-Ob-Allokation KW03'!B192,\"\")","v":19.7}]
[{"$f":"IF('Als-Ob-Allokation KW03'!A193<>\"\",'Als-Ob-Allokation KW03'!A193,\"\")","v":"2012-07-10"},{"$f":"IF('Als-Ob-Allokation KW03'!B193<>\"\",'Als-Ob-Allokation KW03'!B193,\"\")","v":19.7}]
[{"$f":"IF('Als-Ob-Allokation KW03'!A194<>\"\",'Als-Ob-Allokation KW03'!A194,\"\")","v":"2012-07-11"},{"$f":"IF('Als-Ob-Allokation KW03'!B194<>\"\",'Als-Ob-Allokation KW03'!B194,\"\")","v":17.7}]
[{"$f":"IF('Als-Ob-Allokation KW03'!A195<>\"\",'Als-Ob-Allokation KW03'!A195,\"\")","v":"2012-07-12"},{"$f":"IF('Als-Ob-Allokation KW03'!B195<>\"\",'Als-Ob-Allokation KW03'!B195,\"\")","v":15.5}]
[{"$f":"IF('Als-Ob-Allokation KW03'!A196<>\"\",'Als-Ob-Allokation KW03'!A196,\"\")","v":"2012-07-13"},{"$f":"IF('Als-Ob-Allokation KW03'!B196<>\"\",'Als-Ob-Allokation KW03'!B196,\"\")","v":15.7}]
[{"$f":"IF('Als-Ob-Allokation KW03'!A197<>\"\",'Als-Ob-Allokation KW03'!A197,\"\")","v":"2012-07-14"},{"$f":"IF('Als-Ob-Allokation KW03'!B197<>\"\",'Als-Ob-Allokation KW03'!B197,\"\")","v":17.5}]
[{"$f":"IF('Als-Ob-Allokation KW03'!A198<>\"\",'Als-Ob-Allokation KW03'!A198,\"\")","v":"2012-07-15"},{"$f":"IF('Als-Ob-Allokation KW03'!B198<>\"\",'Als-Ob-Allokation KW03'!B198,\"\")","v":14.3}]
[{"$f":"IF('Als-Ob-Allokation KW03'!A199<>\"\",'Als-Ob-Allokation KW03'!A199,\"\")","v":"2012-07-16"},{"$f":"IF('Als-Ob-Allokation KW03'!B199<>\"\",'Als-Ob-Allokation KW03'!B199,\"\")","v":15.2}]
[{"$f":"IF('Als-Ob-Allokation KW03'!A200<>\"\",'Als-Ob-Allokation KW03'!A200,\"\")","v":"2012-07-17"},{"$f":"IF('Als-Ob-Allokation KW03'!B200<>\"\",'Als-Ob-Allokation KW03'!B200,\"\")","v":17.7}]
[{"$f":"IF('Als-Ob-Allokation KW03'!A201<>\"\",'Als-Ob-Allokation KW03'!A201,\"\")","v":"2012-07-18"},{"$f":"IF('Als-Ob-Allokation KW03'!B201<>\"\",'Als-Ob-Allokation KW03'!B201,\"\")","v":21.1}]
[{"$f":"IF('Als-Ob-Allokation KW03'!A202<>\"\",'Als-Ob-Allokation KW03'!A202,\"\")","v":"2012-07-19"},{"$f":"IF('Als-Ob-Allokation KW03'!B202<>\"\",'Als-Ob-Allokation KW03'!B202,\"\")","v":19.100000000000001}]
[{"$f":"IF('Als-Ob-Allokation KW03'!A203<>\"\",'Als-Ob-Allokation KW03'!A203,\"\")","v":"2012-07-20"},{"$f":"IF('Als-Ob-Allokation KW03'!B203<>\"\",'Als-Ob-Allokation KW03'!B203,\"\")","v":14.8}]
[{"$f":"IF('Als-Ob-Allokation KW03'!A204<>\"\",'Als-Ob-Allokation KW03'!A204,\"\")","v":"2012-07-21"},{"$f":"IF('Als-Ob-Allokation KW03'!B204<>\"\",'Als-Ob-Allokation KW03'!B204,\"\")","v":13.7}]
[{"$f":"IF('Als-Ob-Allokation KW03'!A205<>\"\",'Als-Ob-Allokation KW03'!A205,\"\")","v":"2012-07-22"},{"$f":"IF('Als-Ob-Allokation KW03'!B205<>\"\",'Als-Ob-Allokation KW03'!B205,\"\")","v":14.4}]
[{"$f":"IF('Als-Ob-Allokation KW03'!A206<>\"\",'Als-Ob-Allokation KW03'!A206,\"\")","v":"2012-07-23"},{"$f":"IF('Als-Ob-Allokation KW03'!B206<>\"\",'Als-Ob-Allokation KW03'!B206,\"\")","v":17}]
[{"$f":"IF('Als-Ob-Allokation KW03'!A207<>\"\",'Als-Ob-Allokation KW03'!A207,\"\")","v":"2012-07-24"},{"$f":"IF('Als-Ob-Allokation KW03'!B207<>\"\",'Als-Ob-Allokation KW03'!B207,\"\")","v":21}]
[{"$f":"IF('Als-Ob-Allokation KW03'!A208<>\"\",'Als-Ob-Allokation KW03'!A208,\"\")","v":"2012-07-25"},{"$f":"IF('Als-Ob-Allokation KW03'!B208<>\"\",'Als-Ob-Allokation KW03'!B208,\"\")","v":23}]
[{"$f":"IF('Als-Ob-Allokation KW03'!A209<>\"\",'Als-Ob-Allokation KW03'!A209,\"\")","v":"2012-07-26"},{"$f":"IF('Als-Ob-Allokation KW03'!B209<>\"\",'Als-Ob-Allokation KW03'!B209,\"\")","v":24.8}]
[{"$f":"IF('Als-Ob-Allokation KW03'!A210<>\"\",'Als-Ob-Allokation KW03'!A210,\"\")","v":"2012-07-27"},{"$f":"IF('Als-Ob-Allokation KW03'!B210<>\"\",'Als-Ob-Allokation KW03'!B210,\"\")","v":25.2}]
[{"$f":"IF('Als-Ob-Allokation KW03'!A211<>\"\",'Als-Ob-Allokation KW03'!A211,\"\")","v":"2012-07-28"},{"$f":"IF('Als-Ob-Allokation KW03'!B211<>\"\",'Als-Ob-Allokation KW03'!B211,\"\")","v":21.4}]
[{"$f":"IF('Als-Ob-Allokation KW03'!A212<>\"\",'Als-Ob-Allokation KW03'!A212,\"\")","v":"2012-07-29"},{"$f":"IF('Als-Ob-Allokation KW03'!B212<>\"\",'Als-Ob-Allokation KW03'!B212,\"\")","v":17.8}]
[{"$f":"IF('Als-Ob-Allokation KW03'!A213<>\"\",'Als-Ob-Allokation KW03'!A213,\"\")","v":"2012-07-30"},{"$f":"IF('Als-Ob-Allokation KW03'!B213<>\"\",'Als-Ob-Allokation KW03'!B213,\"\")","v":17.2}]
[{"$f":"IF('Als-Ob-Allokation KW03'!A214<>\"\",'Als-Ob-Allokation KW03'!A214,\"\")","v":"2012-07-31"},{"$f":"IF('Als-Ob-Allokation KW03'!B214<>\"\",'Als-Ob-Allokation KW03'!B214,\"\")","v":18.399999999999999}]
[{"$f":"IF('Als-Ob-Allokation KW03'!A215<>\"\",'Als-Ob-Allokation KW03'!A215,\"\")","v":"2012-08-01"},{"$f":"IF('Als-Ob-Allokation KW03'!B215<>\"\",'Als-Ob-Allokation KW03'!B215,\"\")","v":22.3}]
[{"$f":"IF('Als-Ob-Allokation KW03'!A216<>\"\",'Als-Ob-Allokation KW03'!A216,\"\")","v":"2012-08-02"},{"$f":"IF('Als-Ob-Allokation KW03'!B216<>\"\",'Als-Ob-Allokation KW03'!B216,\"\")","v":22}]
[{"$f":"IF('Als-Ob-Allokation KW03'!A217<>\"\",'Als-Ob-Allokation KW03'!A217,\"\")","v":"2012-08-03"},{"$f":"IF('Als-Ob-Allokation KW03'!B217<>\"\",'Als-Ob-Allokation KW03'!B217,\"\")","v":21.2}]
[{"$f":"IF('Als-Ob-Allokation KW03'!A218<>\"\",'Als-Ob-Allokation KW03'!A218,\"\")","v":"2012-08-04"},{"$f":"IF('Als-Ob-Allokation KW03'!B218<>\"\",'Als-Ob-Allokation KW03'!B218,\"\")","v":20.6}]
[{"$f":"IF('Als-Ob-Allokation KW03'!A219<>\"\",'Als-Ob-Allokation KW03'!A219,\"\")","v":"2012-08-05"},{"$f":"IF('Als-Ob-Allokation KW03'!B219<>\"\",'Als-Ob-Allokation KW03'!B219,\"\")","v":21.3}]
[{"$f":"IF('Als-Ob-Allokation KW03'!A220<>\"\",'Als-Ob-Allokation KW03'!A220,\"\")","v":"2012-08-06"},{"$f":"IF('Als-Ob-Allokation KW03'!B220<>\"\",'Als-Ob-Allokation KW03'!B220,\"\")","v":17}]
[{"$f":"IF('Als-Ob-Allokation KW03'!A221<>\"\",'Als-Ob-Allokation KW03'!A221,\"\")","v":"2012-08-07"},{"$f":"IF('Als-Ob-Allokation KW03'!B221<>\"\",'Als-Ob-Allokation KW03'!B221,\"\")","v":17.5}]
[{"$f":"IF('Als-Ob-Allokation KW03'!A222<>\"\",'Als-Ob-Allokation KW03'!A222,\"\")","v":"2012-08-08"},{"$f":"IF('Als-Ob-Allokation KW03'!B222<>\"\",'Als-Ob-Allokation KW03'!B222,\"\")","v":17.5}]
[{"$f":"IF('Als-Ob-Allokation KW03'!A223<>\"\",'Als-Ob-Allokation KW03'!A223,\"\")","v":"2012-08-09"},{"$f":"IF('Als-Ob-Allokation KW03'!B223<>\"\",'Als-Ob-Allokation KW03'!B223,\"\")","v":18.2}]
[{"$f":"IF('Als-Ob-Allokation KW03'!A224<>\"\",'Als-Ob-Allokation KW03'!A224,\"\")","v":"2012-08-10"},{"$f":"IF('Als-Ob-Allokation KW03'!B224<>\"\",'Als-Ob-Allokation KW03'!B224,\"\")","v":18.8}]
[{"$f":"IF('Als-Ob-Allokation KW03'!A225<>\"\",'Als-Ob-Allokation KW03'!A225,\"\")","v":"2012-08-11"},{"$f":"IF('Als-Ob-Allokation KW03'!B225<>\"\",'Als-Ob-Allokation KW03'!B225,\"\")","v":17.2}]
[{"$f":"IF('Als-Ob-Allokation KW03'!A226<>\"\",'Als-Ob-Allokation KW03'!A226,\"\")","v":"2012-08-12"},{"$f":"IF('Als-Ob-Allokation KW03'!B226<>\"\",'Als-Ob-Allokation KW03'!B226,\"\")","v":18}]
[{"$f":"IF('Als-Ob-Allokation KW03'!A227<>\"\",'Als-Ob-Allokation KW03'!A227,\"\")","v":"2012-08-13"},{"$f":"IF('Als-Ob-Allokation KW03'!B227<>\"\",'Als-Ob-Allokation KW03'!B227,\"\")","v":20.2}]
[{"$f":"IF('Als-Ob-Allokation KW03'!A228<>\"\",'Als-Ob-Allokation KW03'!A228,\"\")","v":"2012-08-14"},{"$f":"IF('Als-Ob-Allokation KW03'!B228<>\"\",'Als-Ob-Allokation KW03'!B228,\"\")","v":21.6}]
[{"$f":"IF('Als-Ob-Allokation KW03'!A229<>\"\",'Als-Ob-Allokation KW03'!A229,\"\")","v":"2012-08-15"},{"$f":"IF('Als-Ob-Allokation KW03'!B229<>\"\",'Als-Ob-Allokation KW03'!B229,\"\")","v":24}]
[{"$f":"IF('Als-Ob-Allokation KW03'!A230<>\"\",'Als-Ob-Allokation KW03'!A230,\"\")","v":"2012-08-16"},{"$f":"IF('Als-Ob-Allokation KW03'!B230<>\"\",'Als-Ob-Allokation KW03'!B230,\"\")","v":18.899999999999999}]
[{"$f":"IF('Als-Ob-Allokation KW03'!A231<>\"\",'Als-Ob-Allokation KW03'!A231,\"\")","v":"2012-08-17"},{"$f":"IF('Als-Ob-Allokation KW03'!B231<>\"\",'Als-Ob-Allokation KW03'!B231,\"\")","v":20.2}]
[{"$f":"IF('Als-Ob-Allokation KW03'!A232<>\"\",'Als-Ob-Allokation KW03'!A232,\"\")","v":"2012-08-18"},{"$f":"IF('Als-Ob-Allokation KW03'!B232<>\"\",'Als-Ob-Allokation KW03'!B232,\"\")","v":23.4}]
[{"$f":"IF('Als-Ob-Allokation KW03'!A233<>\"\",'Als-Ob-Allokation KW03'!A233,\"\")","v":"2012-08-19"},{"$f":"IF('Als-Ob-Allokation KW03'!B233<>\"\",'Als-Ob-Allokation KW03'!B233,\"\")","v":25.7}]
[{"$f":"IF('Als-Ob-Allokation KW03'!A234<>\"\",'Als-Ob-Allokation KW03'!A234,\"\")","v":"2012-08-20"},{"$f":"IF('Als-Ob-Allokation KW03'!B234<>\"\",'Als-Ob-Allokation KW03'!B234,\"\")","v":26}]
[{"$f":"IF('Als-Ob-Allokation KW03'!A235<>\"\",'Als-Ob-Allokation KW03'!A235,\"\")","v":"2012-08-21"},{"$f":"IF('Als-Ob-Allokation KW03'!B235<>\"\",'Als-Ob-Allokation KW03'!B235,\"\")","v":26.3}]
[{"$f":"IF('Als-Ob-Allokation KW03'!A236<>\"\",'Als-Ob-Allokation KW03'!A236,\"\")","v":"2012-08-22"},{"$f":"IF('Als-Ob-Allokation KW03'!B236<>\"\",'Als-Ob-Allokation KW03'!B236,\"\")","v":23.7}]
[{"$f":"IF('Als-Ob-Allokation KW03'!A237<>\"\",'Als-Ob-Allokation KW03'!A237,\"\")","v":"2012-08-23"},{"$f":"IF('Als-Ob-Allokation KW03'!B237<>\"\",'Als-Ob-Allokation KW03'!B237,\"\")","v":21.2}]
[{"$f":"IF('Als-Ob-Allokation KW03'!A238<>\"\",'Als-Ob-Allokation KW03'!A238,\"\")","v":"2012-08-24"},{"$f":"IF('Als-Ob-Allokation KW03'!B238<>\"\",'Als-Ob-Allokation KW03'!B238,\"\")","v":19.600000000000001}]
[{"$f":"IF('Als-Ob-Allokation KW03'!A239<>\"\",'Als-Ob-Allokation KW03'!A239,\"\")","v":"2012-08-25"},{"$f":"IF('Als-Ob-Allokation KW03'!B239<>\"\",'Als-Ob-Allokation KW03'!B239,\"\")","v":20.2}]
[{"$f":"IF('Als-Ob-Allokation KW03'!A240<>\"\",'Als-Ob-Allokation KW03'!A240,\"\")","v":"2012-08-26"},{"$f":"IF('Als-Ob-Allokation KW03'!B240<>\"\",'Als-Ob-Allokation KW03'!B240,\"\")","v":16}]
[{"$f":"IF('Als-Ob-Allokation KW03'!A241<>\"\",'Als-Ob-Allokation KW03'!A241,\"\")","v":"2012-08-27"},{"$f":"IF('Als-Ob-Allokation KW03'!B241<>\"\",'Als-Ob-Allokation KW03'!B241,\"\")","v":16.8}]
[{"$f":"IF('Als-Ob-Allokation KW03'!A242<>\"\",'Als-Ob-Allokation KW03'!A242,\"\")","v":"2012-08-28"},{"$f":"IF('Als-Ob-Allokation KW03'!B242<>\"\",'Als-Ob-Allokation KW03'!B242,\"\")","v":19.100000000000001}]
[{"$f":"IF('Als-Ob-Allokation KW03'!A243<>\"\",'Als-Ob-Allokation KW03'!A243,\"\")","v":"2012-08-29"},{"$f":"IF('Als-Ob-Allokation KW03'!B243<>\"\",'Als-Ob-Allokation KW03'!B243,\"\")","v":21.7}]
[{"$f":"IF('Als-Ob-Allokation KW03'!A244<>\"\",'Als-Ob-Allokation KW03'!A244,\"\")","v":"2012-08-30"},{"$f":"IF('Als-Ob-Allokation KW03'!B244<>\"\",'Als-Ob-Allokation KW03'!B244,\"\")","v":18.100000000000001}]
[{"$f":"IF('Als-Ob-Allokation KW03'!A245<>\"\",'Als-Ob-Allokation KW03'!A245,\"\")","v":"2012-08-31"},{"$f":"IF('Als-Ob-Allokation KW03'!B245<>\"\",'Als-Ob-Allokation KW03'!B245,\"\")","v":14.6}]
[{"$f":"IF('Als-Ob-Allokation KW03'!A246<>\"\",'Als-Ob-Allokation KW03'!A246,\"\")","v":"2012-09-01"},{"$f":"IF('Als-Ob-Allokation KW03'!B246<>\"\",'Als-Ob-Allokation KW03'!B246,\"\")","v":14.1}]
[{"$f":"IF('Als-Ob-Allokation KW03'!A247<>\"\",'Als-Ob-Allokation KW03'!A247,\"\")","v":"2012-09-02"},{"$f":"IF('Als-Ob-Allokation KW03'!B247<>\"\",'Als-Ob-Allokation KW03'!B247,\"\")","v":15.6}]
[{"$f":"IF('Als-Ob-Allokation KW03'!A248<>\"\",'Als-Ob-Allokation KW03'!A248,\"\")","v":"2012-09-03"},{"$f":"IF('Als-Ob-Allokation KW03'!B248<>\"\",'Als-Ob-Allokation KW03'!B248,\"\")","v":18.8}]
[{"$f":"IF('Als-Ob-Allokation KW03'!A249<>\"\",'Als-Ob-Allokation KW03'!A249,\"\")","v":"2012-09-04"},{"$f":"IF('Als-Ob-Allokation KW03'!B249<>\"\",'Als-Ob-Allokation KW03'!B249,\"\")","v":18.8}]
[{"$f":"IF('Als-Ob-Allokation KW03'!A250<>\"\",'Als-Ob-Allokation KW03'!A250,\"\")","v":"2012-09-05"},{"$f":"IF('Als-Ob-Allokation KW03'!B250<>\"\",'Als-Ob-Allokation KW03'!B250,\"\")","v":18.2}]
[{"$f":"IF('Als-Ob-Allokation KW03'!A251<>\"\",'Als-Ob-Allokation KW03'!A251,\"\")","v":"2012-09-06"},{"$f":"IF('Als-Ob-Allokation KW03'!B251<>\"\",'Als-Ob-Allokation KW03'!B251,\"\")","v":16.2}]
[{"$f":"IF('Als-Ob-Allokation KW03'!A252<>\"\",'Als-Ob-Allokation KW03'!A252,\"\")","v":"2012-09-07"},{"$f":"IF('Als-Ob-Allokation KW03'!B252<>\"\",'Als-Ob-Allokation KW03'!B252,\"\")","v":15.9}]
[{"$f":"IF('Als-Ob-Allokation KW03'!A253<>\"\",'Als-Ob-Allokation KW03'!A253,\"\")","v":"2012-09-08"},{"$f":"IF('Als-Ob-Allokation KW03'!B253<>\"\",'Als-Ob-Allokation KW03'!B253,\"\")","v":17.8}]
[{"$f":"IF('Als-Ob-Allokation KW03'!A254<>\"\",'Als-Ob-Allokation KW03'!A254,\"\")","v":"2012-09-09"},{"$f":"IF('Als-Ob-Allokation KW03'!B254<>\"\",'Als-Ob-Allokation KW03'!B254,\"\")","v":19.600000000000001}]
[{"$f":"IF('Als-Ob-Allokation KW03'!A255<>\"\",'Als-Ob-Allokation KW03'!A255,\"\")","v":"2012-09-10"},{"$f":"IF('Als-Ob-Allokation KW03'!B255<>\"\",'Als-Ob-Allokation KW03'!B255,\"\")","v":21.6}]
[{"$f":"IF('Als-Ob-Allokation KW03'!A256<>\"\",'Als-Ob-Allokation KW03'!A256,\"\")","v":"2012-09-11"},{"$f":"IF('Als-Ob-Allokation KW03'!B256<>\"\",'Als-Ob-Allokation KW03'!B256,\"\")","v":18.5}]
[{"$f":"IF('Als-Ob-Allokation KW03'!A257<>\"\",'Als-Ob-Allokation KW03'!A257,\"\")","v":"2012-09-12"},{"$f":"IF('Als-Ob-Allokation KW03'!B257<>\"\",'Als-Ob-Allokation KW03'!B257,\"\")","v":12.3}]
[{"$f":"IF('Als-Ob-Allokation KW03'!A258<>\"\",'Als-Ob-Allokation KW03'!A258,\"\")","v":"2012-09-13"},{"$f":"IF('Als-Ob-Allokation KW03'!B258<>\"\",'Als-Ob-Allokation KW03'!B258,\"\")","v":11}]
[{"$f":"IF('Als-Ob-Allokation KW03'!A259<>\"\",'Als-Ob-Allokation KW03'!A259,\"\")","v":"2012-09-14"},{"$f":"IF('Als-Ob-Allokation KW03'!B259<>\"\",'Als-Ob-Allokation KW03'!B259,\"\")","v":12.4}]
[{"$f":"IF('Als-Ob-Allokation KW03'!A260<>\"\",'Als-Ob-Allokation KW03'!A260,\"\")","v":"2012-09-15"},{"$f":"IF('Als-Ob-Allokation KW03'!B260<>\"\",'Als-Ob-Allokation KW03'!B260,\"\")","v":13.6}]
[{"$f":"IF('Als-Ob-Allokation KW03'!A261<>\"\",'Als-Ob-Allokation KW03'!A261,\"\")","v":"2012-09-16"},{"$f":"IF('Als-Ob-Allokation KW03'!B261<>\"\",'Als-Ob-Allokation KW03'!B261,\"\")","v":13.8}]
[{"$f":"IF('Als-Ob-Allokation KW03'!A262<>\"\",'Als-Ob-Allokation KW03'!A262,\"\")","v":"2012-09-17"},{"$f":"IF('Als-Ob-Allokation KW03'!B262<>\"\",'Als-Ob-Allokation KW03'!B262,\"\")","v":16.2}]
[{"$f":"IF('Als-Ob-Allokation KW03'!A263<>\"\",'Als-Ob-Allokation KW03'!A263,\"\")","v":"2012-09-18"},{"$f":"IF('Als-Ob-Allokation KW03'!B263<>\"\",'Als-Ob-Allokation KW03'!B263,\"\")","v":16.899999999999999}]
[{"$f":"IF('Als-Ob-Allokation KW03'!A264<>\"\",'Als-Ob-Allokation KW03'!A264,\"\")","v":"2012-09-19"},{"$f":"IF('Als-Ob-Allokation KW03'!B264<>\"\",'Als-Ob-Allokation KW03'!B264,\"\")","v":11.8}]
[{"$f":"IF('Als-Ob-Allokation KW03'!A265<>\"\",'Als-Ob-Allokation KW03'!A265,\"\")","v":"2012-09-20"},{"$f":"IF('Als-Ob-Allokation KW03'!B265<>\"\",'Als-Ob-Allokation KW03'!B265,\"\")","v":9.8000000000000007}]
[{"$f":"IF('Als-Ob-Allokation KW03'!A266<>\"\",'Als-Ob-Allokation KW03'!A266,\"\")","v":"2012-09-21"},{"$f":"IF('Als-Ob-Allokation KW03'!B266<>\"\",'Als-Ob-Allokation KW03'!B266,\"\")","v":13.2}]
[{"$f":"IF('Als-Ob-Allokation KW03'!A267<>\"\",'Als-Ob-Allokation KW03'!A267,\"\")","v":"2012-09-22"},{"$f":"IF('Als-Ob-Allokation KW03'!B267<>\"\",'Als-Ob-Allokation KW03'!B267,\"\")","v":12.8}]
[{"$f":"IF('Als-Ob-Allokation KW03'!A268<>\"\",'Als-Ob-Allokation KW03'!A268,\"\")","v":"2012-09-23"},{"$f":"IF('Als-Ob-Allokation KW03'!B268<>\"\",'Als-Ob-Allokation KW03'!B268,\"\")","v":14.3}]
[{"$f":"IF('Als-Ob-Allokation KW03'!A269<>\"\",'Als-Ob-Allokation KW03'!A269,\"\")","v":"2012-09-24"},{"$f":"IF('Als-Ob-Allokation KW03'!B269<>\"\",'Als-Ob-Allokation KW03'!B269,\"\")","v":15.9}]
[{"$f":"IF('Als-Ob-Allokation KW03'!A270<>\"\",'Als-Ob-Allokation KW03'!A270,\"\")","v":"2012-09-25"},{"$f":"IF('Als-Ob-Allokation KW03'!B270<>\"\",'Als-Ob-Allokation KW03'!B270,\"\")","v":13.5}]
[{"$f":"IF('Als-Ob-Allokation KW03'!A271<>\"\",'Als-Ob-Allokation KW03'!A271,\"\")","v":"2012-09-26"},{"$f":"IF('Als-Ob-Allokation KW03'!B271<>\"\",'Als-Ob-Allokation KW03'!B271,\"\")","v":12.7}]
[{"$f":"IF('Als-Ob-Allokation KW03'!A272<>\"\",'Als-Ob-Allokation KW03'!A272,\"\")","v":"2012-09-27"},{"$f":"IF('Als-Ob-Allokation KW03'!B272<>\"\",'Als-Ob-Allokation KW03'!B272,\"\")","v":12.3}]
[{"$f":"IF('Als-Ob-Allokation KW03'!A273<>\"\",'Als-Ob-Allokation KW03'!A273,\"\")","v":"2012-09-28"},{"$f":"IF('Als-Ob-Allokation KW03'!B273<>\"\",'Als-Ob-Allokation KW03'!B273,\"\")","v":13}]
[{"$f":"IF('Als-Ob-Allokation KW03'!A274<>\"\",'Als-Ob-Allokation KW03'!A274,\"\")","v":"2012-09-29"},{"$f":"IF('Als-Ob-Allokation KW03'!B274<>\"\",'Als-Ob-Allokation KW03'!B274,\"\")","v":10.199999999999999}]
[{"$f":"IF('Als-Ob-Allokation KW03'!A275<>\"\",'Als-Ob-Allokation KW03'!A275,\"\")","v":"2012-09-30"},{"$f":"IF('Als-Ob-Allokation KW03'!B275<>\"\",'Als-Ob-Allokation KW03'!B275,\"\")","v":10.5}]
[{"$f":"IF('Als-Ob-Allokation KW03'!A276<>\"\",'Als-Ob-Allokation KW03'!A276,\"\")","v":"2012-10-01"},{"$f":"IF('Als-Ob-Allokation KW03'!B276<>\"\",'Als-Ob-Allokation KW03'!B276,\"\")","v":12.7}]
[{"$f":"IF('Als-Ob-Allokation KW03'!A277<>\"\",'Als-Ob-Allokation KW03'!A277,\"\")","v":"2012-10-02"},{"$f":"IF('Als-Ob-Allokation KW03'!B277<>\"\",'Als-Ob-Allokation KW03'!B277,\"\")","v":12.8}]
[{"$f":"IF('Als-Ob-Allokation KW03'!A278<>\"\",'Als-Ob-Allokation KW03'!A278,\"\")","v":"2012-10-03"},{"$f":"IF('Als-Ob-Allokation KW03'!B278<>\"\",'Als-Ob-Allokation KW03'!B278,\"\")","v":12.8}]
[{"$f":"IF('Als-Ob-Allokation KW03'!A279<>\"\",'Als-Ob-Allokation KW03'!A279,\"\")","v":"2012-10-04"},{"$f":"IF('Als-Ob-Allokation KW03'!B279<>\"\",'Als-Ob-Allokation KW03'!B279,\"\")","v":13}]
[{"$f":"IF('Als-Ob-Allokation KW03'!A280<>\"\",'Als-Ob-Allokation KW03'!A280,\"\")","v":"2012-10-05"},{"$f":"IF('Als-Ob-Allokation KW03'!B280<>\"\",'Als-Ob-Allokation KW03'!B280,\"\")","v":13.7}]
[{"$f":"IF('Als-Ob-Allokation KW03'!A281<>\"\",'Als-Ob-Allokation KW03'!A281,\"\")","v":"2012-10-06"},{"$f":"IF('Als-Ob-Allokation KW03'!B281<>\"\",'Als-Ob-Allokation KW03'!B281,\"\")","v":15.5}]
[{"$f":"IF('Als-Ob-Allokation KW03'!A282<>\"\",'Als-Ob-Allokation KW03'!A282,\"\")","v":"2012-10-07"},{"$f":"IF('Als-Ob-Allokation KW03'!B282<>\"\",'Als-Ob-Allokation KW03'!B282,\"\")","v":11.2}]
[{"$f":"IF('Als-Ob-Allokation KW03'!A283<>\"\",'Als-Ob-Allokation KW03'!A283,\"\")","v":"2012-10-08"},{"$f":"IF('Als-Ob-Allokation KW03'!B283<>\"\",'Als-Ob-Allokation KW03'!B283,\"\")","v":8}]
[{"$f":"IF('Als-Ob-Allokation KW03'!A284<>\"\",'Als-Ob-Allokation KW03'!A284,\"\")","v":"2012-10-09"},{"$f":"IF('Als-Ob-Allokation KW03'!B284<>\"\",'Als-Ob-Allokation KW03'!B284,\"\")","v":11.7}]
[{"$f":"IF('Als-Ob-Allokation KW03'!A285<>\"\",'Als-Ob-Allokation KW03'!A285,\"\")","v":"2012-10-10"},{"$f":"IF('Als-Ob-Allokation KW03'!B285<>\"\",'Als-Ob-Allokation KW03'!B285,\"\")","v":9.5}]
[{"$f":"IF('Als-Ob-Allokation KW03'!A286<>\"\",'Als-Ob-Allokation KW03'!A286,\"\")","v":"2012-10-11"},{"$f":"IF('Als-Ob-Allokation KW03'!B286<>\"\",'Als-Ob-Allokation KW03'!B286,\"\")","v":10.7}]
[{"$f":"IF('Als-Ob-Allokation KW03'!A287<>\"\",'Als-Ob-Allokation KW03'!A287,\"\")","v":"2012-10-12"},{"$f":"IF('Als-Ob-Allokation KW03'!B287<>\"\",'Als-Ob-Allokation KW03'!B287,\"\")","v":10.7}]
[{"$f":"IF('Als-Ob-Allokation KW03'!A288<>\"\",'Als-Ob-Allokation KW03'!A288,\"\")","v":"2012-10-13"},{"$f":"IF('Als-Ob-Allokation KW03'!B288<>\"\",'Als-Ob-Allokation KW03'!B288,\"\")","v":8.6}]
[{"$f":"IF('Als-Ob-Allokation KW03'!A289<>\"\",'Als-Ob-Allokation KW03'!A289,\"\")","v":"2012-10-14"},{"$f":"IF('Als-Ob-Allokation KW03'!B289<>\"\",'Als-Ob-Allokation KW03'!B289,\"\")","v":9.9}]
[{"$f":"IF('Als-Ob-Allokation KW03'!A290<>\"\",'Als-Ob-Allokation KW03'!A290,\"\")","v":"2012-10-15"},{"$f":"IF('Als-Ob-Allokation KW03'!B290<>\"\",'Als-Ob-Allokation KW03'!B290,\"\")","v":7.8}]
[{"$f":"IF('Als-Ob-Allokation KW03'!A291<>\"\",'Als-Ob-Allokation KW03'!A291,\"\")","v":"2012-10-16"},{"$f":"IF('Als-Ob-Allokation KW03'!B291<>\"\",'Als-Ob-Allokation KW03'!B291,\"\")","v":8.1999999999999993}]
[{"$f":"IF('Als-Ob-Allokation KW03'!A292<>\"\",'Als-Ob-Allokation KW03'!A292,\"\")","v":"2012-10-17"},{"$f":"IF('Als-Ob-Allokation KW03'!B292<>\"\",'Als-Ob-Allokation KW03'!B292,\"\")","v":12.2}]
[{"$f":"IF('Als-Ob-Allokation KW03'!A293<>\"\",'Als-Ob-Allokation KW03'!A293,\"\")","v":"2012-10-18"},{"$f":"IF('Als-Ob-Allokation KW03'!B293<>\"\",'Als-Ob-Allokation KW03'!B293,\"\")","v":11.8}]
[{"$f":"IF('Als-Ob-Allokation KW03'!A294<>\"\",'Als-Ob-Allokation KW03'!A294,\"\")","v":"2012-10-19"},{"$f":"IF('Als-Ob-Allokation KW03'!B294<>\"\",'Als-Ob-Allokation KW03'!B294,\"\")","v":13.7}]
[{"$f":"IF('Als-Ob-Allokation KW03'!A295<>\"\",'Als-Ob-Allokation KW03'!A295,\"\")","v":"2012-10-20"},{"$f":"IF('Als-Ob-Allokation KW03'!B295<>\"\",'Als-Ob-Allokation KW03'!B295,\"\")","v":13.2}]
[{"$f":"IF('Als-Ob-Allokation KW03'!A296<>\"\",'Als-Ob-Allokation KW03'!A296,\"\")","v":"2012-10-21"},{"$f":"IF('Als-Ob-Allokation KW03'!B296<>\"\",'Als-Ob-Allokation KW03'!B296,\"\")","v":11.9}]
[{"$f":"IF('Als-Ob-Allokation KW03'!A297<>\"\",'Als-Ob-Allokation KW03'!A297,\"\")","v":"2012-10-22"},{"$f":"IF('Als-Ob-Allokation KW03'!B297<>\"\",'Als-Ob-Allokation KW03'!B297,\"\")","v":10.4}]
[{"$f":"IF('Als-Ob-Allokation KW03'!A298<>\"\",'Als-Ob-Allokation KW03'!A298,\"\")","v":"2012-10-23"},{"$f":"IF('Als-Ob-Allokation KW03'!B298<>\"\",'Als-Ob-Allokation KW03'!B298,\"\")","v":8.1}]
[{"$f":"IF('Als-Ob-Allokation KW03'!A299<>\"\",'Als-Ob-Allokation KW03'!A299,\"\")","v":"2012-10-24"},{"$f":"IF('Als-Ob-Allokation KW03'!B299<>\"\",'Als-Ob-Allokation KW03'!B299,\"\")","v":8.6999999999999993}]
[{"$f":"IF('Als-Ob-Allokation KW03'!A300<>\"\",'Als-Ob-Allokation KW03'!A300,\"\")","v":"2012-10-25"},{"$f":"IF('Als-Ob-Allokation KW03'!B300<>\"\",'Als-Ob-Allokation KW03'!B300,\"\")","v":7.7}]
[{"$f":"IF('Als-Ob-Allokation KW03'!A301<>\"\",'Als-Ob-Allokation KW03'!A301,\"\")","v":"2012-10-26"},{"$f":"IF('Als-Ob-Allokation KW03'!B301<>\"\",'Als-Ob-Allokation KW03'!B301,\"\")","v":8}]
[{"$f":"IF('Als-Ob-Allokation KW03'!A302<>\"\",'Als-Ob-Allokation KW03'!A302,\"\")","v":"2012-10-27"},{"$f":"IF('Als-Ob-Allokation KW03'!B302<>\"\",'Als-Ob-Allokation KW03'!B302,\"\")","v":1.2}]
[{"$f":"IF('Als-Ob-Allokation KW03'!A303<>\"\",'Als-Ob-Allokation KW03'!A303,\"\")","v":"2012-10-28"},{"$f":"IF('Als-Ob-Allokation KW03'!B303<>\"\",'Als-Ob-Allokation KW03'!B303,\"\")","v":0.3}]
[{"$f":"IF('Als-Ob-Allokation KW03'!A304<>\"\",'Als-Ob-Allokation KW03'!A304,\"\")","v":"2012-10-29"},{"$f":"IF('Als-Ob-Allokation KW03'!B304<>\"\",'Als-Ob-Allokation KW03'!B304,\"\")","v":-0.2}]
[{"$f":"IF('Als-Ob-Allokation KW03'!A305<>\"\",'Als-Ob-Allokation KW03'!A305,\"\")","v":"2012-10-30"},{"$f":"IF('Als-Ob-Allokation KW03'!B305<>\"\",'Als-Ob-Allokation KW03'!B305,\"\")","v":4.4000000000000004}]
[{"$f":"IF('Als-Ob-Allokation KW03'!A306<>\"\",'Als-Ob-Allokation KW03'!A306,\"\")","v":"2012-10-31"},{"$f":"IF('Als-Ob-Allokation KW03'!B306<>\"\",'Als-Ob-Allokation KW03'!B306,\"\")","v":4.4000000000000004}]
[{"$f":"IF('Als-Ob-Allokation KW03'!A307<>\"\",'Als-Ob-Allokation KW03'!A307,\"\")","v":"2012-11-01"},{"$f":"IF('Als-Ob-Allokation KW03'!B307<>\"\",'Als-Ob-Allokation KW03'!B307,\"\")","v":8.1999999999999993}]
[{"$f":"IF('Als-Ob-Allokation KW03'!A308<>\"\",'Als-Ob-Allokation KW03'!A308,\"\")","v":"2012-11-02"},{"$f":"IF('Als-Ob-Allokation KW03'!B308<>\"\",'Als-Ob-Allokation KW03'!B308,\"\")","v":8}]
[{"$f":"IF('Als-Ob-Allokation KW03'!A309<>\"\",'Als-Ob-Allokation KW03'!A309,\"\")","v":"2012-11-03"},{"$f":"IF('Als-Ob-Allokation KW03'!B309<>\"\",'Als-Ob-Allokation KW03'!B309,\"\")","v":10.3}]
[{"$f":"IF('Als-Ob-Allokation KW03'!A310<>\"\",'Als-Ob-Allokation KW03'!A310,\"\")","v":"2012-11-04"},{"$f":"IF('Als-Ob-Allokation KW03'!B310<>\"\",'Als-Ob-Allokation KW03'!B310,\"\")","v":9}]
[{"$f":"IF('Als-Ob-Allokation KW03'!A311<>\"\",'Als-Ob-Allokation KW03'!A311,\"\")","v":"2012-11-05"},{"$f":"IF('Als-Ob-Allokation KW03'!B311<>\"\",'Als-Ob-Allokation KW03'!B311,\"\")","v":6.8}]
[{"$f":"IF('Als-Ob-Allokation KW03'!A312<>\"\",'Als-Ob-Allokation KW03'!A312,\"\")","v":"2012-11-06"},{"$f":"IF('Als-Ob-Allokation KW03'!B312<>\"\",'Als-Ob-Allokation KW03'!B312,\"\")","v":5.2}]
[{"$f":"IF('Als-Ob-Allokation KW03'!A313<>\"\",'Als-Ob-Allokation KW03'!A313,\"\")","v":"2012-11-07"},{"$f":"IF('Als-Ob-Allokation KW03'!B313<>\"\",'Als-Ob-Allokation KW03'!B313,\"\")","v":6.4}]
[{"$f":"IF('Als-Ob-Allokation KW03'!A314<>\"\",'Als-Ob-Allokation KW03'!A314,\"\")","v":"2012-11-08"},{"$f":"IF('Als-Ob-Allokation KW03'!B314<>\"\",'Als-Ob-Allokation KW03'!B314,\"\")","v":7.2}]
[{"$f":"IF('Als-Ob-Allokation KW03'!A315<>\"\",'Als-Ob-Allokation KW03'!A315,\"\")","v":"2012-11-09"},{"$f":"IF('Als-Ob-Allokation KW03'!B315<>\"\",'Als-Ob-Allokation KW03'!B315,\"\")","v":4.4000000000000004}]
[{"$f":"IF('Als-Ob-Allokation KW03'!A316<>\"\",'Als-Ob-Allokation KW03'!A316,\"\")","v":"2012-11-10"},{"$f":"IF('Als-Ob-Allokation KW03'!B316<>\"\",'Als-Ob-Allokation KW03'!B316,\"\")","v":8.9}]
[{"$f":"IF('Als-Ob-Allokation KW03'!A317<>\"\",'Als-Ob-Allokation KW03'!A317,\"\")","v":"2012-11-11"},{"$f":"IF('Als-Ob-Allokation KW03'!B317<>\"\",'Als-Ob-Allokation KW03'!B317,\"\")","v":8.6999999999999993}]
[{"$f":"IF('Als-Ob-Allokation KW03'!A318<>\"\",'Als-Ob-Allokation KW03'!A318,\"\")","v":"2012-11-12"},{"$f":"IF('Als-Ob-Allokation KW03'!B318<>\"\",'Als-Ob-Allokation KW03'!B318,\"\")","v":6.4}]
[{"$f":"IF('Als-Ob-Allokation KW03'!A319<>\"\",'Als-Ob-Allokation KW03'!A319,\"\")","v":"2012-11-13"},{"$f":"IF('Als-Ob-Allokation KW03'!B319<>\"\",'Als-Ob-Allokation KW03'!B319,\"\")","v":4.7}]
[{"$f":"IF('Als-Ob-Allokation KW03'!A320<>\"\",'Als-Ob-Allokation KW03'!A320,\"\")","v":"2012-11-14"},{"$f":"IF('Als-Ob-Allokation KW03'!B320<>\"\",'Als-Ob-Allokation KW03'!B320,\"\")","v":6.1}]
[{"$f":"IF('Als-Ob-Allokation KW03'!A321<>\"\",'Als-Ob-Allokation KW03'!A321,\"\")","v":"2012-11-15"},{"$f":"IF('Als-Ob-Allokation KW03'!B321<>\"\",'Als-Ob-Allokation KW03'!B321,\"\")","v":4.3}]
[{"$f":"IF('Als-Ob-Allokation KW03'!A322<>\"\",'Als-Ob-Allokation KW03'!A322,\"\")","v":"2012-11-16"},{"$f":"IF('Als-Ob-Allokation KW03'!B322<>\"\",'Als-Ob-Allokation KW03'!B322,\"\")","v":2.5}]
[{"$f":"IF('Als-Ob-Allokation KW03'!A323<>\"\",'Als-Ob-Allokation KW03'!A323,\"\")","v":"2012-11-17"},{"$f":"IF('Als-Ob-Allokation KW03'!B323<>\"\",'Als-Ob-Allokation KW03'!B323,\"\")","v":2.8}]
[{"$f":"IF('Als-Ob-Allokation KW03'!A324<>\"\",'Als-Ob-Allokation KW03'!A324,\"\")","v":"2012-11-18"},{"$f":"IF('Als-Ob-Allokation KW03'!B324<>\"\",'Als-Ob-Allokation KW03'!B324,\"\")","v":5.6}]
[{"$f":"IF('Als-Ob-Allokation KW03'!A325<>\"\",'Als-Ob-Allokation KW03'!A325,\"\")","v":"2012-11-19"},{"$f":"IF('Als-Ob-Allokation KW03'!B325<>\"\",'Als-Ob-Allokation KW03'!B325,\"\")","v":2.7}]
[{"$f":"IF('Als-Ob-Allokation KW03'!A326<>\"\",'Als-Ob-Allokation KW03'!A326,\"\")","v":"2012-11-20"},{"$f":"IF('Als-Ob-Allokation KW03'!B326<>\"\",'Als-Ob-Allokation KW03'!B326,\"\")","v":2.7}]
[{"$f":"IF('Als-Ob-Allokation KW03'!A327<>\"\",'Als-Ob-Allokation KW03'!A327,\"\")","v":"2012-11-21"},{"$f":"IF('Als-Ob-Allokation KW03'!B327<>\"\",'Als-Ob-Allokation KW03'!B327,\"\")","v":3.4}]
[{"$f":"IF('Als-Ob-Allokation KW03'!A328<>\"\",'Als-Ob-Allokation KW03'!A328,\"\")","v":"2012-11-22"},{"$f":"IF('Als-Ob-Allokation KW03'!B328<>\"\",'Als-Ob-Allokation KW03'!B328,\"\")","v":5.7}]
[{"$f":"IF('Als-Ob-Allokation KW03'!A329<>\"\",'Als-Ob-Allokation KW03'!A329,\"\")","v":"2012-11-23"},{"$f":"IF('Als-Ob-Allokation KW03'!B329<>\"\",'Als-Ob-Allokation KW03'!B329,\"\")","v":6.6}]
[{"$f":"IF('Als-Ob-Allokation KW03'!A330<>\"\",'Als-Ob-Allokation KW03'!A330,\"\")","v":"2012-11-24"},{"$f":"IF('Als-Ob-Allokation KW03'!B330<>\"\",'Als-Ob-Allokation KW03'!B330,\"\")","v":6.9}]
[{"$f":"IF('Als-Ob-Allokation KW03'!A331<>\"\",'Als-Ob-Allokation KW03'!A331,\"\")","v":"2012-11-25"},{"$f":"IF('Als-Ob-Allokation KW03'!B331<>\"\",'Als-Ob-Allokation KW03'!B331,\"\")","v":9.5}]
[{"$f":"IF('Als-Ob-Allokation KW03'!A332<>\"\",'Als-Ob-Allokation KW03'!A332,\"\")","v":"2012-11-26"},{"$f":"IF('Als-Ob-Allokation KW03'!B332<>\"\",'Als-Ob-Allokation KW03'!B332,\"\")","v":8.6}]
[{"$f":"IF('Als-Ob-Allokation KW03'!A333<>\"\",'Als-Ob-Allokation KW03'!A333,\"\")","v":"2012-11-27"},{"$f":"IF('Als-Ob-Allokation KW03'!B333<>\"\",'Als-Ob-Allokation KW03'!B333,\"\")","v":6.8}]
[{"$f":"IF('Als-Ob-Allokation KW03'!A334<>\"\",'Als-Ob-Allokation KW03'!A334,\"\")","v":"2012-11-28"},{"$f":"IF('Als-Ob-Allokation KW03'!B334<>\"\",'Als-Ob-Allokation KW03'!B334,\"\")","v":5.0999999999999996}]
[{"$f":"IF('Als-Ob-Allokation KW03'!A335<>\"\",'Als-Ob-Allokation KW03'!A335,\"\")","v":"2012-11-29"},{"$f":"IF('Als-Ob-Allokation KW03'!B335<>\"\",'Als-Ob-Allokation KW03'!B335,\"\")","v":2.1}]
[{"$f":"IF('Als-Ob-Allokation KW03'!A336<>\"\",'Als-Ob-Allokation KW03'!A336,\"\")","v":"2012-11-30"},{"$f":"IF('Als-Ob-Allokation KW03'!B336<>\"\",'Als-Ob-Allokation KW03'!B336,\"\")","v":0.8}]
[{"$f":"IF('Als-Ob-Allokation KW03'!A337<>\"\",'Als-Ob-Allokation KW03'!A337,\"\")","v":"2012-12-01"},{"$f":"IF('Als-Ob-Allokation KW03'!B337<>\"\",'Als-Ob-Allokation KW03'!B337,\"\")","v":-2.8}]
[{"$f":"IF('Als-Ob-Allokation KW03'!A338<>\"\",'Als-Ob-Allokation KW03'!A338,\"\")","v":"2012-12-02"},{"$f":"IF('Als-Ob-Allokation KW03'!B338<>\"\",'Als-Ob-Allokation KW03'!B338,\"\")","v":-0.5}]
[{"$f":"IF('Als-Ob-Allokation KW03'!A339<>\"\",'Als-Ob-Allokation KW03'!A339,\"\")","v":"2012-12-03"},{"$f":"IF('Als-Ob-Allokation KW03'!B339<>\"\",'Als-Ob-Allokation KW03'!B339,\"\")","v":1}]
[{"$f":"IF('Als-Ob-Allokation KW03'!A340<>\"\",'Als-Ob-Allokation KW03'!A340,\"\")","v":"2012-12-04"},{"$f":"IF('Als-Ob-Allokation KW03'!B340<>\"\",'Als-Ob-Allokation KW03'!B340,\"\")","v":2.9}]
[{"$f":"IF('Als-Ob-Allokation KW03'!A341<>\"\",'Als-Ob-Allokation KW03'!A341,\"\")","v":"2012-12-05"},{"$f":"IF('Als-Ob-Allokation KW03'!B341<>\"\",'Als-Ob-Allokation KW03'!B341,\"\")","v":1.8}]
[{"$f":"IF('Als-Ob-Allokation KW03'!A342<>\"\",'Als-Ob-Allokation KW03'!A342,\"\")","v":"2012-12-06"},{"$f":"IF('Als-Ob-Allokation KW03'!B342<>\"\",'Als-Ob-Allokation KW03'!B342,\"\")","v":-0.7}]
[{"$f":"IF('Als-Ob-Allokation KW03'!A343<>\"\",'Als-Ob-Allokation KW03'!A343,\"\")","v":"2012-12-07"},{"$f":"IF('Als-Ob-Allokation KW03'!B343<>\"\",'Als-Ob-Allokation KW03'!B343,\"\")","v":-3.2}]
[{"$f":"IF('Als-Ob-Allokation KW03'!A344<>\"\",'Als-Ob-Allokation KW03'!A344,\"\")","v":"2012-12-08"},{"$f":"IF('Als-Ob-Allokation KW03'!B344<>\"\",'Als-Ob-Allokation KW03'!B344,\"\")","v":-4.5}]
[{"$f":"IF('Als-Ob-Allokation KW03'!A345<>\"\",'Als-Ob-Allokation KW03'!A345,\"\")","v":"2012-12-09"},{"$f":"IF('Als-Ob-Allokation KW03'!B345<>\"\",'Als-Ob-Allokation KW03'!B345,\"\")","v":-4}]
[{"$f":"IF('Als-Ob-Allokation KW03'!A346<>\"\",'Als-Ob-Allokation KW03'!A346,\"\")","v":"2012-12-10"},{"$f":"IF('Als-Ob-Allokation KW03'!B346<>\"\",'Als-Ob-Allokation KW03'!B346,\"\")","v":1.1000000000000001}]
[{"$f":"IF('Als-Ob-Allokation KW03'!A347<>\"\",'Als-Ob-Allokation KW03'!A347,\"\")","v":"2012-12-11"},{"$f":"IF('Als-Ob-Allokation KW03'!B347<>\"\",'Als-Ob-Allokation KW03'!B347,\"\")","v":-1.8}]
[{"$f":"IF('Als-Ob-Allokation KW03'!A348<>\"\",'Als-Ob-Allokation KW03'!A348,\"\")","v":"2012-12-12"},{"$f":"IF('Als-Ob-Allokation KW03'!B348<>\"\",'Als-Ob-Allokation KW03'!B348,\"\")","v":-7.2}]
[{"$f":"IF('Als-Ob-Allokation KW03'!A349<>\"\",'Als-Ob-Allokation KW03'!A349,\"\")","v":"2012-12-13"},{"$f":"IF('Als-Ob-Allokation KW03'!B349<>\"\",'Als-Ob-Allokation KW03'!B349,\"\")","v":-6.7}]
[{"$f":"IF('Als-Ob-Allokation KW03'!A350<>\"\",'Als-Ob-Allokation KW03'!A350,\"\")","v":"2012-12-14"},{"$f":"IF('Als-Ob-Allokation KW03'!B350<>\"\",'Als-Ob-Allokation KW03'!B350,\"\")","v":1.7}]
[{"$f":"IF('Als-Ob-Allokation KW03'!A351<>\"\",'Als-Ob-Allokation KW03'!A351,\"\")","v":"2012-12-15"},{"$f":"IF('Als-Ob-Allokation KW03'!B351<>\"\",'Als-Ob-Allokation KW03'!B351,\"\")","v":5.9}]
[{"$f":"IF('Als-Ob-Allokation KW03'!A352<>\"\",'Als-Ob-Allokation KW03'!A352,\"\")","v":"2012-12-16"},{"$f":"IF('Als-Ob-Allokation KW03'!B352<>\"\",'Als-Ob-Allokation KW03'!B352,\"\")","v":6}]
[{"$f":"IF('Als-Ob-Allokation KW03'!A353<>\"\",'Als-Ob-Allokation KW03'!A353,\"\")","v":"2012-12-17"},{"$f":"IF('Als-Ob-Allokation KW03'!B353<>\"\",'Als-Ob-Allokation KW03'!B353,\"\")","v":5.5}]
[{"$f":"IF('Als-Ob-Allokation KW03'!A354<>\"\",'Als-Ob-Allokation KW03'!A354,\"\")","v":"2012-12-18"},{"$f":"IF('Als-Ob-Allokation KW03'!B354<>\"\",'Als-Ob-Allokation KW03'!B354,\"\")","v":4}]
[{"$f":"IF('Als-Ob-Allokation KW03'!A355<>\"\",'Als-Ob-Allokation KW03'!A355,\"\")","v":"2012-12-19"},{"$f":"IF('Als-Ob-Allokation KW03'!B355<>\"\",'Als-Ob-Allokation KW03'!B355,\"\")","v":2}]
[{"$f":"IF('Als-Ob-Allokation KW03'!A356<>\"\",'Als-Ob-Allokation KW03'!A356,\"\")","v":"2012-12-20"},{"$f":"IF('Als-Ob-Allokation KW03'!B356<>\"\",'Als-Ob-Allokation KW03'!B356,\"\")","v":-0.9}]
[{"$f":"IF('Als-Ob-Allokation KW03'!A357<>\"\",'Als-Ob-Allokation KW03'!A357,\"\")","v":"2012-12-21"},{"$f":"IF('Als-Ob-Allokation KW03'!B357<>\"\",'Als-Ob-Allokation KW03'!B357,\"\")","v":4.7}]
[{"$f":"IF('Als-Ob-Allokation KW03'!A358<>\"\",'Als-Ob-Allokation KW03'!A358,\"\")","v":"2012-12-22"},{"$f":"IF('Als-Ob-Allokation KW03'!B358<>\"\",'Als-Ob-Allokation KW03'!B358,\"\")","v":5}]
[{"$f":"IF('Als-Ob-Allokation KW03'!A359<>\"\",'Als-Ob-Allokation KW03'!A359,\"\")","v":"2012-12-23"},{"$f":"IF('Als-Ob-Allokation KW03'!B359<>\"\",'Als-Ob-Allokation KW03'!B359,\"\")","v":11.3}]
[{"$f":"IF('Als-Ob-Allokation KW03'!A360<>\"\",'Als-Ob-Allokation KW03'!A360,\"\")","v":"2012-12-24"},{"$f":"IF('Als-Ob-Allokation KW03'!B360<>\"\",'Als-Ob-Allokation KW03'!B360,\"\")","v":8.6}]
[{"$f":"IF('Als-Ob-Allokation KW03'!A361<>\"\",'Als-Ob-Allokation KW03'!A361,\"\")","v":"2012-12-25"},{"$f":"IF('Als-Ob-Allokation KW03'!B361<>\"\",'Als-Ob-Allokation KW03'!B361,\"\")","v":7.9}]
[{"$f":"IF('Als-Ob-Allokation KW03'!A362<>\"\",'Als-Ob-Allokation KW03'!A362,\"\")","v":"2012-12-26"},{"$f":"IF('Als-Ob-Allokation KW03'!B362<>\"\",'Als-Ob-Allokation KW03'!B362,\"\")","v":7.2}]
[{"$f":"IF('Als-Ob-Allokation KW03'!A363<>\"\",'Als-Ob-Allokation KW03'!A363,\"\")","v":"2012-12-27"},{"$f":"IF('Als-Ob-Allokation KW03'!B363<>\"\",'Als-Ob-Allokation KW03'!B363,\"\")","v":7.1}]
[{"$f":"IF('Als-Ob-Allokation KW03'!A364<>\"\",'Als-Ob-Allokation KW03'!A364,\"\")","v":"2012-12-28"},{"$f":"IF('Als-Ob-Allokation KW03'!B364<>\"\",'Als-Ob-Allokation KW03'!B364,\"\")","v":5.7}]
[{"$f":"IF('Als-Ob-Allokation KW03'!A365<>\"\",'Als-Ob-Allokation KW03'!A365,\"\")","v":"2012-12-29"},{"$f":"IF('Als-Ob-Allokation KW03'!B365<>\"\",'Als-Ob-Allokation KW03'!B365,\"\")","v":5.7}]
[{"$f":"IF('Als-Ob-Allokation KW03'!A366<>\"\",'Als-Ob-Allokation KW03'!A366,\"\")","v":"2012-12-30"},{"$f":"IF('Als-Ob-Allokation KW03'!B366<>\"\",'Als-Ob-Allokation KW03'!B366,\"\")","v":6.9}]
[{"$f":"IF('Als-Ob-Allokation KW03'!A367<>\"\",'Als-Ob-Allokation KW03'!A367,\"\")","v":"2012-12-31"},{"$f":"IF('Als-Ob-Allokation KW03'!B367<>\"\",'Als-Ob-Allokation KW03'!B367,\"\")","v":4.7}]

{"sheet":"Tagesmengen 03","index":15,"n_rows":64,"n_cols":6,"rows_kept":64,"cut":false,"hidden":false,"merged":[]}
["Lastprofil",null,null,"Summe Kundenwerte","Tagesmenge","h-Wert Lastprofil"]
["Einfamilienhaus 03",null,null,{"$f":"Eingabemaske!B16","v":3327287},{"$f":"$D$2*Berechnungsblatt!E4","v":4647179.5725803375},{"$f":"Berechnungsblatt!E4","v":1.3966873229091261}]
["Einfamilienhaus 04",null,null,{"$f":"Eingabemaske!B17","v":0},{"$f":"$D$3*Berechnungsblatt!E5","v":0},{"$f":"Berechnungsblatt!E5","v":1.3860006775319824}]
["Mehrfamilienhaus 03",null,null,{"$f":"Eingabemaske!B18","v":1010447},{"$f":"$D$4*Berechnungsblatt!I4","v":1386375.6989299927},{"$f":"Berechnungsblatt!I4","v":1.3720419764025156}]
["Mehrfamilienhaus 04",null,null,{"$f":"Eingabemaske!B19","v":0},{"$f":"$D$5*Berechnungsblatt!I5","v":0},{"$f":"Berechnungsblatt!I5","v":1.3901763420841149}]
["BA1",null,null,{"$f":"Eingabemaske!B20","v":0},{"$f":"D6*Berechnungsblatt!E14*Berechnungsblatt!F14*Berechnungsblatt!G14*Berechnungsblatt!H14*Berechnungsblatt!I14*Berechnungsblatt!J14*Berechnungsblatt!K14","v":0},{"$f":"Berechnungsblatt!E14*Berechnungsblatt!F14*Berechnungsblatt!G14*Berechnungsblatt!H14*Berechnungsblatt!I14*Berechnungsblatt!J14*Berechnungsblatt!K14","v":1.1645626224091201}]
["BA2",null,null,{"$f":"Eingabemaske!B21","v":0},{"$f":"D7*Berechnungsblatt!E15*Berechnungsblatt!F15*Berechnungsblatt!G15*Berechnungsblatt!H15*Berechnungsblatt!I15*Berechnungsblatt!J15*Berechnungsblatt!K15","v":0},{"$f":"Berechnungsblatt!E15*Berechnungsblatt!F15*Berechnungsblatt!G15*Berechnungsblatt!H15*Berechnungsblatt!I15*Berechnungsblatt!J15*Berechnungsblatt!K15","v":1.1902962620551585}]
["BA3",null,null,{"$f":"Eingabemaske!B22","v":0},{"$f":"D8*Berechnungsblatt!E16*Berechnungsblatt!F16*Berechnungsblatt!G16*Berechnungsblatt!H16*Berechnungsblatt!I16*Berechnungsblatt!J16*Berechnungsblatt!K16","v":0},{"$f":"Berechnungsblatt!E16*Berechnungsblatt!F16*Berechnungsblatt!G16*Berechnungsblatt!H16*Berechnungsblatt!I16*Berechnungsblatt!J16*Berechnungsblatt!K16","v":1.2564938156078598}]
["BA4",null,null,{"$f":"Eingabemaske!B23","v":8278},{"$f":"D9*Berechnungsblatt!E17*Berechnungsblatt!F17*Berechnungsblatt!G17*Berechnungsblatt!H17*Berechnungsblatt!I17*Berechnungsblatt!J17*Berechnungsblatt!K17","v":10834.349194941791},{"$f":"Berechnungsblatt!E17*Berechnungsblatt!F17*Berechnungsblatt!G17*Berechnungsblatt!H17*Berechnungsblatt!I17*Berechnungsblatt!J17*Berechnungsblatt!K17","v":1.3088124178475224}]
["BA5",null,null,{"$f":"Eingabemaske!B24","v":0},{"$f":"D10*Berechnungsblatt!E18*Berechnungsblatt!F18*Berechnungsblatt!G18*Berechnungsblatt!H18*Berechnungsblatt!I18*Berechnungsblatt!J18*Berechnungsblatt!K18","v":0},{"$f":"Berechnungsblatt!E18*Berechnungsblatt!F18*Berechnungsblatt!G18*Berechnungsblatt!H18*Berechnungsblatt!I18*Berechnungsblatt!J18*Berechnungsblatt!K18","v":1.3295697042015988}]
["BH1",null,null,{"$f":"Eingabemaske!B25","v":0},{"$f":"$D$11*Berechnungsblatt!E$23*Berechnungsblatt!F$23*Berechnungsblatt!G$23*Berechnungsblatt!H$23*Berechnungsblatt!I$23*Berechnungsblatt!J$23*Berechnungsblatt!K$23","v":0},{"$f":"Berechnungsblatt!E23*Berechnungsblatt!F23*Berechnungsblatt!G23*Berechnungsblatt!H23*Berechnungsblatt!I23*Berechnungsblatt!J23*Berechnungsblatt!K23","v":1.1967642510259131}]
["BH2",null,null,{"$f":"Eingabemaske!B26","v":0},{"$f":"$D$12*Berechnungsblatt!E$24*Berechnungsblatt!F$24*Berechnungsblatt!G$24*Berechnungsblatt!H$24*Berechnungsblatt!I$24*Berechnungsblatt!J$24*Berechnungsblatt!K$24","v":0},{"$f":"Berechnungsblatt!E24*Berechnungsblatt!F24*Berechnungsblatt!G24*Berechnungsblatt!H24*Berechnungsblatt!I24*Berechnungsblatt!J24*Berechnungsblatt!K24","v":1.2611610940376863}]
["BH3",null,null,{"$f":"Eingabemaske!B27","v":69767},{"$f":"$D$13*Berechnungsblatt!E$25*Berechnungsblatt!F$25*Berechnungsblatt!G$25*Berechnungsblatt!H$25*Berechnungsblatt!I$25*Berechnungsblatt!J$25*Berechnungsblatt!K$25","v":91220.925099662811},{"$f":"Berechnungsblatt!E25*Berechnungsblatt!F25*Berechnungsblatt!G25*Berechnungsblatt!H25*Berechnungsblatt!I25*Berechnungsblatt!J25*Berechnungsblatt!K25","v":1.3075082073138133}]
["BH4",null,null,{"$f":"Eingabemaske!B28","v":0},{"$f":"$D$14*Berechnungsblatt!E$26*Berechnungsblatt!F$26*Berechnungsblatt!G$26*Berechnungsblatt!H$26*Berechnungsblatt!I$26*Berechnungsblatt!J$26*Berechnungsblatt!K$26","v":0},{"$f":"Berechnungsblatt!E26*Berechnungsblatt!F26*Berechnungsblatt!G26*Berechnungsblatt!H26*Berechnungsblatt!I26*Berechnungsblatt!J26*Berechnungsblatt!K26","v":1.3668301601903476}]
["BH5",null,null,{"$f":"Eingabemaske!B29","v":0},{"$f":"$D$15*Berechnungsblatt!E$27*Berechnungsblatt!F$27*Berechnungsblatt!G$27*Berechnungsblatt!H$27*Berechnungsblatt!I$27*Berechnungsblatt!J$27*Berechnungsblatt!K$27","v":0},{"$f":"Berechnungsblatt!E27*Berechnungsblatt!F27*Berechnungsblatt!G27*Berechnungsblatt!H27*Berechnungsblatt!I27*Berechnungsblatt!J27*Berechnungsblatt!K27","v":1.3976529280569885}]
["KO1",null,null,{"$f":"Eingabemaske!B30","v":0},{"$f":"D16*Berechnungsblatt!E41*Berechnungsblatt!F41*Berechnungsblatt!G41*Berechnungsblatt!H41*Berechnungsblatt!I41*Berechnungsblatt!J41*Berechnungsblatt!K41","v":0},{"$f":"Berechnungsblatt!E41*Berechnungsblatt!F41*Berechnungsblatt!G41*Berechnungsblatt!H41*Berechnungsblatt!I41*Berechnungsblatt!J41*Berechnungsblatt!K41","v":1.3243823922017464}]
["KO2",null,null,{"$f":"Eingabemaske!B31","v":0},{"$f":"D17*Berechnungsblatt!E42*Berechnungsblatt!F42*Berechnungsblatt!G42*Berechnungsblatt!H42*Berechnungsblatt!I42*Berechnungsblatt!J42*Berechnungsblatt!K42","v":0},{"$f":"Berechnungsblatt!E42*Berechnungsblatt!F42*Berechnungsblatt!G42*Berechnungsblatt!H42*Berechnungsblatt!I42*Berechnungsblatt!J42*Berechnungsblatt!K42","v":1.4831355762631477}]
["KO3",null,null,{"$f":"Eingabemaske!B32","v":345983},{"$f":"D18*Berechnungsblatt!E43*Berechnungsblatt!F43*Berechnungsblatt!G43*Berechnungsblatt!H43*Berechnungsblatt!I43*Berechnungsblatt!J43*Berechnungsblatt!K43","v":545331.47298353608},{"$f":"Berechnungsblatt!E43*Berechnungsblatt!F43*Berechnungsblatt!G43*Berechnungsblatt!H43*Berechnungsblatt!I43*Berechnungsblatt!J43*Berechnungsblatt!K43","v":1.5761799654420481}]
["KO4",null,null,{"$f":"Eingabemaske!B33","v":69372},{"$f":"D19*Berechnungsblatt!E44*Berechnungsblatt!F44*Berechnungsblatt!G44*Berechnungsblatt!H44*Berechnungsblatt!I44*Berechnungsblatt!J44*Berechnungsblatt!K44","v":111363.9296423511},{"$f":"Berechnungsblatt!E44*Berechnungsblatt!F44*Berechnungsblatt!G44*Berechnungsblatt!H44*Berechnungsblatt!I44*Berechnungsblatt!J44*Berechnungsblatt!K44","v":1.6053152517204505}]
["KO5",null,null,{"$f":"Eingabemaske!B34","v":0},{"$f":"D20*Berechnungsblatt!E45*Berechnungsblatt!F45*Berechnungsblatt!G45*Berechnungsblatt!H45*Berechnungsblatt!I45*Berechnungsblatt!J45*Berechnungsblatt!K45","v":0},{"$f":"Berechnungsblatt!E45*Berechnungsblatt!F45*Berechnungsblatt!G45*Berechnungsblatt!H45*Berechnungsblatt!I45*Berechnungsblatt!J45*Berechnungsblatt!K45","v":1.5159645004289939}]
["HA1",null,null,{"$f":"Eingabemaske!B35","v":0},{"$f":"$D21*Berechnungsblatt!E50*Berechnungsblatt!F50*Berechnungsblatt!G50*Berechnungsblatt!H50*Berechnungsblatt!I50*Berechnungsblatt!J50*Berechnungsblatt!K50","v":0},{"$f":"Berechnungsblatt!E50*Berechnungsblatt!F50*Berechnungsblatt!G50*Berechnungsblatt!H50*Berechnungsblatt!I50*Berechnungsblatt!J50*Berechnungsblatt!K50","v":1.4412942185565509}]
["HA2",null,null,{"$f":"Eingabemaske!B36","v":0},{"$f":"$D22*Berechnungsblatt!E51*Berechnungsblatt!F51*Berechnungsblatt!G51*Berechnungsblatt!H51*Berechnungsblatt!I51*Berechnungsblatt!J51*Berechnungsblatt!K51","v":0},{"$f":"Berechnungsblatt!E51*Berechnungsblatt!F51*Berechnungsblatt!G51*Berechnungsblatt!H51*Berechnungsblatt!I51*Berechnungsblatt!J51*Berechnungsblatt!K51","v":1.5508946999820554}]
["HA3",null,null,{"$f":"Eingabemaske!B37","v":143866},{"$f":"$D23*Berechnungsblatt!E52*Berechnungsblatt!F52*Berechnungsblatt!G52*Berechnungsblatt!H52*Berechnungsblatt!I52*Berechnungsblatt!J52*Berechnungsblatt!K52","v":229482.06331512055},{"$f":"Berechnungsblatt!E52*Berechnungsblatt!F52*Berechnungsblatt!G52*Berechnungsblatt!H52*Berechnungsblatt!I52*Berechnungsblatt!J52*Berechnungsblatt!K52","v":1.5951097779539332}]
["HA4",null,null,{"$f":"Eingabemaske!B38","v":0},{"$f":"$D24*Berechnungsblatt!E53*Berechnungsblatt!F53*Berechnungsblatt!G53*Berechnungsblatt!H53*Berechnungsblatt!I53*Berechnungsblatt!J53*Berechnungsblatt!K53","v":0},{"$f":"Berechnungsblatt!E53*Berechnungsblatt!F53*Berechnungsblatt!G53*Berechnungsblatt!H53*Berechnungsblatt!I53*Berechnungsblatt!J53*Berechnungsblatt!K53","v":1.558407745067951}]
["HA5",null,null,{"$f":"Eingabemaske!B39","v":0},{"$f":"$D25*Berechnungsblatt!E54*Berechnungsblatt!F54*Berechnungsblatt!G54*Berechnungsblatt!H54*Berechnungsblatt!I54*Berechnungsblatt!J54*Berechnungsblatt!K54","v":0},{"$f":"Berechnungsblatt!E54*Berechnungsblatt!F54*Berechnungsblatt!G54*Berechnungsblatt!H54*Berechnungsblatt!I54*Berechnungsblatt!J54*Berechnungsblatt!K54","v":1.4331592370387678}]
["GA1",null,null,{"$f":"Eingabemaske!B40","v":0},{"$f":"D26*Berechnungsblatt!E77*Berechnungsblatt!F77*Berechnungsblatt!G77*Berechnungsblatt!H77*Berechnungsblatt!I77*Berechnungsblatt!J77*Berechnungsblatt!K77","v":0},{"$f":"Berechnungsblatt!E77*Berechnungsblatt!F77*Berechnungsblatt!G77*Berechnungsblatt!H77*Berechnungsblatt!I77*Berechnungsblatt!J77*Berechnungsblatt!K77","v":1.0464044951275977}]
["GA2",null,null,{"$f":"Eingabemaske!B41","v":0},{"$f":"D27*Berechnungsblatt!E78*Berechnungsblatt!F78*Berechnungsblatt!G78*Berechnungsblatt!H78*Berechnungsblatt!I78*Berechnungsblatt!J78*Berechnungsblatt!K78","v":0},{"$f":"Berechnungsblatt!E78*Berechnungsblatt!F78*Berechnungsblatt!G78*Berechnungsblatt!H78*Berechnungsblatt!I78*Berechnungsblatt!J78*Berechnungsblatt!K78","v":1.1501708818058858}]
["GA3",null,null,{"$f":"Eingabemaske!B42","v":68316},{"$f":"D28*Berechnungsblatt!E79*Berechnungsblatt!F79*Berechnungsblatt!G79*Berechnungsblatt!H79*Berechnungsblatt!I79*Berechnungsblatt!J79*Berechnungsblatt!K79","v":86226.312126811041},{"$f":"Berechnungsblatt!E79*Berechnungsblatt!F79*Berechnungsblatt!G79*Berechnungsblatt!H79*Berechnungsblatt!I79*Berechnungsblatt!J79*Berechnungsblatt!K79","v":1.2621686299960631}]
["GA4",null,null,{"$f":"Eingabemaske!B43","v":0},{"$f":"D29*Berechnungsblatt!E80*Berechnungsblatt!F80*Berechnungsblatt!G80*Berechnungsblatt!H80*Berechnungsblatt!I80*Berechnungsblatt!J80*Berechnungsblatt!K80","v":0},{"$f":"Berechnungsblatt!E80*Berechnungsblatt!F80*Berechnungsblatt!G80*Berechnungsblatt!H80*Berechnungsblatt!I80*Berechnungsblatt!J80*Berechnungsblatt!K80","v":1.3611814128833608}]
["GA5",null,null,{"$f":"Eingabemaske!B44","v":0},{"$f":"D30*Berechnungsblatt!E81*Berechnungsblatt!F81*Berechnungsblatt!G81*Berechnungsblatt!H81*Berechnungsblatt!I81*Berechnungsblatt!J81*Berechnungsblatt!K81","v":0},{"$f":"Berechnungsblatt!E81*Berechnungsblatt!F81*Berechnungsblatt!G81*Berechnungsblatt!H81*Berechnungsblatt!I81*Berechnungsblatt!J81*Berechnungsblatt!K81","v":1.4153061716579383}]
["GB1",null,null,{"$f":"Eingabemaske!B45","v":0},{"$f":"D31*Berechnungsblatt!E32*Berechnungsblatt!F32*Berechnungsblatt!G32*Berechnungsblatt!H32*Berechnungsblatt!I32*Berechnungsblatt!J32*Berechnungsblatt!K32","v":0},{"$f":"Berechnungsblatt!E32*Berechnungsblatt!F32*Berechnungsblatt!G32*Berechnungsblatt!H32*Berechnungsblatt!I32*Berechnungsblatt!J32*Berechnungsblatt!K32","v":1.3090140921019393}]
["GB2",null,null,{"$f":"Eingabemaske!B46","v":0},{"$f":"D32*Berechnungsblatt!E33*Berechnungsblatt!F33*Berechnungsblatt!G33*Berechnungsblatt!H33*Berechnungsblatt!I33*Berechnungsblatt!J33*Berechnungsblatt!K33","v":0},{"$f":"Berechnungsblatt!E33*Berechnungsblatt!F33*Berechnungsblatt!G33*Berechnungsblatt!H33*Berechnungsblatt!I33*Berechnungsblatt!J33*Berechnungsblatt!K33","v":1.3648071180312211}]
["GB3",null,null,{"$f":"Eingabemaske!B47","v":12099},{"$f":"D33*Berechnungsblatt!E34*Berechnungsblatt!F34*Berechnungsblatt!G34*Berechnungsblatt!H34*Berechnungsblatt!I34*Berechnungsblatt!J34*Berechnungsblatt!K34","v":16843.161416293144},{"$f":"Berechnungsblatt!E34*Berechnungsblatt!F34*Berechnungsblatt!G34*Berechnungsblatt!H34*Berechnungsblatt!I34*Berechnungsblatt!J34*Berechnungsblatt!K34","v":1.3921118618309898}]
["GB4",null,null,{"$f":"Eingabemaske!B48","v":0},{"$f":"D34*Berechnungsblatt!E35*Berechnungsblatt!F35*Berechnungsblatt!G35*Berechnungsblatt!H35*Berechnungsblatt!I35*Berechnungsblatt!J35*Berechnungsblatt!K35","v":0},{"$f":"Berechnungsblatt!E35*Berechnungsblatt!F35*Berechnungsblatt!G35*Berechnungsblatt!H35*Berechnungsblatt!I35*Berechnungsblatt!J35*Berechnungsblatt!K35","v":1.4058619486540334}]
["GB5",null,null,{"$f":"Eingabemaske!B49","v":0},{"$f":"D35*Berechnungsblatt!E36*Berechnungsblatt!F36*Berechnungsblatt!G36*Berechnungsblatt!H36*Berechnungsblatt!I36*Berechnungsblatt!J36*Berechnungsblatt!K36","v":0},{"$f":"Berechnungsblatt!E36*Berechnungsblatt!F36*Berechnungsblatt!G36*Berechnungsblatt!H36*Berechnungsblatt!I36*Berechnungsblatt!J36*Berechnungsblatt!K36","v":1.4104816719646436}]
["ME1",null,null,{"$f":"Eingabemaske!B50","v":0},{"$f":"D36*Berechnungsblatt!E59*Berechnungsblatt!F59*Berechnungsblatt!G59*Berechnungsblatt!H59*Berechnungsblatt!I59*Berechnungsblatt!J59*Berechnungsblatt!K59","v":0},{"$f":"Berechnungsblatt!E59*Berechnungsblatt!F59*Berechnungsblatt!G59*Berechnungsblatt!H59*Berechnungsblatt!I59*Berechnungsblatt!J59*Berechnungsblatt!K59","v":1.5306829621026781}]
["ME2",null,null,{"$f":"Eingabemaske!B51","v":0},{"$f":"D37*Berechnungsblatt!E60*Berechnungsblatt!F60*Berechnungsblatt!G60*Berechnungsblatt!H60*Berechnungsblatt!I60*Berechnungsblatt!J60*Berechnungsblatt!K60","v":0},{"$f":"Berechnungsblatt!E60*Berechnungsblatt!F60*Berechnungsblatt!G60*Berechnungsblatt!H60*Berechnungsblatt!I60*Berechnungsblatt!J60*Berechnungsblatt!K60","v":1.5545044471172}]
["ME3",null,null,{"$f":"Eingabemaske!B52","v":155033},{"$f":"D38*Berechnungsblatt!E61*Berechnungsblatt!F61*Berechnungsblatt!G61*Berechnungsblatt!H61*Berechnungsblatt!I61*Berechnungsblatt!J61*Berechnungsblatt!K61","v":249314.09653812647},{"$f":"Berechnungsblatt!E61*Berechnungsblatt!F61*Berechnungsblatt!G61*Berechnungsblatt!H61*Berechnungsblatt!I61*Berechnungsblatt!J61*Berechnungsblatt!K61","v":1.6081356649108671}]
["ME4",null,null,{"$f":"Eingabemaske!B53","v":0},{"$f":"D39*Berechnungsblatt!E62*Berechnungsblatt!F62*Berechnungsblatt!G62*Berechnungsblatt!H62*Berechnungsblatt!I62*Berechnungsblatt!J62*Berechnungsblatt!K62","v":0},{"$f":"Berechnungsblatt!E62*Berechnungsblatt!F62*Berechnungsblatt!G62*Berechnungsblatt!H62*Berechnungsblatt!I62*Berechnungsblatt!J62*Berechnungsblatt!K62","v":1.6039817576066491}]
["ME5",null,null,{"$f":"Eingabemaske!B54","v":0},{"$f":"D40*Berechnungsblatt!E63*Berechnungsblatt!F63*Berechnungsblatt!G63*Berechnungsblatt!H63*Berechnungsblatt!I63*Berechnungsblatt!J63*Berechnungsblatt!K63","v":0},{"$f":"Berechnungsblatt!E63*Berechnungsblatt!F63*Berechnungsblatt!G63*Berechnungsblatt!H63*Berechnungsblatt!I63*Berechnungsblatt!J63*Berechnungsblatt!K63","v":1.5503245061948461}]
["PD1",null,null,{"$f":"Eingabemaske!B55","v":0},{"$f":"$D41*Berechnungsblatt!E95*Berechnungsblatt!F95*Berechnungsblatt!G95*Berechnungsblatt!H95*Berechnungsblatt!I95*Berechnungsblatt!J95*Berechnungsblatt!K95","v":0},{"$f":"Berechnungsblatt!E95*Berechnungsblatt!F95*Berechnungsblatt!G95*Berechnungsblatt!H95*Berechnungsblatt!I95*Berechnungsblatt!J95*Berechnungsblatt!K95","v":1.4135231505266574}]
["PD2",null,null,{"$f":"Eingabemaske!B56","v":0},{"$f":"$D42*Berechnungsblatt!E96*Berechnungsblatt!F96*Berechnungsblatt!G96*Berechnungsblatt!H96*Berechnungsblatt!I96*Berechnungsblatt!J96*Berechnungsblatt!K96","v":0},{"$f":"Berechnungsblatt!E96*Berechnungsblatt!F96*Berechnungsblatt!G96*Berechnungsblatt!H96*Berechnungsblatt!I96*Berechnungsblatt!J96*Berechnungsblatt!K96","v":1.5297172597920057}]
["PD3",null,null,{"$f":"Eingabemaske!B57","v":17748},{"$f":"$D43*Berechnungsblatt!E97*Berechnungsblatt!F97*Berechnungsblatt!G97*Berechnungsblatt!H97*Berechnungsblatt!I97*Berechnungsblatt!J97*Berechnungsblatt!K97","v":28994.377464910263},{"$f":"Berechnungsblatt!E97*Berechnungsblatt!F97*Berechnungsblatt!G97*Berechnungsblatt!H97*Berechnungsblatt!I97*Berechnungsblatt!J97*Berechnungsblatt!K97","v":1.6336701298687324}]
["PD4",null,null,{"$f":"Eingabemaske!B58","v":0},{"$f":"$D44*Berechnungsblatt!E98*Berechnungsblatt!F98*Berechnungsblatt!G98*Berechnungsblatt!H98*Berechnungsblatt!I98*Berechnungsblatt!J98*Berechnungsblatt!K98","v":0},{"$f":"Berechnungsblatt!E98*Berechnungsblatt!F98*Berechnungsblatt!G98*Berechnungsblatt!H98*Berechnungsblatt!I98*Berechnungsblatt!J98*Berechnungsblatt!K98","v":1.5495503991180422}]
["PD5",null,null,{"$f":"Eingabemaske!B59","v":0},{"$f":"$D45*Berechnungsblatt!E99*Berechnungsblatt!F99*Berechnungsblatt!G99*Berechnungsblatt!H99*Berechnungsblatt!I99*Berechnungsblatt!J99*Berechnungsblatt!K99","v":0},{"$f":"Berechnungsblatt!E99*Berechnungsblatt!F99*Berechnungsblatt!G99*Berechnungsblatt!H99*Berechnungsblatt!I99*Berechnungsblatt!J99*Berechnungsblatt!K99","v":1.3439481548403507}]
["BD1",null,null,{"$f":"Eingabemaske!B60","v":0},{"$f":"D46*Berechnungsblatt!E68*Berechnungsblatt!F68*Berechnungsblatt!G68*Berechnungsblatt!H68*Berechnungsblatt!I68*Berechnungsblatt!J68*Berechnungsblatt!K68","v":0},{"$f":"Berechnungsblatt!E68*Berechnungsblatt!F68*Berechnungsblatt!G68*Berechnungsblatt!H68*Berechnungsblatt!I68*Berechnungsblatt!J68*Berechnungsblatt!K68","v":1.2180996994367488}]
["BD2",null,null,{"$f":"Eingabemaske!B61","v":0},{"$f":"D47*Berechnungsblatt!E69*Berechnungsblatt!F69*Berechnungsblatt!G69*Berechnungsblatt!H69*Berechnungsblatt!I69*Berechnungsblatt!J69*Berechnungsblatt!K69","v":0},{"$f":"Berechnungsblatt!E69*Berechnungsblatt!F69*Berechnungsblatt!G69*Berechnungsblatt!H69*Berechnungsblatt!I69*Berechnungsblatt!J69*Berechnungsblatt!K69","v":1.4347419562727091}]
["BD3",null,null,{"$f":"Eingabemaske!B62","v":666992},{"$f":"D48*Berechnungsblatt!E70*Berechnungsblatt!F70*Berechnungsblatt!G70*Berechnungsblatt!H70*Berechnungsblatt!I70*Berechnungsblatt!J70*Berechnungsblatt!K70","v":1082043.095780201},{"$f":"Berechnungsblatt!E70*Berechnungsblatt!F70*Berechnungsblatt!G70*Berechnungsblatt!H70*Berechnungsblatt!I70*Berechnungsblatt!J70*Berechnungsblatt!K70","v":1.6222729744587656}]
["BD4",null,null,{"$f":"Eingabemaske!B63","v":0},{"$f":"D49*Berechnungsblatt!E71*Berechnungsblatt!F71*Berechnungsblatt!G71*Berechnungsblatt!H71*Berechnungsblatt!I71*Berechnungsblatt!J71*Berechnungsblatt!K71","v":0},{"$f":"Berechnungsblatt!E71*Berechnungsblatt!F71*Berechnungsblatt!G71*Berechnungsblatt!H71*Berechnungsblatt!I71*Berechnungsblatt!J71*Berechnungsblatt!K71","v":1.7195032887611907}]
["BD5",null,null,{"$f":"Eingabemaske!B64","v":0},{"$f":"D50*Berechnungsblatt!E72*Berechnungsblatt!F72*Berechnungsblatt!G72*Berechnungsblatt!H72*Berechnungsblatt!I72*Berechnungsblatt!J72*Berechnungsblatt!K72","v":0},{"$f":"Berechnungsblatt!E72*Berechnungsblatt!F72*Berechnungsblatt!G72*Berechnungsblatt!H72*Berechnungsblatt!I72*Berechnungsblatt!J72*Berechnungsblatt!K72","v":1.72120679343689}]
["WA1",null,null,{"$f":"Eingabemaske!B65","v":0},{"$f":"D51*Berechnungsblatt!E104*Berechnungsblatt!F104*Berechnungsblatt!G104*Berechnungsblatt!H104*Berechnungsblatt!I104*Berechnungsblatt!J104*Berechnungsblatt!K104","v":0},{"$f":"Berechnungsblatt!E104*Berechnungsblatt!F104*Berechnungsblatt!G104*Berechnungsblatt!H104*Berechnungsblatt!I104*Berechnungsblatt!J104*Berechnungsblatt!K104","v":1.3652950152745216}]
["WA2",null,null,{"$f":"Eingabemaske!B66","v":0},{"$f":"D52*Berechnungsblatt!E105*Berechnungsblatt!F105*Berechnungsblatt!G105*Berechnungsblatt!H105*Berechnungsblatt!I105*Berechnungsblatt!J105*Berechnungsblatt!K105","v":0},{"$f":"Berechnungsblatt!E105*Berechnungsblatt!F105*Berechnungsblatt!G105*Berechnungsblatt!H105*Berechnungsblatt!I105*Berechnungsblatt!J105*Berechnungsblatt!K105","v":1.4058373251935199}]
["WA3",null,null,{"$f":"Eingabemaske!B67","v":1750},{"$f":"D53*Berechnungsblatt!E106*Berechnungsblatt!F106*Berechnungsblatt!G106*Berechnungsblatt!H106*Berechnungsblatt!I106*Berechnungsblatt!J106*Berechnungsblatt!K106","v":2548.2049966243612},{"$f":"Berechnungsblatt!E106*Berechnungsblatt!F106*Berechnungsblatt!G106*Berechnungsblatt!H106*Berechnungsblatt!I106*Berechnungsblatt!J106*Berechnungsblatt!K106","v":1.4561171409282063}]
["WA4",null,null,{"$f":"Eingabemaske!B68","v":0},{"$f":"D54*Berechnungsblatt!E107*Berechnungsblatt!F107*Berechnungsblatt!G107*Berechnungsblatt!H107*Berechnungsblatt!I107*Berechnungsblatt!J107*Berechnungsblatt!K107","v":0},{"$f":"Berechnungsblatt!E107*Berechnungsblatt!F107*Berechnungsblatt!G107*Berechnungsblatt!H107*Berechnungsblatt!I107*Berechnungsblatt!J107*Berechnungsblatt!K107","v":1.5046785009632848}]
["WA5",null,null,{"$f":"Eingabemaske!B69","v":0},{"$f":"D55*Berechnungsblatt!E108*Berechnungsblatt!F108*Berechnungsblatt!G108*Berechnungsblatt!H108*Berechnungsblatt!I108*Berechnungsblatt!J108*Berechnungsblatt!K108","v":0},{"$f":"Berechnungsblatt!E108*Berechnungsblatt!F108*Berechnungsblatt!G108*Berechnungsblatt!H108*Berechnungsblatt!I108*Berechnungsblatt!J108*Berechnungsblatt!K108","v":1.5490043144204149}]
["HK3",null,null,{"$f":"Eingabemaske!B70","v":2172},{"$f":"$D$56*Berechnungsblatt!E9","v":2349.5751429740271},{"$f":"Berechnungsblatt!E9","v":1.0817565114981709}]
["MF1",null,null,{"$f":"Eingabemaske!B71","v":0},{"$f":"D57*Berechnungsblatt!E86*Berechnungsblatt!F86*Berechnungsblatt!G86*Berechnungsblatt!H86*Berechnungsblatt!I86*Berechnungsblatt!J86*Berechnungsblatt!K86","v":0},{"$f":"Berechnungsblatt!E86*Berechnungsblatt!F86*Berechnungsblatt!G86*Berechnungsblatt!H86*Berechnungsblatt!I86*Berechnungsblatt!J86*Berechnungsblatt!K86","v":1.3464153141124087}]
["MF2",null,null,{"$f":"Eingabemaske!B72","v":0},{"$f":"D58*Berechnungsblatt!E87*Berechnungsblatt!F87*Berechnungsblatt!G87*Berechnungsblatt!H87*Berechnungsblatt!I87*Berechnungsblatt!J87*Berechnungsblatt!K87","v":0},{"$f":"Berechnungsblatt!E87*Berechnungsblatt!F87*Berechnungsblatt!G87*Berechnungsblatt!H87*Berechnungsblatt!I87*Berechnungsblatt!J87*Berechnungsblatt!K87","v":1.3799410217118608}]
["MF3",null,null,{"$f":"Eingabemaske!B73","v":0},{"$f":"D59*Berechnungsblatt!E88*Berechnungsblatt!F88*Berechnungsblatt!G88*Berechnungsblatt!H88*Berechnungsblatt!I88*Berechnungsblatt!J88*Berechnungsblatt!K88","v":0},{"$f":"Berechnungsblatt!E88*Berechnungsblatt!F88*Berechnungsblatt!G88*Berechnungsblatt!H88*Berechnungsblatt!I88*Berechnungsblatt!J88*Berechnungsblatt!K88","v":1.4206123016953449}]
["MF4",null,null,{"$f":"Eingabemaske!B74","v":0},{"$f":"D60*Berechnungsblatt!E89*Berechnungsblatt!F89*Berechnungsblatt!G89*Berechnungsblatt!H89*Berechnungsblatt!I89*Berechnungsblatt!J89*Berechnungsblatt!K89","v":0},{"$f":"Berechnungsblatt!E89*Berechnungsblatt!F89*Berechnungsblatt!G89*Berechnungsblatt!H89*Berechnungsblatt!I89*Berechnungsblatt!J89*Berechnungsblatt!K89","v":1.4393886063579922}]
["MF5",null,null,{"$f":"Eingabemaske!B75","v":0},{"$f":"D61*Berechnungsblatt!E90*Berechnungsblatt!F90*Berechnungsblatt!G90*Berechnungsblatt!H90*Berechnungsblatt!I90*Berechnungsblatt!J90*Berechnungsblatt!K90","v":0},{"$f":"Berechnungsblatt!E90*Berechnungsblatt!F90*Berechnungsblatt!G90*Berechnungsblatt!H90*Berechnungsblatt!I90*Berechnungsblatt!J90*Berechnungsblatt!K90","v":1.4654576892442206}]
["GHD03",null,null,{"$f":"Eingabemaske!B76","v":0},{"$f":"D62*Berechnungsblatt!E113*Berechnungsblatt!F113*Berechnungsblatt!G113*Berechnungsblatt!H113*Berechnungsblatt!I113*Berechnungsblatt!J113*Berechnungsblatt!K113","v":0},{"$f":"Berechnungsblatt!E113*Berechnungsblatt!F113*Berechnungsblatt!G113*Berechnungsblatt!H113*Berechnungsblatt!I113*Berechnungsblatt!J113*Berechnungsblatt!K113","v":1.486129525764611}]
["GHD04",null,null,{"$f":"Eingabemaske!B77","v":0},{"$f":"D63*Berechnungsblatt!E114*Berechnungsblatt!F114*Berechnungsblatt!G114*Berechnungsblatt!H114*Berechnungsblatt!I114*Berechnungsblatt!J114*Berechnungsblatt!K114","v":0},{"$f":"Berechnungsblatt!E114*Berechnungsblatt!F114*Berechnungsblatt!G114*Berechnungsblatt!H114*Berechnungsblatt!I114*Berechnungsblatt!J114*Berechnungsblatt!K114","v":1.5038423271064973}]
[null,null,null,{"$f":"SUM(D2:D63)","v":5899110},{"$f":"SUM(E2:E63)","v":8490106.8352118824},{"$f":"SUM(F2:F63)","v":87.96424816909844}]

{"sheet":"Tagesmengen 04","index":16,"n_rows":64,"n_cols":6,"rows_kept":64,"cut":false,"hidden":false,"merged":[]}
["Lastprofil",null,null,"Summe Kundenwerte","Tagesmenge","h-Wert Lastprofil"]
["Einfamilienhaus 03",null,null,{"$f":"Eingabemaske!F16","v":0},{"$f":"$D$2*Berechnungsblatt!E4","v":0},{"$f":"Berechnungsblatt!E4","v":1.3966873229091261}]
["Einfamilienhaus 04",null,null,{"$f":"Eingabemaske!F17","v":3428265.6077833693},{"$f":"$D$3*Berechnungsblatt!E5","v":4751578.4551473437},{"$f":"Berechnungsblatt!E5","v":1.3860006775319824}]
["Mehrfamilienhaus 03",null,null,{"$f":"Eingabemaske!F18","v":0},{"$f":"$D$4*Berechnungsblatt!I4","v":0},{"$f":"Berechnungsblatt!I4","v":1.3720419764025156}]
["Mehrfamilienhaus 04",null,null,{"$f":"Eingabemaske!F19","v":1022633.1812497778},{"$f":"$D$5*Berechnungsblatt!I5","v":1421640.4552036577},{"$f":"Berechnungsblatt!I5","v":1.3901763420841149}]
["BA1",null,null,{"$f":"Eingabemaske!F20","v":0},{"$f":"D6*Berechnungsblatt!E14*Berechnungsblatt!F14*Berechnungsblatt!G14*Berechnungsblatt!H14*Berechnungsblatt!I14*Berechnungsblatt!J14*Berechnungsblatt!K14","v":0},{"$f":"Berechnungsblatt!E14*Berechnungsblatt!F14*Berechnungsblatt!G14*Berechnungsblatt!H14*Berechnungsblatt!I14*Berechnungsblatt!J14*Berechnungsblatt!K14","v":1.1645626224091201}]
["BA2",null,null,{"$f":"Eingabemaske!F21","v":0},{"$f":"D7*Berechnungsblatt!E15*Berechnungsblatt!F15*Berechnungsblatt!G15*Berechnungsblatt!H15*Berechnungsblatt!I15*Berechnungsblatt!J15*Berechnungsblatt!K15","v":0},{"$f":"Berechnungsblatt!E15*Berechnungsblatt!F15*Berechnungsblatt!G15*Berechnungsblatt!H15*Berechnungsblatt!I15*Berechnungsblatt!J15*Berechnungsblatt!K15","v":1.1902962620551585}]
["BA3",null,null,{"$f":"Eingabemaske!F22","v":0},{"$f":"D8*Berechnungsblatt!E16*Berechnungsblatt!F16*Berechnungsblatt!G16*Berechnungsblatt!H16*Berechnungsblatt!I16*Berechnungsblatt!J16*Berechnungsblatt!K16","v":0},{"$f":"Berechnungsblatt!E16*Berechnungsblatt!F16*Berechnungsblatt!G16*Berechnungsblatt!H16*Berechnungsblatt!I16*Berechnungsblatt!J16*Berechnungsblatt!K16","v":1.2564938156078598}]
["BA4",null,null,{"$f":"Eingabemaske!F23","v":8278},{"$f":"D9*Berechnungsblatt!E17*Berechnungsblatt!F17*Berechnungsblatt!G17*Berechnungsblatt!H17*Berechnungsblatt!I17*Berechnungsblatt!J17*Berechnungsblatt!K17","v":10834.349194941791},{"$f":"Berechnungsblatt!E17*Berechnungsblatt!F17*Berechnungsblatt!G17*Berechnungsblatt!H17*Berechnungsblatt!I17*Berechnungsblatt!J17*Berechnungsblatt!K17","v":1.3088124178475224}]
["BA5",null,null,{"$f":"Eingabemaske!F24","v":0},{"$f":"D10*Berechnungsblatt!E18*Berechnungsblatt!F18*Berechnungsblatt!G18*Berechnungsblatt!H18*Berechnungsblatt!I18*Berechnungsblatt!J18*Berechnungsblatt!K18","v":0},{"$f":"Berechnungsblatt!E18*Berechnungsblatt!F18*Berechnungsblatt!G18*Berechnungsblatt!H18*Berechnungsblatt!I18*Berechnungsblatt!J18*Berechnungsblatt!K18","v":1.3295697042015988}]
["BH1",null,null,{"$f":"Eingabemaske!F25","v":0},{"$f":"$D$11*Berechnungsblatt!E$23*Berechnungsblatt!F$23*Berechnungsblatt!G$23*Berechnungsblatt!H$23*Berechnungsblatt!I$23*Berechnungsblatt!J$23*Berechnungsblatt!K$23","v":0},{"$f":"Berechnungsblatt!E23*Berechnungsblatt!F23*Berechnungsblatt!G23*Berechnungsblatt!H23*Berechnungsblatt!I23*Berechnungsblatt!J23*Berechnungsblatt!K23","v":1.1967642510259131}]
["BH2",null,null,{"$f":"Eingabemaske!F26","v":0},{"$f":"$D$12*Berechnungsblatt!E$24*Berechnungsblatt!F$24*Berechnungsblatt!G$24*Berechnungsblatt!H$24*Berechnungsblatt!I$24*Berechnungsblatt!J$24*Berechnungsblatt!K$24","v":0},{"$f":"Berechnungsblatt!E24*Berechnungsblatt!F24*Berechnungsblatt!G24*Berechnungsblatt!H24*Berechnungsblatt!I24*Berechnungsblatt!J24*Berechnungsblatt!K24","v":1.2611610940376863}]
["BH3",null,null,{"$f":"Eingabemaske!F27","v":69767},{"$f":"$D$13*Berechnungsblatt!E$25*Berechnungsblatt!F$25*Berechnungsblatt!G$25*Berechnungsblatt!H$25*Berechnungsblatt!I$25*Berechnungsblatt!J$25*Berechnungsblatt!K$25","v":91220.925099662811},{"$f":"Berechnungsblatt!E25*Berechnungsblatt!F25*Berechnungsblatt!G25*Berechnungsblatt!H25*Berechnungsblatt!I25*Berechnungsblatt!J25*Berechnungsblatt!K25","v":1.3075082073138133}]
["BH4",null,null,{"$f":"Eingabemaske!F28","v":0},{"$f":"$D$14*Berechnungsblatt!E$26*Berechnungsblatt!F$26*Berechnungsblatt!G$26*Berechnungsblatt!H$26*Berechnungsblatt!I$26*Berechnungsblatt!J$26*Berechnungsblatt!K$26","v":0},{"$f":"Berechnungsblatt!E26*Berechnungsblatt!F26*Berechnungsblatt!G26*Berechnungsblatt!H26*Berechnungsblatt!I26*Berechnungsblatt!J26*Berechnungsblatt!K26","v":1.3668301601903476}]
["BH5",null,null,{"$f":"Eingabemaske!F29","v":0},{"$f":"$D$15*Berechnungsblatt!E$27*Berechnungsblatt!F$27*Berechnungsblatt!G$27*Berechnungsblatt!H$27*Berechnungsblatt!I$27*Berechnungsblatt!J$27*Berechnungsblatt!K$27","v":0},{"$f":"Berechnungsblatt!E27*Berechnungsblatt!F27*Berechnungsblatt!G27*Berechnungsblatt!H27*Berechnungsblatt!I27*Berechnungsblatt!J27*Berechnungsblatt!K27","v":1.3976529280569885}]
["KO1",null,null,{"$f":"Eingabemaske!F30","v":0},{"$f":"D16*Berechnungsblatt!E41*Berechnungsblatt!F41*Berechnungsblatt!G41*Berechnungsblatt!H41*Berechnungsblatt!I41*Berechnungsblatt!J41*Berechnungsblatt!K41","v":0},{"$f":"Berechnungsblatt!E41*Berechnungsblatt!F41*Berechnungsblatt!G41*Berechnungsblatt!H41*Berechnungsblatt!I41*Berechnungsblatt!J41*Berechnungsblatt!K41","v":1.3243823922017464}]
["KO2",null,null,{"$f":"Eingabemaske!F31","v":0},{"$f":"D17*Berechnungsblatt!E42*Berechnungsblatt!F42*Berechnungsblatt!G42*Berechnungsblatt!H42*Berechnungsblatt!I42*Berechnungsblatt!J42*Berechnungsblatt!K42","v":0},{"$f":"Berechnungsblatt!E42*Berechnungsblatt!F42*Berechnungsblatt!G42*Berechnungsblatt!H42*Berechnungsblatt!I42*Berechnungsblatt!J42*Berechnungsblatt!K42","v":1.4831355762631477}]
["KO3",null,null,{"$f":"Eingabemaske!F32","v":345983},{"$f":"D18*Berechnungsblatt!E43*Berechnungsblatt!F43*Berechnungsblatt!G43*Berechnungsblatt!H43*Berechnungsblatt!I43*Berechnungsblatt!J43*Berechnungsblatt!K43","v":545331.47298353608},{"$f":"Berechnungsblatt!E43*Berechnungsblatt!F43*Berechnungsblatt!G43*Berechnungsblatt!H43*Berechnungsblatt!I43*Berechnungsblatt!J43*Berechnungsblatt!K43","v":1.5761799654420481}]
["KO4",null,null,{"$f":"Eingabemaske!F33","v":69372},{"$f":"D19*Berechnungsblatt!E44*Berechnungsblatt!F44*Berechnungsblatt!G44*Berechnungsblatt!H44*Berechnungsblatt!I44*Berechnungsblatt!J44*Berechnungsblatt!K44","v":111363.9296423511},{"$f":"Berechnungsblatt!E44*Berechnungsblatt!F44*Berechnungsblatt!G44*Berechnungsblatt!H44*Berechnungsblatt!I44*Berechnungsblatt!J44*Berechnungsblatt!K44","v":1.6053152517204505}]
["KO5",null,null,{"$f":"Eingabemaske!F34","v":0},{"$f":"D20*Berechnungsblatt!E45*Berechnungsblatt!F45*Berechnungsblatt!G45*Berechnungsblatt!H45*Berechnungsblatt!I45*Berechnungsblatt!J45*Berechnungsblatt!K45","v":0},{"$f":"Berechnungsblatt!E45*Berechnungsblatt!F45*Berechnungsblatt!G45*Berechnungsblatt!H45*Berechnungsblatt!I45*Berechnungsblatt!J45*Berechnungsblatt!K45","v":1.5159645004289939}]
["HA1",null,null,{"$f":"Eingabemaske!F35","v":0},{"$f":"$D21*Berechnungsblatt!E50*Berechnungsblatt!F50*Berechnungsblatt!G50*Berechnungsblatt!H50*Berechnungsblatt!I50*Berechnungsblatt!J50*Berechnungsblatt!K50","v":0},{"$f":"Berechnungsblatt!E50*Berechnungsblatt!F50*Berechnungsblatt!G50*Berechnungsblatt!H50*Berechnungsblatt!I50*Berechnungsblatt!J50*Berechnungsblatt!K50","v":1.4412942185565509}]
["HA2",null,null,{"$f":"Eingabemaske!F36","v":0},{"$f":"$D22*Berechnungsblatt!E51*Berechnungsblatt!F51*Berechnungsblatt!G51*Berechnungsblatt!H51*Berechnungsblatt!I51*Berechnungsblatt!J51*Berechnungsblatt!K51","v":0},{"$f":"Berechnungsblatt!E51*Berechnungsblatt!F51*Berechnungsblatt!G51*Berechnungsblatt!H51*Berechnungsblatt!I51*Berechnungsblatt!J51*Berechnungsblatt!K51","v":1.5508946999820554}]
["HA3",null,null,{"$f":"Eingabemaske!F37","v":143866},{"$f":"$D23*Berechnungsblatt!E52*Berechnungsblatt!F52*Berechnungsblatt!G52*Berechnungsblatt!H52*Berechnungsblatt!I52*Berechnungsblatt!J52*Berechnungsblatt!K52","v":229482.06331512055},{"$f":"Berechnungsblatt!E52*Berechnungsblatt!F52*Berechnungsblatt!G52*Berechnungsblatt!H52*Berechnungsblatt!I52*Berechnungsblatt!J52*Berechnungsblatt!K52","v":1.5951097779539332}]
["HA4",null,null,{"$f":"Eingabemaske!F38","v":0},{"$f":"$D24*Berechnungsblatt!E53*Berechnungsblatt!F53*Berechnungsblatt!G53*Berechnungsblatt!H53*Berechnungsblatt!I53*Berechnungsblatt!J53*Berechnungsblatt!K53","v":0},{"$f":"Berechnungsblatt!E53*Berechnungsblatt!F53*Berechnungsblatt!G53*Berechnungsblatt!H53*Berechnungsblatt!I53*Berechnungsblatt!J53*Berechnungsblatt!K53","v":1.558407745067951}]
["HA5",null,null,{"$f":"Eingabemaske!F39","v":0},{"$f":"$D25*Berechnungsblatt!E54*Berechnungsblatt!F54*Berechnungsblatt!G54*Berechnungsblatt!H54*Berechnungsblatt!I54*Berechnungsblatt!J54*Berechnungsblatt!K54","v":0},{"$f":"Berechnungsblatt!E54*Berechnungsblatt!F54*Berechnungsblatt!G54*Berechnungsblatt!H54*Berechnungsblatt!I54*Berechnungsblatt!J54*Berechnungsblatt!K54","v":1.4331592370387678}]
["GA1",null,null,{"$f":"Eingabemaske!F40","v":0},{"$f":"D26*Berechnungsblatt!E77*Berechnungsblatt!F77*Berechnungsblatt!G77*Berechnungsblatt!H77*Berechnungsblatt!I77*Berechnungsblatt!J77*Berechnungsblatt!K77","v":0},{"$f":"Berechnungsblatt!E77*Berechnungsblatt!F77*Berechnungsblatt!G77*Berechnungsblatt!H77*Berechnungsblatt!I77*Berechnungsblatt!J77*Berechnungsblatt!K77","v":1.0464044951275977}]
["GA2",null,null,{"$f":"Eingabemaske!F41","v":0},{"$f":"D27*Berechnungsblatt!E78*Berechnungsblatt!F78*Berechnungsblatt!G78*Berechnungsblatt!H78*Berechnungsblatt!I78*Berechnungsblatt!J78*Berechnungsblatt!K78","v":0},{"$f":"Berechnungsblatt!E78*Berechnungsblatt!F78*Berechnungsblatt!G78*Berechnungsblatt!H78*Berechnungsblatt!I78*Berechnungsblatt!J78*Berechnungsblatt!K78","v":1.1501708818058858}]
["GA3",null,null,{"$f":"Eingabemaske!F42","v":68316},{"$f":"D28*Berechnungsblatt!E79*Berechnungsblatt!F79*Berechnungsblatt!G79*Berechnungsblatt!H79*Berechnungsblatt!I79*Berechnungsblatt!J79*Berechnungsblatt!K79","v":86226.312126811041},{"$f":"Berechnungsblatt!E79*Berechnungsblatt!F79*Berechnungsblatt!G79*Berechnungsblatt!H79*Berechnungsblatt!I79*Berechnungsblatt!J79*Berechnungsblatt!K79","v":1.2621686299960631}]
["GA4",null,null,{"$f":"Eingabemaske!F43","v":0},{"$f":"D29*Berechnungsblatt!E80*Berechnungsblatt!F80*Berechnungsblatt!G80*Berechnungsblatt!H80*Berechnungsblatt!I80*Berechnungsblatt!J80*Berechnungsblatt!K80","v":0},{"$f":"Berechnungsblatt!E80*Berechnungsblatt!F80*Berechnungsblatt!G80*Berechnungsblatt!H80*Berechnungsblatt!I80*Berechnungsblatt!J80*Berechnungsblatt!K80","v":1.3611814128833608}]
["GA5",null,null,{"$f":"Eingabemaske!F44","v":0},{"$f":"D30*Berechnungsblatt!E81*Berechnungsblatt!F81*Berechnungsblatt!G81*Berechnungsblatt!H81*Berechnungsblatt!I81*Berechnungsblatt!J81*Berechnungsblatt!K81","v":0},{"$f":"Berechnungsblatt!E81*Berechnungsblatt!F81*Berechnungsblatt!G81*Berechnungsblatt!H81*Berechnungsblatt!I81*Berechnungsblatt!J81*Berechnungsblatt!K81","v":1.4153061716579383}]
["GB1",null,null,{"$f":"Eingabemaske!F45","v":0},{"$f":"D31*Berechnungsblatt!E32*Berechnungsblatt!F32*Berechnungsblatt!G32*Berechnungsblatt!H32*Berechnungsblatt!I32*Berechnungsblatt!J32*Berechnungsblatt!K32","v":0},{"$f":"Berechnungsblatt!E32*Berechnungsblatt!F32*Berechnungsblatt!G32*Berechnungsblatt!H32*Berechnungsblatt!I32*Berechnungsblatt!J32*Berechnungsblatt!K32","v":1.3090140921019393}]
["GB2",null,null,{"$f":"Eingabemaske!F46","v":0},{"$f":"D32*Berechnungsblatt!E33*Berechnungsblatt!F33*Berechnungsblatt!G33*Berechnungsblatt!H33*Berechnungsblatt!I33*Berechnungsblatt!J33*Berechnungsblatt!K33","v":0},{"$f":"Berechnungsblatt!E33*Berechnungsblatt!F33*Berechnungsblatt!G33*Berechnungsblatt!H33*Berechnungsblatt!I33*Berechnungsblatt!J33*Berechnungsblatt!K33","v":1.3648071180312211}]
["GB3",null,null,{"$f":"Eingabemaske!F47","v":12099},{"$f":"D33*Berechnungsblatt!E34*Berechnungsblatt!F34*Berechnungsblatt!G34*Berechnungsblatt!H34*Berechnungsblatt!I34*Berechnungsblatt!J34*Berechnungsblatt!K34","v":16843.161416293144},{"$f":"Berechnungsblatt!E34*Berechnungsblatt!F34*Berechnungsblatt!G34*Berechnungsblatt!H34*Berechnungsblatt!I34*Berechnungsblatt!J34*Berechnungsblatt!K34","v":1.3921118618309898}]
["GB4",null,null,{"$f":"Eingabemaske!F48","v":0},{"$f":"D34*Berechnungsblatt!E35*Berechnungsblatt!F35*Berechnungsblatt!G35*Berechnungsblatt!H35*Berechnungsblatt!I35*Berechnungsblatt!J35*Berechnungsblatt!K35","v":0},{"$f":"Berechnungsblatt!E35*Berechnungsblatt!F35*Berechnungsblatt!G35*Berechnungsblatt!H35*Berechnungsblatt!I35*Berechnungsblatt!J35*Berechnungsblatt!K35","v":1.4058619486540334}]
["GB5",null,null,{"$f":"Eingabemaske!F49","v":0},{"$f":"D35*Berechnungsblatt!E36*Berechnungsblatt!F36*Berechnungsblatt!G36*Berechnungsblatt!H36*Berechnungsblatt!I36*Berechnungsblatt!J36*Berechnungsblatt!K36","v":0},{"$f":"Berechnungsblatt!E36*Berechnungsblatt!F36*Berechnungsblatt!G36*Berechnungsblatt!H36*Berechnungsblatt!I36*Berechnungsblatt!J36*Berechnungsblatt!K36","v":1.4104816719646436}]
["ME1",null,null,{"$f":"Eingabemaske!F50","v":0},{"$f":"D36*Berechnungsblatt!E59*Berechnungsblatt!F59*Berechnungsblatt!G59*Berechnungsblatt!H59*Berechnungsblatt!I59*Berechnungsblatt!J59*Berechnungsblatt!K59","v":0},{"$f":"Berechnungsblatt!E59*Berechnungsblatt!F59*Berechnungsblatt!G59*Berechnungsblatt!H59*Berechnungsblatt!I59*Berechnungsblatt!J59*Berechnungsblatt!K59","v":1.5306829621026781}]
["ME2",null,null,{"$f":"Eingabemaske!F51","v":0},{"$f":"D37*Berechnungsblatt!E60*Berechnungsblatt!F60*Berechnungsblatt!G60*Berechnungsblatt!H60*Berechnungsblatt!I60*Berechnungsblatt!J60*Berechnungsblatt!K60","v":0},{"$f":"Berechnungsblatt!E60*Berechnungsblatt!F60*Berechnungsblatt!G60*Berechnungsblatt!H60*Berechnungsblatt!I60*Berechnungsblatt!J60*Berechnungsblatt!K60","v":1.5545044471172}]
["ME3",null,null,{"$f":"Eingabemaske!F52","v":155033},{"$f":"D38*Berechnungsblatt!E61*Berechnungsblatt!F61*Berechnungsblatt!G61*Berechnungsblatt!H61*Berechnungsblatt!I61*Berechnungsblatt!J61*Berechnungsblatt!K61","v":249314.09653812647},{"$f":"Berechnungsblatt!E61*Berechnungsblatt!F61*Berechnungsblatt!G61*Berechnungsblatt!H61*Berechnungsblatt!I61*Berechnungsblatt!J61*Berechnungsblatt!K61","v":1.6081356649108671}]
["ME4",null,null,{"$f":"Eingabemaske!F53","v":0},{"$f":"D39*Berechnungsblatt!E62*Berechnungsblatt!F62*Berechnungsblatt!G62*Berechnungsblatt!H62*Berechnungsblatt!I62*Berechnungsblatt!J62*Berechnungsblatt!K62","v":0},{"$f":"Berechnungsblatt!E62*Berechnungsblatt!F62*Berechnungsblatt!G62*Berechnungsblatt!H62*Berechnungsblatt!I62*Berechnungsblatt!J62*Berechnungsblatt!K62","v":1.6039817576066491}]
["ME5",null,null,{"$f":"Eingabemaske!F54","v":0},{"$f":"D40*Berechnungsblatt!E63*Berechnungsblatt!F63*Berechnungsblatt!G63*Berechnungsblatt!H63*Berechnungsblatt!I63*Berechnungsblatt!J63*Berechnungsblatt!K63","v":0},{"$f":"Berechnungsblatt!E63*Berechnungsblatt!F63*Berechnungsblatt!G63*Berechnungsblatt!H63*Berechnungsblatt!I63*Berechnungsblatt!J63*Berechnungsblatt!K63","v":1.5503245061948461}]
["PD1",null,null,{"$f":"Eingabemaske!F55","v":0},{"$f":"$D41*Berechnungsblatt!E95*Berechnungsblatt!F95*Berechnungsblatt!G95*Berechnungsblatt!H95*Berechnungsblatt!I95*Berechnungsblatt!J95*Berechnungsblatt!K95","v":0},{"$f":"Berechnungsblatt!E95*Berechnungsblatt!F95*Berechnungsblatt!G95*Berechnungsblatt!H95*Berechnungsblatt!I95*Berechnungsblatt!J95*Berechnungsblatt!K95","v":1.4135231505266574}]
["PD2",null,null,{"$f":"Eingabemaske!F56","v":0},{"$f":"$D42*Berechnungsblatt!E96*Berechnungsblatt!F96*Berechnungsblatt!G96*Berechnungsblatt!H96*Berechnungsblatt!I96*Berechnungsblatt!J96*Berechnungsblatt!K96","v":0},{"$f":"Berechnungsblatt!E96*Berechnungsblatt!F96*Berechnungsblatt!G96*Berechnungsblatt!H96*Berechnungsblatt!I96*Berechnungsblatt!J96*Berechnungsblatt!K96","v":1.5297172597920057}]
["PD3",null,null,{"$f":"Eingabemaske!F57","v":17748},{"$f":"$D43*Berechnungsblatt!E97*Berechnungsblatt!F97*Berechnungsblatt!G97*Berechnungsblatt!H97*Berechnungsblatt!I97*Berechnungsblatt!J97*Berechnungsblatt!K97","v":28994.377464910263},{"$f":"Berechnungsblatt!E97*Berechnungsblatt!F97*Berechnungsblatt!G97*Berechnungsblatt!H97*Berechnungsblatt!I97*Berechnungsblatt!J97*Berechnungsblatt!K97","v":1.6336701298687324}]
["PD4",null,null,{"$f":"Eingabemaske!F58","v":0},{"$f":"$D44*Berechnungsblatt!E98*Berechnungsblatt!F98*Berechnungsblatt!G98*Berechnungsblatt!H98*Berechnungsblatt!I98*Berechnungsblatt!J98*Berechnungsblatt!K98","v":0},{"$f":"Berechnungsblatt!E98*Berechnungsblatt!F98*Berechnungsblatt!G98*Berechnungsblatt!H98*Berechnungsblatt!I98*Berechnungsblatt!J98*Berechnungsblatt!K98","v":1.5495503991180422}]
["PD5",null,null,{"$f":"Eingabemaske!F59","v":0},{"$f":"$D45*Berechnungsblatt!E99*Berechnungsblatt!F99*Berechnungsblatt!G99*Berechnungsblatt!H99*Berechnungsblatt!I99*Berechnungsblatt!J99*Berechnungsblatt!K99","v":0},{"$f":"Berechnungsblatt!E99*Berechnungsblatt!F99*Berechnungsblatt!G99*Berechnungsblatt!H99*Berechnungsblatt!I99*Berechnungsblatt!J99*Berechnungsblatt!K99","v":1.3439481548403507}]
["BD1",null,null,{"$f":"Eingabemaske!F60","v":0},{"$f":"D46*Berechnungsblatt!E68*Berechnungsblatt!F68*Berechnungsblatt!G68*Berechnungsblatt!H68*Berechnungsblatt!I68*Berechnungsblatt!J68*Berechnungsblatt!K68","v":0},{"$f":"Berechnungsblatt!E68*Berechnungsblatt!F68*Berechnungsblatt!G68*Berechnungsblatt!H68*Berechnungsblatt!I68*Berechnungsblatt!J68*Berechnungsblatt!K68","v":1.2180996994367488}]
["BD2",null,null,{"$f":"Eingabemaske!F61","v":0},{"$f":"D47*Berechnungsblatt!E69*Berechnungsblatt!F69*Berechnungsblatt!G69*Berechnungsblatt!H69*Berechnungsblatt!I69*Berechnungsblatt!J69*Berechnungsblatt!K69","v":0},{"$f":"Berechnungsblatt!E69*Berechnungsblatt!F69*Berechnungsblatt!G69*Berechnungsblatt!H69*Berechnungsblatt!I69*Berechnungsblatt!J69*Berechnungsblatt!K69","v":1.4347419562727091}]
["BD3",null,null,{"$f":"Eingabemaske!F62","v":666992},{"$f":"D48*Berechnungsblatt!E70*Berechnungsblatt!F70*Berechnungsblatt!G70*Berechnungsblatt!H70*Berechnungsblatt!I70*Berechnungsblatt!J70*Berechnungsblatt!K70","v":1082043.095780201},{"$f":"Berechnungsblatt!E70*Berechnungsblatt!F70*Berechnungsblatt!G70*Berechnungsblatt!H70*Berechnungsblatt!I70*Berechnungsblatt!J70*Berechnungsblatt!K70","v":1.6222729744587656}]
["BD4",null,null,{"$f":"Eingabemaske!F63","v":0},{"$f":"D49*Berechnungsblatt!E71*Berechnungsblatt!F71*Berechnungsblatt!G71*Berechnungsblatt!H71*Berechnungsblatt!I71*Berechnungsblatt!J71*Berechnungsblatt!K71","v":0},{"$f":"Berechnungsblatt!E71*Berechnungsblatt!F71*Berechnungsblatt!G71*Berechnungsblatt!H71*Berechnungsblatt!I71*Berechnungsblatt!J71*Berechnungsblatt!K71","v":1.7195032887611907}]
["BD5",null,null,{"$f":"Eingabemaske!F64","v":0},{"$f":"D50*Berechnungsblatt!E72*Berechnungsblatt!F72*Berechnungsblatt!G72*Berechnungsblatt!H72*Berechnungsblatt!I72*Berechnungsblatt!J72*Berechnungsblatt!K72","v":0},{"$f":"Berechnungsblatt!E72*Berechnungsblatt!F72*Berechnungsblatt!G72*Berechnungsblatt!H72*Berechnungsblatt!I72*Berechnungsblatt!J72*Berechnungsblatt!K72","v":1.72120679343689}]
["WA1",null,null,{"$f":"Eingabemaske!F65","v":0},{"$f":"D51*Berechnungsblatt!E104*Berechnungsblatt!F104*Berechnungsblatt!G104*Berechnungsblatt!H104*Berechnungsblatt!I104*Berechnungsblatt!J104*Berechnungsblatt!K104","v":0},{"$f":"Berechnungsblatt!E104*Berechnungsblatt!F104*Berechnungsblatt!G104*Berechnungsblatt!H104*Berechnungsblatt!I104*Berechnungsblatt!J104*Berechnungsblatt!K104","v":1.3652950152745216}]
["WA2",null,null,{"$f":"Eingabemaske!F66","v":0},{"$f":"D52*Berechnungsblatt!E105*Berechnungsblatt!F105*Berechnungsblatt!G105*Berechnungsblatt!H105*Berechnungsblatt!I105*Berechnungsblatt!J105*Berechnungsblatt!K105","v":0},{"$f":"Berechnungsblatt!E105*Berechnungsblatt!F105*Berechnungsblatt!G105*Berechnungsblatt!H105*Berechnungsblatt!I105*Berechnungsblatt!J105*Berechnungsblatt!K105","v":1.4058373251935199}]
["WA3",null,null,{"$f":"Eingabemaske!F67","v":1750},{"$f":"D53*Berechnungsblatt!E106*Berechnungsblatt!F106*Berechnungsblatt!G106*Berechnungsblatt!H106*Berechnungsblatt!I106*Berechnungsblatt!J106*Berechnungsblatt!K106","v":2548.2049966243612},{"$f":"Berechnungsblatt!E106*Berechnungsblatt!F106*Berechnungsblatt!G106*Berechnungsblatt!H106*Berechnungsblatt!I106*Berechnungsblatt!J106*Berechnungsblatt!K106","v":1.4561171409282063}]
["WA4",null,null,{"$f":"Eingabemaske!F68","v":0},{"$f":"D54*Berechnungsblatt!E107*Berechnungsblatt!F107*Berechnungsblatt!G107*Berechnungsblatt!H107*Berechnungsblatt!I107*Berechnungsblatt!J107*Berechnungsblatt!K107","v":0},{"$f":"Berechnungsblatt!E107*Berechnungsblatt!F107*Berechnungsblatt!G107*Berechnungsblatt!H107*Berechnungsblatt!I107*Berechnungsblatt!J107*Berechnungsblatt!K107","v":1.5046785009632848}]
["WA5",null,null,{"$f":"Eingabemaske!F69","v":0},{"$f":"D55*Berechnungsblatt!E108*Berechnungsblatt!F108*Berechnungsblatt!G108*Berechnungsblatt!H108*Berechnungsblatt!I108*Berechnungsblatt!J108*Berechnungsblatt!K108","v":0},{"$f":"Berechnungsblatt!E108*Berechnungsblatt!F108*Berechnungsblatt!G108*Berechnungsblatt!H108*Berechnungsblatt!I108*Berechnungsblatt!J108*Berechnungsblatt!K108","v":1.5490043144204149}]
["HK3",null,null,{"$f":"Eingabemaske!F70","v":2172},{"$f":"$D$56*Berechnungsblatt!E9","v":2349.5751429740271},{"$f":"Berechnungsblatt!E9","v":1.0817565114981709}]
["MF1",null,null,{"$f":"Eingabemaske!F71","v":0},{"$f":"D57*Berechnungsblatt!E86*Berechnungsblatt!F86*Berechnungsblatt!G86*Berechnungsblatt!H86*Berechnungsblatt!I86*Berechnungsblatt!J86*Berechnungsblatt!K86","v":0},{"$f":"Berechnungsblatt!E86*Berechnungsblatt!F86*Berechnungsblatt!G86*Berechnungsblatt!H86*Berechnungsblatt!I86*Berechnungsblatt!J86*Berechnungsblatt!K86","v":1.3464153141124087}]
["MF2",null,null,{"$f":"Eingabemaske!F72","v":0},{"$f":"D58*Berechnungsblatt!E87*Berechnungsblatt!F87*Berechnungsblatt!G87*Berechnungsblatt!H87*Berechnungsblatt!I87*Berechnungsblatt!J87*Berechnungsblatt!K87","v":0},{"$f":"Berechnungsblatt!E87*Berechnungsblatt!F87*Berechnungsblatt!G87*Berechnungsblatt!H87*Berechnungsblatt!I87*Berechnungsblatt!J87*Berechnungsblatt!K87","v":1.3799410217118608}]
["MF3",null,null,{"$f":"Eingabemaske!F73","v":0},{"$f":"D59*Berechnungsblatt!E88*Berechnungsblatt!F88*Berechnungsblatt!G88*Berechnungsblatt!H88*Berechnungsblatt!I88*Berechnungsblatt!J88*Berechnungsblatt!K88","v":0},{"$f":"Berechnungsblatt!E88*Berechnungsblatt!F88*Berechnungsblatt!G88*Berechnungsblatt!H88*Berechnungsblatt!I88*Berechnungsblatt!J88*Berechnungsblatt!K88","v":1.4206123016953449}]
["MF4",null,null,{"$f":"Eingabemaske!F74","v":0},{"$f":"D60*Berechnungsblatt!E89*Berechnungsblatt!F89*Berechnungsblatt!G89*Berechnungsblatt!H89*Berechnungsblatt!I89*Berechnungsblatt!J89*Berechnungsblatt!K89","v":0},{"$f":"Berechnungsblatt!E89*Berechnungsblatt!F89*Berechnungsblatt!G89*Berechnungsblatt!H89*Berechnungsblatt!I89*Berechnungsblatt!J89*Berechnungsblatt!K89","v":1.4393886063579922}]
["MF5",null,null,{"$f":"Eingabemaske!F75","v":0},{"$f":"D61*Berechnungsblatt!E90*Berechnungsblatt!F90*Berechnungsblatt!G90*Berechnungsblatt!H90*Berechnungsblatt!I90*Berechnungsblatt!J90*Berechnungsblatt!K90","v":0},{"$f":"Berechnungsblatt!E90*Berechnungsblatt!F90*Berechnungsblatt!G90*Berechnungsblatt!H90*Berechnungsblatt!I90*Berechnungsblatt!J90*Berechnungsblatt!K90","v":1.4654576892442206}]
["GHD03",null,null,{"$f":"Eingabemaske!F76","v":0},{"$f":"D62*Berechnungsblatt!E113*Berechnungsblatt!F113*Berechnungsblatt!G113*Berechnungsblatt!H113*Berechnungsblatt!I113*Berechnungsblatt!J113*Berechnungsblatt!K113","v":0},{"$f":"Berechnungsblatt!E113*Berechnungsblatt!F113*Berechnungsblatt!G113*Berechnungsblatt!H113*Berechnungsblatt!I113*Berechnungsblatt!J113*Berechnungsblatt!K113","v":1.486129525764611}]
["GHD04",null,null,{"$f":"Eingabemaske!F77","v":0},{"$f":"D63*Berechnungsblatt!E114*Berechnungsblatt!F114*Berechnungsblatt!G114*Berechnungsblatt!H114*Berechnungsblatt!I114*Berechnungsblatt!J114*Berechnungsblatt!K114","v":0},{"$f":"Berechnungsblatt!E114*Berechnungsblatt!F114*Berechnungsblatt!G114*Berechnungsblatt!H114*Berechnungsblatt!I114*Berechnungsblatt!J114*Berechnungsblatt!K114","v":1.5038423271064973}]
[null,null,null,{"$f":"SUM(D2:D63)","v":6012274.7890331466},{"$f":"SUM(E2:E63)","v":8629770.474052554},{"$f":"SUM(F2:F63)","v":87.96424816909844}]

{"sheet":"Tagesmengenallokation 03","index":17,"n_rows":367,"n_cols":3,"rows_kept":367,"cut":false,"hidden":false,"merged":[]}
["Datum","Temperatur in °C","Tagesmenge"]
["2012-01-01",10.199999999999999,4530224.6285928134]
["2012-01-02",9,5461083.5836967472]
["2012-01-03",5.9,7621532.4896190651]
["2012-01-04",5.5,7851012.8297404014]
["2012-01-05",4.5,8593911.8162365854]
["2012-01-06",2.9,9640733.5902335383]
["2012-01-07",3.7,8684003.7520143036]
["2012-01-08",3.9,8723694.3841770943]
["2012-01-09",4.2,8846779.6654921956]
["2012-01-10",4.8,8412449.8514227234]
["2012-01-11",2.5,9945796.3639137037]
["2012-01-12",3.5,9297534.4197101537]
["2012-01-13",2.6,9842548.3892504126]
["2012-01-14",0.8,10504410.482533848]
["2012-01-15",-1.8,12140602.619226115]
["2012-01-16",-2.6,13011617.335647143]
["2012-01-17",-3,13192260.198877692]
["2012-01-18",-1.4,12300085.8515092]
["2012-01-19",6.5,7163108.7697140202]
["2012-01-20",3.2,9436730.340122249]
["2012-01-21",4.5,8149509.6852589948]
["2012-01-22",5.2,7831727.608286228]
["2012-01-23",4.2,8846779.6654921956]
["2012-01-24",1.9,10418521.057398295]
["2012-01-25",-0.3,11692921.916902857]
["2012-01-26",-0.4,11791808.833835209]
["2012-01-27",1.5,10560983.311766127]
["2012-01-28",1.7,9964441.0863886643]
["2012-01-29",-0.6,11513765.399195503]
["2012-01-30",-1.3,12346163.748799965]
["2012-01-31",-3.2,13285237.55139534]
["2012-02-01",-6.2,14391058.091858521]
["2012-02-02",-8.5,15155635.9999696]
["2012-02-03",-11,15650050.561449323]
["2012-02-04",-11.5,15060841.713135008]
["2012-02-05",-11.9,15429704.643786386]
["2012-02-06",-12.3,16091481.861553606]
["2012-02-07",-12.4,16096186.869737681]
["2012-02-08",-8,14961801.622898994]
["2012-02-09",-9.6999999999999993,15466441.048216917]
["2012-02-10",-8.9,15154828.941730551]
["2012-02-11",-10.7,14900440.714828758]
["2012-02-12",-11,15252758.402676707]
["2012-02-13",-6.5,14610256.214965643]
["2012-02-14",-1.2,12282726.143769354]
["2012-02-15",1.5,10600120.67868595]
["2012-02-16",2,10313358.698322698]
["2012-02-17",3.2,9436730.340122249]
["2012-02-18",5.2,7676216.183829667]
["2012-02-19",2.5,9653993.5089890379]
["2012-02-20",0.4,11373667.422458578]
["2012-02-21",-0.6,11950429.827588901]
["2012-02-22",1.4,10663835.803529786]
["2012-02-23",5.4,7950846.7830206547]
["2012-02-24",7.9,6135648.8387653939]
["2012-02-25",7.4,6191661.5167803215]
["2012-02-26",4.9000000000000004,8038945.0712937787]
["2012-02-27",4.2,8846779.6654921956]
["2012-02-28",6.2,7405840.4820830217]
["2012-02-29",7.3,6572841.1598370792]
["2012-03-01",7.7,6317058.3095410243]
["2012-03-02",6.4,7183444.2341618994]
["2012-03-03",7.8,5927898.1056272956]
["2012-03-04",6.9,6658283.0808279933]
["2012-03-05",3.8,9129637.4798055552]
["2012-03-06",3.2,9541538.1454547755]
["2012-03-07",4.5999999999999996,8492391.333139345]
["2012-03-08",4.2,8806592.1375782751]
["2012-03-09",3.2,9436730.340122249]
["2012-03-10",5.2,7676216.183829667]
["2012-03-11",7.4,6318055.7098123021]
["2012-03-12",8.1999999999999993,5999802.534545646]
["2012-03-13",8.3000000000000007,5927475.6694376376]
["2012-03-14",7.5,6433241.5521391416]
["2012-03-15",7.8,6247735.1237598918]
["2012-03-16",10.9,4230990.9803525507]
["2012-03-17",11.2,3882888.5014991635]
["2012-03-18",7.4,6318055.7098123021]
["2012-03-19",6.7,7052589.1507031061]
["2012-03-20",6.3,7334049.8990966929]
["2012-03-21",8.1,6019544.2988192756]
["2012-03-22",10.6,4435097.6416946733]
["2012-03-23",11.1,4117352.0411175182]
["2012-03-24",10.6,4211059.4160269871]
["2012-03-25",11.4,3855449.7022028062]
["2012-03-26",11.2,4106602.8589649638]
["2012-03-27",10.6,4451996.6401320007]
["2012-03-28",11.9,3694273.776657314]
["2012-03-29",10.9,4259782.6919264561]
["2012-03-30",9.6999999999999993,4951521.8698127437]
["2012-03-31",9,5159899.626411126]
["2012-04-01",5.2,7831727.608286228]
["2012-04-02",7.2,6697019.6605825294]
["2012-04-03",10.3,4632232.6362609901]
["2012-04-04",9.5,5094222.9733743351]
["2012-04-05",7.3,6596449.7412702441]
["2012-04-06",6.7,6971279.1438746927]
["2012-04-07",5.6,7404677.0800611963]
["2012-04-08",3.2,9194073.1370299775]
["2012-04-09",5.7,7770959.7290024124]
["2012-04-10",12.5,3414301.2287698537]
["2012-04-11",7.9,6156510.5787383523]
["2012-04-12",7.2,6666769.8352989005]
["2012-04-13",7.6,6342033.5111910226]
["2012-04-14",9.5,4852907.748841757]
["2012-04-15",7.4,6318055.7098123021]
["2012-04-16",5.5,7915061.8432379477]
["2012-04-17",5.8,7693500.9697901169]
["2012-04-18",8.1,6019544.2988192756]
["2012-04-19",8.5,5769498.0725955302]
["2012-04-20",8.6,5662894.5422373498]
["2012-04-21",7.4,6191661.5167803215]
["2012-04-22",6.5,6932869.1604890274]
["2012-04-23",8.1999999999999993,5999802.534545646]
["2012-04-24",8.3000000000000007,5927475.6694376376]
["2012-04-25",10.9,4244439.3990751011]
["2012-04-26",13,3161304.7089922763]
["2012-04-27",14.9,2358517.7280589053]
["2012-04-28",20.8,988604.50637611921]
["2012-04-29",19,1261923.7243206853]
["2012-04-30",17.399999999999999,1633813.1072638982]
["2012-05-01",16.5,1868344.5233460753]
["2012-05-02",16.8,1773072.9501776053]
["2012-05-03",14,2722330.8598040896]
["2012-05-04",14.7,2431558.7286945828]
["2012-05-05",12.5,3231150.681122269]
["2012-05-06",11.9,3594613.6271380093]
["2012-05-07",11.3,4050335.5907139149]
["2012-05-08",14.7,2456900.9784187237]
["2012-05-09",16.899999999999999,1746817.8459273849]
["2012-05-10",20.100000000000001,1131026.4116027402]
["2012-05-11",22.7,860869.23723555775]
["2012-05-12",11.6,3673472.1222862755]
["2012-05-13",9.3000000000000007,5076874.46003199]
["2012-05-14",10.3,4634990.6749855205]
["2012-05-15",8.9,5523724.8180085998]
["2012-05-16",6.4,7208610.9922728511]
["2012-05-17",9,5436709.4130483251]
["2012-05-18",13.5,2915354.0253974451]
["2012-05-19",17.100000000000001,1616799.2929251818]
["2012-05-20",18.3,1388905.1388824144]
["2012-05-21",17.899999999999999,1519515.5138213551]
["2012-05-22",18.100000000000001,1477588.7455563901]
["2012-05-23",18.7,1349334.520090915]
["2012-05-24",20.2,1117552.4397789005]
["2012-05-25",18.2,1441596.4383786714]
["2012-05-26",17.2,1593043.2721040733]
["2012-05-27",15.4,2134639.9770980589]
["2012-05-28",17.600000000000001,1586787.5390215146]
["2012-05-29",19.5,1222835.3838929255]
["2012-05-30",18.600000000000001,1367927.2289010333]
["2012-05-31",18.3,1431490.1056594371]
["2012-06-01",16.8,1767637.1748372638]
["2012-06-02",17.100000000000001,1616799.2929251818]
["2012-06-03",15.8,2008468.4270239787]
["2012-06-04",14.2,2651642.9696860481]
["2012-06-05",10.9,4275986.8676768811]
["2012-06-06",13.8,2795475.0181593709]
["2012-06-07",17.899999999999999,1514859.6396528203]
["2012-06-08",16.600000000000001,1821415.5117577096]
["2012-06-09",16.2,1850630.1755359778]
["2012-06-10",13.8,2721638.8463822738]
["2012-06-11",14.3,2611685.7058845689]
["2012-06-12",12.3,3514599.4965762515]
["2012-06-13",13.7,2837838.3064035745]
["2012-06-14",14.7,2447871.3077333448]
["2012-06-15",18.7,1344974.0371733541]
["2012-06-16",20.7,999787.06862577039]
["2012-06-17",17.899999999999999,1469893.8107182698]
["2012-06-18",22.1,915708.16471455037]
["2012-06-19",21.5,971786.21898013493]
["2012-06-20",19.5,1213827.2528510876]
["2012-06-21",20.2,1117552.4397789005]
["2012-06-22",17.899999999999999,1504365.4019935399]
["2012-06-23",17.8,1459381.3492521788]
["2012-06-24",17.899999999999999,1469893.8107182698]
["2012-06-25",15.6,2141680.5194300315]
["2012-06-26",17,1733717.0942446084]
["2012-06-27",19.899999999999999,1154374.7083071792]
["2012-06-28",22.2,905915.94068199687]
["2012-06-29",24.3,769428.10710222542]
["2012-06-30",24.1,742177.20082632254]
["2012-07-01",16.899999999999999,1701481.9283278389]
["2012-07-02",16.8,1785756.1452667895]
["2012-07-03",17.7,1564614.716265752]
["2012-07-04",20.9,1027408.9421145235]
["2012-07-05",21.9,931345.49737772066]
["2012-07-06",18.399999999999999,1401773.2394257151]
["2012-07-07",19.7,1127089.0327207833]
["2012-07-08",19.100000000000001,1245238.8183119434]
["2012-07-09",19.7,1191033.0283904267]
["2012-07-10",19.7,1192233.3170889497]
["2012-07-11",17.7,1553153.0472065592]
["2012-07-12",15.5,2166603.3864664733]
["2012-07-13",15.7,2087459.1744100843]
["2012-07-14",17.5,1524337.0092987774]
["2012-07-15",14.3,2523768.9516447214]
["2012-07-16",15.2,2276651.7645898522]
["2012-07-17",17.7,1564614.716265752]
["2012-07-18",21.1,1005419.9881080564]
["2012-07-19",19.100000000000001,1283663.665477925]
["2012-07-20",14.8,2394770.7038889648]
["2012-07-21",13.7,2706107.8102000323]
["2012-07-22",14.4,2485785.2180379671]
["2012-07-23",17,1733260.6660119933]
["2012-07-24",21,1023885.4171143776]
["2012-07-25",23,843714.66038963094]
["2012-07-26",24.8,754950.49596452469]
["2012-07-27",25.2,734164.39875541441]
["2012-07-28",21.4,926880.77092266467]
["2012-07-29",17.8,1491146.297191913]
["2012-07-30",17.2,1682625.0886692896]
["2012-07-31",18.399999999999999,1416665.1525978115]
["2012-08-01",22.3,894204.89215985814]
["2012-08-02",22,922648.0023687653]
["2012-08-03",21.2,991247.30058148422]
["2012-08-04",20.6,1011237.3055955161]
["2012-08-05",21.3,958035.00633137405]
["2012-08-06",17,1733260.6660119933]
["2012-08-07",17.5,1610699.2516251453]
["2012-08-08",17.5,1598903.8445352733]
["2012-08-09",18.2,1451719.0431682917]
["2012-08-10",18.8,1326803.9296462366]
["2012-08-11",17.2,1593043.2721040733]
["2012-08-12",18,1449048.1554158833]
["2012-08-13",20.2,1120142.1357996676]
["2012-08-14",21.6,962120.39048154256]
["2012-08-15",24,786694.58346851123]
["2012-08-16",18.899999999999999,1318356.3772278954]
["2012-08-17",20.2,1109333.1382980822]
["2012-08-18",23.4,777788.88932286191]
["2012-08-19",25.7,700926.6690052778]
["2012-08-20",26,716983.92962236155]
["2012-08-21",26.3,711428.85876611504]
["2012-08-22",23.7,802114.79179540265]
["2012-08-23",21.2,998821.58980839408]
["2012-08-24",19.600000000000001,1194457.198880346]
["2012-08-25",20.2,1059805.8264180624]
["2012-08-26",16,1948353.6213145859]
["2012-08-27",16.8,1785756.1452667895]
["2012-08-28",19.100000000000001,1288180.6687753485]
["2012-08-29",21.7,945587.19322871312]
["2012-08-30",18.100000000000001,1472353.6538098645]
["2012-08-31",14.6,2468883.8912685066]
["2012-09-01",14.1,2547801.7356044636]
["2012-09-02",15.6,2070555.4066259109]
["2012-09-03",18.8,1339983.1395458339]
["2012-09-04",18.8,1340972.4653456649]
["2012-09-05",18.2,1446191.4025947354]
["2012-09-06",16.2,1947847.4144800215]
["2012-09-07",15.9,2024857.8589545647]
["2012-09-08",17.8,1459381.3492521788]
["2012-09-09",19.600000000000001,1166956.5797494184]
["2012-09-10",21.6,960581.7407562841]
["2012-09-11",18.5,1397158.5834222124]
["2012-09-12",12.3,3488737.4099985673]
["2012-09-13",11,4202307.2226558747]
["2012-09-14",12.4,3428108.3705842737]
["2012-09-15",13.6,2746990.4662769097]
["2012-09-16",13.8,2721638.8463822738]
["2012-09-17",16.2,1954749.5039278823]
["2012-09-18",16.899999999999999,1759695.9753936441]
["2012-09-19",11.8,3746982.4893161608]
["2012-09-20",9.8000000000000007,4922713.3800983308]
["2012-09-21",13.2,3048631.6116533219]
["2012-09-22",12.8,3092867.5425649728]
["2012-09-23",14.3,2523768.9516447214]
["2012-09-24",15.9,2045921.645947028]
["2012-09-25",13.5,2945845.9828024507]
["2012-09-26",12.7,3291807.0271144835]
["2012-09-27",12.3,3501403.6817348716]
["2012-09-28",13,3140227.814959052]
["2012-09-29",10.199999999999999,4438725.5240615522]
["2012-09-30",10.5,4355394.200111323]
["2012-10-01",12.7,3317615.2145366925]
["2012-10-02",12.8,3267958.2543985513]
["2012-10-03",12.8,3243935.2058294881]
["2012-10-04",13,3161304.7089922763]
["2012-10-05",13.7,2829250.1741755563]
["2012-10-06",15.5,2058633.9851694591]
["2012-10-07",11.2,3963240.4667825303]
["2012-10-08",8,6137396.8815640388]
["2012-10-09",11.7,3828419.1464597234]
["2012-10-10",9.5,5094222.9733743351]
["2012-10-11",10.7,4376183.5390444361]
["2012-10-12",10.7,4346552.7115157433]
["2012-10-13",8.6,5411421.5493529113]
["2012-10-14",9.9,4708874.4792575724]
["2012-10-15",7.8,6275998.4077202193]
["2012-10-16",8.1999999999999993,5995810.6365356622]
["2012-10-17",12.2,3539320.8454514681]
["2012-10-18",11.8,3760562.5828857399]
["2012-10-19",13.7,2829250.1741755563]
["2012-10-20",13.2,2915752.409445317]
["2012-10-21",11.9,3594613.6271380093]
["2012-10-22",10.4,4574394.9689115807]
["2012-10-23",8.1,6064417.5597606217]
["2012-10-24",8.6999999999999993,5615204.960763636]
["2012-10-25",7.7,6317058.3095410243]
["2012-10-26",8,6067317.3769572135]
["2012-10-27",1.2,10267624.121001761]
["2012-10-28",0.3,11007790.205405587]
["2012-10-29",-0.2,11729824.823598061]
["2012-10-30",4.4000000000000004,8698232.0817234255]
["2012-10-31",4.4000000000000004,8634042.2973184884]
["2012-11-01",8.1999999999999993,5972850.687621206]
["2012-11-02",8,6067317.3769572135]
["2012-11-03",10.3,4381168.5118613616]
["2012-11-04",9,5265810.8129182011]
["2012-11-05",6.8,6981203.413434512]
["2012-11-06",5.2,8125320.0861730576]
["2012-11-07",6.4,7208610.9922728511]
["2012-11-08",7.2,6666769.8352989005]
["2012-11-09",4.4000000000000004,8602954.2440185249]
["2012-11-10",8.9,5222311.2564970637]
["2012-11-11",8.6999999999999993,5457740.9361138223]
["2012-11-12",6.4,7267389.407161708]
["2012-11-13",4.7,8484046.1191784255]
["2012-11-14",6.1,7422391.4418311575]
["2012-11-15",4.3,8735826.6273260955]
["2012-11-16",2.5,9909301.5005468689]
["2012-11-17",2.8,9272057.712487828]
["2012-11-18",5.6,7554897.3957074517]
["2012-11-19",2.7,9891406.5821214803]
["2012-11-20",2.7,9884179.2832590286]
["2012-11-21",3.4,9333593.9594234228]
["2012-11-22",5.7,7735705.8939465936]
["2012-11-23",6.6,7041901.9649672024]
["2012-11-24",6.9,6525305.8722195104]
["2012-11-25",9.5,4952692.1723654652]
["2012-11-26",8.6,5727956.1963348519]
["2012-11-27",6.8,6976381.3968836498]
["2012-11-28",5.0999999999999996,8136639.0813735304]
["2012-11-29",2.1,10247524.821767984]
["2012-11-30",0.8,10998111.737192703]
["2012-12-01",-2.8,12376035.220485188]
["2012-12-02",-0.5,11459037.346283194]
["2012-12-03",1,11004075.098591298]
["2012-12-04",2.9,9747856.0945970211]
["2012-12-05",1.8,10407028.048146242]
["2012-12-06",-0.7,11961547.631329274]
["2012-12-07",-3.2,13140068.371930899]
["2012-12-08",-4.5,13090627.425066311]
["2012-12-09",-4,13145156.918084286]
["2012-12-10",1.1000000000000001,10941220.320484834]
["2012-12-11",-1.8,12600509.179489192]
["2012-12-12",-7.2,14720843.849390022]
["2012-12-13",-6.7,14611223.785122724]
["2012-12-14",1.7,10433089.158657983]
["2012-12-15",5.9,7200973.4475491783]
["2012-12-16",6,7278027.8976687519]
["2012-12-17",5.5,7915061.8432379477]
["2012-12-18",4,8982055.2988350205]
["2012-12-19",2,10276727.561514199]
["2012-12-20",-0.9,12072728.547509847]
["2012-12-21",4.7,8391203.2667961996]
["2012-12-22",5,7811783.6098740343]
["2012-12-23",11.3,3909102.333864077]
["2012-12-24",8.6,5727956.1963348519]
["2012-12-25",7.9,6202407.0719019016]
["2012-12-26",7.2,6642912.8785750298]
["2012-12-27",7.1,6737257.6660242574]
["2012-12-28",5.7,7680843.124581743]
["2012-12-29",5.7,7336764.2702278076]
["2012-12-30",6.9,6658283.0808279933]
["2012-12-31",4.7,8490107.0689464249]

{"sheet":"Tagesmengenallokation 04","index":18,"n_rows":367,"n_cols":3,"rows_kept":367,"cut":false,"hidden":false,"merged":[]}
["Datum","Temperatur in °C","Tagesmenge"]
["2012-01-01",10.199999999999999,4356578.1814084603]
["2012-01-02",9,5337439.5319178365]
["2012-01-03",5.9,7692926.42983534]
["2012-01-04",5.5,7952895.472508694]
["2012-01-05",4.5,8775157.2440739051]
["2012-01-06",2.9,9953421.1090463735]
["2012-01-07",3.7,8930729.9005458299]
["2012-01-08",3.9,8953959.6908316072]
["2012-01-09",4.2,9052449.560754858]
["2012-01-10",4.8,8569505.326789571]
["2012-01-11",2.5,10291291.586573875]
["2012-01-12",3.5,9560751.0970476735]
["2012-01-13",2.6,10179864.002290776]
["2012-01-14",0.8,10984698.178754633]
["2012-01-15",-1.8,12800089.286913015]
["2012-01-16",-2.6,13717694.10388789]
["2012-01-17",-3,13920019.241807815]
["2012-01-18",-1.4,12934684.621115629]
["2012-01-19",6.5,7190570.7407672843]
["2012-01-20",3.2,9724699.0614407882]
["2012-01-21",4.5,8330755.1130963154]
["2012-01-22",5.2,7957004.9899708908]
["2012-01-23",4.2,9052449.560754858]
["2012-01-24",1.9,10812644.816807197]
["2012-01-25",-0.3,12253842.12917494]
["2012-01-26",-0.4,12359731.062809348]
["2012-01-27",1.5,10986964.205498397]
["2012-01-28",1.7,10374558.912764499]
["2012-01-29",-0.6,12095514.798116328]
["2012-01-30",-1.3,12974377.761823397]
["2012-01-31",-3.2,14023433.831107331]
["2012-02-01",-6.2,15254772.744762842]
["2012-02-02",-8.5,16080926.922737675]
["2012-02-03",-11,16616580.189637303]
["2012-02-04",-11.5,16033122.024277385]
["2012-02-05",-11.9,16406085.971406113]
["2012-02-06",-12.3,17071551.041944981]
["2012-02-07",-12.4,17077116.666075043]
["2012-02-08",-8,15875885.681917327]
["2012-02-09",-9.6999999999999993,16414363.49526995]
["2012-02-10",-8.9,16088305.855687371]
["2012-02-11",-10.7,15863164.618044628]
["2012-02-12",-11,16219288.030864688]
["2012-02-13",-6.5,15483540.299157115]
["2012-02-14",-1.2,12904491.104253931]
["2012-02-15",1.5,11026101.572418222]
["2012-02-16",2,10699440.544979556]
["2012-02-17",3.2,9724699.0614407882]
["2012-02-18",5.2,7801493.565514328]
["2012-02-19",2.5,9999488.7316492088]
["2012-02-20",0.4,11884003.974907208]
["2012-02-21",-0.6,12532179.226509726]
["2012-02-22",1.4,11097695.008156054]
["2012-02-23",5.4,8060481.2019578107]
["2012-02-24",7.9,6071293.7647777926]
["2012-02-25",7.4,6158171.1387355309]
["2012-02-26",4.9000000000000004,8188000.3830314688]
["2012-02-27",4.2,9052449.560754858]
["2012-02-28",6.2,7454975.3181951065]
["2012-02-29",7.3,6545794.2616109001]
["2012-03-01",7.7,6264772.38889453]
["2012-03-02",6.4,7218061.8187462213]
["2012-03-03",7.8,5869530.5024199253]
["2012-03-04",6.9,6657856.8836122146]
["2012-03-05",3.8,9368128.3562009912]
["2012-03-06",3.2,9829506.8667733148]
["2012-03-07",4.5999999999999996,8665544.233943563]
["2012-03-08",4.2,9012262.0328409374]
["2012-03-09",3.2,9724699.0614407882]
["2012-03-10",5.2,7801493.565514328]
["2012-03-11",7.4,6284565.3317675125]
["2012-03-12",8.1999999999999993,5918063.9518931611]
["2012-03-13",8.3000000000000007,5840139.7998484485]
["2012-03-14",7.5,6393395.7770161359]
["2012-03-15",7.8,6189367.5205525216]
["2012-03-16",10.9,4035470.4335094797]
["2012-03-17",11.2,3679615.9153603041]
["2012-03-18",7.4,6284565.3317675125]
["2012-03-19",6.7,7065956.1984240869]
["2012-03-20",6.3,7375892.4689098839]
["2012-03-21",8.1,5943502.4306266811]
["2012-03-22",10.6,4248297.1842805715]
["2012-03-23",11.1,3916556.8928008173]
["2012-03-24",10.6,4024258.9586128863]
["2012-03-25",11.4,3647538.4413095796]
["2012-03-26",11.2,3903330.2728261044]
["2012-03-27",10.6,4265196.1827178989]
["2012-03-28",11.9,3476571.1963818348]
["2012-03-29",10.9,4064262.1450833846]
["2012-03-30",9.6999999999999993,4796792.6980057489]
["2012-03-31",9,5036255.5746322153]
["2012-04-01",5.2,7957004.9899708908]
["2012-04-02",7.2,6676502.6598064983]
["2012-04-03",10.3,4455133.0931846267]
["2012-04-04",9.5,4947830.6313474653]
["2012-04-05",7.3,6569402.8430440649]
["2012-04-06",6.7,6984646.1915956736]
["2012-04-07",5.6,7498857.5021000756]
["2012-04-08",3.2,9482041.8583485167]
["2012-04-09",5.7,7857489.7798946816]
["2012-04-10",12.5,3188109.0285331812]
["2012-04-11",7.9,6092155.504750751]
["2012-04-12",7.2,6646252.8345228685]
["2012-04-13",7.6,6295922.0351256886]
["2012-04-14",9.5,4706515.4068148872]
["2012-04-15",7.4,6284565.3317675125]
["2012-04-16",5.5,8016944.4860062394]
["2012-04-17",5.8,7772434.7749311468]
["2012-04-18",8.1,5943502.4306266811]
["2012-04-19",8.5,5671270.4598422348]
["2012-04-20",8.6,5559374.5903785871]
["2012-04-21",7.4,6158171.1387355309]
["2012-04-22",6.5,6960331.1315422915]
["2012-04-23",8.1999999999999993,5918063.9518931611]
["2012-04-24",8.3000000000000007,5840139.7998484485]
["2012-04-25",10.9,4048918.8522320301]
["2012-04-26",13,2930577.8250953401]
["2012-04-27",14.9,2128255.5652434235]
["2012-04-28",20.8,840028.08003310033]
["2012-04-29",19,1085431.8292973579]
["2012-04-30",17.399999999999999,1432193.8424363288]
["2012-05-01",16.5,1654097.8534647389]
["2012-05-02",16.8,1562831.0673998408]
["2012-05-03",14,2488713.7311899359]
["2012-05-04",14.7,2200129.2506545899]
["2012-05-05",12.5,3004958.4808855965]
["2012-05-06",11.9,3376911.0468625301]
["2012-05-07",11.3,3844691.2203956242]
["2012-05-08",14.7,2225471.5003787302]
["2012-05-09",16.899999999999999,1537960.9552855575]
["2012-05-10",20.100000000000001,971909.63206579594]
["2012-05-11",22.7,737449.23198649031]
["2012-05-12",11.6,3461338.454701954]
["2012-05-13",9.3000000000000007,4939256.3192029474]
["2012-05-14",10.3,4457891.1319091571]
["2012-05-15",8.9,5404953.3373054275]
["2012-05-16",6.4,7243228.5768571729]
["2012-05-17",9,5313065.3612694144]
["2012-05-18",13.5,2682216.0132944798]
["2012-05-19",17.100000000000001,1410779.0055885999]
["2012-05-20",18.3,1201220.4920856722]
["2012-05-21",17.899999999999999,1325534.4914028589]
["2012-05-22",18.100000000000001,1286740.6168505461]
["2012-05-23",18.7,1168034.6358803478]
["2012-05-24",20.2,959973.31140842475]
["2012-05-25",18.2,1252326.7742143122]
["2012-05-26",17.2,1388471.8487406485]
["2012-05-27",15.4,1908213.1122727538]
["2012-05-28",17.600000000000001,1388184.3600961945]
["2012-05-29",19.5,1054322.0146943203]
["2012-05-30",18.600000000000001,1185026.4677941836]
["2012-05-31",18.3,1243805.4588626951]
["2012-06-01",16.8,1557395.2920594993]
["2012-06-02",17.100000000000001,1410779.0055885999]
["2012-06-03",15.8,1785943.2308230363]
["2012-06-04",14.2,2418329.9937691283]
["2012-06-05",10.9,4080466.3208338111]
["2012-06-06",13.8,2561830.481966685]
["2012-06-07",17.899999999999999,1320878.6172343241]
["2012-06-08",16.600000000000001,1608477.2997260417]
["2012-06-09",16.2,1632634.6655569659]
["2012-06-10",13.8,2487994.3101895885]
["2012-06-11",14.3,2378624.4285867894]
["2012-06-12",12.3,3290855.6417487231]
["2012-06-13",13.7,2604287.9666648116]
["2012-06-14",14.7,2216441.8296933514]
["2012-06-15",18.7,1163674.1529627868]
["2012-06-16",20.7,849739.30103416624]
["2012-06-17",17.899999999999999,1275912.7882997736]
["2012-06-18",22.1,784969.10767745692]
["2012-06-19",21.5,833130.90669016726]
["2012-06-20",19.5,1045313.8836524828]
["2012-06-21",20.2,959973.31140842475]
["2012-06-22",17.899999999999999,1310384.3795750439]
["2012-06-23",17.8,1263848.1512428769]
["2012-06-24",17.899999999999999,1275912.7882997736]
["2012-06-25",15.6,1917119.560392603]
["2012-06-26",17,1526267.8637518457]
["2012-06-27",19.899999999999999,992155.72088222625]
["2012-06-28",22.2,776439.24619587034]
["2012-06-29",24.3,662436.94554755196]
["2012-06-30",24.1,633379.73239723593]
["2012-07-01",16.899999999999999,1492625.0376860115]
["2012-07-02",16.8,1575514.262489025]
["2012-07-03",17.7,1367540.4023543904]
["2012-07-04",20.9,880291.13372508029]
["2012-07-05",21.9,798031.99581320491]
["2012-07-06",18.399999999999999,1215679.101337821]
["2012-07-07",19.7,961736.08598055772]
["2012-07-08",19.100000000000001,1070348.3604892485]
["2012-07-09",19.7,1025680.0816502015]
["2012-07-10",19.7,1026880.3703487244]
["2012-07-11",17.7,1356078.7332951976]
["2012-07-12",15.5,1941087.4277488333]
["2012-07-13",15.7,1863895.6763228308]
["2012-07-14",17.5,1324218.4328320213]
["2012-07-15",14.3,2290707.6743469411]
["2012-07-16",15.2,2048541.9507999846]
["2012-07-17",17.7,1367540.4023543904]
["2012-07-18",21.1,861179.58983640908]
["2012-07-19",19.100000000000001,1108773.2076552301]
["2012-07-20",14.8,2163897.0039070859]
["2012-07-21",13.7,2472557.4704612694]
["2012-07-22",14.4,2253039.8221207098]
["2012-07-23",17,1525811.4355192306]
["2012-07-24",21,878213.08413520025]
["2012-07-25",23,723720.21367530688]
["2012-07-26",24.8,652172.72050944576]
["2012-07-27",25.2,634453.47506222141]
["2012-07-28",21.4,786851.25953530311]
["2012-07-29",17.8,1295613.0991826116]
["2012-07-30",17.2,1478053.6653058652]
["2012-07-31",18.399999999999999,1230571.0145099172]
["2012-08-01",22.3,765973.74835946411]
["2012-08-02",22,790629.94584829186]
["2012-08-03",21.2,848424.91887631663]
["2012-08-04",20.6,859705.91415915545]
["2012-08-05",21.3,816616.36596119136]
["2012-08-06",17,1525811.4355192306]
["2012-08-07",17.5,1410580.6751583891]
["2012-08-08",17.5,1398785.2680685173]
["2012-08-09",18.2,1262449.3790039329]
["2012-08-10",18.8,1147106.4309356348]
["2012-08-11",17.2,1388471.8487406485]
["2012-08-12",18,1256629.2026908528]
["2012-08-13",20.2,962563.00742919208]
["2012-08-14",21.6,824824.04907161498]
["2012-08-15",24,676967.70141119487]
["2012-08-16",18.899999999999999,1140261.8427746361]
["2012-08-17",20.2,951754.00992760668]
["2012-08-18",23.4,662114.45562405256]
["2012-08-19",25.7,604683.67802094854]
["2012-08-20",26,622634.3135142728]
["2012-08-21",26.3,618837.87068596552]
["2012-08-22",23.7,689493.8887143879]
["2012-08-23",21.2,855999.20810322638]
["2012-08-24",19.600000000000001,1027527.0028637436]
["2012-08-25",20.2,902226.69804758672]
["2012-08-26",16,1728021.1364010291]
["2012-08-27",16.8,1575514.262489025]
["2012-08-28",19.100000000000001,1113290.210952654]
["2012-08-29",21.7,809634.31496166671]
["2012-08-30",18.100000000000001,1281505.5251040203]
["2012-08-31",14.6,2236956.0801558322]
["2012-09-01",14.1,2314302.9195263432]
["2012-09-02",15.6,1845994.4475884822]
["2012-09-03",18.8,1160285.6408352321]
["2012-09-04",18.8,1161274.9666350631]
["2012-09-05",18.2,1256921.7384303757]
["2012-09-06",16.2,1729851.9045010095]
["2012-09-07",15.9,1803410.1982507631]
["2012-09-08",17.8,1263848.1512428769]
["2012-09-09",19.600000000000001,1000026.3837328159]
["2012-09-10",21.6,823285.39934635651]
["2012-09-11",18.5,1212659.410185904]
["2012-09-12",12.3,3264993.5551710394]
["2012-09-13",11,4004095.8710404071]
["2012-09-14",12.4,3203093.6845743218]
["2012-09-15",13.6,2513608.43036689]
["2012-09-16",13.8,2487994.3101895885]
["2012-09-17",16.2,1736753.9939488703]
["2012-09-18",16.899999999999999,1550839.0847518167]
["2012-09-19",11.8,3531035.5570857399]
["2012-09-20",9.8000000000000007,4763980.5125941858]
["2012-09-21",13.2,2816695.8631144371]
["2012-09-22",12.8,2863689.477570931]
["2012-09-23",14.3,2290707.6743469411]
["2012-09-24",15.9,1824473.9852432264]
["2012-09-25",13.5,2712707.9706994854]
["2012-09-26",12.7,3063534.4941329253]
["2012-09-27",12.3,3277659.8269073428]
["2012-09-28",13,2909500.9310621163]
["2012-09-29",10.199999999999999,4265079.0768772]
["2012-09-30",10.5,4171717.9103724477]
["2012-10-01",12.7,3089342.6815551342]
["2012-10-02",12.8,3038780.1894045095]
["2012-10-03",12.8,3014757.1408354463]
["2012-10-04",13,2930577.8250953401]
["2012-10-05",13.7,2595699.8344367929]
["2012-10-06",15.5,1833118.0264518191]
["2012-10-07",11.2,3759967.8806436709]
["2012-10-08",8,6067149.9411714822]
["2012-10-09",11.7,3614328.1805506055]
["2012-10-10",9.5,4947830.6313474653]
["2012-10-11",10.7,4186367.9354293272]
["2012-10-12",10.7,4156737.1079006353]
["2012-10-13",8.6,5307901.5974941486]
["2012-10-14",9.9,4546247.970977257]
["2012-10-15",7.8,6217630.8045128491]
["2012-10-16",8.1999999999999993,5914072.0538831772]
["2012-10-17",12.2,3316942.4070633664]
["2012-10-18",11.8,3544615.650655319]
["2012-10-19",13.7,2595699.8344367929]
["2012-10-20",13.2,2683816.6609064317]
["2012-10-21",11.9,3376911.0468625301]
["2012-10-22",10.4,4393952.2206167579]
["2012-10-23",8.1,5988375.6915680273]
["2012-10-24",8.6999999999999993,5506496.3299782146]
["2012-10-25",7.7,6264772.38889453]
["2012-10-26",8,5997070.4365646569]
["2012-10-27",1.2,10717125.657444363]
["2012-10-28",0.3,11525514.422465725]
["2012-10-29",-0.2,12283685.142559931]
["2012-10-30",4.4000000000000004,8887596.0913361106]
["2012-10-31",4.4000000000000004,8823406.3069311734]
["2012-11-01",8.1999999999999993,5891112.104968721]
["2012-11-02",8,5997070.4365646569]
["2012-11-03",10.3,4204068.9687849991]
["2012-11-04",9,5142166.7611392904]
["2012-11-05",6.8,6987635.1530279936]
["2012-11-06",5.2,8250597.4678577194]
["2012-11-07",6.4,7243228.5768571729]
["2012-11-08",7.2,6646252.8345228685]
["2012-11-09",4.4000000000000004,8792318.25363121]
["2012-11-10",8.9,5103539.7757938914]
["2012-11-11",8.6999999999999993,5349032.3053284008]
["2012-11-12",6.4,7302006.9917460298]
["2012-11-13",4.7,8649134.9133410286]
["2012-11-14",6.1,7478883.7022337234]
["2012-11-15",4.3,8933332.911524469]
["2012-11-16",2.5,10254796.72320704]
["2012-11-17",2.8,9592967.4468491748]
["2012-11-18",5.6,7649077.817746331]
["2012-11-19",2.7,10220526.362022366]
["2012-11-20",2.7,10213299.063159913]
["2012-11-21",3.4,9605061.3781232685]
["2012-11-22",5.7,7822235.9448388629]
["2012-11-23",6.6,7062279.7504226565]
["2012-11-24",6.9,6524879.6750037316]
["2012-11-25",9.5,4806299.8303385954]
["2012-11-26",8.6,5624436.2444760911]
["2012-11-27",6.8,6982813.1364771314]
["2012-11-28",5.0999999999999996,8269802.9881686987]
["2012-11-29",2.1,10625537.177612728]
["2012-11-30",0.8,11478399.433413493]
["2012-12-01",-2.8,13093087.872650808]
["2012-12-02",-0.5,12033902.896852421]
["2012-12-03",1,11469056.59819435]
["2012-12-04",2.9,10060543.613409853]
["2012-12-05",1.8,10809164.376606949]
["2012-12-06",-0.7,12550120.667208286]
["2012-12-07",-3.2,13878264.651642891]
["2012-12-08",-4.5,13890189.635392077]
["2012-12-09",-4,13922430.813787334]
["2012-12-10",1.1000000000000001,11398482.862587387]
["2012-12-11",-1.8,13259995.847176092]
["2012-12-12",-7.2,15614577.211922921]
["2012-12-13",-6.7,15490614.406127788]
["2012-12-14",1.7,10843206.985033818]
["2012-12-15",5.9,7272367.3877654532]
["2012-12-16",6,7341940.5867914455]
["2012-12-17",5.5,8016944.4860062394]
["2012-12-18",4,9204107.039411094]
["2012-12-19",2,10662809.408171054]
["2012-12-20",-0.9,12674765.468007943]
["2012-12-21",4.7,8556292.0609588027]
["2012-12-22",5,7952874.2783733802]
["2012-12-23",11.3,3703457.9635457862]
["2012-12-24",8.6,5624436.2444760911]
["2012-12-25",7.9,6138051.9979143003]
["2012-12-26",7.2,6622395.8777989987]
["2012-12-27",7.1,6723355.2650230248]
["2012-12-28",5.7,7767373.1754740123]
["2012-12-29",5.7,7423294.3211200768]
["2012-12-30",6.9,6657856.8836122146]
["2012-12-31",4.7,8655195.863109028]

{"sheet":"h-Wertberechnung","index":19,"n_rows":368,"n_cols":201,"rows_kept":368,"cut":false,"hidden":true,"merged":[[7,186,7,187],[7,189,7,190],[7,192,7,193],[7,119,7,120],[7,122,7,123],[7,125,7,126],[7,128,7,129],[7,132,7,133],[7,135,7,136],[7,138,7,139],[7,141,7,142],[7,144,7,145],[7,148,7,149],[7,151,7,152],[7,154,7,155],[7,157,7,158],[7,160,7,161],[7,164,7,165],[7,167,7,168],[7,170,7,171],[7,173,7,174],[7,176,7,177],[7,180,7,181],[7,183,7,184],[7,106,7,107],[7,109,7,110],[7,112,7,113],[7,116,7,117],[7,80,7,81],[7,84,7,85],[7,87,7,88],[7,90,7,91],[7,93,7,94],[7,96,7,97],[7,42,7,43],[7,45,7,46],[7,48,7,49],[7,52,7,53],[7,55,7,56],[7,58,7,59],[1,132,1,133],[1,135,1,136],[7,61,7,62],[7,64,7,65],[7,68,7,69],[7,71,7,72],[7,74,7,75],[7,77,7,78],[7,100,7,101],[7,103,7,104],[1,77,1,78],[1,80,1,81],[1,84,1,85],[1,87,1,88],[1,90,1,91],[1,93,1,94],[1,96,1,97],[1,100,1,101],[1,192,1,193],[7,16,7,17],[7,20,7,21],[7,23,7,24],[7,26,7,27],[7,29,7,30],[7,32,7,33],[7,36,7,37],[7,39,7,40],[1,138,1,139],[1,141,1,142],[1,144,1,145],[1,148,1,149],[1,112,1,113],[1,116,1,117],[1,119,1,120],[1,122,1,123],[1,125,1,126],[1,128,1,129],[1,74,1,75],[1,151,1,152],[1,154,1,155],[1,157,1,158],[1,160,1,161],[1,39,1,40],[1,42,1,43],[1,45,1,46],[1,48,1,49],[1,52,1,53],[1,180,1,181],[1,183,1,184],[1,186,1,187],[1,189,1,190],[1,164,1,165],[1,167,1,168],[1,170,1,171],[1,173,1,174],[1,176,1,177],[1,196,1,197],[1,199,1,200],[7,196,7,197],[7,199,7,200],[1,61,1,62],[1,64,1,65],[1,68,1,69],[1,71,1,72],[1,4,1,5],[1,7,1,8],[1,10,1,11],[1,13,1,14],[1,55,1,56],[1,58,1,59],[1,16,1,17],[1,20,1,21],[1,23,1,24],[1,26,1,27],[1,29,1,30],[1,32,1,33],[1,103,1,104],[1,106,1,107],[1,109,1,110],[1,36,1,37]]}
["Datum","Temperatur-Ist",null,"S-Funktion",null,null,"S-Funktion",null,null,"S-Funktion",null,null,"S-Funktion",null,null,"S-Funktion",null,null,"S-Funktion",null,null,null,"S-Funktion",null,null,"S-Funktion",null,null,"S-Funktion",null,null,"S-Funktion",null,null,"S-Funktion",null,null,null,"S-Funktion",null,null,"S-Funktion",null,null,"S-Funktion",null,null,"S-Funktion",null,null,"S-Funktion",null,null,null,"S-Funktion",null,null,"S-Funktion",null,null,"S-Funktion",null,null,"S-Funktion",null,null,"S-Funktion",null,null,null,"S-Funktion",null,null,"S-Funktion",null,null,"S-Funktion",null,null,"S-Funktion",null,null,"S-Funktion",null,null,null,"S-Funktion",null,null,"S-Funktion",null,null,"S-Funktion",null,null,"S-Funktion",null,null,"S-Funktion",null,null,null,"S-Funktion",null,null,"S-Funktion",null,null,"S-Funktion",null,null,"S-Funktion",null,null,"S-Funktion",null,null,null,"S-Funktion",null,null,"S-Funktion",null,null,"S-Funktion",null,null,"S-Funktion",null,null,"S-Funktion",null,null,null,"S-Funktion",null,null,"S-Funktion",null,null,"S-Funktion",null,null,"S-Funktion",null,null,"S-Funktion",null,null,null,"S-Funktion",null,null,"S-Funktion",null,null,"S-Funktion",null,null,"S-Funktion",null,null,"S-Funktion",null,null,null,"S-Funktion",null,null,"S-Funktion",null,null,"S-Funktion",null,null,"S-Funktion",null,null,"S-Funktion",null,null,null,"S-Funktion",null,null,"S-Funktion",null,null,"S-Funktion",null,null,"S-Funktion",null,null,"S-Funktion",null,null,null,"S-Funktion"]
[null,null,"WT","h-Wert","Koeffizienten der S-Funktion",null,"h-Wert","Koeffizienten der S-Funktion",null,"h-Wert","Koeffizienten der S-Funktion",null,"h-Wert","Koeffizienten der S-Funktion",null,"h-Wert","Koeffizienten der S-Funktion",null,"h-Wert",null,"Koeffizienten der S-Funktion",null,"h-Wert","Koeffizienten der S-Funktion",null,"h-Wert","Koeffizienten der S-Funktion",null,"h-Wert","Koeffizienten der S-Funktion",null,"h-Wert","Koeffizienten der S-Funktion",null,"h-Wert",null,"Koeffizienten der S-Funktion",null,"h-Wert","Koeffizienten der S-Funktion",null,"h-Wert","Koeffizienten der S-Funktion",null,"h-Wert","Koeffizienten der S-Funktion",null,"h-Wert","Koeffizienten der S-Funktion",null,"h-Wert",null,"Koeffizienten der S-Funktion",null,"h-Wert","Koeffizienten der S-Funktion",null,"h-Wert","Koeffizienten der S-Funktion",null,"h-Wert","Koeffizienten der S-Funktion",null,"h-Wert","Koeffizienten der S-Funktion",null,"h-Wert",null,"Koeffizienten der S-Funktion",null,"h-Wert","Koeffizienten der S-Funktion",null,"h-Wert","Koeffizienten der S-Funktion",null,"h-Wert","Koeffizienten der S-Funktion",null,"h-Wert","Koeffizienten der S-Funktion",null,"h-Wert",null,"Koeffizienten der S-Funktion",null,"h-Wert","Koeffizienten der S-Funktion",null,"h-Wert","Koeffizienten der S-Funktion",null,"h-Wert","Koeffizienten der S-Funktion",null,"h-Wert","Koeffizienten der S-Funktion",null,"h-Wert",null,"Koeffizienten der S-Funktion",null,"h-Wert","Koeffizienten der S-Funktion",null,"h-Wert","Koeffizienten der S-Funktion",null,"h-Wert","Koeffizienten der S-Funktion",null,"h-Wert","Koeffizienten der S-Funktion",null,"h-Wert",null,"Koeffizienten der S-Funktion",null,"h-Wert","Koeffizienten der S-Funktion",null,"h-Wert","Koeffizienten der S-Funktion",null,"h-Wert","Koeffizienten der S-Funktion",null,"h-Wert","Koeffizienten der S-Funktion",null,"h-Wert",null,"Koeffizienten der S-Funktion",null,"h-Wert","Koeffizienten der S-Funktion",null,"h-Wert","Koeffizienten der S-Funktion",null,"h-Wert","Koeffizienten der S-Funktion",null,"h-Wert","Koeffizienten der S-Funktion",null,"h-Wert",null,"Koeffizienten der S-Funktion",null,"h-Wert","Koeffizienten der S-Funktion",null,"h-Wert","Koeffizienten der S-Funktion",null,"h-Wert","Koeffizienten der S-Funktion",null,"h-Wert","Koeffizienten der S-Funktion",null,"h-Wert",null,"Koeffizienten der S-Funktion",null,"h-Wert","Koeffizienten der S-Funktion",null,"h-Wert","Koeffizienten der S-Funktion",null,"h-Wert","Koeffizienten der S-Funktion",null,"h-Wert","Koeffizienten der S-Funktion",null,"h-Wert",null,"Koeffizienten der S-Funktion",null,"h-Wert","Koeffizienten der S-Funktion",null,"h-Wert","Koeffizienten der S-Funktion",null,"h-Wert","Koeffizienten der S-Funktion",null,"h-Wert","Koeffizienten der S-Funktion",null,"h-Wert",null,"Koeffizienten der S-Funktion",null,"h-Wert","Koeffizienten der S-Funktion"]
[{"$f":"'Als-Ob-Allokation KW03'!A2","v":"2012-01-01"},{"$f":"'Als-Ob-Allokation KW03'!B2","v":10.199999999999999},{"$f":"WEEKDAY(A3,2)","v":7},{"$f":"($F$3/(1+($F$4/(B3-40))^$F$5)+$F$6)","v":0.771762069415311},"A",{"$f":"Berechnungsblatt!P4","v":3.0469694602000001},{"$f":"($I$3/(1+($I$4/(B3-40))^$I$5)+$I$6)","v":0.70405446149352158},"A",{"$f":"Berechnungsblatt!P5","v":3.1850191302000002},{"$f":"($L$3/(1+($L$4/(B3-40))^$L$5)+$L$6)","v":0.8164022591368979},"A",{"$f":"Berechnungsblatt!P6","v":2.3877617912},{"$f":"($O$3/(1+($O$4/(B3-40))^$O$5)+$O$6)","v":0.77501657976906291},"A",{"$f":"Berechnungsblatt!P7","v":2.5187775186999999},{"$f":"($R$3/(1+($R$4/(B3-40))^$R$5)+$R$6)","v":1.0285456259282197},"A",{"$f":"Berechnungsblatt!P9","v":0.40409321487633781},{"$f":"($V$3/(1+($V$4/(B3-40))^$V$5)+$V$6)*VLOOKUP(C3,$T$9:$V$15,3)","v":0.89038325937886131},null,"A",{"$f":"Berechnungsblatt!$P$18","v":1.2779567000000001},{"$f":"($Y$3/(1+($Y$4/(B3-40))^$Y$5)+$Y$6)*VLOOKUP(C3,$T$9:$V$15,3)","v":0.94354138754502059},"A",{"$f":"Berechnungsblatt!$P$17","v":0.93158890000000005},{"$f":"($AB$3/(1+($AB$4/(B3-40))^$AB$5)+$AB$6)*VLOOKUP(C3,$T$9:$V$15,3)","v":0.9658879774481447},"A",{"$f":"Berechnungsblatt!$P$16","v":0.62619619999999998},{"$f":"($AE$3/(1+($AE$4/(B3-40))^$AE$5)+$AE$6)*VLOOKUP(C3,$T$9:$V$15,3)","v":0.98920219941478538},"A",{"$f":"Berechnungsblatt!$P$15","v":0.38791910000000002},{"$f":"($AH$3/(1+($AH$4/(B3-40))^$AH$5)+$AH$6)*VLOOKUP(C3,$T$9:$V$15,3)","v":1.0148375483049763},"A",{"$f":"Berechnungsblatt!$P$14","v":0.15},{"$f":"($AL$3/(1+($AL$4/(B3-40))^$AL$5)+$AL$6)*VLOOKUP(C3,$AJ$9:$AL$15,3)","v":0.5281088486352451},null,"A",{"$f":"Berechnungsblatt!$P$72","v":4.5699506000000003},{"$f":"($AO$3/(1+($AO$4/(B3-40))^$AO$5)+$AO$6)*VLOOKUP(C3,$AJ$9:$AL$15,3)","v":0.65341992070062405},"A",{"$f":"Berechnungsblatt!$P$71","v":3.75},{"$f":"($AR$3/(1+($AR$4/(B3-40))^$AR$5)+$AR$6)*VLOOKUP(C3,$AJ$9:$AL$15,3)","v":0.75136893607538535},"A",{"$f":"Berechnungsblatt!$P$70","v":2.9177027217503726},{"$f":"($AU$3/(1+($AU$4/(B3-40))^$AU$5)+$AU$6)*VLOOKUP(C3,$AJ$9:$AL$15,3)","v":0.79840485117599758},"A",{"$f":"Berechnungsblatt!$P$69","v":2.1095878434210302},{"$f":"($AX$3/(1+($AX$4/(B3-40))^$AX$5)+$AX$6)*VLOOKUP(C3,$AJ$9:$AL$15,3)","v":0.90877531135140766},"A",{"$f":"Berechnungsblatt!$P$68","v":1.2903504591857942},{"$f":"($BB$3/(1+($BB$4/(B3-40))^$BB$5)+$BB$6)*VLOOKUP(C3,$AZ$9:$BB$15,3)","v":0.71909516390725758},null,"A",{"$f":"Berechnungsblatt!$P$27","v":2.98},{"$f":"($BE$3/(1+($BE$4/(B3-40))^$BE$5)+$BE$6)*VLOOKUP(C3,$AZ$9:$BB$15,3)","v":0.75173758813360658},"A",{"$f":"Berechnungsblatt!$P$26","v":2.4595180614118179},{"$f":"($BH$3/(1+($BH$4/(B3-40))^$BH$5)+$BH$6)*VLOOKUP(C3,$AZ$9:$BB$15,3)","v":0.7878086285874224},"A",{"$f":"Berechnungsblatt!$P$25","v":2.0102471724933149},{"$f":"($BK$3/(1+($BK$4/(B3-40))^$BK$5)+$BK$6)*VLOOKUP(C3,$AZ$9:$BB$15,3)","v":0.81043361697316552},"A",{"$f":"Berechnungsblatt!$P$24","v":1.7005279400832534},{"$f":"($BN$3/(1+($BN$4/(B3-40))^$BN$5)+$BN$6)*VLOOKUP(C3,$AZ$9:$BB$15,3)","v":0.83358055521971919},"A",{"$f":"Berechnungsblatt!$P$23","v":1.4771785693380666},{"$f":"($BR$3/(1+($BR$4/(B3-40))^$BR$5)+$BR$6)*VLOOKUP(C3,$BP$9:$BR$15,3)","v":0.53596758172847447},null,"A",{"$f":"Berechnungsblatt!$P$81","v":3.329557481702889},{"$f":"($BU$3/(1+($BU$4/(B3-40))^$BU$5)+$BU$6)*VLOOKUP(C3,$BP$9:$BR$15,3)","v":0.69495501937949911},"A",{"$f":"Berechnungsblatt!$P$80","v":2.8195656145792332},{"$f":"($BX$3/(1+($BX$4/(B3-40))^$BX$5)+$BX$6)*VLOOKUP(C3,$BP$9:$BR$15,3)","v":0.81381783805533991},"A",{"$f":"Berechnungsblatt!$P$79","v":2.2850164737000207},{"$f":"($CA$3/(1+($CA$4/(B3-40))^$CA$5)+$CA$6)*VLOOKUP(C3,$BP$9:$BR$15,3)","v":0.86596073365397108},"A",{"$f":"Berechnungsblatt!$P$78","v":1.6487622937573447},{"$f":"($CD$3/(1+($CD$4/(B3-40))^$CD$5)+$CD$6)*VLOOKUP(C3,$BP$9:$BR$15,3)","v":0.95369212087742905},"A",{"$f":"Berechnungsblatt!$P$77","v":1.1770345384253744},{"$f":"($CH$3/(1+($CH$4/(B3-40))^$CH$5)+$CH$6)*VLOOKUP(C3,$CF$9:$CH$15,3)","v":0.50817032390627714},null,"A",{"$f":"Berechnungsblatt!$P$36","v":3.9320532484442952},{"$f":"($CK$3/(1+($CK$4/(B3-40))^$CK$5)+$CK$6)*VLOOKUP(C3,$CF$9:$CH$15,3)","v":0.58230662669011646},"A",{"$f":"Berechnungsblatt!$P$35","v":3.6017735622941274},{"$f":"($CN$3/(1+($CN$4/(B3-40))^$CN$5)+$CN$6)*VLOOKUP(C3,$CF$9:$CH$15,3)","v":0.65585742947240189},"A",{"$f":"Berechnungsblatt!$P$34","v":3.2572742131993824},{"$f":"($CQ$3/(1+($CQ$4/(B3-40))^$CQ$5)+$CQ$6)*VLOOKUP(C3,$CF$9:$CH$15,3)","v":0.78913090794879814},"A",{"$f":"Berechnungsblatt!$P$33","v":3.3904645063582133},{"$f":"($CT$3/(1+($CT$4/(B3-40))^$CT$5)+$CT$6)*VLOOKUP(C3,$CF$9:$CH$15,3)","v":0.85003348187765704},"A",{"$f":"Berechnungsblatt!$P$32","v":3.1761944757743148},{"$f":"($CX$3/(1+($CX$4/(B3-40))^$CX$5)+$CX$6)*VLOOKUP(C3,$CV$9:$CX$15,3)","v":0.3734548583325813},null,"A",{"$f":"Berechnungsblatt!$P$54","v":4.8252376000000003},{"$f":"($DA$3/(1+($DA$4/(B3-40))^$DA$5)+$DA$6)*VLOOKUP(C3,$CV$9:$CX$15,3)","v":0.4910126220406828},"A",{"$f":"Berechnungsblatt!$P$53","v":4.0196902000000003},{"$f":"($DD$3/(1+($DD$4/(B3-40))^$DD$5)+$DD$6)*VLOOKUP(C3,$CV$9:$CX$15,3)","v":0.59712634037833412},"A",{"$f":"Berechnungsblatt!$P$52","v":3.5811213999999998},{"$f":"($DG$3/(1+($DG$4/(B3-40))^$DG$5)+$DG$6)*VLOOKUP(C3,$CV$9:$CX$15,3)","v":0.67131968360038441},"A",{"$f":"Berechnungsblatt!$P$51","v":2.8544749},{"$f":"($DJ$3/(1+($DJ$4/(B3-40))^$DJ$5)+$DJ$6)*VLOOKUP(C3,$CV$9:$CX$15,3)","v":0.73653999008208426},"A",{"$f":"Berechnungsblatt!$P$50","v":2.3742828},{"$f":"($DN$3/(1+($DN$4/(B3-40))^$DN$5)+$DN$6)*VLOOKUP(C3,$DL$9:$DN$15,3)","v":0.50796581893378079},null,"A",{"$f":"Berechnungsblatt!$P$45","v":4.3624833000000001},{"$f":"($DQ$3/(1+($DQ$4/(B3-40))^$DQ$5)+$DQ$6)*VLOOKUP(C3,$DL$9:$DN$15,3)","v":0.62707860710123919},"A",{"$f":"Berechnungsblatt!$P$44","v":3.4428942999999999},{"$f":"($DT$3/(1+($DT$4/(B3-40))^$DT$5)+$DT$6)*VLOOKUP(C3,$DL$9:$DN$15,3)","v":0.73848610736419018},"A",{"$f":"Berechnungsblatt!$P$43","v":2.7172288},{"$f":"($DW$3/(1+($DW$4/(B3-40))^$DW$5)+$DW$6)*VLOOKUP(C3,$DL$9:$DN$15,3)","v":0.8215834411615216},"A",{"$f":"Berechnungsblatt!$P$42","v":2.0660501},{"$f":"($DZ$3/(1+($DZ$4/(B3-40))^$DZ$5)+$DZ$6)*VLOOKUP(C3,$DL$9:$DN$15,3)","v":0.86133968568009456},"A",{"$f":"Berechnungsblatt!$P$41","v":1.4159571},{"$f":"($ED$3/(1+($ED$4/(B3-40))^$ED$5)+$ED$6)*VLOOKUP(C3,$EB$9:$ED$15,3)","v":0.47215805336045624},null,"A",{"$f":"Berechnungsblatt!$P$63","v":3.5862354999999999},{"$f":"($EG$3/(1+($EG$4/(B3-40))^$EG$5)+$EG$6)*VLOOKUP(C3,$EB$9:$ED$15,3)","v":0.59075839901951543},"A",{"$f":"Berechnungsblatt!$P$62","v":3.1177248},{"$f":"($EJ$3/(1+($EJ$4/(B3-40))^$EJ$5)+$EJ$6)*VLOOKUP(C3,$EB$9:$ED$15,3)","v":0.70748267020918576},"A",{"$f":"Berechnungsblatt!$P$61","v":2.7882424000000001},{"$f":"($EM$3/(1+($EM$4/(B3-40))^$EM$5)+$EM$6)*VLOOKUP(C3,$EB$9:$ED$15,3)","v":0.76984743132904221},"A",{"$f":"Berechnungsblatt!$P$60","v":2.2908184},{"$f":"($EP$3/(1+($EP$4/(B3-40))^$EP$5)+$EP$6)*VLOOKUP(C3,$EB$9:$ED$15,3)","v":0.85552820570845822},"A",{"$f":"Berechnungsblatt!$P$59","v":1.8644533999999999},{"$f":"($ET$3/(1+($ET$4/(B3-40))^$ET$5)+$ET$6)*VLOOKUP(C3,$ER$9:$ET$15,3)","v":0.70485664201887022},null,"A",{"$f":"Berechnungsblatt!$P$90","v":2.6564405999999998},{"$f":"($EW$3/(1+($EW$4/(B3-40))^$EW$5)+$EW$6)*VLOOKUP(C3,$ER$9:$ET$15,3)","v":0.73122816632332421},"A",{"$f":"Berechnungsblatt!$P$89","v":2.5187775000000001},{"$f":"($EZ$3/(1+($EZ$4/(B3-40))^$EZ$5)+$EZ$6)*VLOOKUP(C3,$ER$9:$ET$15,3)","v":0.77027556531241703},"A",{"$f":"Berechnungsblatt!$P$88","v":2.3877617999999998},{"$f":"($FC$3/(1+($FC$4/(B3-40))^$FC$5)+$FC$6)*VLOOKUP(C3,$ER$9:$ET$15,3)","v":0.78140774697325788},"A",{"$f":"Berechnungsblatt!$P$87","v":2.2486332999999998},{"$f":"($FF$3/(1+($FF$4/(B3-40))^$FF$5)+$FF$6)*VLOOKUP(C3,$ER$9:$ET$15,3)","v":0.80429904422685949},"A",{"$f":"Berechnungsblatt!$P$86","v":2.1163531},{"$f":"($FJ$3/(1+($FJ$4/(B3-40))^$FJ$5)+$FJ$6)*VLOOKUP(C3,$FH$9:$FJ$15,3)","v":0.25512652319828516},null,"A",{"$f":"Berechnungsblatt!$P$99","v":4.7462814},{"$f":"($FM$3/(1+($FM$4/(B3-40))^$FM$5)+$FM$6)*VLOOKUP(C3,$FH$9:$FJ$15,3)","v":0.36266951964530192},"A",{"$f":"Berechnungsblatt!$P$98","v":3.85},{"$f":"($FP$3/(1+($FP$4/(B3-40))^$FP$5)+$FP$6)*VLOOKUP(C3,$FH$9:$FJ$15,3)","v":0.56124060828828182},"A",{"$f":"Berechnungsblatt!$P$97","v":3.2},{"$f":"($FS$3/(1+($FS$4/(B3-40))^$FS$5)+$FS$6)*VLOOKUP(C3,$FH$9:$FJ$15,3)","v":0.71440206606864332},"A",{"$f":"Berechnungsblatt!$P$96","v":2.5784172538862213},{"$f":"($FV$3/(1+($FV$4/(B3-40))^$FV$5)+$FV$6)*VLOOKUP(C3,$FH$9:$FJ$15,3)","v":0.75709392222979421},"A",{"$f":"Berechnungsblatt!$P$95","v":1.4894022},{"$f":"($FZ$3/(1+($FZ$4/(B3-40))^$FZ$5)+$FZ$6)*VLOOKUP(C3,$FX$9:$FZ$15,3)","v":0.44543986471593311},null,"A",{"$f":"Berechnungsblatt!$P$108","v":1.2768853724611342},{"$f":"($GC$3/(1+($GC$4/(B3-40))^$GC$5)+$GC$6)*VLOOKUP(C3,$FX$9:$FZ$15,3)","v":0.46487103789346557},"A",{"$f":"Berechnungsblatt!$P$107","v":1.0535874722697858},{"$f":"($GF$3/(1+($GF$4/(B3-40))^$GF$5)+$GF$6)*VLOOKUP(C3,$FX$9:$FZ$15,3)","v":0.47431734535336595},"A",{"$f":"Berechnungsblatt!$P$106","v":0.76572901191876797},{"$f":"($GI$3/(1+($GI$4/(B3-40))^$GI$5)+$GI$6)*VLOOKUP(C3,$FX$9:$FZ$15,3)","v":0.48148409632656708},"A",{"$f":"Berechnungsblatt!$P$105","v":0.61662289273184956},{"$f":"($GL$3/(1+($GL$4/(B3-40))^$GL$5)+$GL$6)*VLOOKUP(C3,$FX$9:$FZ$15,3)","v":0.48797683621471921},"A",{"$f":"Berechnungsblatt!$P$104","v":0.4},{"$f":"($GP$3/(1+($GP$4/(B3-40))^$GP$5)+$GP$6)*VLOOKUP(C3,$GN$9:$GP$15,3)","v":0.75488799600646217},null,"A",{"$f":"Berechnungsblatt!P113","v":2.5792510000000002},{"$f":"($GS$3/(1+($GS$4/(B3-40))^$GS$5)+$GS$6)*VLOOKUP(C3,$GN$9:$GP$15,3)","v":0.66588460084859158},"A",{"$f":"Berechnungsblatt!P114","v":3.0084346000000002}]
[{"$f":"'Als-Ob-Allokation KW03'!A3","v":"2012-01-02"},{"$f":"'Als-Ob-Allokation KW03'!B3","v":9},1,0.89678320954971191,"B",{"$f":"Berechnungsblatt!Q4","v":-37.183314131499998},{"$f":"($I$3/(1+($I$4/(B4-40))^$I$5)+$I$6)","v":0.83598541303565066},"B",{"$f":"Berechnungsblatt!Q5","v":-37.412415489300002},{"$f":"($L$3/(1+($L$4/(B4-40))^$L$5)+$L$6)","v":0.93474822218674691},"B",{"$f":"Berechnungsblatt!Q6","v":-34.721360512899999},{"$f":"($O$3/(1+($O$4/(B4-40))^$O$5)+$O$6)","v":0.90297194517522084},"B",{"$f":"Berechnungsblatt!Q7","v":-35.033375422100001},{"$f":"($R$3/(1+($R$4/(B4-40))^$R$5)+$R$6)","v":1.0448538138288297},"B",{"$f":"Berechnungsblatt!Q9","v":-24.439296819907721},1.0785337551401331,null,"B",{"$f":"Berechnungsblatt!$Q$18","v":-34.517392000000001},1.1232821905422712,"B",{"$f":"Berechnungsblatt!$Q$17","v":-33.35},1.131724695508981,"B",{"$f":"Berechnungsblatt!$Q$16","v":-33},1.1369915197961582,"B",{"$f":"Berechnungsblatt!$Q$15","v":-35.5},1.1540839698715109,"B",{"$f":"Berechnungsblatt!$Q$14","v":-36},{"$f":"($AL$3/(1+($AL$4/(B4-40))^$AL$5)+$AL$6)*VLOOKUP(C4,$AJ$9:$AL$15,3)","v":0.8188804617483697},null,"B",{"$f":"Berechnungsblatt!$Q$72","v":-38.535339240396361},{"$f":"($AO$3/(1+($AO$4/(B4-40))^$AO$5)+$AO$6)*VLOOKUP(C4,$AJ$9:$AL$15,3)","v":0.95883461864493069},"B",{"$f":"Berechnungsblatt!$Q$71","v":-37.5},{"$f":"($AR$3/(1+($AR$4/(B4-40))^$AR$5)+$AR$6)*VLOOKUP(C4,$AJ$9:$AL$15,3)","v":1.0490485453755585},"B",{"$f":"Berechnungsblatt!$Q$70","v":-36.179411652343177},{"$f":"($AU$3/(1+($AU$4/(B4-40))^$AU$5)+$AU$6)*VLOOKUP(C4,$AJ$9:$AL$15,3)","v":1.0597879320064199},"B",{"$f":"Berechnungsblatt!$Q$69","v":-35.844450844630117},{"$f":"($AX$3/(1+($AX$4/(B4-40))^$AX$5)+$AX$6)*VLOOKUP(C4,$AJ$9:$AL$15,3)","v":1.1211280479966634},"B",{"$f":"Berechnungsblatt!$Q$68","v":-35.234986832515588},{"$f":"($BB$3/(1+($BB$4/(B4-40))^$BB$5)+$BB$6)*VLOOKUP(C4,$AZ$9:$BB$15,3)","v":1.0132762829395379},null,"B",{"$f":"Berechnungsblatt!$Q$27","v":-35.799999999999997},{"$f":"($BE$3/(1+($BE$4/(B4-40))^$BE$5)+$BE$6)*VLOOKUP(C4,$AZ$9:$BB$15,3)","v":1.0370775645235366},"B",{"$f":"Berechnungsblatt!$Q$26","v":-35.253212345999032},{"$f":"($BH$3/(1+($BH$4/(B4-40))^$BH$5)+$BH$6)*VLOOKUP(C4,$AZ$9:$BB$15,3)","v":1.0570806020307111},"B",{"$f":"Berechnungsblatt!$Q$25","v":-35.253212345999032},{"$f":"($BK$3/(1+($BK$4/(B4-40))^$BK$5)+$BK$6)*VLOOKUP(C4,$AZ$9:$BB$15,3)","v":1.06807990001037},"B",{"$f":"Berechnungsblatt!$Q$24","v":-35.15},{"$f":"($BN$3/(1+($BN$4/(B4-40))^$BN$5)+$BN$6)*VLOOKUP(C4,$AZ$9:$BB$15,3)","v":1.0770553872803545},"B",{"$f":"Berechnungsblatt!$Q$23","v":-35.083444705006031},{"$f":"($BR$3/(1+($BR$4/(B4-40))^$BR$5)+$BR$6)*VLOOKUP(C4,$BP$9:$BR$15,3)","v":0.65596797709565191},null,"B",{"$f":"Berechnungsblatt!$Q$81","v":-36.014621122492109},{"$f":"($BU$3/(1+($BU$4/(B4-40))^$BU$5)+$BU$6)*VLOOKUP(C4,$BP$9:$BR$15,3)","v":0.77540961348653337},"B",{"$f":"Berechnungsblatt!$Q$80","v":-36},{"$f":"($BX$3/(1+($BX$4/(B4-40))^$BX$5)+$BX$6)*VLOOKUP(C4,$BP$9:$BR$15,3)","v":0.85092698546907342},"B",{"$f":"Berechnungsblatt!$Q$79","v":-36.287858392018613},{"$f":"($CA$3/(1+($CA$4/(B4-40))^$CA$5)+$CA$6)*VLOOKUP(C4,$BP$9:$BR$15,3)","v":0.86869173758473361},"B",{"$f":"Berechnungsblatt!$Q$78","v":-36.399273570701936},{"$f":"($CD$3/(1+($CD$4/(B4-40))^$CD$5)+$CD$6)*VLOOKUP(C4,$BP$9:$BR$15,3)","v":0.91442621618252895},"B",{"$f":"Berechnungsblatt!$Q$77","v":-39.159991396344822},{"$f":"($CH$3/(1+($CH$4/(B4-40))^$CH$5)+$CH$6)*VLOOKUP(C4,$CF$9:$CH$15,3)","v":0.68755285476785166},null,"B",{"$f":"Berechnungsblatt!$Q$36","v":-38.143324819633634},0.75927910929516451,"B",{"$f":"Berechnungsblatt!$Q$35","v":-37.8825368442863},{"$f":"($CN$3/(1+($CN$4/(B4-40))^$CN$5)+$CN$6)*VLOOKUP(C4,$CF$9:$CH$15,3)","v":0.82735006641888409},"B",{"$f":"Berechnungsblatt!$Q$34","v":-37.5},{"$f":"($CQ$3/(1+($CQ$4/(B4-40))^$CQ$5)+$CQ$6)*VLOOKUP(C4,$CF$9:$CH$15,3)","v":0.94352922508584336},"B",{"$f":"Berechnungsblatt!$Q$33","v":-39.287521644079078},{"$f":"($CT$3/(1+($CT$4/(B4-40))^$CT$5)+$CT$6)*VLOOKUP(C4,$CF$9:$CH$15,3)","v":0.98558244382229154},"B",{"$f":"Berechnungsblatt!$Q$32","v":-40.836660862235135},{"$f":"($CX$3/(1+($CX$4/(B4-40))^$CX$5)+$CX$6)*VLOOKUP(C4,$CV$9:$CX$15,3)","v":0.58463677028620997},null,"B",{"$f":"Berechnungsblatt!$Q$54","v":-39.280256399999999},{"$f":"($DA$3/(1+($DA$4/(B4-40))^$DA$5)+$DA$6)*VLOOKUP(C4,$CV$9:$CX$15,3)","v":0.73438034690613152},"B",{"$f":"Berechnungsblatt!$Q$53","v":-37.828203700000003},{"$f":"($DD$3/(1+($DD$4/(B4-40))^$DD$5)+$DD$6)*VLOOKUP(C4,$CV$9:$CX$15,3)","v":0.85872148092773359},"B",{"$f":"Berechnungsblatt!$Q$52","v":-36.965006500000001},{"$f":"($DG$3/(1+($DG$4/(B4-40))^$DG$5)+$DG$6)*VLOOKUP(C4,$CV$9:$CX$15,3)","v":0.93037278034133786},"B",{"$f":"Berechnungsblatt!$Q$51","v":-35.629423099999997},{"$f":"($DJ$3/(1+($DJ$4/(B4-40))^$DJ$5)+$DJ$6)*VLOOKUP(C4,$CV$9:$CX$15,3)","v":0.97810390900398603},"B",{"$f":"Berechnungsblatt!$Q$50","v":-34.759550099999998},{"$f":"($DN$3/(1+($DN$4/(B4-40))^$DN$5)+$DN$6)*VLOOKUP(C4,$DL$9:$DN$15,3)","v":0.71920898020293467},null,"B",{"$f":"Berechnungsblatt!$Q$45","v":-38.6634022},{"$f":"($DQ$3/(1+($DQ$4/(B4-40))^$DQ$5)+$DQ$6)*VLOOKUP(C4,$DL$9:$DN$15,3)","v":0.8554515085203791},"B",{"$f":"Berechnungsblatt!$Q$44","v":-36.659050399999998},{"$f":"($DT$3/(1+($DT$4/(B4-40))^$DT$5)+$DT$6)*VLOOKUP(C4,$DL$9:$DN$15,3)","v":0.96352519987317509},"B",{"$f":"Berechnungsblatt!$Q$43","v":-35.141256300000002},{"$f":"($DW$3/(1+($DW$4/(B4-40))^$DW$5)+$DW$6)*VLOOKUP(C4,$DL$9:$DN$15,3)","v":1.0277276966167317},"B",{"$f":"Berechnungsblatt!$Q$42","v":-33.601652000000001},{"$f":"($DZ$3/(1+($DZ$4/(B4-40))^$DZ$5)+$DZ$6)*VLOOKUP(C4,$DL$9:$DN$15,3)","v":1.0376492752231039},"B",{"$f":"Berechnungsblatt!$Q$41","v":-30.842519200000002},{"$f":"($ED$3/(1+($ED$4/(B4-40))^$ED$5)+$ED$6)*VLOOKUP(C4,$EB$9:$ED$15,3)","v":0.72932952772279991},null,"B",{"$f":"Berechnungsblatt!$Q$63","v":-37.0802993},{"$f":"($EG$3/(1+($EG$4/(B4-40))^$EG$5)+$EG$6)*VLOOKUP(C4,$EB$9:$ED$15,3)","v":0.87140324330342378},"B",{"$f":"Berechnungsblatt!$Q$62","v":-35.871506199999999},{"$f":"($EJ$3/(1+($EJ$4/(B4-40))^$EJ$5)+$EJ$6)*VLOOKUP(C4,$EB$9:$ED$15,3)","v":0.99684477457477805},"B",{"$f":"Berechnungsblatt!$Q$61","v":-34.880612999999997},{"$f":"($EM$3/(1+($EM$4/(B4-40))^$EM$5)+$EM$6)*VLOOKUP(C4,$EB$9:$ED$15,3)","v":1.0545216117994547},"B",{"$f":"Berechnungsblatt!$Q$60","v":-33.147686700000001},{"$f":"($EP$3/(1+($EP$4/(B4-40))^$EP$5)+$EP$6)*VLOOKUP(C4,$EB$9:$ED$15,3)","v":1.140130995770708},"B",{"$f":"Berechnungsblatt!$Q$59","v":-30.7071632},{"$f":"($ET$3/(1+($ET$4/(B4-40))^$ET$5)+$ET$6)*VLOOKUP(C4,$ER$9:$ET$15,3)","v":0.91473857840856299},null,"B",{"$f":"Berechnungsblatt!$Q$90","v":-35.2516927},{"$f":"($EW$3/(1+($EW$4/(B4-40))^$EW$5)+$EW$6)*VLOOKUP(C4,$ER$9:$ET$15,3)","v":0.93493717690323086},"B",{"$f":"Berechnungsblatt!$Q$89","v":-35.033375399999997},{"$f":"($EZ$3/(1+($EZ$4/(B4-40))^$EZ$5)+$EZ$6)*VLOOKUP(C4,$ER$9:$ET$15,3)","v":0.96783834688920867},"B",{"$f":"Berechnungsblatt!$Q$88","v":-34.721360500000003},{"$f":"($FC$3/(1+($FC$4/(B4-40))^$FC$5)+$FC$6)*VLOOKUP(C4,$ER$9:$ET$15,3)","v":0.97023113503699387},"B",{"$f":"Berechnungsblatt!$Q$87","v":-34.542843099999999},{"$f":"($FF$3/(1+($FF$4/(B4-40))^$FF$5)+$FF$6)*VLOOKUP(C4,$ER$9:$ET$15,3)","v":0.98441541258134835},"B",{"$f":"Berechnungsblatt!$Q$86","v":-34.262862300000002},{"$f":"($FJ$3/(1+($FJ$4/(B4-40))^$FJ$5)+$FJ$6)*VLOOKUP(C4,$FH$9:$FJ$15,3)","v":0.44457389123322222},null,"B",{"$f":"Berechnungsblatt!$Q$99","v":-38.750429400000002},{"$f":"($FM$3/(1+($FM$4/(B4-40))^$FM$5)+$FM$6)*VLOOKUP(C4,$FH$9:$FJ$15,3)","v":0.60008937886099945},"B",{"$f":"Berechnungsblatt!$Q$98","v":-37},{"$f":"($FP$3/(1+($FP$4/(B4-40))^$FP$5)+$FP$6)*VLOOKUP(C4,$FH$9:$FJ$15,3)","v":0.84705263925246566},"B",{"$f":"Berechnungsblatt!$Q$97","v":-35.799999999999997},{"$f":"($FS$3/(1+($FS$4/(B4-40))^$FS$5)+$FS$6)*VLOOKUP(C4,$FH$9:$FJ$15,3)","v":0.99635506506995541},"B",{"$f":"Berechnungsblatt!$Q$96","v":-34.732126097157909},{"$f":"($FV$3/(1+($FV$4/(B4-40))^$FV$5)+$FV$6)*VLOOKUP(C4,$FH$9:$FJ$15,3)","v":1.0214189126067241},"B",{"$f":"Berechnungsblatt!$Q$95","v":-32.4252678},{"$f":"($FZ$3/(1+($FZ$4/(B4-40))^$FZ$5)+$FZ$6)*VLOOKUP(C4,$FX$9:$FZ$15,3)","v":1.2730973406943626},null,"B",{"$f":"Berechnungsblatt!$Q$108","v":-34.342437068552321},{"$f":"($GC$3/(1+($GC$4/(B4-40))^$GC$5)+$GC$6)*VLOOKUP(C4,$FX$9:$FZ$15,3)","v":1.3039158485751658},"B",{"$f":"Berechnungsblatt!$Q$107","v":-35.299999999999997},{"$f":"($GF$3/(1+($GF$4/(B4-40))^$GF$5)+$GF$6)*VLOOKUP(C4,$FX$9:$FZ$15,3)","v":1.3127262684763552},"B",{"$f":"Berechnungsblatt!$Q$106","v":-36.023791149401227},{"$f":"($GI$3/(1+($GI$4/(B4-40))^$GI$5)+$GI$6)*VLOOKUP(C4,$FX$9:$FZ$15,3)","v":1.3172610962578033},"B",{"$f":"Berechnungsblatt!$Q$105","v":-38.4},{"$f":"($GL$3/(1+($GL$4/(B4-40))^$GL$5)+$GL$6)*VLOOKUP(C4,$FX$9:$FZ$15,3)","v":1.3226087213530986},"B",{"$f":"Berechnungsblatt!$Q$104","v":-40.514948177040218},{"$f":"($GP$3/(1+($GP$4/(B4-40))^$GP$5)+$GP$6)*VLOOKUP(C4,$GN$9:$GP$15,3)","v":0.95160271754767234},null,"B",{"$f":"Berechnungsblatt!Q113","v":-35.681614400000001},{"$f":"($GS$3/(1+($GS$4/(B4-40))^$GS$5)+$GS$6)*VLOOKUP(C4,$GN$9:$GP$15,3)","v":0.86737421864164121},"B",{"$f":"Berechnungsblatt!Q114","v":-36.607845300000001}]
[{"$f":"'Als-Ob-Allokation KW03'!A4","v":"2012-01-03"},{"$f":"'Als-Ob-Allokation KW03'!B4","v":5.9},2,1.2529623312201015,"C",{"$f":"Berechnungsblatt!R4","v":5.6727846623999998},{"$f":"($I$3/(1+($I$4/(B5-40))^$I$5)+$I$6)","v":1.2250349313261339},"C",{"$f":"Berechnungsblatt!R5","v":6.1723178724999999},1.2520604080237265,"C",{"$f":"Berechnungsblatt!R6","v":5.8164304014999999},1.2548804937697968,"C",{"$f":"Berechnungsblatt!R7","v":6.2240633959},1.0741586973918853,"C",{"$f":"Berechnungsblatt!R9","v":6.5718175173429172},1.3032595496333095,null,"C",{"$f":"Berechnungsblatt!$R$18","v":5.7212303000000002},1.3016389159542867,"C",{"$f":"Berechnungsblatt!$R$17","v":5.7212303000000002},1.2645403510653419,"C",{"$f":"Berechnungsblatt!$R$16","v":5.7212303000000002},1.2151228530503739,"C",{"$f":"Berechnungsblatt!$R$15","v":4},1.2006278787909599,"C",{"$f":"Berechnungsblatt!$R$14","v":2},1.4119301716651851,null,"C",{"$f":"Berechnungsblatt!$R$72","v":7.5976990993414582},1.4659705683089772,"C",{"$f":"Berechnungsblatt!$R$71","v":6.8},1.4339350685882366,"C",{"$f":"Berechnungsblatt!$R$70","v":5.9265161647102262},1.3069536761836444,"C",{"$f":"Berechnungsblatt!$R$69","v":5.2154672282154593},1.1711021111348636,"C",{"$f":"Berechnungsblatt!$R$68","v":2.1064246884377953},{"$f":"($BB$3/(1+($BB$4/(B5-40))^$BB$5)+$BB$6)*VLOOKUP(C5,$AZ$9:$BB$15,3)","v":1.3973660605050622},null,"C",{"$f":"Berechnungsblatt!$R$27","v":5.6340580619403084},1.3799361388043327,"C",{"$f":"Berechnungsblatt!$R$26","v":6.0587000723760518},1.3376745551450213,"C",{"$f":"Berechnungsblatt!$R$25","v":6.1544406413126556},1.3037704854804593,"C",{"$f":"Berechnungsblatt!$R$24","v":6.1632738508567346},1.255394027841396,"C",{"$f":"Berechnungsblatt!$R$23","v":5.4123424650913723},1.2591788707699252,null,"C",{"$f":"Berechnungsblatt!$R$81","v":8.7767464708684528},1.2620989771077835,"C",{"$f":"Berechnungsblatt!$R$80","v":7.7368517678413813},1.2137287042960849,"C",{"$f":"Berechnungsblatt!$R$79","v":6.5885126393344677},1.1350813137883435,"C",{"$f":"Berechnungsblatt!$R$78","v":6.2149172092727794},1.070892753875077,"C",{"$f":"Berechnungsblatt!$R$77","v":4.2076109635747221},1.1527134089743503,null,"C",{"$f":"Berechnungsblatt!$R$36","v":7.6185870984028208},1.1768535403987337,"C",{"$f":"Berechnungsblatt!$R$35","v":6.9836070287510275},1.1922638959936431,"C",{"$f":"Berechnungsblatt!$R$34","v":6.3462147948610568},1.2102702707828032,"C",{"$f":"Berechnungsblatt!$R$33","v":4.490574046149538},1.1843120573837307,"C",{"$f":"Berechnungsblatt!$R$32","v":3.678589174021583},1.1358953203491184,null,"C",{"$f":"Berechnungsblatt!$R$54","v":8.6240217000000001},1.2828745192917004,"C",{"$f":"Berechnungsblatt!$R$53","v":8.1593368999999996},1.3586163402706404,"C",{"$f":"Berechnungsblatt!$R$52","v":7.2256947},1.3568408715744327,"C",{"$f":"Berechnungsblatt!$R$51","v":7.0058264000000001},1.2978740497277763,"C",{"$f":"Berechnungsblatt!$R$50","v":5.9987037000000001},1.2851372327398809,null,"C",{"$f":"Berechnungsblatt!$R$45","v":7.5974643999999998},1.403631025506632,"C",{"$f":"Berechnungsblatt!$R$44","v":7.6083226000000002},1.4262103685618368,"C",{"$f":"Berechnungsblatt!$R$43","v":7.1303394999999998},1.3834139335142002,"C",{"$f":"Berechnungsblatt!$R$42","v":6.6753609999999997},1.2741894085759846,"C",{"$f":"Berechnungsblatt!$R$41","v":6.4091228914212213},1.2562921132286846,null,"C",{"$f":"Berechnungsblatt!$R$63","v":8.2420571999999996},1.3473750265583553,"C",{"$f":"Berechnungsblatt!$R$62","v":7.5186828999999999},1.393360489004019,"C",{"$f":"Berechnungsblatt!$R$61","v":6.5951899000000003},1.3780133647859043,"C",{"$f":"Berechnungsblatt!$R$60","v":6.3714765},1.3901740492815509,"C",{"$f":"Berechnungsblatt!$R$59","v":6.4626937},1.3324197374295774,null,"C",{"$f":"Berechnungsblatt!$R$90","v":6.5182659000000003},1.3205107666600231,"C",{"$f":"Berechnungsblatt!$R$89","v":6.2240634000000004},1.3175432069000561,"C",{"$f":"Berechnungsblatt!$R$88","v":5.8164303999999998},1.2889264799166542,"C",{"$f":"Berechnungsblatt!$R$87","v":5.5545245000000003},1.2688869603613586,"C",{"$f":"Berechnungsblatt!$R$86","v":5.1763874000000003},1.0927185743865451,null,"C",{"$f":"Berechnungsblatt!$R$99","v":10.275333409097874},1.3161041156275597,"C",{"$f":"Berechnungsblatt!$R$98","v":10.240502102653172},1.4901550192441848,"C",{"$f":"Berechnungsblatt!$R$97","v":8.4},1.4705430545727223,"C",{"$f":"Berechnungsblatt!$R$96","v":6.4805035136696159},1.3978367945211763,"C",{"$f":"Berechnungsblatt!$R$95","v":8.1732612000000007},1.4928348247213259,null,"C",{"$f":"Berechnungsblatt!$R$108","v":5.451882242186219},1.4679720400533169,"C",{"$f":"Berechnungsblatt!$R$107","v":4.8662746831056047},1.4343034917308177,"C",{"$f":"Berechnungsblatt!$R$106","v":4.8662746831056047},1.3986229651403024,"C",{"$f":"Berechnungsblatt!$R$105","v":3.8705351891784554},1.3706745348172888,"C",{"$f":"Berechnungsblatt!$R$104","v":2.8747956952513056},1.3340619266350964,null,"C",{"$f":"Berechnungsblatt!R113","v":6.6857975999999999},1.3152941044554505,"C",{"$f":"Berechnungsblatt!R114","v":7.3211870000000001}]
[{"$f":"'Als-Ob-Allokation KW03'!A5","v":"2012-01-04"},{"$f":"'Als-Ob-Allokation KW03'!B5","v":5.5},3,1.3007995202722038,"D",{"$f":"Berechnungsblatt!S4","v":9.6193060400000002E-2},{"$f":"($I$3/(1+($I$4/(B6-40))^$I$5)+$I$6)","v":1.2784154784253017},"D",{"$f":"Berechnungsblatt!S5","v":7.6109593500000003E-2},1.2924963789554147,"D",{"$f":"Berechnungsblatt!S6","v":0.1208193679},1.3003838486677446,"D",{"$f":"Berechnungsblatt!S7","v":0.1010781719},1.076879533480009,"D",{"$f":"Berechnungsblatt!S9","v":0.71077104516853984},1.2748239074283172,null,"D",{"$f":"Berechnungsblatt!$S$18","v":0.54573329999999998},1.2669461230626051,"D",{"$f":"Berechnungsblatt!$S$17","v":0.66564939999999995},1.2257962359926036,"D",{"$f":"Berechnungsblatt!$S$16","v":0.78556550000000003},1.1720645151115392,"D",{"$f":"Berechnungsblatt!$S$15","v":0.90548150000000005},1.1542321402714932,"D",{"$f":"Berechnungsblatt!$S$14","v":1},1.4365398630140833,null,"D",{"$f":"Berechnungsblatt!$S$72","v":6.6313537125488372E-3},1.4717567933997928,"D",{"$f":"Berechnungsblatt!$S$71","v":6.0911264589236937E-2},1.4216995756538005,"D",{"$f":"Berechnungsblatt!$S$70","v":0.11519117546592504},1.2821442273858812,"D",{"$f":"Berechnungsblatt!$S$69","v":0.28545825429832988},1.1276514541902225,"D",{"$f":"Berechnungsblatt!$S$68","v":0.45572533313073471},1.3857791305707914,null,"D",{"$f":"Berechnungsblatt!$S$27","v":0},1.3638275909141058,"D",{"$f":"Berechnungsblatt!$S$26","v":0.16473704872166248},1.3158220544631447,"D",{"$f":"Berechnungsblatt!$S$25","v":0.32947409744332495},1.2777777853820274,"D",{"$f":"Berechnungsblatt!$S$24","v":0.42982608508573394},1.2241054350590712,"D",{"$f":"Berechnungsblatt!$S$23","v":0.47442640755103754},1.358530091803128,null,"D",{"$f":"Berechnungsblatt!$S$81","v":-4.9157455419537876E-4},1.3414458153180697,"D",{"$f":"Berechnungsblatt!$S$80","v":0.1572809795157798},1.2733291065624579,"D",{"$f":"Berechnungsblatt!$S$79","v":0.315053533585755},1.1799993210020372,"D",{"$f":"Berechnungsblatt!$S$78","v":0.48776373268446904},1.0993534742869091,"D",{"$f":"Berechnungsblatt!$S$77","v":0.66047393178318303},1.3363167623066252,null,"D",{"$f":"Berechnungsblatt!$S$36","v":2.3029722998186071E-2},1.352896584320707,"D",{"$f":"Berechnungsblatt!$S$35","v":5.4826186269183036E-2},1.3597505881951435,"D",{"$f":"Berechnungsblatt!$S$34","v":8.6622649540180008E-2},1.3634583273749104,"D",{"$f":"Berechnungsblatt!$S$33","v":8.3478316675010766E-2},1.3249139477166898,"D",{"$f":"Berechnungsblatt!$S$32","v":0.15021557608217395},1.2280710817912563,null,"D",{"$f":"Berechnungsblatt!$S$54","v":9.9944999999999999E-3},1.3692842347253076,"D",{"$f":"Berechnungsblatt!$S$53","v":4.72845E-2},1.433215771547852,"D",{"$f":"Berechnungsblatt!$S$52","v":4.4841600000000002E-2},1.4182092151284924,"D",{"$f":"Berechnungsblatt!$S$51","v":0.1164772},1.342909243098674,"D",{"$f":"Berechnungsblatt!$S$50","v":0.14944109999999999},1.3587423450978389,null,"D",{"$f":"Berechnungsblatt!$S$45","v":8.3263999999999994E-3},1.4686482984844553,"D",{"$f":"Berechnungsblatt!$S$44","v":7.4685000000000001E-2},1.4747569017486559,"D",{"$f":"Berechnungsblatt!$S$43","v":0.14184720000000001},1.415497852523115,"D",{"$f":"Berechnungsblatt!$S$42","v":0.23091249999999999},1.2899013860949859,"D",{"$f":"Berechnungsblatt!$S$41","v":0.28264011170173492},1.2812587365613708,null,"D",{"$f":"Berechnungsblatt!$S$63","v":1.4600800000000001E-2},1.3572020596022816,"D",{"$f":"Berechnungsblatt!$S$62","v":3.4330100000000002E-2},1.3883709661655557,"D",{"$f":"Berechnungsblatt!$S$61","v":5.4032900000000002E-2},1.3623473618982052,"D",{"$f":"Berechnungsblatt!$S$60","v":8.1002299999999999E-2},1.3630200950939912,"D",{"$f":"Berechnungsblatt!$S$59","v":0.10483389999999999},1.3753751728560613,null,"D",{"$f":"Berechnungsblatt!$S$90","v":8.1205899999999998E-2},1.3587711060671115,"D",{"$f":"Berechnungsblatt!$S$89","v":0.10107820000000001},1.3505295057772646,"D",{"$f":"Berechnungsblatt!$S$88","v":0.12081939999999999},1.3178941605922521,"D",{"$f":"Berechnungsblatt!$S$87","v":0.140822},1.2933344849433726,"D",{"$f":"Berechnungsblatt!$S$86","v":0.16069449999999999},1.1833574400344569,null,"D",{"$f":"Berechnungsblatt!$S$99","v":0},1.4047829423943228,"D",{"$f":"Berechnungsblatt!$S$98","v":4.6924303973354169E-2},1.5514690798464905,"D",{"$f":"Berechnungsblatt!$S$97","v":9.3848607946708337E-2},1.5029156720518642,"D",{"$f":"Berechnungsblatt!$S$96","v":0.1407729119200625},1.4151577508898867,"D",{"$f":"Berechnungsblatt!$S$95","v":0.39059870000000002},1.5295095065437649,null,"D",{"$f":"Berechnungsblatt!$S$108","v":0.5572659896235661},1.497578100321129,"D",{"$f":"Berechnungsblatt!$S$107","v":0.68110423365180117},1.4583727299316676,"D",{"$f":"Berechnungsblatt!$S$106","v":0.80494247768003624},1.4172553348608938,"D",{"$f":"Berechnungsblatt!$S$105","v":0.87002503086951744},1.3846956659758223,"D",{"$f":"Berechnungsblatt!$S$104","v":0.93510758405899874},1.3715008207103556,null,"D",{"$f":"Berechnungsblatt!S113","v":0.19955410000000001},1.3644283348855843,"D",{"$f":"Berechnungsblatt!S114","v":0.15496599999999999}]
[{"$f":"'Als-Ob-Allokation KW03'!A6","v":"2012-01-05"},{"$f":"'Als-Ob-Allokation KW03'!B6","v":4.5},4,1.4206320305610645,"Lastprofil:","HEF03",1.4129738498756121,"Lastprofil:","HEF04",1.3915957589847268,"Lastprofil:","HMF03",1.4122953240906764,"Lastprofil:","HMF04",1.0828676794302226,"Lastprofil:","HK3",1.4031273558756283,null,"Lastprofil:","BA5",1.3780430421244092,"Lastprofil:","BA4",1.320505724321493,"Lastprofil:","BA3",1.2481954240649999,"Lastprofil:","BA2",1.2192566841075794,"Lastprofil:","BA1",1.7012698876861323,null,"Lastprofil:","BD5",1.6894267199629238,"Lastprofil:","BD4",1.5849895149438846,"Lastprofil:","BD3",1.3954095828317936,"Lastprofil:","BD2",1.1747848196464303,"Lastprofil:","BD1",1.5451662928636229,null,"Lastprofil:","BH5",1.5088344392582731,"Lastprofil:","BH4",1.4405250190131349,"Lastprofil:","BH3",1.3872790712154948,"Lastprofil:","BH2",1.3135160772091192,"Lastprofil:","BH1",1.5762775053389242,null,"Lastprofil:","GA5",1.5071125928665599,"Lastprofil:","GA4",1.3900784842399265,"Lastprofil:","GA3",1.2617943614118858,"Lastprofil:","GA2",1.1415077592331591,"Lastprofil:","GA1",1.545052284838826,null,"Lastprofil:","GB5",1.5343677946124714,"Lastprofil:","GB4",1.5140442110209873,"Lastprofil:","GB3",1.4766255355174551,"Lastprofil:","GB2",1.4119111696743132,"Lastprofil:","GB1",1.4742425076740189,null,"Lastprofil:","HA5",1.5932888731553874,"Lastprofil:","HA4",1.6221286490188709,"Lastprofil:","HA3",1.5705249374656118,"Lastprofil:","HA2",1.4531756475837254,"Lastprofil:","HA1",1.5804619325152482,null,"Lastprofil:","KO5",1.6651673642388356,"Lastprofil:","KO4",1.6261888730291476,"Lastprofil:","KO3",1.5230244472024894,"Lastprofil:","KO2",1.3534241961929512,"Lastprofil:","KO1",1.4815508697089108,null,"Lastprofil:","ME5",1.524247006379867,"Lastprofil:","ME4",1.5210311956638523,"Lastprofil:","ME3",1.465022707831096,"Lastprofil:","ME2",1.4370431329961386,"Lastprofil:","ME1",1.510932119965426,null,"Lastprofil:","MF5",1.4820627349991145,"Lastprofil:","MF4",1.4603406294063961,"Lastprofil:","MF3",1.4170267081441912,"Lastprofil:","MF2",1.3807426795249544,"Lastprofil:","MF1",1.448111218091678,null,"Lastprofil:","PD5",1.6574588995080892,"Lastprofil:","PD4",1.7285208565756456,"Lastprofil:","PD3",1.6059074819320724,"Lastprofil:","PD2",1.4769936981381113,"Lastprofil:","PD1",1.5577854004963325,null,"Lastprofil:","WA5",1.5104179303791929,"Lastprofil:","WA4",1.4594911633990564,"Lastprofil:","WA3",1.406878186310204,"Lastprofil:","WA2",1.3642805358281371,"Lastprofil:","WA1",1.5111983571358885,null,"Lastprofil:","GHD03",1.535405198217771,"Lastprofil:","GHD04"]
[{"$f":"'Als-Ob-Allokation KW03'!A7","v":"2012-01-06"},{"$f":"'Als-Ob-Allokation KW03'!B7","v":2.9},5,1.6099848370790144,null,null,1.6274151135339743,null,null,1.5419595751616599,null,null,1.5827498913651326,null,null,1.0904288804279085,"Tagesfaktoren",null,1.4990867260535974,null,"Tagesfaktoren",null,1.4471297714060416,"Tagesfaktoren",null,1.3680092827153441,"Tagesfaktoren",null,1.2730310263680686,"Tagesfaktoren",null,1.2282880562114347,"Tagesfaktoren",null,2.0166315651729283,null,"Tagesfaktoren",null,1.9172538068611871,"Tagesfaktoren",null,1.7272175635070492,"Tagesfaktoren",null,1.4728604680692441,"Tagesfaktoren",null,1.1661286289106405,"Tagesfaktoren",null,1.6828176957480165,null,"Tagesfaktoren",null,1.62532544744401,"Tagesfaktoren",null,1.5309065944648246,"Tagesfaktoren",null,1.4580490606019845,"Tagesfaktoren",null,1.3590921384605035,"Tagesfaktoren",null,1.9138273635705885,null,"Tagesfaktoren",null,1.7616183469173041,"Tagesfaktoren",null,1.5684525851562947,"Tagesfaktoren",null,1.3854320894617245,"Tagesfaktoren",null,1.2036540286031849,"Tagesfaktoren",null,1.8350514626592751,null,"Tagesfaktoren",null,1.7759098363686208,"Tagesfaktoren",null,1.7091592889314631,"Tagesfaktoren",null,1.6082302316989352,"Tagesfaktoren",null,1.5042694162699186,"Tagesfaktoren",null,1.8868171359596526,null,"Tagesfaktoren",null,1.9461025223292607,"Tagesfaktoren",null,1.9060145533461927,"Tagesfaktoren",null,1.7887155853534551,"Tagesfaktoren",null,1.6053062527675319,"Tagesfaktoren",null,1.8290497145169831,null,"Tagesfaktoren",null,1.8528227871880496,"Tagesfaktoren",null,1.7397226627103235,"Tagesfaktoren",null,1.5751808574981052,"Tagesfaktoren",null,1.3510501655703981,"Tagesfaktoren",null,1.931030832642195,null,"Tagesfaktoren",null,1.9074097878829388,"Tagesfaktoren",null,1.8417592975791566,"Tagesfaktoren",null,1.7274685190141026,"Tagesfaktoren",null,1.6468603064020728,"Tagesfaktoren",null,1.6098928362613945,null,"Tagesfaktoren",null,1.5645482870270286,"Tagesfaktoren",null,1.5242270781278835,"Tagesfaktoren",null,1.4681790816065456,"Tagesfaktoren",null,1.4172377467779151,"Tagesfaktoren",null,1.872798067105671,null,"Tagesfaktoren",null,2.0219085724389787,"Tagesfaktoren",null,1.9543692605775511,"Tagesfaktoren",null,1.7212736517751022,"Tagesfaktoren",null,1.5258981569280223,"Tagesfaktoren",null,1.4976489356027427,null,"Tagesfaktoren",null,1.4335582017030757,"Tagesfaktoren",null,1.3702402735932107,"Tagesfaktoren",null,1.3055549148105074,"Tagesfaktoren",null,1.2515549952944343,"Tagesfaktoren",null,1.6728499571984616,null,"Tagesfaktoren",null,1.7499850712081269,"Tagesfaktoren"]
[{"$f":"'Als-Ob-Allokation KW03'!A8","v":"2012-01-07"},{"$f":"'Als-Ob-Allokation KW03'!B8","v":3.7},6,1.5159466181537196,null,null,1.5206960680245636,null,null,1.4682227301350232,null,null,1.4991013604408552,null,null,1.0869253160499863,null,null,0.61917425435781992,1,"Montag",1.0848,0.60272544724710353,null,null,0.57349393178652608,null,null,0.53764047654750025,null,null,0.52189198650184221,null,null,1.3591989801650559,1,"Montag",1.1052,1.3193721388346042,null,null,1.2118108030517412,null,null,1.0489700693463564,null,null,0.85530886968266828,null,null,1.1811121078492786,1,"Montag",1.1052,1.1468064262045896,null,null,1.0870241914529533,null,null,1.0407229896810779,null,null,0.97724224832494999,null,null,1.7832264601849817,1,"Montag",0.93220000000000003,1.6697050572299585,null,null,1.5107548890721885,null,null,1.3516120626771588,null,null,1.1970325310945562,null,null,1.5846327605997825,1,"Montag",0.98970000000000002,1.552310444010006,null,null,1.5117159770246642,null,null,1.4462968933035432,null,null,1.3670004483571885,null,null,1.5789858889225734,1,"Montag",1.0358000000000001,1.6661890755923012,null,null,1.6622927800107932,null,null,1.5836064676772901,null,null,1.4416908695127209,null,null,1.48555885754316,1,"Montag",1.0354000000000001,1.5342918718395309,null,null,1.4680162360007856,null,null,1.3507201035890721,null,null,1.1783494152099567,null,null,1.5456283371002129,1,"Montag",1.0699000000000001,1.5566517249116816,null,null,1.5264482075954366,null,null,1.4501240624731619,null,null,1.4015972957646692,null,null,1.3608032027122203,1,"Montag",1.0354000000000001,1.3282038232954148,null,null,1.3008453728292564,null,null,1.2573196621468523,null,null,1.2190320377364483,null,null,1.444928407473111,1,"Montag",1.0214000000000001,1.606013952235291,null,null,1.6084325240743198,null,null,1.4520187795288895,null,null,1.3108797866723798,null,null,0.50069874640127432,1,"Montag",1.2457,0.48216258369557502,null,null,0.46327109645373071,null,null,0.44388241104342019,null,null,0.42793817927139721,null,null,1.453750111672989,1,"Montag",1.03,1.499809241850566]
[{"$f":"'Als-Ob-Allokation KW03'!A9","v":"2012-01-08"},{"$f":"'Als-Ob-Allokation KW03'!B9","v":3.9},7,1.4922104712283335,null,null,1.4938221965133558,null,null,1.4493197848291279,null,null,1.4776718911090672,null,null,1.0859661324639664,null,null,1.2111279847462029,2,"Dienstag",1.1211,1.1815163481267499,null,null,1.1261422088599595,null,null,1.0578318066780981,null,null,1.0284364940693518,null,null,1.596675741881167,2,"Dienstag",1.0857000000000001,1.5584450986552689,null,null,1.4387543106116787,null,null,1.2504634607918377,null,null,1.0275401435157725,null,null,1.4024088620546353,2,"Dienstag",1.0857000000000001,1.3635554508450625,null,null,1.2946893762562262,null,null,1.2412847589557683,null,null,1.167886060074625,null,null,1.6994102052960385,2,"Dienstag",0.98939999999999995,1.5989624323994471,null,null,1.4532718162593337,null,null,1.3046845954087953,null,null,1.161408157249562,null,null,1.4802614991800009,2,"Dienstag",0.9627,1.4548224525485149,null,null,1.4212661761194003,null,null,1.3659730001886929,null,null,1.2946808394439577,null,null,1.4127387033341925,2,"Dienstag",1.0232000000000001,1.4995508576397676,null,null,1.5033995320207754,null,null,1.4378802223502718,null,null,1.3141034012871904,null,null,1.5413710663138891,2,"Dienstag",1.0523,1.599808258832099,null,null,1.538320738761813,null,null,1.4214735957352682,null,null,1.2456360850311914,null,null,1.4549555282118189,2,"Dienstag",1.0365,1.4728996353634769,null,null,1.4503641310552975,null,null,1.3824683032512333,null,null,1.341018644158386,null,null,1.426720715908397,2,"Dienstag",1.0523,1.394183448515941,null,null,1.3674332530612725,null,null,1.3229137247586482,null,null,1.2841544545589336,null,null,1.3175837796644678,2,"Dienstag",1.0866,1.4752393387278402,null,null,1.4917930474691479,null,null,1.3559066450013411,null,null,1.2297743530686789,null,null,0.59461000732529767,2,"Dienstag",1.2615000000000001,0.57353215149527781,null,null,0.5518179313413657,null,null,0.52950107888767484,null,null,0.51121868724444397,null,null,1.4624393751208851,2,"Dienstag",1.03,1.5032120793968318]
[{"$f":"'Als-Ob-Allokation KW03'!A10","v":"2012-01-09"},{"$f":"'Als-Ob-Allokation KW03'!B10","v":4.2},1,1.4564800436323524,null,null,1.4534260873311857,null,null,1.4206410593509802,null,null,1.4451778360393894,null,null,1.0844596243363558,null,null,1.3572580097424722,3,"Mittwoch",1.0769,1.3284766047938021,null,null,1.2695569341199284,null,null,1.1962145547735865,null,null,1.1657067444639282,null,null,1.8442003399137792,3,"Mittwoch",1.0378000000000001,1.8153842159349063,null,null,1.689279832342242,null,null,1.4774744788309866,null,null,1.2286612131947412,null,null,1.6467479999999999,3,"Mittwoch",1.0378000000000001,1.6045212152504802,null,null,1.5275709846331706,null,null,1.4677606711106304,null,null,1.3852435241215506,null,null,1.5107516767105491,3,"Mittwoch",1.0033000000000001,1.4324987021284648,null,null,1.3112814108423916,null,null,1.1835728322185082,null,null,1.0619826974916262,null,null,1.5075540901616318,3,"Mittwoch",1.0507,1.4892058961518269,null,null,1.4620095033553466,null,null,1.4152038546202954,null,null,1.347138299319828,null,null,1.5597620431166264,3,"Mittwoch",1.0251999999999999,1.6704771535530514,null,null,1.6874829268964342,null,null,1.6237102481983057,null,null,1.4929251824680254,null,null,1.6251204095162175,3,"Mittwoch",1.0448999999999999,1.6993680239961673,null,null,1.6465838728121003,null,null,1.5316043872135074,null,null,1.3514213168238469,null,null,1.6582026903584928,3,"Mittwoch",0.99329999999999996,1.6920459472698495,null,null,1.6770327331448642,null,null,1.606768553072665,null,null,1.5672054573306633,null,null,1.5284396882751621,3,"Mittwoch",1.0448999999999999,1.4963371528036737,null,null,1.470931792345348,null,null,1.425120157743714,null,null,1.3859345660934845,null,null,1.4887423736335681,3,"Mittwoch",1.0720000000000001,1.6853182752666305,null,null,1.7300969681567679,null,null,1.5893794106118826,null,null,1.4515982636453604,null,null,1.5792243315328072,3,"Mittwoch",1.2706999999999999,1.5271270748279742,null,null,1.4724201672494743,null,null,1.4160611404076877,null,null,1.370157889637919,null,null,1.5485625686030609,3,"Mittwoch",1.02,1.5826814457547422]
[{"$f":"'Als-Ob-Allokation KW03'!A11","v":"2012-01-10"},{"$f":"'Als-Ob-Allokation KW03'!B11","v":4.8},2,1.3847055888606472,null,null,1.3725185575124539,null,null,1.362211196514403,null,null,1.3790620344479212,null,null,1.0811854048223977,null,null,1.3682678340490999,4,"Donnerstag",1.1353,1.3484753426033114,null,null,1.2957896017682284,null,null,1.2288929202388048,null,null,1.2032932441302702,null,null,1.6669469668188399,4,"Donnerstag",1.0622,1.6703737432861241,null,null,1.580414058572883,null,null,1.4009717741166032,null,null,1.1945148328436876,null,null,1.5407281090688858,4,"Donnerstag",1.0622,1.5078947203891797,null,null,1.4439001538501199,null,null,1.3938374667901412,null,null,1.3241683742120054,null,null,1.4818250970270523,4,"Donnerstag",1.0108999999999999,1.4294977200632151,null,null,1.3291475718110304,null,null,1.2136263793318181,null,null,1.1073017209187741,null,null,1.3532902484791816,4,"Donnerstag",1.0551999999999999,1.3513769339412751,null,null,1.3405504304926987,null,null,1.3177713544511025,null,null,1.2658822354189214,null,null,1.3912585513469558,4,"Donnerstag",1.0295000000000001,1.5175196978361309,null,null,1.5574710659142903,null,null,1.5175373380596324,null,null,1.4134443689365888,null,null,1.5187881066430229,4,"Donnerstag",1.0494000000000001,1.6123965749060563,null,null,1.587448927969344,null,null,1.4973093587088322,null,null,1.3403300866631747,null,null,1.4811174415920281,4,"Donnerstag",0.99480000000000002,1.5367514338351909,null,null,1.5444316161643974,null,null,1.4956480871669733,null,null,1.4755917787563064,null,null,1.4764545766650443,4,"Donnerstag",1.0494000000000001,1.4511870010488979,null,null,1.4334548820277218,null,null,1.3931726866054925,null,null,1.3602599239476687,null,null,1.3998112704981394,4,"Donnerstag",1.0557000000000001,1.6198775377927721,null,null,1.7173265771560791,null,null,1.6145178714690591,null,null,1.4953862130859381,null,null,1.5624544632121453,4,"Donnerstag",1.2430000000000001,1.5191762887412783,null,null,1.4712614922347411,null,null,1.4215906856964846,null,null,1.3816232215668462,null,null,1.4735535043733377,4,"Donnerstag",1.03,1.4880571708967596]
[{"$f":"'Als-Ob-Allokation KW03'!A12","v":"2012-01-11"},{"$f":"'Als-Ob-Allokation KW03'!B12","v":2.5},3,1.656318034225537,null,null,1.6801111819550609,null,null,1.5776214105556552,null,null,1.6232171379982847,null,null,1.0919976087030312,null,null,1.4359657868200983,5,"Freitag",1.1402000000000001,1.3807018827023725,null,null,1.3012327088455808,null,null,1.2067929455414723,null,null,1.1609627601998334,null,null,2.1337593868723856,5,"Freitag",1.0266,2.00908871039071,null,null,1.793778232173411,null,null,1.5192125010040105,null,null,1.1863860988084451,null,null,1.7472688978883903,5,"Freitag",1.0266,1.6833270022759721,null,null,1.5810114010432321,null,null,1.5021606441286794,null,null,1.3955627781644317,null,null,1.962951546615731,5,"Freitag",1.018,1.7937598580740379,null,null,1.5859646393358173,null,null,1.3928281684019921,null,null,1.1994553293157846,null,null,1.9562402476395249,5,"Freitag",1.0297000000000001,1.8827675835745012,null,null,1.8022234257761627,null,null,1.6833371425430088,null,null,1.5669622723508032,null,null,1.9954819174728045,5,"Freitag",1.0253000000000001,2.0357489233187795,null,null,1.9768663083129385,null,null,1.8421094741948787,null,null,1.6425928269286731,null,null,2.0245373612668627,5,"Freitag",0.98850000000000005,2.031590958974471,null,null,1.8908760211933031,null,null,1.6993513603459611,null,null,1.4460480343020625,null,null,1.8781600032484684,5,"Freitag",1.0659000000000001,1.8385848677140695,null,null,1.7629626705524102,null,null,1.6436610416459383,null,null,1.5568235093472733,null,null,1.7486432147498547,5,"Freitag",0.98850000000000005,1.6960996076944692,null,null,1.6484566522549324,null,null,1.5853909902432404,null,null,1.5273514703725226,null,null,2.119303310770039,5,"Freitag",1.0117,2.255509601636021,null,null,2.1458473980586312,null,null,1.8694099130247059,null,null,1.6424781676571265,null,null,1.7102622317678096,5,"Freitag",1.1275999999999999,1.6326417465962078,null,null,1.556736013933482,null,null,1.4793433243799352,null,null,1.4142482799737368,null,null,1.7355435775538695,5,"Freitag",1.01,1.8272528776828783]
[{"$f":"'Als-Ob-Allokation KW03'!A13","v":"2012-01-12"},{"$f":"'Als-Ob-Allokation KW03'!B13","v":3.5},4,1.5396026522360691,null,null,1.5475068579319664,null,null,1.4869445259908798,null,null,1.5203328157293359,null,null,1.0878499257965846,null,null,1.4599237880303051,6,"Samstag",0.48520000000000002,1.4181048985933129,null,null,1.3470648326856121,null,null,1.2604170978436868,null,null,1.2216218924189099,null,null,1.9407934253380732,6,"Samstag",0.76290000000000002,1.8738131052551816,null,null,1.712448170643653,null,null,1.4765280687067655,null,null,1.194823733057792,null,null,1.6689275264343504,6,"Samstag",0.76290000000000002,1.618258795873998,null,null,1.5313613157210324,null,null,1.4641341325763797,null,null,1.3721826361907994,null,null,1.7811832876797342,6,"Samstag",1.0356000000000001,1.6601164526139383,null,null,1.4956245032068316,null,null,1.3336034416982563,null,null,1.1751991303901561,null,null,1.7540629321569956,6,"Samstag",0.97670000000000001,1.7128319163900145,null,null,1.6629122212641025,null,null,1.5839716416106946,null,null,1.4930692830960575,null,null,1.7331006437083576,6,"Samstag",0.96750000000000003,1.8182174592057867,null,null,1.8052953636299705,null,null,1.7132092967619015,null,null,1.5538387091649346,null,null,1.8048832202968741,6,"Samstag",0.88600000000000001,1.8549830826746407,null,null,1.766246857875897,null,null,1.6183535303609295,null,null,1.4056565504285803,null,null,1.6825290621578828,6,"Samstag",0.93620000000000003,1.6860223043223679,null,null,1.646631368207583,null,null,1.5591640220002969,null,null,1.5016740080571411,null,null,1.6364573664754145,6,"Samstag",0.88600000000000001,1.5954372779191244,null,null,1.560399625823643,null,null,1.5068285571272073,null,null,1.4592616172076025,null,null,1.7585982421202413,6,"Samstag",0.90010000000000001,1.9404156002925947,null,null,1.9252705838006812,null,null,1.7267081765121364,null,null,1.5517225717791148,null,null,1.6168756738246075,6,"Samstag",0.38769999999999999,1.5545605748094133,null,null,1.4916456451446345,null,null,1.427157346163404,null,null,1.3739246866333303,null,null,1.6343566575697888,6,"Samstag",0.93,1.6922267174364742]
[{"$f":"'Als-Ob-Allokation KW03'!A14","v":"2012-01-13"},{"$f":"'Als-Ob-Allokation KW03'!B14","v":2.6},5,1.6447842352438351,null,null,1.6669879092620321,null,null,1.5687849157215232,null,null,1.6131902029663945,null,null,1.0916160868870082,null,null,1.5150986577386041,7,"Sonntag",0.95650000000000002,1.4582180208394087,null,null,1.3753201210101453,null,null,1.276560383205998,null,null,1.2289759662456028,null,null,2.0872151557327858,7,"Sonntag",0.91959999999999997,1.9699314732953574,null,null,1.7626925109265543,null,null,1.4953745319767884,null,null,1.1717275069819404,null,null,1.7170896428782851,7,"Sonntag",0.91959999999999997,1.6552832262633539,null,null,1.5557571413942071,null,null,1.4790338072461791,null,null,1.3751901972743776,null,null,1.9724261152650069,7,"Sonntag",1.0105999999999999,1.8055575229868104,null,null,1.5990803580064294,null,null,1.4063260746500876,null,null,1.2136932716177937,null,null,1.896650176663621,7,"Sonntag",0.93530000000000002,1.8278752033093593,null,null,1.7519941561110621,null,null,1.6393474844830909,null,null,1.5278128385474961,null,null,1.9683675156984992,7,"Sonntag",0.89349999999999996,2.0135369277361659,null,null,1.9593876925727141,null,null,1.8290104842954791,null,null,1.6334763965107728,null,null,1.8937070396938624,7,"Sonntag",0.94350000000000001,1.9047611647512781,null,null,1.7766642947675426,null,null,1.5996207456619393,null,null,1.3638353756782973,null,null,1.9944375370104077,7,"Sonntag",0.90339999999999998,1.9567166583192677,null,null,1.8794257226232194,null,null,1.7548341397559108,null,null,1.6647831104271262,null,null,1.643264490765654,7,"Sonntag",0.94350000000000001,1.5946385348175915,null,null,1.5507439273512094,null,null,1.4919768132585189,null,null,1.4380513971489373,null,null,1.9681482042108625,7,"Sonntag",0.85250000000000004,2.1021123404955779,null,null,2.007624698408903,null,null,1.7536173418489616,null,null,1.5441680183418081,null,null,1.5127024331291274,7,"Sonntag",0.46379999999999999,1.4450011114411438,null,null,1.3786440487383016,null,null,1.3109546280501858,null,null,1.2541279647424468,null,null,1.7072005781632138,7,"Sonntag",0.95,1.7945910185307974]
[{"$f":"'Als-Ob-Allokation KW03'!A15","v":"2012-01-14"},{"$f":"'Als-Ob-Allokation KW03'!B15","v":0.8},6,1.8462168561658727,"Ablesezeitraum",null,1.8964368154368847,"Ablesezeitraum",null,1.7192856375327887,"Ablesezeitraum",null,1.7837776106667573,"Ablesezeitraum",null,1.0975294094407697,"Ablesezeitraum",null,0.68291554867059057,null,"Ablesezeitraum",null,0.6466057747573436,"Ablesezeitraum",null,0.60237622502101285,"Ablesezeitraum",null,0.5518687443182575,"Ablesezeitraum",null,0.52468142340713964,"Ablesezeitraum",null,1.861353794004994,null,"Ablesezeitraum",null,1.6909148555316618,"Ablesezeitraum",null,1.4604235539056429,"Ablesezeitraum",null,1.2069282452369174,"Ablesezeitraum",null,0.894926026832501,"Ablesezeitraum",null,1.4210856061599126,null,"Ablesezeitraum",null,1.3554858449830858,"Ablesezeitraum",null,1.2600327905970563,"Ablesezeitraum",null,1.1867191383541749,"Ablesezeitraum",null,1.0896806252004745,"Ablesezeitraum",null,2.3367302527972287,null,"Ablesezeitraum",null,2.0871301190740725,"Ablesezeitraum",null,1.8040064369197981,"Ablesezeitraum",null,1.5521073116135498,"Ablesezeitraum",null,1.2947646059828162,"Ablesezeitraum",null,2.1418731594587057,null,"Ablesezeitraum",null,2.0214507172204703,"Ablesezeitraum",null,1.8976113776892987,"Ablesezeitraum",null,1.7289756757619061,"Ablesezeitraum",null,1.5813354399137338,"Ablesezeitraum",null,2.3232930452241485,null,"Ablesezeitraum",null,2.2708885047646108,"Ablesezeitraum",null,2.137761773698537,"Ablesezeitraum",null,1.9390058188853827,"Ablesezeitraum",null,1.6902383686019014,"Ablesezeitraum",null,2.0410528217618173,null,"Ablesezeitraum",null,1.9719992369120238,"Ablesezeitraum",null,1.7760913582122975,"Ablesezeitraum",null,1.553060603124639,"Ablesezeitraum",null,1.2829019205192875,"Ablesezeitraum",null,2.0703767391897032,null,"Ablesezeitraum",null,1.9610867097036626,"Ablesezeitraum",null,1.8347930746914392,"Ablesezeitraum",null,1.6721412216094578,"Ablesezeitraum",null,1.5450445538367641,"Ablesezeitraum",null,1.64041920301189,null,"Ablesezeitraum",null,1.580426979049812,"Ablesezeitraum",null,1.5232871094406166,"Ablesezeitraum",null,1.4571024250173239,"Ablesezeitraum",null,1.3939631574877998,"Ablesezeitraum",null,2.2625044931904994,null,"Ablesezeitraum",null,2.272920592383989,"Ablesezeitraum",null,2.0483166276248035,"Ablesezeitraum",null,1.7201664042835292,"Ablesezeitraum",null,1.4576180933413192,"Ablesezeitraum",null,0.54916202053464769,null,"Ablesezeitraum",null,0.51927819803189512,"Ablesezeitraum",null,0.49060748643293051,"Ablesezeitraum",null,0.46160832164121657,"Ablesezeitraum",null,0.43640656345675621,"Ablesezeitraum",null,1.7500287898196354,null,"Ablesezeitraum",null,1.8862365237609253,"Ablesezeitraum"]
[{"$f":"'Als-Ob-Allokation KW03'!A16","v":"2012-01-15"},{"$f":"'Als-Ob-Allokation KW03'!B16","v":-1.8},7,2.107621619048027,"vom",{"$f":"A3","v":"2012-01-01"},2.193306210301718,"vom",{"$f":"$F$17","v":"2012-01-01"},1.9029021283139347,"vom",{"$f":"$F$17","v":"2012-01-01"},1.9904102184944026,"vom",{"$f":"$F$17","v":"2012-01-01"},1.1033272613025193,"vom",{"$f":"$F$17","v":"2012-01-01"},1.4379927934299317,null,"vom",{"$f":"$F$17","v":"2012-01-01"},1.3357322846458342,"vom",{"$f":"$F$17","v":"2012-01-01"},1.2272808689438621,"vom",{"$f":"$F$17","v":"2012-01-01"},1.1101619455708429,"vom",{"$f":"$F$17","v":"2012-01-01"},1.0388744624150577,"vom",{"$f":"$F$17","v":"2012-01-01"},2.7366028858266596,null,"vom",{"$f":"$F$17","v":"2012-01-01"},2.3892588784536475,"vom",{"$f":"$F$17","v":"2012-01-01"},1.9889099714583789,"vom",{"$f":"$F$17","v":"2012-01-01"},1.6017293467800544,"vom",{"$f":"$F$17","v":"2012-01-01"},1.1180145081674966,"vom",{"$f":"$F$17","v":"2012-01-01"},1.93299383753059,null,"vom",{"$f":"$F$17","v":"2012-01-01"},1.8191213271769509,"vom",{"$f":"$F$17","v":"2012-01-01"},1.67181055048001,"vom",{"$f":"$F$17","v":"2012-01-01"},1.5590542424135376,"vom",{"$f":"$F$17","v":"2012-01-01"},1.4153258513301832,"vom",{"$f":"$F$17","v":"2012-01-01"},2.6479496203871271,null,"vom",{"$f":"$F$17","v":"2012-01-01"},2.3261066920109736,"vom",{"$f":"$F$17","v":"2012-01-01"},1.9750875321430981,"vom",{"$f":"$F$17","v":"2012-01-01"},1.6636715129893167,"vom",{"$f":"$F$17","v":"2012-01-01"},1.3433542043531572,"vom",{"$f":"$F$17","v":"2012-01-01"},2.4768182251160442,null,"vom",{"$f":"$F$17","v":"2012-01-01"},2.292670458877307,"vom",{"$f":"$F$17","v":"2012-01-01"},2.109170609142581,"vom",{"$f":"$F$17","v":"2012-01-01"},1.8828971512342698,"vom",{"$f":"$F$17","v":"2012-01-01"},1.6895043661846052,"vom",{"$f":"$F$17","v":"2012-01-01"},2.7290741153945208,null,"vom",{"$f":"$F$17","v":"2012-01-01"},2.5315721441306733,"vom",{"$f":"$F$17","v":"2012-01-01"},2.3071460518451765,"vom",{"$f":"$F$17","v":"2012-01-01"},2.0266284522231648,"vom",{"$f":"$F$17","v":"2012-01-01"},1.7276886126333861,"vom",{"$f":"$F$17","v":"2012-01-01"},2.6584260035102871,null,"vom",{"$f":"$F$17","v":"2012-01-01"},2.4442472244085387,"vom",{"$f":"$F$17","v":"2012-01-01"},2.1209268684610714,"vom",{"$f":"$F$17","v":"2012-01-01"},1.7990173120197617,"vom",{"$f":"$F$17","v":"2012-01-01"},1.4359935915279403,"vom",{"$f":"$F$17","v":"2012-01-01"},2.3736829771360064,null,"vom",{"$f":"$F$17","v":"2012-01-01"},2.1702191005772948,"vom",{"$f":"$F$17","v":"2012-01-01"},1.981731120461983,"vom",{"$f":"$F$17","v":"2012-01-01"},1.7582348929663503,"vom",{"$f":"$F$17","v":"2012-01-01"},1.577051098549435,"vom",{"$f":"$F$17","v":"2012-01-01"},1.9619983216829522,null,"vom",{"$f":"$F$17","v":"2012-01-01"},1.877952056499079,"vom",{"$f":"$F$17","v":"2012-01-01"},1.7953881953502209,"vom",{"$f":"$F$17","v":"2012-01-01"},1.7082329373170837,"vom",{"$f":"$F$17","v":"2012-01-01"},1.6227806052797649,"vom",{"$f":"$F$17","v":"2012-01-01"},2.7730089557825846,null,"vom",{"$f":"$F$17","v":"2012-01-01"},2.5906983721950358,"vom",{"$f":"$F$17","v":"2012-01-01"},2.2244828634652536,"vom",{"$f":"$F$17","v":"2012-01-01"},1.8094569722768059,"vom",{"$f":"$F$17","v":"2012-01-01"},1.4611473603258347,"vom",{"$f":"$F$17","v":"2012-01-01"},0.69957942547808238,null,"vom",{"$f":"$F$17","v":"2012-01-01"},0.6553930367064954,"vom",{"$f":"$F$17","v":"2012-01-01"},0.61249432546240501,"vom",{"$f":"$F$17","v":"2012-01-01"},0.56978148799702699,"vom",{"$f":"$F$17","v":"2012-01-01"},0.5306234734093328,"vom",{"$f":"$F$17","v":"2012-01-01"},2.0084921739361437,null,"vom",{"$f":"$F$17","v":"2012-01-01"},2.2202089484757677,"vom",{"$f":"$F$17","v":"2012-01-01"}]
[{"$f":"'Als-Ob-Allokation KW03'!A17","v":"2012-01-16"},{"$f":"'Als-Ob-Allokation KW03'!B17","v":-2.6},1,2.1798260023231548,"bis",{"$f":"A368","v":"2012-12-31"},2.2747033730031054,"bis",{"$f":"$F$18","v":"2012-12-31"},1.9513817123353907,"bis",{"$f":"$F$18","v":"2012-12-31"},2.0444634078558628,"bis",{"$f":"$F$18","v":"2012-12-31"},1.1046445197027941,"bis",{"$f":"$F$18","v":"2012-12-31"},1.6583488323852227,null,"bis",{"$f":"$F$18","v":"2012-12-31"},1.5328596999499755,"bis",{"$f":"$F$18","v":"2012-12-31"},1.4035468766389163,"bis",{"$f":"$F$18","v":"2012-12-31"},1.2661683473505883,"bis",{"$f":"$F$18","v":"2012-12-31"},1.1797278463140839,"bis",{"$f":"$F$18","v":"2012-12-31"},3.4507162053424998,null,"bis",{"$f":"$F$18","v":"2012-12-31"},2.9856271415898181,"bis",{"$f":"$F$18","v":"2012-12-31"},2.4643917580977424,"bis",{"$f":"$F$18","v":"2012-12-31"},1.9733334247258123,"bis",{"$f":"$F$18","v":"2012-12-31"},1.3573952054740726,"bis",{"$f":"$F$18","v":"2012-12-31"},2.3945963343384573,null,"bis",{"$f":"$F$18","v":"2012-12-31"},2.2450733465657158,"bis",{"$f":"$F$18","v":"2012-12-31"},2.0576310752822233,"bis",{"$f":"$F$18","v":"2012-12-31"},1.9143124565050165,"bis",{"$f":"$F$18","v":"2012-12-31"},1.7339188274839712,"bis",{"$f":"$F$18","v":"2012-12-31"},2.5249449238071167,null,"bis",{"$f":"$F$18","v":"2012-12-31"},2.2131597295576264,"bis",{"$f":"$F$18","v":"2012-12-31"},1.8743099217966295,"bis",{"$f":"$F$18","v":"2012-12-31"},1.5715213475025835,"bis",{"$f":"$F$18","v":"2012-12-31"},1.2604862425290111,"bis",{"$f":"$F$18","v":"2012-12-31"},2.742447612229252,null,"bis",{"$f":"$F$18","v":"2012-12-31"},2.5287042035662246,"bis",{"$f":"$F$18","v":"2012-12-31"},2.3163695047742245,"bis",{"$f":"$F$18","v":"2012-12-31"},2.0620108053979957,"bis",{"$f":"$F$18","v":"2012-12-31"},1.8423721675799327,"bis",{"$f":"$F$18","v":"2012-12-31"},3.3495944386019052,null,"bis",{"$f":"$F$18","v":"2012-12-31"},3.0675197766105029,"bis",{"$f":"$F$18","v":"2012-12-31"},2.7764521755440961,"bis",{"$f":"$F$18","v":"2012-12-31"},2.4197926330614643,"bis",{"$f":"$F$18","v":"2012-12-31"},2.053571908193307,"bis",{"$f":"$F$18","v":"2012-12-31"},3.0632492039314179,null,"bis",{"$f":"$F$18","v":"2012-12-31"},2.780066019825767,"bis",{"$f":"$F$18","v":"2012-12-31"},2.3913395254659009,"bis",{"$f":"$F$18","v":"2012-12-31"},2.0140984029656308,"bis",{"$f":"$F$18","v":"2012-12-31"},1.5944414313344444,"bis",{"$f":"$F$18","v":"2012-12-31"},2.9254028654118818,null,"bis",{"$f":"$F$18","v":"2012-12-31"},2.6538086341637057,"bis",{"$f":"$F$18","v":"2012-12-31"},2.411320185205307,"bis",{"$f":"$F$18","v":"2012-12-31"},2.1253775785728899,"bis",{"$f":"$F$18","v":"2012-12-31"},1.8923257747450748,"bis",{"$f":"$F$18","v":"2012-12-31"},2.2144586242382798,null,"bis",{"$f":"$F$18","v":"2012-12-31"},2.1168374288231226,"bis",{"$f":"$F$18","v":"2012-12-31"},2.0204606659938067,"bis",{"$f":"$F$18","v":"2012-12-31"},1.9202816391924244,"bis",{"$f":"$F$18","v":"2012-12-31"},1.8215702262221283,"bis",{"$f":"$F$18","v":"2012-12-31"},3.5183633418240645,null,"bis",{"$f":"$F$18","v":"2012-12-31"},3.2290699890139978,"bis",{"$f":"$F$18","v":"2012-12-31"},2.7487418165759441,"bis",{"$f":"$F$18","v":"2012-12-31"},2.2235928418361621,"bis",{"$f":"$F$18","v":"2012-12-31"},1.7726164742410275,"bis",{"$f":"$F$18","v":"2012-12-31"},1.909415326595217,null,"bis",{"$f":"$F$18","v":"2012-12-31"},1.7854977471746272,"bis",{"$f":"$F$18","v":"2012-12-31"},1.664106624362315,"bis",{"$f":"$F$18","v":"2012-12-31"},1.5439811694035508,"bis",{"$f":"$F$18","v":"2012-12-31"},1.4319437042752776,"bis",{"$f":"$F$18","v":"2012-12-31"},2.240035816919125,null,"bis",{"$f":"$F$18","v":"2012-12-31"},2.490130561457494,"bis",{"$f":"$F$18","v":"2012-12-31"}]
[{"$f":"'Als-Ob-Allokation KW03'!A18","v":"2012-01-17"},{"$f":"'Als-Ob-Allokation KW03'!B18","v":-3},2,2.2144066972506504,"Anzahl Tage",{"$f":"F18-F17+1","v":366},2.3135456259969716,"Anzahl Tage",{"$f":"I18-I17+1","v":366},1.9742653452182819,"Anzahl Tage",{"$f":"L18-L17+1","v":366},2.0698789468696401,"Anzahl Tage",{"$f":"O18-O17+1","v":366},1.1052388199913263,"Anzahl Tage",{"$f":"R18-R17+1","v":366},1.7272459530039777,null,"Anzahl Tage",{"$f":"V18-V17+1","v":366},1.5928686471604314,"Anzahl Tage",{"$f":"Y18-Y17+1","v":366},1.4561555602520184,"Anzahl Tage",{"$f":"AB18-AB17+1","v":366},1.3120823853336734,"Anzahl Tage",{"$f":"AE18-AE17+1","v":366},1.2199671176470588,"Anzahl Tage",{"$f":"AH18-AH17+1","v":366},3.465264544184421,null,"Anzahl Tage",{"$f":"AL18-AL17+1","v":366},2.9861443298790777,"Anzahl Tage",{"$f":"AO18-AO17+1","v":366},2.4554721465336988,"Anzahl Tage",{"$f":"AR18-AR17+1","v":366},1.9612151073949222,"Anzahl Tage",{"$f":"AU18-AU17+1","v":366},1.3400588892858609,"Anzahl Tage",{"$f":"AX18-AX17+1","v":366},2.3857455288766936,null,"Anzahl Tage",{"$f":"BB18-BB17+1","v":366},2.2327168628123126,"Anzahl Tage",{"$f":"BE18-BE17+1","v":366},2.0437329629347318,"Anzahl Tage",{"$f":"BH18-BH17+1","v":366},1.8993170068493002,"Anzahl Tage",{"$f":"BK18-BK17+1","v":366},1.7187080134972443,"Anzahl Tage",{"$f":"BN18-BN17+1","v":366},2.7197986069555564,null,"Anzahl Tage",{"$f":"BR18-BR17+1","v":366},2.382160067828603,"Anzahl Tage",{"$f":"BU18-BU17+1","v":366},2.0155653763091288,"Anzahl Tage",{"$f":"BX18-BX17+1","v":366},1.6865214036927894,"Anzahl Tage",{"$f":"CA18-CA17+1","v":366},1.3488872681822488,"Anzahl Tage",{"$f":"CD18-CD17+1","v":366},2.7235390280046472,null,"Anzahl Tage",{"$f":"CH18-CH17+1","v":366},2.5071474323043366,"Anzahl Tage",{"$f":"CK18-CK17+1","v":366},2.2923632229596724,"Anzahl Tage",{"$f":"CN18-CN17+1","v":366},2.0387670530184869,"Anzahl Tage",{"$f":"CQ18-CQ17+1","v":366},1.8181956195928051,"Anzahl Tage",{"$f":"CT18-CT17+1","v":366},3.3958580444632878,null,"Anzahl Tage",{"$f":"CX18-CX17+1","v":366},3.0916544260233367,"Anzahl Tage",{"$f":"DA18-DA17+1","v":366},2.7899874655529904,"Anzahl Tage",{"$f":"DD18-DD17+1","v":366},2.422825431910749,"Anzahl Tage",{"$f":"DG18-DG17+1","v":366},2.0521915248894813,"Anzahl Tage",{"$f":"DJ18-DJ17+1","v":366},3.183699068732428,null,"Anzahl Tage",{"$f":"DN18-DN17+1","v":366},2.8718042118652658,"Anzahl Tage",{"$f":"DQ18-DQ17+1","v":366},2.4605030192328834,"Anzahl Tage",{"$f":"DT18-DT17+1","v":366},2.0657404731994529,"Anzahl Tage",{"$f":"DW18-DW17+1","v":366},1.6291424566785422,"Anzahl Tage",{"$f":"DZ18-DZ17+1","v":366},2.8854980385789113,null,"Anzahl Tage",{"$f":"ED18-ED17+1","v":366},2.6085739246289665,"Anzahl Tage",{"$f":"EG18-EG17+1","v":366},2.3651778416955245,"Anzahl Tage",{"$f":"EJ18-EJ17+1","v":366},2.0784200603356981,"Anzahl Tage",{"$f":"EM18-EM17+1","v":366},1.8441955316539047,"Anzahl Tage",{"$f":"EP18-EP17+1","v":366},2.2798421280658205,null,"Anzahl Tage",{"$f":"ET18-ET17+1","v":366},2.1781336321354332,"Anzahl Tage",{"$f":"EW18-EW17+1","v":366},2.0775194645432227,"Anzahl Tage",{"$f":"EZ18-EZ17+1","v":366},1.9735880639416423,"Anzahl Tage",{"$f":"FC18-FC17+1","v":366},1.870965081872475,"Anzahl Tage",{"$f":"FF18-FF17+1","v":366},3.8393647504384778,null,"Anzahl Tage",{"$f":"FJ18-FJ17+1","v":366},3.4952490059686472,"Anzahl Tage",{"$f":"FM18-FM17+1","v":366},2.9649170929382089,"Anzahl Tage",{"$f":"FP18-FP17+1","v":366},2.3932179279199022,"Anzahl Tage",{"$f":"FS18-FS17+1","v":366},1.8962728304042855,"Anzahl Tage",{"$f":"FV18-FV17+1","v":366},1.9482324098788328,null,"Anzahl Tage",{"$f":"FZ18-FZ17+1","v":366},1.8203676887061897,"Anzahl Tage",{"$f":"GC18-GC17+1","v":366},1.6944706664958691,"Anzahl Tage",{"$f":"GF18-GF17+1","v":366},1.5702977660531388,"Anzahl Tage",{"$f":"GI18-GI17+1","v":366},1.4534742437064687,"Anzahl Tage",{"$f":"GL18-GL17+1","v":366},2.2693102721031191,null,"Anzahl Tage",{"$f":"GP18-GP17+1","v":366},2.5289759718249378,"Anzahl Tage",{"$f":"GS18-GS17+1","v":366}]
[{"$f":"'Als-Ob-Allokation KW03'!A19","v":"2012-01-18"},{"$f":"'Als-Ob-Allokation KW03'!B19","v":-1.4},3,2.070014355308869,"Summe h-Werte",{"$f":"SUMIF('h-Wertberechnung'!A3:A10000,\">=\"&'h-Wertberechnung'!F17,'h-Wertberechnung'!D3:D10000)- SUMIF('h-Wertberechnung'!A3:A10000,\">\"&'h-Wertberechnung'!F18,'h-Wertberechnung'!D3:D10000)","v":334.14118306521476},2.1507752881824462,"Summe h-Werte",{"$f":"SUMIF('h-Wertberechnung'!A3:A10000,\">=\"&'h-Wertberechnung'!I17,'h-Wertberechnung'!G3:G10000)- SUMIF('h-Wertberechnung'!A3:A10000,\">\"&'h-Wertberechnung'!I18,'h-Wertberechnung'!G3:G10000)","v":324.29914766620448},1.8772740428457151,"Summe h-Werte",{"$f":"SUMIF('h-Wertberechnung'!A3:A10000,\">=\"&'h-Wertberechnung'!L17,'h-Wertberechnung'!J3:J10000)- SUMIF('h-Wertberechnung'!A3:A10000,\">\"&'h-Wertberechnung'!L18,'h-Wertberechnung'!J3:J10000)","v":329.16581463376264},1.9617328972948926,"Summe h-Werte",{"$f":"SUMIF('h-Wertberechnung'!A3:A10000,\">=\"&'h-Wertberechnung'!O17,'h-Wertberechnung'!M3:M10000)- SUMIF('h-Wertberechnung'!A3:A10000,\">\"&'h-Wertberechnung'!O18,'h-Wertberechnung'!M3:M10000)","v":325.24331891202638},1.1025975440599214,"Summe h-Werte",{"$f":"SUMIF('h-Wertberechnung'!A3:A10000,\">=\"&'h-Wertberechnung'!R17,'h-Wertberechnung'!P3:P10000)- SUMIF('h-Wertberechnung'!A3:A10000,\">\"&'h-Wertberechnung'!R18,'h-Wertberechnung'!P3:P10000)","v":359.29198429639337},1.6045873589649948,null,"Summe h-Werte",{"$f":"SUMIF(A3:A10000,\">=\"&V17,S3:S10000)- SUMIF(A3:A10000,\">\"&V18,S3:S10000)","v":355.73894327589795},1.4943920081089974,"Summe h-Werte",{"$f":"SUMIF(A3:A10000,\">=\"&Y17,W3:W10000)- SUMIF(A3:A10000,\">\"&Y18,W3:W10000)","v":368.31674585810038},1.3756110938446555,"Summe h-Werte",{"$f":"SUMIF(A3:A10000,\">=\"&AB17,Z3:Z10000)- SUMIF(A3:A10000,\">\"&AB18,Z3:Z10000)","v":373.64188122077269},1.2462657764350928,"Summe h-Werte",{"$f":"SUMIF(A3:A10000,\">=\"&AE17,AC3:AC10000)- SUMIF(A3:A10000,\">\"&AE18,AC3:AC10000)","v":379.77335493297511},1.1688827933261572,"Summe h-Werte",{"$f":"SUMIF(A3:A10000,\">=\"&AH17,AF3:AF10000)- SUMIF(A3:A10000,\">\"&AH18,AF3:AF10000)","v":387.87204455950126},3.0086614165832666,null,"Summe h-Werte",{"$f":"SUMIF(A3:A10000,\">=\"&AL17,AI3:AI10000)- SUMIF(A3:A10000,\">\"&AL18,AI3:AI10000)","v":351.7802350892436},2.6400502501107983,"Summe h-Werte",{"$f":"SUMIF(A3:A10000,\">=\"&AO17,AM3:AM10000)- SUMIF(A3:A10000,\">\"&AO18,AM3:AM10000)","v":356.20384642108166},2.2080303930169958,"Summe h-Werte",{"$f":"SUMIF(A3:A10000,\">=\"&AR17,AP3:AP10000)- SUMIF(A3:A10000,\">\"&AR18,AP3:AP10000)","v":349.53555848161079},1.7839141010730202,"Summe h-Werte",{"$f":"SUMIF(A3:A10000,\">=\"&AU17,AS3:AS10000)- SUMIF(A3:A10000,\">\"&AU18,AS3:AS10000)","v":341.93107591438218},1.2551400861433695,"Summe h-Werte",{"$f":"SUMIF(A3:A10000,\">=\"&AX17,AV3:AV10000)- SUMIF(A3:A10000,\">\"&AX18,AV3:AV10000)","v":357.18553443707737},2.1462474057575478,null,"Summe h-Werte",{"$f":"SUMIF(A3:A10000,\">=\"&BB17,AY3:AY10000)- SUMIF(A3:A10000,\">\"&BB18,AY3:AY10000)","v":328.98934294236921},2.0237442438905666,"Summe h-Werte",{"$f":"SUMIF(A3:A10000,\">=\"&BE17,BC3:BC10000)- SUMIF(A3:A10000,\">\"&BE18,BC3:BC10000)","v":338.8606154537905},1.862633577136851,"Summe h-Werte",{"$f":"SUMIF(A3:A10000,\">=\"&BH17,BF3:BF10000)- SUMIF(A3:A10000,\">\"&BH18,BF3:BF10000)","v":347.37690165592306},1.7392497450734956,"Summe h-Werte",{"$f":"SUMIF(A3:A10000,\">=\"&BK17,BI3:BI10000)- SUMIF(A3:A10000,\">\"&BK18,BI3:BI10000)","v":350.80214252209078},1.5810022233108585,"Summe h-Werte",{"$f":"SUMIF(A3:A10000,\">=\"&BN17,BL3:BL10000)- SUMIF(A3:A10000,\">\"&BN18,BL3:BL10000)","v":348.18191032915496},2.5804355862352906,null,"Summe h-Werte",{"$f":"SUMIF(A3:A10000,\">=\"&BR17,BO3:BO10000)- SUMIF(A3:A10000,\">\"&BR18,BO3:BO10000)","v":317.21399232545565},2.2702396176123543,"Summe h-Werte",{"$f":"SUMIF(A3:A10000,\">=\"&BU17,BS3:BS10000)- SUMIF(A3:A10000,\">\"&BU18,BS3:BS10000)","v":335.96509238304901},1.9309758515522804,"Summe h-Werte",{"$f":"SUMIF(A3:A10000,\">=\"&BX17,BV3:BV10000)- SUMIF(A3:A10000,\">\"&BX18,BV3:BV10000)","v":345.3211631713304},1.630752271719988,"Summe h-Werte",{"$f":"SUMIF(A3:A10000,\">=\"&CA17,BY3:BY10000)- SUMIF(A3:A10000,\">\"&CA18,BY3:BY10000)","v":345.90420394630735},1.3218975365675421,"Summe h-Werte",{"$f":"SUMIF(A3:A10000,\">=\"&CD17,CB3:CB10000)- SUMIF(A3:A10000,\">\"&CD18,CB3:CB10000)","v":355.43036282680652},2.7144517916791053,null,"Summe h-Werte",{"$f":"SUMIF(A3:A10000,\">=\"&CH17,CE3:CE10000)- SUMIF(A3:A10000,\">\"&CH18,CE3:CE10000)","v":320.68212138412673},2.5183501747609811,"Summe h-Werte",{"$f":"SUMIF(A3:A10000,\">=\"&CK17,CI3:CI10000)- SUMIF(A3:A10000,\">\"&CK18,CI3:CI10000)","v":324.92139065412204},2.3224714047071697,"Summe h-Werte",{"$f":"SUMIF(A3:A10000,\">=\"&CN17,CL3:CL10000)- SUMIF(A3:A10000,\">\"&CN18,CL3:CL10000)","v":329.06668489164667},2.0773880510518952,"Summe h-Werte",{"$f":"SUMIF(A3:A10000,\">=\"&CQ17,CO3:CO10000)- SUMIF(A3:A10000,\">\"&CQ18,CO3:CO10000)","v":344.88940138454547},1.868484667607325,"Summe h-Werte",{"$f":"SUMIF(A3:A10000,\">=\"&CT17,CR3:CR10000)- SUMIF(A3:A10000,\">\"&CT18,CR3:CR10000)","v":352.35616548766717},3.0348202929407155,null,"Summe h-Werte",{"$f":"SUMIF(A3:A10000,\">=\"&CX17,CU3:CU10000)- SUMIF(A3:A10000,\">\"&CX18,CU3:CU10000)","v":322.07606193601447},2.8349254467824418,"Summe h-Werte",{"$f":"SUMIF(A3:A10000,\">=\"&DA17,CY3:CY10000)- SUMIF(A3:A10000,\">\"&DA18,CY3:CY10000)","v":338.5531341968578},2.5937829886773405,"Summe h-Werte",{"$f":"SUMIF(A3:A10000,\">=\"&DD17,DB3:DB10000)- SUMIF(A3:A10000,\">\"&DD18,DB3:DB10000)","v":344.39837103769298},2.2881420197916209,"Summe h-Werte",{"$f":"SUMIF(A3:A10000,\">=\"&DG17,DE3:DE10000)- SUMIF(A3:A10000,\">\"&DG18,DE3:DE10000)","v":343.17084194268352},1.9557454816740252,"Summe h-Werte",{"$f":"SUMIF(A3:A10000,\">=\"&DJ17,DH3:DH10000)- SUMIF(A3:A10000,\">\"&DJ18,DH3:DH10000)","v":335.15092436391222},2.867007389770345,null,"Summe h-Werte",{"$f":"SUMIF(A3:A10000,\">=\"&DN17,DK3:DK10000)- SUMIF(A3:A10000,\">\"&DN18,DK3:DK10000)","v":331.64119597079014},2.6542894493673801,"Summe h-Werte",{"$f":"SUMIF(A3:A10000,\">=\"&DQ17,DO3:DO10000)- SUMIF(A3:A10000,\">\"&DQ18,DO3:DO10000)","v":347.33248137623349},2.3142940775802971,"Summe h-Werte",{"$f":"SUMIF(A3:A10000,\">=\"&DT17,DR3:DR10000)- SUMIF(A3:A10000,\">\"&DT18,DR3:DR10000)","v":350.51066846074809},1.9707084384085618,"Summe h-Werte",{"$f":"SUMIF(A3:A10000,\">=\"&DW17,DU3:DU10000)- SUMIF(A3:A10000,\">\"&DW18,DU3:DU10000)","v":348.68254511225922},1.5801364370135762,"Summe h-Werte",{"$f":"SUMIF(A3:A10000,\">=\"&DZ17,DX3:DX10000)- SUMIF(A3:A10000,\">\"&DZ18,DX3:DX10000)","v":330.81984958510947},2.5530699136065946,null,"Summe h-Werte",{"$f":"SUMIF(A3:A10000,\">=\"&ED17,EA3:EA10000)- SUMIF(A3:A10000,\">\"&ED18,EA3:EA10000)","v":315.53966713112015},2.3445267325199284,"Summe h-Werte",{"$f":"SUMIF(A3:A10000,\">=\"&ED17,EE3:EE10000)- SUMIF(A3:A10000,\">\"&ED18,EE3:EE10000)","v":327.33148157575135},2.1470558105590398,"Summe h-Werte",{"$f":"SUMIF(A3:A10000,\">=\"&ED17,EH3:EH10000)- SUMIF(A3:A10000,\">\"&ED18,EH3:EH10000)","v":338.96524799749443},1.9117079939288011,"Summe h-Werte",{"$f":"SUMIF(A3:A10000,\">=\"&ED17,EK3:EK10000)- SUMIF(A3:A10000,\">\"&ED18,EK3:EK10000)","v":335.83677059484768},1.7215516547566609,"Summe h-Werte",{"$f":"SUMIF(A3:A10000,\">=\"&ED17,EN3:EN10000)- SUMIF(A3:A10000,\">\"&ED18,EN3:EN10000)","v":340.66720219821377},2.1399249138852694,null,"Summe h-Werte",{"$f":"SUMIF(A3:A10000,\">=\"&ED17,EQ3:EQ10000)- SUMIF(A3:A10000,\">\"&ED18,EQ3:EQ10000)","v":324.90306416132142},2.0498147216532532,"Summe h-Werte",{"$f":"SUMIF(A3:A10000,\">=\"&ED17,EU3:EU10000)- SUMIF(A3:A10000,\">\"&ED18,EU3:EU10000)","v":325.48321138270637},1.9615636885953249,"Summe h-Werte",{"$f":"SUMIF(A3:A10000,\">=\"&ED17,EX3:EX10000)- SUMIF(A3:A10000,\">\"&ED18,EX3:EX10000)","v":329.37194105214661},1.8675210721327249,"Summe h-Werte",{"$f":"SUMIF(A3:A10000,\">=\"&ED17,FA3:FA10000)- SUMIF(A3:A10000,\">\"&ED18,FA3:FA10000)","v":326.74367244940061},1.7755877621812586,"Summe h-Werte",{"$f":"SUMIF(A3:A10000,\">=\"&ED17,FD3:FD10000)- SUMIF(A3:A10000,\">\"&ED18,FD3:FD10000)","v":327.44660464233493},3.3766581181170152,null,"Summe h-Werte",{"$f":"SUMIF(A3:A10000,\">=\"&ED17,FG3:FG10000)- SUMIF(A3:A10000,\">\"&ED18,FG3:FG10000)","v":308.36294341574916},3.1854486506236852,"Summe h-Werte",{"$f":"SUMIF(A3:A10000,\">=\"&ED17,FK3:FK10000)- SUMIF(A3:A10000,\">\"&ED18,FK3:FK10000)","v":330.768474564602},2.7495735985698819,"Summe h-Werte",{"$f":"SUMIF(A3:A10000,\">=\"&ED17,FN3:FN10000)- SUMIF(A3:A10000,\">\"&ED18,FN3:FN10000)","v":350.74612899788985},2.2442075767178951,"Summe h-Werte",{"$f":"SUMIF(A3:A10000,\">=\"&ED17,FQ3:FQ10000)- SUMIF(A3:A10000,\">\"&ED18,FQ3:FQ10000)","v":351.74313733419359},1.8245465777548213,"Summe h-Werte",{"$f":"SUMIF(A3:A10000,\">=\"&ED17,FT3:FT10000)- SUMIF(A3:A10000,\">\"&ED18,FT3:FT10000)","v":349.95734214685984},1.9003076331744413,null,"Summe h-Werte",{"$f":"SUMIF(A3:A10000,\">=\"&ED17,FW3:FW10000)- SUMIF(A3:A10000,\">\"&ED18,FW3:FW10000)","v":363.38363261881955},1.7822140838658229,"Summe h-Werte",{"$f":"SUMIF(A3:A10000,\">=\"&ED17,GA3:GA10000)- SUMIF(A3:A10000,\">\"&ED18,GA3:GA10000)","v":375.03965879391336},1.6679935827265988,"Summe h-Werte",{"$f":"SUMIF(A3:A10000,\">=\"&ED17,GD3:GD10000)- SUMIF(A3:A10000,\">\"&ED18,GD3:GD10000)","v":381.25937337490961},1.5539457258713987,"Summe h-Werte",{"$f":"SUMIF(A3:A10000,\">=\"&ED17,GG3:GG10000)- SUMIF(A3:A10000,\">\"&ED18,GG3:GG10000)","v":383.25080788387379},1.4502727660551162,"Summe h-Werte",{"$f":"SUMIF(A3:A10000,\">=\"&ED17,GJ3:GJ10000)- SUMIF(A3:A10000,\">\"&ED18,GJ3:GJ10000)","v":385.33294096558268},2.1236353821089611,null,"Summe h-Werte",{"$f":"SUMIF(A3:A10000,\">=\"&EJ17,GM3:GM10000)- SUMIF(A3:A10000,\">\"&EJ18,GM3:GM10000)","v":346.777790211693},2.3400908700729159,"Summe h-Werte",{"$f":"SUMIF(A3:A10000,\">=\"&EJ17,GQ3:GQ10000)- SUMIF(A3:A10000,\">\"&EJ18,GQ3:GQ10000)","v":341.13281920849016}]
[{"$f":"'Als-Ob-Allokation KW03'!A20","v":"2012-01-19"},{"$f":"'Als-Ob-Allokation KW03'!B20","v":6.5},4,1.1816221397102102,null,null,1.145845582114648,null,null,1.1908145161197163,null,null,1.1861831435549048,null,null,1.0696849328455769,null,null,1.2830692375896604,null,null,null,1.2913165040011412,null,null,1.2625944006318859,null,null,1.2227714545097459,null,null,1.2143296965781041,null,null,1.2524540139756213,null,null,null,1.3278936640700889,null,null,1.3246277967357178,null,null,1.2280062898323001,null,null,1.1329656828848782,null,null,1.2900313394242704,null,null,null,1.2809693883396358,null,null,1.251381983741374,null,null,1.226869209046255,null,null,1.1909208816368588,null,null,1.1651623599139709,null,null,null,1.1972937126485819,null,null,1.176147442210951,null,null,1.1161404824960972,null,null,1.0739491237531644,null,null,1.1492174291554229,null,null,null,1.1890314258839605,null,null,1.219841327336693,null,null,1.2628229433276412,null,null,1.2495160977839113,null,null,1.0146209909764325,null,null,null,1.1686127486705242,null,null,1.2603419223979115,null,null,1.2769019545926037,null,null,1.2412648770693209,null,null,1.1614355932339357,null,null,null,1.2887472705069665,null,null,1.3337933917103828,null,null,1.3154139358324097,null,null,1.23185843979285,null,null,1.0926059899004568,null,null,null,1.1947221615488657,null,null,1.2570101780203817,null,null,1.2583978483036991,null,null,1.2858586767163054,null,null,1.2496257789037364,null,null,null,1.244780614306499,null,null,1.2496407924124058,null,null,1.2274291458880522,null,null,1.2144423707767438,null,null,0.91702478863205272,null,null,null,1.128609399310774,null,null,1.3289618713385365,null,null,1.3510657837362146,null,null,1.3026825206663457,null,null,1.4326201709203834,null,null,null,1.4184793236531936,null,null,1.3932035368092679,null,null,1.3657189526727205,null,null,1.3446421111971976,null,null,1.2577894572324102,null,null,null,1.2227713168033123]
[{"$f":"'Als-Ob-Allokation KW03'!A21","v":"2012-01-20"},{"$f":"'Als-Ob-Allokation KW03'!B21","v":3.2},5,1.574913231808666,null,null,1.5875726287586507,null,null,1.5146733480716683,null,null,1.5517887645690414,null,null,1.0891747994156802,null,null,1.4827921540518891,null,null,null,1.4357975631417088,null,null,1.3605281561917753,null,null,1.2694628847345071,null,null,1.2275942236174839,null,null,1.9460983748653591,null,null,null,1.8642549493103726,null,null,1.6913271184254328,null,null,1.4500778037895179,null,null,1.1604790749930662,null,null,1.648109616051022,null,null,null,1.5948966573040093,null,null,1.5056593428811795,null,null,1.4367194965611165,null,null,1.3427564717132063,null,null,1.8542077221884872,null,null,null,1.7170003695931249,null,null,1.537456320230862,null,null,1.3643058024146446,null,null,1.1935721927437213,null,null,1.7733541778892157,null,null,null,1.7237375237536667,null,null,1.6660520882075998,null,null,1.5770057589094884,null,null,1.4806578775693289,null,null,1.8059769123179934,null,null,null,1.8784749002298682,null,null,1.8521669096236824,null,null,1.7477686096313405,null,null,1.5766404147023421,null,null,1.7644873998721382,null,null,null,1.8003163966609252,null,null,1.7020689538426621,null,null,1.5501147361427434,null,null,1.337801397327566,null,null,1.8671003784468145,null,null,null,1.8573209382554596,null,null,1.8033787523075084,null,null,1.6993872779989372,null,null,1.6282701759568827,null,null,1.5759564988258119,null,null,null,1.5339432134169833,null,null,1.4972546425669551,null,null,1.4439763267218748,null,null,1.3960760865951791,null,null,1.7784145249763126,null,null,null,1.9409618384049359,null,null,1.900136939940883,null,null,1.6883058674283484,null,null,1.5068603643486551,null,null,1.4823338248017635,null,null,null,1.4219676209850094,null,null,1.3617444162033729,null,null,1.3001226938830794,null,null,1.2489687173517781,null,null,1.6379771794741915,null,null,null,1.7048869838042704]
[{"$f":"'Als-Ob-Allokation KW03'!A22","v":"2012-01-21"},{"$f":"'Als-Ob-Allokation KW03'!B22","v":4.5},6,1.4206320305610645,null,null,1.4129738498756121,null,null,1.3915957589847268,null,null,1.4122953240906764,null,null,1.0828676794302226,null,null,0.59966299046142413,null,null,null,0.58894255618670255,null,null,0.56435248607485988,null,null,0.53344879746000007,null,null,0.52108107383863089,null,null,1.221896815397995,null,null,null,1.2133907405947228,null,null,1.1383811908780734,null,null,1.0022198933744826,null,null,0.84376138100947251,null,null,1.1097791045242495,null,null,null,1.0836846109114446,null,null,1.0346229872012056,null,null,0.9963803459144237,null,null,0.94340182197593392,null,null,1.6147917544059651,null,null,null,1.5439368890816201,null,null,1.4240432073190901,null,null,1.2926246321873074,null,null,1.1693989865089125,null,null,1.4301104687282804,null,null,null,1.4202208349109182,null,null,1.4014091934270267,null,null,1.3667742234077886,null,null,1.3068741844398235,null,null,1.3854585975469773,null,null,null,1.4973355850197545,null,null,1.5244385312537712,null,null,1.4759425711490817,null,null,1.3656604555971386,null,null,1.3343713285768151,null,null,null,1.4058874449357806,null,null,1.3729782175565319,null,null,1.2858773205845297,null,null,1.1426851894672714,null,null,1.39427817070917,null,null,null,1.4344592353968952,null,null,1.4314328562329095,null,null,1.3787236219053802,null,null,1.3523922206584087,null,null,1.2756678657226677,null,null,null,1.2512936756329476,null,null,1.2329538761712091,null,null,1.1963842799845181,null,null,1.1657499657510098,null,null,1.2346735885235571,null,null,null,1.4131654404160567,null,null,1.4737535502545596,null,null,1.3692122046860458,null,null,1.2592990695217523,null,null,0.48588366836076269,null,null,null,0.4711094381399944,null,null,0.45522503946083193,null,null,0.43881470058927274,null,null,0.42552820896264576,null,null,1.3644800700353168,null,null,null,1.3863367323713855]
[{"$f":"'Als-Ob-Allokation KW03'!A23","v":"2012-01-22"},{"$f":"'Als-Ob-Allokation KW03'!B23","v":5.2},7,1.3367512391453371,null,null,1.3186668367901198,null,null,1.3225550406318136,null,null,1.3342751585493655,null,null,1.0787929539743475,null,null,1.1474303545916031,null,null,null,1.1362017138134053,null,null,1.0960236478565233,null,null,1.0442298010871978,null,null,1.0258064187248708,null,null,1.3318875142608415,null,null,null,1.3513889443758869,null,null,1.2936348296445248,null,null,1.1578438520653216,null,null,1.0046263217079727,null,null,1.2610825287856395,null,null,null,1.2380732796027309,null,null,1.1905121677759694,null,null,1.1530656274346232,null,null,1.1005814186648755,null,null,1.4305283273769021,null,null,null,1.3978918781259122,null,null,1.3147726834808018,null,null,1.2104813566941759,null,null,1.1174981323179212,null,null,{"$f":"($CH$3/(1+($CH$4/(B24-40))^$CH$5)+$CH$6)*VLOOKUP(C24,$CF$9:$CH$15,3)","v":1.2427431421854829},null,null,null,1.2505880754009089,null,null,1.2497270965647889,null,null,1.2422021421543932,null,null,1.2010151066792356,null,null,1.1311752508170492,null,null,null,1.2493251349455017,null,null,1.2965054339825266,null,null,1.2743286268287626,null,null,1.1979365631719829,null,null,1.2840704440811328,null,null,null,1.3772312034734058,null,null,1.3711071838743025,null,null,1.3060037646793414,null,null,1.1809015347724034,null,null,1.2188035268960877,null,null,null,1.2794309898254044,null,null,1.2986530905347955,null,null,1.2670243232307454,null,null,1.2599647368822506,null,null,1.2771532513994648,null,null,null,1.2588886322808206,null,null,1.2478307165163038,null,null,1.2155064598892191,null,null,1.1901785575433248,null,null,1.0068266042261269,null,null,null,1.1822524110792823,null,null,1.28246777514383,null,null,1.226011713882575,null,null,1.1462808423351198,null,null,0.56524850300995,null,null,null,0.55174586812452431,null,null,0.53600709201527885,null,null,0.51959565978025479,null,null,0.50650589863313988,null,null,1.3124961151029804,null,null,null,1.3142925983846845]
[{"$f":"'Als-Ob-Allokation KW03'!A24","v":"2012-01-23"},{"$f":"'Als-Ob-Allokation KW03'!B24","v":4.2},1,1.4564800436323524,null,null,1.4534260873311857,null,null,1.4206410593509802,null,null,1.4451778360393894,null,null,1.0844596243363558,null,null,1.3572580097424722,null,null,null,1.3284766047938021,null,null,1.2695569341199284,null,null,1.1962145547735865,null,null,1.1657067444639282,null,null,1.8442003399137792,null,null,null,1.8153842159349063,null,null,1.689279832342242,null,null,1.4774744788309866,null,null,1.2286612131947412,null,null,1.6467479999999999,null,null,null,1.6045212152504802,null,null,1.5275709846331706,null,null,1.4677606711106304,null,null,1.3852435241215506,null,null,1.5107516767105491,null,null,null,1.4324987021284648,null,null,1.3112814108423916,null,null,1.1835728322185082,null,null,1.0619826974916262,null,null,1.5075540901616318,null,null,null,{"$f":"($CK$3/(1+($CK$4/(B25-40))^$CK$5)+$CK$6)*VLOOKUP(C25,$CF$9:$CH$15,3)","v":1.4892058961518269},null,null,1.4620095033553466,null,null,1.4152038546202954,null,null,1.347138299319828,null,null,1.5597620431166264,null,null,null,1.6704771535530514,null,null,1.6874829268964342,null,null,1.6237102481983057,null,null,1.4929251824680254,null,null,1.6251204095162175,null,null,null,1.6993680239961673,null,null,1.6465838728121003,null,null,1.5316043872135074,null,null,1.3514213168238469,null,null,1.6582026903584928,null,null,null,1.6920459472698495,null,null,1.6770327331448642,null,null,1.606768553072665,null,null,1.5672054573306633,null,null,1.5284396882751621,null,null,null,1.4963371528036737,null,null,1.470931792345348,null,null,1.425120157743714,null,null,1.3859345660934845,null,null,1.4887423736335681,null,null,null,1.6853182752666305,null,null,1.7300969681567679,null,null,1.5893794106118826,null,null,1.4515982636453604,null,null,1.5792243315328072,null,null,null,1.5271270748279742,null,null,1.4724201672494743,null,null,1.4160611404076877,null,null,1.370157889637919,null,null,1.5485625686030609,null,null,null,1.5826814457547422]
[{"$f":"'Als-Ob-Allokation KW03'!A25","v":"2012-01-24"},{"$f":"'Als-Ob-Allokation KW03'!B25","v":1.9},2,1.7247499504753232,null,null,1.7580306003056283,null,null,1.6294975281800608,null,null,1.6820665748045061,null,null,1.0941466479721333,null,null,1.5253269201493429,null,null,null,1.4582806605209568,null,null,1.368395836131554,null,null,1.2631193718525324,null,null,1.20994448507976,null,null,2.3809915518460891,null,null,null,2.2115771233116925,null,null,1.9498179423472046,null,null,1.63583231213193,null,null,1.2527904295208692,null,null,1.8985716828864208,null,null,null,1.8224321859517467,null,null,1.70489811982354,null,null,1.6144518864339459,null,null,1.4930520499305571,null,null,2.0454392324028339,null,null,null,1.8515589197254414,null,null,1.6220344210052835,null,null,1.4132080508753662,null,null,1.2021735311469786,null,null,1.9066707131209535,null,null,null,{"$f":"($CK$3/(1+($CK$4/(B26-40))^$CK$5)+$CK$6)*VLOOKUP(C26,$CF$9:$CH$15,3)","v":1.8211424158411964},null,null,1.730185035707535,null,null,1.6000749497416145,null,null,1.4794664199892182,null,null,2.1559359336821924,null,null,null,2.1649027626093762,null,null,2.0773696550078675,null,null,1.9163143806086222,null,null,1.6937040015729348,null,null,2.1762225657769276,null,null,null,2.1538624104557216,null,null,1.9799293145944026,null,null,1.7609237864587779,null,null,1.4817492502915639,null,null,2.0806214539632122,null,null,null,2.0113030509035714,null,null,1.9101900785070398,null,null,1.765785246031943,null,null,1.657079562760704,null,null,1.8297081952483143,null,null,null,1.7700386765300333,null,null,1.7147202897153271,null,null,1.6456366862503726,null,null,1.5810770774833554,null,null,2.3549575856939238,null,null,null,2.454126267406695,null,null,2.2851128084015637,null,null,1.9617540327954488,null,null,1.7011264228534677,null,null,1.7304480443204899,null,null,null,1.6457868189916232,null,null,1.5638635355196902,null,null,1.4805684138982178,null,null,1.4097083969556865,null,null,1.8204752053150532,null,null,null,1.9339439257208093]
[{"$f":"'Als-Ob-Allokation KW03'!A26","v":"2012-01-25"},{"$f":"'Als-Ob-Allokation KW03'!B26","v":-0.3},3,1.9615772995281469,null,null,2.0277438365549925,null,null,1.801907287575466,null,null,1.8770569347225092,null,null,1.1003082355310407,null,null,1.562203155466499,null,null,null,1.4663093440506025,null,null,1.357332056478405,null,null,1.2358590392126314,null,null,1.1667422234074978,null,null,2.7777412722753825,null,null,null,2.4762118714324215,null,null,2.1016142900644659,null,null,1.715333398998379,null,null,1.2366035304444487,null,null,2.0437794861299072,null,null,null,1.9379038346120507,null,null,1.7917869842513614,null,null,1.6797279009860264,null,null,1.5336417812154317,null,null,2.4329043072883061,null,null,null,2.1531804168011499,null,null,1.8433324849866115,null,null,1.5697339738159601,null,null,1.2887159753307793,null,null,2.516471657451635,null,null,null,2.3522842763496215,null,null,2.18656406841477,null,null,1.9705399041460359,null,null,1.7858532647231862,null,null,2.7559041447896697,null,null,null,2.6295283930927411,null,null,2.4366279554545298,null,null,2.1775020816847324,null,null,1.8773151669851196,null,null,2.6438842572232621,null,null,null,2.4980778809841975,null,null,2.2107751131160738,null,null,1.9055198923339816,null,null,1.5490517350808535,null,null,2.3838660846241377,null,null,null,2.219952519162971,null,null,2.0522236317210996,null,null,1.8471504859204892,null,null,1.6835275859793215,null,null,2.0424054772944533,null,null,null,1.9613368091388865,null,null,1.8828129658098913,null,null,1.796265071815927,null,null,1.7125138322684013,null,null,3.0496653572393337,null,null,null,2.9631181292067739,null,null,2.60477570584698,null,null,2.1516330442098388,null,null,1.7843643281258181,null,null,1.8523154643664337,null,null,null,1.7434585280601087,null,null,1.6389265657349348,null,null,1.5338215871031049,null,null,1.4404380198711833,null,null,2.0264826502118063,null,null,null,2.2108380049350114]
[{"$f":"'Als-Ob-Allokation KW03'!A27","v":"2012-01-26"},{"$f":"'Als-Ob-Allokation KW03'!B27","v":-0.4},4,1.9717310505430983,null,null,2.0392845616334849,null,null,1.8090579895658798,null,null,1.8851101526612015,null,null,1.1005350512993954,null,null,1.6511605587118818,null,null,null,1.5486506715709207,null,null,1.4327805691325235,null,null,1.3039022290454898,null,null,1.2302226432981804,null,null,2.8652156573379552,null,null,null,2.5502133367588979,null,null,2.161294721964266,null,null,1.7622552921745798,null,null,1.2674304639982423,null,null,2.1017148909253276,null,null,null,1.991799389200575,null,null,1.8407977869494183,null,null,1.7250073997719595,null,null,1.5742740837377136,null,null,2.4657438151201427,null,null,null,2.1808041154494413,null,null,1.8656606910529534,null,null,1.5874271517338812,null,null,1.3015676383335122,null,null,2.5459622314185522,null,null,null,2.3780302580708153,null,null,2.2087386895122334,null,null,1.9888976624235808,null,null,1.8011368027119783,null,null,2.7936529762615376,null,null,null,2.6600920265534684,null,null,2.4618036738909193,null,null,2.1972448364766191,null,null,1.8926737661537021,null,null,2.6762628850999155,null,null,null,2.5237864947449893,null,null,2.2302692368423336,null,null,1.9200326352444952,null,null,1.558758547624516,null,null,2.4036418251663125,null,null,null,2.235258322361664,null,null,2.0643972411590759,null,null,1.8561596143221413,null,null,1.6897775633659882,null,null,2.0605314573465767,null,null,null,1.9782346122548087,null,null,1.8984254954691384,null,null,1.8107790645881163,null,null,1.7258741063046847,null,null,3.0338549463780402,null,null,null,2.9393717215373969,null,null,2.5789647574876615,null,null,2.1276246137276265,null,null,1.7611456196759268,null,null,1.8163827851538694,null,null,null,1.7090112829479145,null,null,1.6058614217479399,null,null,1.5022070617544794,null,null,1.4099234622166454,null,null,2.0556866655986412,null,null,null,2.2449252772389716]
[{"$f":"'Als-Ob-Allokation KW03'!A28","v":"2012-01-27"},{"$f":"'Als-Ob-Allokation KW03'!B28","v":1.5},5,1.7695610636225318,null,null,1.8090880402027605,null,null,1.6629602112573723,null,null,1.7200017371882219,null,null,1.0954549075912354,null,null,1.5712617987201205,null,null,null,1.4967438574365539,null,null,1.4006506771870073,null,null,1.2891533571966844,null,null,1.2314478061729508,null,null,2.34438758913572,null,null,null,2.1591839036180085,null,null,1.8887309946120081,null,null,1.5754128718010292,null,null,1.1918243954371122,null,null,1.8386353300179197,null,null,null,1.7607525222278644,null,null,1.6431853944888402,null,null,1.5527842967782131,null,null,1.4320435356336514,null,null,2.1768333868118859,null,null,null,1.9598541331782402,null,null,1.7076958378342137,null,null,1.480622994623485,null,null,1.2500584951512199,null,null,2.1198767617786167,null,null,null,2.0154061144935294,null,null,1.9059213041628487,null,null,1.7522315333770262,null,null,1.613409759655531,null,null,2.2704287636699774,null,null,null,2.2569110232268859,null,null,2.1497721712805857,null,null,1.9704892598483501,null,null,1.7322536192531257,null,null,2.1297016483117406,null,null,null,2.0890343723816174,null,null,1.9054626389469198,null,null,1.6837429315150363,null,null,1.4068886090054353,null,null,2.2204422939246795,null,null,null,2.1297843991390253,null,null,2.010973083454652,null,null,1.8489708745831972,null,null,1.725009705486009,null,null,1.7603503272446939,null,null,null,1.7002217355722951,null,null,1.6438362072598802,null,null,1.5755868439312466,null,null,1.5112660647494538,null,null,2.3209604895015947,null,null,null,2.385898409206892,null,null,2.1931824176877814,null,null,1.8665154697532957,null,null,1.6047614707197144,null,null,1.5655571732808276,null,null,null,1.4856122992740977,null,null,1.4085995732029728,null,null,1.3304420019059546,null,null,1.2634404900279095,null,null,1.828142390903982,null,null,null,1.9529084785545214]
[{"$f":"'Als-Ob-Allokation KW03'!A29","v":"2012-01-28"},{"$f":"'Als-Ob-Allokation KW03'!B29","v":1.7},6,1.7472417840412091,null,null,1.7836556800001431,null,null,1.6463431255861753,null,null,1.701167051315025,null,null,1.0948125945649041,null,null,0.66441881438495787,null,null,null,0.63404966105983374,null,null,0.59414588779342825,null,null,0.54762900574585038,null,null,0.52384079069380252,null,null,1.7077076898343955,null,null,null,1.5793939721883443,null,null,1.3869251869478261,null,null,1.1601565058344281,null,null,0.88300570769803088,null,null,1.3503061424502487,null,null,null,1.2946206025271481,null,null,1.2096280459267992,null,null,1.1442500787318066,null,null,1.0567127517002162,null,null,2.1780275529347581,null,null,null,1.9660825463393492,null,null,1.7176087248530219,null,null,1.492779136078457,null,null,1.2650037620713743,null,null,1.9726926694094702,null,null,null,1.8797543191414117,null,null,1.7816811605605383,null,null,1.6427304759808217,null,null,1.5156952501013046,null,null,2.0905132981262593,null,null,null,2.0885184599386899,null,null,1.9965938417320437,null,null,1.8358699930685243,null,null,1.6181684047336118,null,null,1.8706583740803657,null,null,null,1.8431207863080505,null,null,1.6876225293031302,null,null,1.496023597815896,null,null,1.2543780603047838,null,null,1.9149639275377548,null,null,null,1.8438497531461822,null,null,1.745968929199057,null,null,1.6095918201565802,null,null,1.5060369622632834,null,null,1.5593152795013852,null,null,null,1.5072340240557358,null,null,1.4586600436741761,null,null,1.3989783060396415,null,null,1.3429602745151781,null,null,2.0079061961670672,null,null,null,2.078137496566776,null,null,1.9223319857418646,null,null,1.6429722913271754,null,null,1.4185879408864359,null,null,0.53507408664652734,null,null,null,0.50831190191005771,null,null,0.48247906492117576,null,null,0.45623785731781374,null,null,0.43382864602052162,null,null,1.6636665713345546,null,null,null,1.7723519620728627]
[{"$f":"'Als-Ob-Allokation KW03'!A30","v":"2012-01-29"},{"$f":"'Als-Ob-Allokation KW03'!B30","v":-0.6},7,1.9918643545934454,null,null,2.0621571641523055,null,null,1.8231792231576973,null,null,1.901002722588846,null,null,1.1009768939650899,null,null,1.398170508104057,null,null,null,1.3094418520885254,null,null,1.2101860498571715,null,null,1.1002595520143197,null,null,1.0368225322311131,null,null,2.5186059761223913,null,null,null,2.234902958137317,null,null,1.8887329192426732,null,null,1.5369785899469026,null,null,1.1002986988890417,null,null,1.8364932646852872,null,null,null,1.7386498052916015,null,null,1.6054386847446067,null,null,1.50331645998547,null,null,1.3707618459979747,null,null,2.4932835797264903,null,null,null,2.2024226203986417,null,null,1.8816314866498804,null,null,1.5984308499742435,null,null,1.3073294968829092,null,null,2.2895173099546473,null,null,null,2.1353389019362972,null,null,1.9802647721875168,null,null,1.7804022767927583,null,null,1.6099658038395073,null,null,2.4697154910210837,null,null,null,2.3421986399403782,null,null,2.1622401512585667,null,null,1.9251330926870587,null,null,1.6554678700891379,null,null,2.443618527803995,null,null,null,2.2956149282970073,null,null,2.0228521654102338,null,null,1.7374183238143057,null,null,1.4068054070398064,null,null,2.2117666023147575,null,null,null,2.0512649525754472,null,null,1.890965174340794,null,null,1.6967266781471408,null,null,1.541120415494482,null,null,1.8691398143172553,null,null,null,1.793596084862878,null,null,1.7201696341432808,null,null,1.640085357980521,null,null,1.5623474299832965,null,null,2.4986745277527516,null,null,null,2.4073423231370814,null,null,2.1044429192066074,null,null,1.7319601836479215,null,null,1.4283231590428016,null,null,0.68102381018890135,null,null,null,0.64031306955402623,null,null,0.6011636198453475,null,null,0.56186997858968013,null,null,0.52674250529858668,null,null,1.9130134662684057,null,null,null,2.0931592868880524]
[{"$f":"'Als-Ob-Allokation KW03'!A31","v":"2012-01-30"},{"$f":"'Als-Ob-Allokation KW03'!B31","v":-1.3},1,2.0604579387490536,null,null,2.1399548536499271,null,null,1.8707201040397556,null,null,1.9543888293452953,null,null,1.1024070877678973,null,null,1.6126455207592947,null,null,null,1.5029075869677611,null,null,1.3841120050935027,null,null,1.2544796707437162,null,null,1.1772645372440191,null,null,3.1824461626460443,null,null,null,2.7962205533196989,null,null,2.341513574206262,null,null,1.8933518328319014,null,null,1.3348897072694641,null,null,2.2760804260010232,null,null,null,2.1472251315140993,null,null,1.977046264397708,null,null,1.8467008258179238,null,null,1.6792697693106322,null,null,2.3859289916997093,null,null,null,2.1000129951680333,null,null,1.7870451485443424,null,null,1.5102317170146033,null,null,1.2254647795187041,null,null,2.540528535987352,null,null,null,2.3584168826922154,null,null,2.1763849349513134,null,null,1.9477910733335013,null,null,1.7530193458905459,null,null,3.0413761616509287,null,null,null,2.8461849937247372,null,null,2.6067888801695536,null,null,2.3021491064662949,null,null,1.9690877454367208,null,null,2.821487948111304,null,null,null,2.6167703913763165,null,null,2.2844380990777262,null,null,1.947261815964483,null,null,1.5631581718741332,null,null,2.7342263123985853,null,null,null,2.513786688495828,null,null,2.3038134706357081,null,null,2.0531712981745542,null,null,1.8508434858480058,null,null,2.1121034979114817,null,null,null,2.0235742110849908,null,null,1.936943636556562,null,null,1.8443903799419747,null,null,1.7539847698955637,null,null,3.1902757928727925,null,null,null,3.0171943984356573,null,null,2.6080454765260068,null,null,2.1306615088840206,null,null,1.7352372362815349,null,null,1.8588209065446597,null,null,null,1.743809005810752,null,null,1.6326643839518831,null,null,1.5216119779765518,null,null,1.4208745071847448,null,null,2.1359544429455415,null,null,null,2.3517195179153045]
[{"$f":"'Als-Ob-Allokation KW03'!A32","v":"2012-01-31"},{"$f":"'Als-Ob-Allokation KW03'!B32","v":-3.2},2,2.2313150903335175,null,null,2.3325003161820139,null,null,1.9853761358046962,null,null,2.0821939729446139,null,null,1.1055212397997551,null,null,1.7337556068908051,null,null,null,1.5970902853001001,null,null,1.4588866648351293,null,null,1.3138247624633976,null,null,1.2203449180327868,null,null,3.5019513171839458,null,null,null,3.012021440380757,null,null,2.4723029038349469,null,null,1.9723064878890046,null,null,1.3433326361423952,null,null,2.4020233537776576,null,null,null,2.2459459722075961,null,null,2.0546015101756407,null,null,1.9084236535489862,null,null,1.7262028543216978,null,null,2.738846889551092,null,null,null,2.3981238412434482,null,null,2.0282984809617881,null,null,1.6955547726639653,null,null,1.3543466147244938,null,null,2.750680027341319,null,null,null,2.5302280771454604,null,null,2.3114733699743479,null,null,2.0550561418431608,null,null,1.8311168107623426,null,null,3.4381167546021238,null,null,null,3.1213484352437906,null,null,2.8128981825442807,null,null,2.4384990311651271,null,null,2.063636902405888,null,null,3.2179827805619454,null,null,null,2.8941732762594143,null,null,2.4750126793945766,null,null,2.0747698185163217,null,null,1.6333010330488038,null,null,2.9102456111457076,null,null,null,2.6266787229677742,null,null,2.3792514177224056,null,null,2.0877619771420606,null,null,1.8494375114186745,null,null,2.2939890265770484,null,null,null,2.1910927339512871,null,null,2.0892113495054172,null,null,1.9842666591567077,null,null,1.8805438943507091,null,null,3.8855995188392018,null,null,null,3.5237244286503793,null,null,2.9843808286625304,null,null,2.4065969120208259,null,null,1.9012494132224151,null,null,1.9553322361207079,null,null,null,1.8263458568586561,null,null,1.6990043819697773,null,null,1.5736217770442675,null,null,1.4551438658867879,null,null,2.2834760303509603,null,null,null,2.5477510640949541]
[{"$f":"'Als-Ob-Allokation KW03'!A33","v":"2012-02-01"},{"$f":"'Als-Ob-Allokation KW03'!B33","v":-6.2},3,2.4548865193777814,null,null,2.5801973459150926,null,null,2.1275292985828225,null,null,2.2379955560680882,null,null,1.1088044102846648,null,null,1.7455054834157022,null,null,null,1.5854737719534087,null,null,1.4344805685203621,null,null,1.2848754265309674,null,null,1.1774080296988141,null,null,3.7949214893182885,null,null,null,3.19662308105555,null,null,2.5717346171063871,null,null,2.0253520013841229,null,null,1.3285569307100735,null,null,2.4987593689668413,null,null,null,2.3082102683130294,null,null,2.096065092563411,null,null,1.9347492909767767,null,null,1.7433630980416368,null,null,3.0025743623189602,null,null,null,2.6281223056848741,null,null,2.2206837473442027,null,null,1.837298607976193,null,null,1.4505813076744378,null,null,3.3769338236883013,null,null,null,3.0850392309255592,null,null,2.7942371688900161,null,null,2.489890299298898,null,null,2.1987955043677219,null,null,3.9779784832406979,null,null,null,3.495027488794642,null,null,3.1064369567878987,null,null,2.6378393643040958,null,null,2.2134871523562456,null,null,3.6308651281869131,null,null,null,3.1474221152070676,null,null,2.6340877672670682,null,null,2.1698666296422666,null,null,1.6715993581908575,null,null,3.0767517403887279,null,null,null,2.7288874271728405,null,null,2.4480828250392617,null,null,2.1110627468667937,null,null,1.8327267242517724,null,null,2.4541504402413405,null,null,null,2.338481571033034,null,null,2.2230554059379357,null,null,2.1070000485601863,null,null,1.9912466383864051,null,null,4.3704710102847466,null,null,null,3.7924468520683807,null,null,3.1706217324431467,null,null,2.5390804031097045,null,null,1.9315900040336145,null,null,2.0619368035898704,null,null,null,1.919684493947114,null,null,1.7724761006908236,null,null,1.6318230198431471,null,null,1.4897867587121059,null,null,2.4372794021697683,null,null,null,2.7541834929982758]
[{"$f":"'Als-Ob-Allokation KW03'!A34","v":"2012-02-02"},{"$f":"'Als-Ob-Allokation KW03'!B34","v":-8.5},4,2.5906181297009998,null,null,2.7270356227785086,null,null,2.2095860316481115,null,null,2.3260173458591269,null,null,1.1104426354748349,null,null,1.8890586675147847,null,null,null,1.7022705119661479,null,null,1.5320493861971303,null,null,1.3701764833967065,null,null,1.2450996063180979,null,null,4.1409889425073967,null,null,null,3.4577964196290414,null,null,2.7575721049271906,null,null,2.1603543382995509,null,null,1.3916712207329951,null,null,2.6807803449468719,null,null,null,2.4571476289576908,null,null,2.2223787190236157,null,null,2.0445310412166791,null,null,1.8412344110365297,null,null,3.1352936092224097,null,null,null,2.7509627382917214,null,null,2.330786093185008,null,null,1.9200749952847183,null,null,1.5136168582429752,null,null,3.5998802292236949,null,null,null,3.2839138907472241,null,null,2.9665077525527259,null,null,2.665059063989287,null,null,2.347357508240357,null,null,4.2842107676421897,null,null,null,3.7055516218083899,null,null,3.2787082756038406,null,null,2.7548814786197364,null,null,2.3063472912136778,null,null,3.892712058568804,null,null,null,3.3074571352148756,null,null,2.7398448225287644,null,null,2.2381661026223978,null,null,1.7051018427857567,null,null,3.2303266413157958,null,null,null,2.8446616071159823,null,null,2.5442666981147082,null,null,2.1742312515062125,null,null,1.8671381589634559,null,null,2.5632038538905375,null,null,null,2.4409226163309174,null,null,2.3187396238311546,null,null,2.1964476465016758,null,null,2.0741730423718119,null,null,4.5565521782044618,null,null,null,3.8746640914430999,null,null,3.2327267012330756,null,null,2.5901549111306417,null,null,1.9282859265736572,null,null,2.0700712794074767,null,null,null,1.9261548669545208,null,null,1.7710835835404715,null,null,1.6269542589775707,null,null,1.4738257174216682,null,null,2.5597270172896698,null,null,null,2.9078407479383235]
[{"$f":"'Als-Ob-Allokation KW03'!A35","v":"2012-02-03"},{"$f":"'Als-Ob-Allokation KW03'!B35","v":-11},5,2.7081217132721163,null,null,2.8511538692295697,null,null,2.2780607706605807,null,null,2.3979979551336608,null,null,1.1116766280118455,null,null,1.9383286165012164,null,null,null,1.7352403964828693,null,null,1.5550541371000774,null,null,1.3906402586670912,null,null,1.2543516628175519,null,null,4.1996780678413792,null,null,null,3.4888673664787455,null,null,2.7673134970826809,null,null,2.1617282689531923,null,null,1.3758435736031545,null,null,2.6925877325731835,null,null,null,2.4505260318724802,null,null,2.209177422484887,null,null,2.0270694369655669,null,null,1.8266515246562847,null,null,3.2362269107802653,null,null,null,2.8487930899499316,null,null,2.423534773769096,null,null,1.9912415953150573,null,null,1.5739199515977935,null,null,3.6733806285689714,null,null,null,3.3520294315813364,null,null,3.0259553061823952,null,null,2.7512762820657004,null,null,2.4234939635621564,null,null,4.4865914715500681,null,null,null,3.8387672377860067,null,null,3.390830630767188,null,null,2.8266884801776149,null,null,2.3656944357628609,null,null,3.851752048097755,null,null,null,3.2218083533744513,null,null,2.6498916519415858,null,null,2.1518416679966692,null,null,1.6254608199643215,null,null,3.580427933533544,null,null,null,3.1395977079956121,null,null,2.8052699584444389,null,null,2.3807373198021891,null,null,2.0269064811383597,null,null,2.4892132763985528,null,null,null,2.3704209906628408,null,null,2.2518631117139845,null,null,2.1330012915803027,null,null,2.0141536164193861,null,null,4.5323251816447065,null,null,null,3.8021186776160749,null,null,3.174786675809754,null,null,2.5512034029079098,null,null,1.8656972579449189,null,null,1.9187650367688889,null,null,null,1.7861386462357152,null,null,1.6367842886013666,null,null,1.5024820135430328,null,null,1.3519470037989052,null,null,2.5875491111109534,null,null,null,2.9485973238984617]
[{"$f":"'Als-Ob-Allokation KW03'!A36","v":"2012-02-04"},{"$f":"'Als-Ob-Allokation KW03'!B36","v":-11.5},6,2.7283560058304022,null,null,2.8721873759838981,null,null,2.2896114729348134,null,null,2.4099798269182942,null,null,1.1118731261458477,null,null,0.82779364292681257,null,null,null,0.74024572126311672,null,null,0.66290724623934738,null,null,0.59288954708447761,null,null,0.53409020578737421,null,null,3.1447592024482893,null,null,null,2.6107950599618674,null,null,2.069349508307766,null,null,1.6159642162096031,null,null,1.0267794121302971,null,null,2.0138596950441094,null,null,null,1.8305038600256507,null,null,1.6493222583307372,null,null,1.512716573323915,null,null,1.363452231863322,null,null,3.3044008292783924,null,null,null,2.9106873203090426,null,null,2.4782981457029409,null,null,2.0355242419382624,null,null,1.6103556455979877,null,null,3.508928835321214,null,null,null,3.2026024718872192,null,null,2.8911673487759186,null,null,2.6355618943323069,null,null,2.3222434125438007,null,null,4.2663653283360254,null,null,null,3.6444839177543735,null,null,3.2189193451567126,null,null,2.6800544750680166,null,null,2.2432046122446399,null,null,3.4793190949003616,null,null,null,2.9029561553795666,null,null,2.3850840170382384,null,null,1.935053618796287,null,null,1.4597199219516317,null,null,3.1611516865298426,null,null,null,2.7703993504290541,null,null,2.4753258943416552,null,null,2.0984040775906569,null,null,1.7840103478299427,null,null,2.2421479883105269,null,null,null,2.1352421372970687,null,null,2.0285958008192333,null,null,1.9215887372633371,null,null,1.8146193054027913,null,null,4.0540698983819654,null,null,null,3.3941971814341554,null,null,2.835113858511924,null,null,2.2798859956256581,null,null,1.6623134231036332,null,null,0.66212234654881419,null,null,null,0.61646047799440318,null,null,0.56459281787442805,null,null,0.51827164173889362,null,null,0.46580882385778649,null,null,2.3943222467101104,null,null,null,2.7294998698257253]
[{"$f":"'Als-Ob-Allokation KW03'!A37","v":"2012-02-05"},{"$f":"'Als-Ob-Allokation KW03'!B37","v":-11.9},7,2.7438337850364829,null,null,2.8882011167991934,null,null,2.2983988615680224,null,null,2.4190604060606504,null,null,1.1120203680498162,null,null,1.6363127874499259,null,null,null,1.4620310808082149,null,null,1.308576778249654,null,null,1.1705026801291094,null,null,1.0533680384172888,null,null,3.8123032858454784,null,null,null,3.1635625716384759,null,null,2.5062085436300516,null,null,1.9566772773973256,null,null,1.2418050344783511,null,null,2.4393878487288223,null,null,null,2.2151297748857575,null,null,1.99505340784775,null,null,1.8292211627224586,null,null,1.6490414827152702,null,null,3.2334467744444324,null,null,null,2.8496379887775927,null,null,2.4279665817026785,null,null,1.9936917080432504,null,null,1.5784843767498178,null,null,3.3779029646520295,null,null,null,3.0835724243836236,null,null,2.7838755032457825,null,null,2.5430996697722965,null,null,2.2414186331697326,null,null,3.9625552413451834,null,null,null,3.3809801158740398,null,null,2.9860877853269163,null,null,2.4839042587512652,null,null,2.079256444783729,null,null,3.7267194813136468,null,null,null,3.1034957017481219,null,null,2.5478405080506823,null,null,2.0657196221153216,null,null,1.5567038383588074,null,null,3.0621787339769027,null,null,null,2.6826071156433917,null,null,2.3969081753835151,null,null,2.0302450909024077,null,null,1.7242224311287859,null,null,2.3965509542367354,null,null,null,2.282383504359129,null,null,2.1685393640294977,null,null,2.0542264538061743,null,null,1.9399802537571647,null,null,3.854714687405195,null,null,null,3.2226367425039402,null,null,2.6925859011670354,null,null,2.1665487217880171,null,null,1.5761028625154001,null,null,0.79427713872619232,null,null,null,0.73961237694994741,null,null,0.67709136764323896,null,null,0.6215644338937687,null,null,0.55815509036738675,null,null,2.4548571022119212,null,null,null,2.7992894039158918]
[{"$f":"'Als-Ob-Allokation KW03'!A38","v":"2012-02-06"},{"$f":"'Als-Ob-Allokation KW03'!B38","v":-12.3},1,2.7587051765673438,null,null,2.9035234505189078,null,null,2.3068025904151552,null,null,2.4277151757914637,null,null,1.1121593620083416,null,null,1.8606182852100877,null,null,null,1.6611170386484919,null,null,1.4860022290169717,null,null,1.3293932743667256,null,null,1.1952079311585124,null,null,4.6063039134880643,null,null,null,3.8209326156608792,null,null,3.0256190504267613,null,null,2.3617642055974857,null,null,1.4973229745117258,null,null,2.9454185299857203,null,null,null,2.67211682671432,null,null,2.4056882138969331,null,null,2.2050463563132232,null,null,1.9882512717074938,null,null,2.9901852508525502,null,null,null,2.6365704936990233,null,null,2.2479452006278802,null,null,1.8454615962789251,null,null,1.4623303851546401,null,null,3.5920883744327674,null,null,null,3.2797399676613255,null,null,2.9612204319852347,null,null,2.7108464162576702,null,null,2.3900614340298505,null,null,4.6181312592861934,null,null,null,3.9360570551316183,null,null,3.4763324219404934,null,null,2.8891941627344768,null,null,2.4188413065595813,null,null,4.1121485341459616,null,null,null,3.418353340436465,null,null,2.8042747528119452,null,null,2.2722145598195089,null,null,1.7106723654714819,null,null,3.6396379172337929,null,null,null,3.1873718628328089,null,null,2.8480089734693976,null,null,2.4104552436355635,null,null,2.0450489707882027,null,null,2.6392597976378562,null,null,null,2.5136563052476601,null,null,2.3884634439895356,null,null,2.2626553302763464,null,null,2.1369545179104446,null,null,4.6350630954339698,null,null,null,3.8698756423363165,null,null,3.2343429320709025,null,null,2.6040258396188909,null,null,1.8902654392616887,null,null,2.1389545990320564,null,null,null,1.9920655631440736,null,null,1.8229219591045098,null,null,1.6735347395394831,null,null,1.5015434638025047,null,null,2.670895801651771,null,null,null,3.046388742448142]
[{"$f":"'Als-Ob-Allokation KW03'!A39","v":"2012-02-07"},{"$f":"'Als-Ob-Allokation KW03'!B39","v":-12.4},2,2.7623308731542271,null,null,2.9072493157865273,null,null,2.3088455798696472,null,null,2.4298147333213493,null,null,1.1121928829449697,null,null,1.9240902062158165,null,null,null,1.7174495425523748,null,null,1.5362044045333054,null,null,1.3743567470444482,null,null,1.2353424909940223,null,null,4.5308605067523695,null,null,null,3.7580102608085295,null,null,2.9754827011039429,null,null,2.3225344464883428,null,null,1.4720944647534004,null,null,2.8967271112145925,null,null,null,2.6273356912718615,null,null,2.36514522770024,null,null,2.16772369404864,null,null,1.9547005717999242,null,null,3.1755890273541394,null,null,null,2.8003947653682348,null,null,2.3880232615565236,null,null,1.9603585557287402,null,null,1.5537052044014035,null,null,3.4982514616670812,null,null,null,3.1942266387636153,null,null,2.884080809873534,null,null,2.6416335823714783,null,null,2.3292480989687068,null,null,4.5677675726026976,null,null,null,3.8921247220679627,null,null,3.4375470219765947,null,null,2.8563636437066093,null,null,2.391441987935278,null,null,4.1847744028446314,null,null,null,3.4772262547405903,null,null,2.8520742584459908,null,null,2.3106009581265323,null,null,1.7391693313440422,null,null,3.5290618549622046,null,null,null,3.0902849011717892,null,null,2.7612906944423745,null,null,2.3366197411534562,null,null,1.981920001057611,null,null,2.6846220228162676,null,null,null,2.5568940562815152,null,null,2.4295982462585899,null,null,2.301650388293544,null,null,2.1738209768293539,null,null,4.9351478993449778,null,null,null,4.1191184009266788,null,null,3.4429189224155556,null,null,2.7723723808439109,null,null,2.0114128492096754,null,null,2.1674755113916486,null,null,null,2.0187123337514521,null,null,1.847121548514902,null,null,1.6957846500238838,null,null,1.5211951261008139,null,null,2.673150387021658,null,null,null,3.049133087268205]
[{"$f":"'Als-Ob-Allokation KW03'!A40","v":"2012-02-08"},{"$f":"'Als-Ob-Allokation KW03'!B40","v":-8},3,2.5635269702891406,null,null,2.697994943601564,null,null,2.1934615884155555,null,null,2.3088577940392696,null,null,1.1101346692853575,null,null,1.782759895065134,null,null,null,1.6089825525865962,null,null,1.4495728301173041,null,null,1.2966593532239756,null,null,1.1802824000000001,null,null,3.9973632109864239,null,null,null,3.3428906409935086,null,null,2.670042405570717,null,null,2.0936382022063174,null,null,1.3531410580451153,null,null,2.5953123682689445,null,null,null,2.3825834798276446,null,null,2.1566157427414603,null,null,1.9852953657683019,null,null,1.787899582603093,null,null,3.0915986526962564,null,null,null,2.7109641647485447,null,null,2.2952443766271102,null,null,1.8922166330403358,null,null,1.4915596329867433,null,null,3.5445529697936666,null,null,null,3.2338726625760481,null,null,2.9223885083875007,null,null,2.6199560402165258,null,null,2.3083587575223259,null,null,4.2114742732499328,null,null,null,3.6530774839765745,null,null,3.234469887099344,null,null,2.723112157598409,null,null,2.2804256966888565,null,null,3.8285845414886328,null,null,null,3.2654908373025471,null,null,2.7101490746160519,null,null,2.2173230946866198,null,null,1.6927908860001579,null,null,3.1974707624606422,null,null,null,2.8191979211765443,null,null,2.5225979997541557,null,null,2.1594176738220114,null,null,1.8583019898679682,null,null,2.5332056397569889,null,null,null,2.4125255227123992,null,null,2.2919480557371146,null,null,2.171220977325381,null,null,2.0505470895106508,null,null,4.5802667406135642,null,null,null,3.9090517786476302,null,null,3.261824015909208,null,null,2.6125271015766796,null,null,1.95319102027777,null,null,2.1054676242202413,null,null,null,1.959141603795729,null,null,1.8028686871275705,null,null,1.6567082349296236,null,null,1.5031131944747489,null,null,2.5159891155378089,null,null,null,2.8555622971857879]
[{"$f":"'Als-Ob-Allokation KW03'!A41","v":"2012-02-09"},{"$f":"'Als-Ob-Allokation KW03'!B41","v":-9.6999999999999993},4,2.6505897216250602,null,null,2.7907804591788534,null,null,2.2448315563621808,null,null,2.363258820911045,null,null,1.1110926217124695,null,null,1.9101122736377132,null,null,null,1.7154233312416365,null,null,1.5404697796892168,null,null,1.3774350949692433,null,null,1.246992491828395,null,null,4.2476236014665343,null,null,null,3.5365608175374716,null,null,2.811867168642892,null,null,2.1992061904280926,null,null,1.4073218624799935,null,null,2.7346348910617033,null,null,null,2.4975692357256793,null,null,2.2551338403250196,null,null,2.0718336401563069,null,null,1.8661659231208687,null,null,3.1772277012525363,null,null,null,2.792079817559705,null,null,2.3701028634499091,null,null,1.9495992157628321,null,null,1.5382071404052937,null,null,3.6858712338070085,null,null,null,3.3622972911930904,null,null,3.0356738554309555,null,null,2.7422236202727168,null,null,2.4146564080751118,null,null,4.4007236366264095,null,null,null,3.7841147424776769,null,null,3.3444939935721636,null,null,2.7984464895653631,null,null,2.3419733999633379,null,null,3.995127584372383,null,null,null,3.3667468990414311,null,null,2.7782584193603199,null,null,2.2623274560456301,null,null,1.7158215246518493,null,null,3.2892414719721317,null,null,null,2.8896368173487921,null,null,2.5827107151458715,null,null,2.1990657749114599,null,null,1.8799948083907561,null,null,2.6044189492170182,null,null,null,2.4800038198238457,null,null,2.3557262775464678,null,null,2.2313125604400974,null,null,2.106880949284144,null,null,4.6501454740300918,null,null,null,3.9251938121832688,null,null,3.2754096708013276,null,null,2.6275736733513417,null,null,1.9382019339961269,null,null,2.0931637520562929,null,null,null,1.9478488865865773,null,null,1.7878977580662425,null,null,1.6415279302078267,null,null,1.4819252485558267,null,null,2.6008367627514049,null,null,null,2.9597284946514488]
[{"$f":"'Als-Ob-Allokation KW03'!A42","v":"2012-02-10"},{"$f":"'Als-Ob-Allokation KW03'!B42","v":-8.9},5,2.6113826113804217,null,null,2.7491939591820787,null,null,2.2218594291118352,null,null,2.3390287127429241,null,null,1.1106725698082927,null,null,1.9045707961509191,null,null,null,1.7142228317561361,null,null,1.5416114476926175,null,null,1.3785854082690496,null,null,1.2511154743830701,null,null,4.0383915601470877,null,null,null,3.368514346352486,null,null,2.6833966888490433,null,null,2.1009292834749629,null,null,1.3501411968400063,null,null,2.6089947014539518,null,null,null,2.3884183071644158,null,null,2.1589438994008621,null,null,1.9852200117145358,null,null,1.7878793485694147,null,null,3.1723978767918219,null,null,null,2.7849312871522862,null,null,2.3610041404905715,null,null,1.9439211592408707,null,null,1.5326948668620999,null,null,3.542388425689285,null,null,null,3.2313095721329099,null,null,2.9183129320761823,null,null,2.6263853922481069,null,null,2.3129147317116758,null,null,4.3077694187463722,null,null,null,3.7181052544821265,null,null,3.2883506321905331,null,null,2.7588966192498159,null,null,2.3093138761135696,null,null,3.7006690064456738,null,null,null,3.135220333928356,null,null,2.5935909616039146,null,null,2.1162818070851914,null,null,1.6097031590276891,null,null,3.4835873929491212,null,null,null,3.0649907854904805,null,null,2.7405552733563581,null,null,2.3389638566414859,null,null,2.0054368327838246,null,null,2.4280494301321633,null,null,null,2.3121298952048721,null,null,2.1963080854729813,null,null,2.0803924088613206,null,null,1.9644747502071402,null,null,4.3989068424831039,null,null,null,3.7306690688827633,null,null,3.1125570341444728,null,null,2.4947662358555238,null,null,1.8513109904822118,null,null,1.8851603903616747,null,null,null,1.7541184227320878,null,null,1.6119113209316862,null,null,1.4804124695788772,null,null,1.3394805018864266,null,null,2.5241523147704479,null,null,null,2.8692838083094983]
[{"$f":"'Als-Ob-Allokation KW03'!A43","v":"2012-02-11"},{"$f":"'Als-Ob-Allokation KW03'!B43","v":-10.7},6,2.6954908362715337,null,null,2.8379695390231938,null,null,2.2708144642790327,null,null,2.3904556198972173,null,null,1.1115516433329666,null,null,0.8229803132105733,null,null,null,0.73726253753200288,null,null,0.66100161360456566,null,null,0.59108324641176424,null,null,0.53358503712669636,null,null,3.1058093366384849,null,null,null,2.5812793867139519,null,null,2.048416616033657,null,null,1.6005248914388845,null,null,1.0197905884405112,null,null,1.9928767978370068,null,null,null,1.8151359892982377,null,null,1.6369259563961507,null,null,1.5023966571161922,null,null,1.3536913934052444,null,null,3.2843096455660263,null,null,null,2.8899855704137472,null,null,2.4573250955971417,null,null,2.0194764827546061,null,null,1.5954590979267491,null,null,3.4686873946297276,null,null,null,3.1649165906735437,null,null,2.8570471001998285,null,null,2.5937102492511341,null,null,2.2843887669844767,null,null,4.2127805908063563,null,null,null,3.6082474177624388,null,null,3.187486868142706,null,null,2.6592804891883555,null,null,2.2254987984457406,null,null,3.4352712330669348,null,null,null,2.8780464901455169,null,null,2.3687919663907233,null,null,1.924695879352003,null,null,1.4551348731378329,null,null,3.1342744453595865,null,null,null,2.749401998703592,null,null,2.4567159102885352,null,null,2.0863976668296109,null,null,1.77789973566133,null,null,2.2241294889108509,null,null,null,2.117943690071598,null,null,2.0119416511144284,null,null,1.9057134949282353,null,null,1.7994866461510552,null,null,4.0182733058369857,null,null,null,3.3752271856039209,null,null,2.8178176348971831,null,null,2.2634034416756217,null,null,1.6583381917400322,null,null,0.65822439172922853,null,null,null,0.61267171255259145,null,null,0.56164097658803447,null,null,0.51556523474686433,null,null,0.46424456743495135,null,null,2.3751874278414391,null,null,null,2.7058742389135073]
[{"$f":"'Als-Ob-Allokation KW03'!A44","v":"2012-02-12"},{"$f":"'Als-Ob-Allokation KW03'!B44","v":-11},7,2.7081217132721163,null,null,2.8511538692295697,null,null,2.2780607706605807,null,null,2.3979979551336608,null,null,1.1116766280118455,null,null,1.6260404505204467,null,null,null,1.4556721971898476,null,null,1.3045161218525032,null,null,1.1665913062752786,null,null,1.0522604503464204,null,null,3.7619559236186757,null,null,null,3.1252312782133789,null,null,2.4788831988283979,null,null,1.9364166336736368,null,null,1.2324427725360032,null,null,2.4119459174696081,null,null,null,2.1951137141144876,null,null,1.9789202783139512,null,null,1.8157929614587331,null,null,1.6362641165730756,null,null,3.212702275083041,null,null,null,2.8280847708284877,null,null,2.4059177233507349,null,null,1.9767669511054977,null,null,1.5624788831873577,null,null,3.3366154238133037,null,null,null,3.0447248007750063,null,null,2.7485442341190582,null,null,2.4990470104069629,null,null,2.2013148529860005,null,null,3.9098502680483618,null,null,null,3.3453023768280472,null,null,2.9549470092562977,null,null,2.4633240583621365,null,null,2.0615897574896285,null,null,3.6764067348307856,null,null,null,3.0751402947989828,null,null,2.5292592550398445,null,null,2.0538822597418891,null,null,1.5514641210281612,null,null,3.0345797871791005,null,null,null,2.6609555956499067,null,null,2.3775972234343805,null,null,2.0177859974756518,null,null,1.7178978469466124,null,null,2.3758955248174347,null,null,null,2.2625110821349423,null,null,2.1493503752171415,null,null,2.0358995635872694,null,null,1.9224622530012045,null,null,3.8191234727212731,null,null,null,3.2038214615673657,null,null,2.6752057340395523,null,null,2.1497488395561857,null,null,1.5721131880973049,null,null,0.78921889327191441,null,null,null,0.73466752760209708,null,null,0.67323568025302749,null,null,0.61799499634733834,null,null,0.55607752781299413,null,null,2.4338333223320849,null,null,null,2.773433126439147]
[{"$f":"'Als-Ob-Allokation KW03'!A45","v":"2012-02-13"},{"$f":"'Als-Ob-Allokation KW03'!B45","v":-6.5},1,2.4742524293961692,null,null,2.6013403869700729,null,null,2.1394314713108789,null,null,2.250864364580162,null,null,1.1090531388893805,null,null,1.7650786308290829,null,null,null,1.6013930661525835,null,null,1.4477599762515165,null,null,1.2963763202236556,null,null,1.1865397007156799,null,null,4.0807287960913534,null,null,null,3.4324626767904132,null,null,2.7575791136182635,null,null,2.1698278127909165,null,null,1.4193171360610659,null,null,2.6794670331328532,null,null,null,2.4724459463799899,null,null,2.2438795539901788,null,null,2.0701620327738754,null,null,1.8650765792058277,null,null,2.8054476671973143,null,null,null,2.4561752976060007,null,null,2.0759036362513874,null,null,1.7163062603925587,null,null,1.3543886451782781,null,null,3.2097822691967814,null,null,null,2.9313658140283403,null,null,2.6537308354251206,null,null,2.3666451346613191,null,null,2.088872716182232,null,null,4.0626517645747784,null,null,null,3.560728817411817,null,null,3.1622448949616744,null,null,2.6809371884114861,null,null,2.2486197195490334,null,null,3.6335787190989297,null,null,null,3.1404130381151347,null,null,2.6240443306949639,null,null,2.1587959407607094,null,null,1.6602803043161005,null,null,3.3382461078775059,null,null,null,2.9573406128047441,null,null,2.6515528041264464,null,null,2.2834114345347607,null,null,1.9791555095527529,null,null,2.4461254861086084,null,null,null,2.3305449773143816,null,null,2.2151673868911876,null,null,2.099286379991403,null,null,1.9836496334723872,null,null,4.2023107081699225,null,null,null,3.6349000459694749,null,null,3.0373161195590201,null,null,2.4320146223212893,null,null,1.8443235477147144,null,null,2.0290349147105511,null,null,null,1.8887730073174307,null,null,1.7428725952760413,null,null,1.6039435119009493,null,null,1.4627097061140073,null,null,2.4756862257825825,null,null,null,2.8000009810860771]
[{"$f":"'Als-Ob-Allokation KW03'!A46","v":"2012-02-14"},{"$f":"'Als-Ob-Allokation KW03'!B46","v":-1.2},2,2.0508402110001493,null,null,2.1290601049747102,null,null,1.8641070447769712,null,null,1.946974450647174,null,null,1.1022132977135655,null,null,1.6627368091342873,null,null,null,1.5506441397401525,null,null,1.4287671303850062,null,null,1.295492868209847,null,null,1.2164585164893902,null,null,3.104911405248898,null,null,null,2.7317510360081756,null,null,2.2903816135058777,null,null,1.8535967680243428,null,null,1.3095970219554451,null,null,2.226463041410609,null,null,null,2.1014584157898759,null,null,1.9356637708099085,null,null,1.8086599625441535,null,null,1.6452738367829574,null,null,2.5198024600205593,null,null,null,2.2188384144779678,null,null,1.8891069165632992,null,null,1.5975979048240196,null,null,1.2977251277751549,null,null,2.4552092474829204,null,null,null,2.2806259987918533,null,null,2.1059893972080785,null,null,1.885875797121062,null,null,1.6983805482033649,null,null,2.9796898179985556,null,null,null,2.7935651291864674,null,null,2.5613097755737786,null,null,2.264510424312995,null,null,1.9382756978027575,null,null,2.8476324346881219,null,null,null,2.6457363662197779,null,null,2.3126637011246127,null,null,1.9733575278362874,null,null,1.5859808091914573,null,null,2.6334681037077692,null,null,null,2.4240032233522713,null,null,2.2232622444952765,null,null,1.9832322291468698,null,null,1.7896563032725128,null,null,2.1379907245284833,null,null,null,2.0488012319469133,null,null,1.9615998847013796,null,null,1.8681888936922264,null,null,1.7770199511020237,null,null,3.3649042469202635,null,null,null,3.190466038815523,null,null,2.7618656312173218,null,null,2.2584830162729701,null,null,1.8425532436407535,null,null,1.8782101491612739,null,null,null,1.7625202066875012,null,null,1.6508120299544307,null,null,1.5391214202044412,null,null,1.4380177787022423,null,null,2.1273701826704827,null,null,null,2.340294964830901]
[{"$f":"'Als-Ob-Allokation KW03'!A47","v":"2012-02-15"},{"$f":"'Als-Ob-Allokation KW03'!B47","v":1.5},3,1.7695610636225318,null,null,1.8090880402027605,null,null,1.6629602112573723,null,null,1.7200017371882219,null,null,1.0954549075912354,null,null,1.484030723593841,null,null,null,1.413649763263835,null,null,1.3228913473624697,null,null,1.2175839768155667,null,null,1.1630820404031315,null,null,2.3699643873027965,null,null,null,2.182740166739499,null,null,1.9093366707659674,null,null,1.5926003101062813,null,null,1.2048269604370105,null,null,1.8586944725234729,null,null,null,1.7799619789285777,null,null,1.6611122174172204,null,null,1.5697248618706698,null,null,1.4476668432501496,null,null,2.1453997416388657,null,null,null,1.9315536854791047,null,null,1.6830365757358219,null,null,1.4592426822256803,null,null,1.2320075522448124,null,null,2.1631101423723345,null,null,null,2.0565088904519291,null,null,1.9447912151926823,null,null,1.7879670507130632,null,null,1.6463141055356572,null,null,2.2702073232365749,null,null,null,2.2566909012115506,null,null,2.1495624987777782,null,null,1.9702970732434684,null,null,1.7320846683490725,null,null,2.2512142158026682,null,null,null,2.2082266218528597,null,null,2.0141809928534511,null,null,1.7798108134952568,null,null,1.487160250429721,null,null,2.0692047383013263,null,null,null,1.9847216846465836,null,null,1.8740027805568118,null,null,1.72303477786236,null,null,1.6075167843693146,null,null,1.8607891319554684,null,null,null,1.7972298345973605,null,null,1.7376271653675759,null,null,1.6654837564226195,null,null,1.5974930814938839,null,null,2.4592958829155971,null,null,null,2.5281042746563096,null,null,2.3239018995367222,null,null,1.9777647361624326,null,null,1.7004095053983728,null,null,1.7642368748562856,null,null,null,1.6741464603472827,null,null,1.5873603030055139,null,null,1.4992840119030655,null,null,1.4237795589557154,null,null,1.8462428106159028,null,null,null,1.9722442060649621]
[{"$f":"'Als-Ob-Allokation KW03'!A48","v":"2012-02-16"},{"$f":"'Als-Ob-Allokation KW03'!B48","v":2},4,1.7134417218993874,null,null,1.7451492010271012,null,null,1.6209899574020652,null,null,1.6724180270289724,null,null,1.093804525323961,null,null,1.539595789485356,null,null,null,1.4732916841465955,null,null,1.3834543491632616,null,null,1.2779827681760294,null,null,1.2250467080291971,null,null,2.3052794461822201,null,null,null,2.1459547465491413,null,null,1.8958115516279306,null,null,1.5929293092528831,null,null,1.2237892263612409,null,null,1.8460985309492444,null,null,null,1.7731229268881625,null,null,1.6598207763960009,null,null,1.5726122753466103,null,null,1.4554160331313628,null,null,2.0715652647532514,null,null,null,1.8779501570583494,null,null,1.6475225838238345,null,null,1.4372393090498294,null,null,1.225019775667588,null,null,2.0691041786559072,null,null,null,1.9786903948156314,null,null,1.8821272125985284,null,null,1.7433152329940726,null,null,1.6136543133939709,null,null,2.1415864851106825,null,null,null,2.1560602273589047,null,null,2.0728473471571318,null,null,1.9152790940514504,null,null,1.6951741352697562,null,null,2.1474572548691171,null,null,null,2.1302235697512164,null,null,1.9621330689201353,null,null,1.748028019920115,null,null,1.473564146472141,null,null,1.9778125168414484,null,null,null,1.915792501703766,null,null,1.8222577042576733,null,null,1.6868333138309581,null,null,1.5853702547593143,null,null,1.8134374771283359,null,null,null,1.7550354974520788,null,null,1.701066901970804,null,null,1.6330822251406321,null,null,1.5696964019442692,null,null,2.2544568341528741,null,null,null,2.3575447417292215,null,null,2.2026561804177081,null,null,1.8953336037008139,null,null,1.6470907720333681,null,null,1.6998074527463212,null,null,null,1.617600492489379,null,null,1.5379394890935412,null,null,1.4569072144751329,null,null,1.3881033881662619,null,null,1.8093277443478437,null,null,null,1.9193328302339292]
[{"$f":"'Als-Ob-Allokation KW03'!A49","v":"2012-02-17"},{"$f":"'Als-Ob-Allokation KW03'!B49","v":3.2},5,1.574913231808666,null,null,1.5875726287586507,null,null,1.5146733480716683,null,null,1.5517887645690414,null,null,1.0891747994156802,null,null,1.4827921540518891,null,null,null,1.4357975631417088,null,null,1.3605281561917753,null,null,1.2694628847345071,null,null,1.2275942236174839,null,null,1.9460983748653591,null,null,null,1.8642549493103726,null,null,1.6913271184254328,null,null,1.4500778037895179,null,null,1.1604790749930662,null,null,1.648109616051022,null,null,null,1.5948966573040093,null,null,1.5056593428811795,null,null,1.4367194965611165,null,null,1.3427564717132063,null,null,1.8542077221884872,null,null,null,1.7170003695931249,null,null,1.537456320230862,null,null,1.3643058024146446,null,null,1.1935721927437213,null,null,1.7733541778892157,null,null,null,1.7237375237536667,null,null,1.6660520882075998,null,null,1.5770057589094884,null,null,1.4806578775693289,null,null,1.8059769123179934,null,null,null,1.8784749002298682,null,null,1.8521669096236824,null,null,1.7477686096313405,null,null,1.5766404147023421,null,null,1.7644873998721382,null,null,null,1.8003163966609252,null,null,1.7020689538426621,null,null,1.5501147361427434,null,null,1.337801397327566,null,null,1.8671003784468145,null,null,null,1.8573209382554596,null,null,1.8033787523075084,null,null,1.6993872779989372,null,null,1.6282701759568827,null,null,1.5759564988258119,null,null,null,1.5339432134169833,null,null,1.4972546425669551,null,null,1.4439763267218748,null,null,1.3960760865951791,null,null,1.7784145249763126,null,null,null,1.9409618384049359,null,null,1.900136939940883,null,null,1.6883058674283484,null,null,1.5068603643486551,null,null,1.4823338248017635,null,null,null,1.4219676209850094,null,null,1.3617444162033729,null,null,1.3001226938830794,null,null,1.2489687173517781,null,null,1.6379771794741915,null,null,null,1.7048869838042704]
[{"$f":"'Als-Ob-Allokation KW03'!A50","v":"2012-02-18"},{"$f":"'Als-Ob-Allokation KW03'!B50","v":5.2},6,1.3367512391453371,null,null,1.3186668367901198,null,null,1.3225550406318136,null,null,1.3342751585493655,null,null,1.0787929539743475,null,null,0.58205249142482574,null,null,null,0.57635658289834213,null,null,0.55597561311028232,null,null,0.52970235179039038,null,null,0.52035679494543374,null,null,1.1049336500974294,null,null,null,1.1211120331278426,null,null,1.0731992295952677,null,null,0.96054705822165487,null,null,0.83343782169531588,null,null,1.0461938464664686,null,null,null,1.0271053773476766,null,null,0.98764868725129085,null,null,0.95658304389938464,null,null,0.91304215343566064,null,null,1.4659164217608549,null,null,null,1.4324726192234265,null,null,1.3472972402659,null,null,1.2404259776296147,null,null,1.1451425547481093,null,null,1.2977517662488625,null,null,null,1.3059439465883329,null,null,1.3050448574947389,null,null,1.2971868194613447,null,null,1.2541766862970269,null,null,1.224859602871287,null,null,null,1.3527947040400368,null,null,1.4038824928686005,null,null,1.3798689943557112,null,null,1.2971501117726845,null,null,1.2058149586177886,null,null,null,1.293298194252716,null,null,1.2875473925942045,null,null,1.2264115903613106,null,null,1.1089335027115521,null,null,1.263054972194064,null,null,null,1.3258836536136192,null,null,1.3458036565847638,null,null,1.3130265346564356,null,null,1.3057106339043203,null,null,1.199319322458851,null,null,null,1.1821678094338177,null,null,1.1717837995055063,null,null,1.1414294896257002,null,null,1.117645153135544,null,null,1.0630435501043247,null,null,null,1.2482643932110991,null,null,1.3540753600081659,null,null,1.2944670306929098,null,null,1.2102843239716614,null,null,0.47250289913099958,null,null,null,0.46121576772720585,null,null,0.44805939968590686,null,null,0.43434074449505133,null,null,0.42339874277720646,null,null,1.2848646179429177,null,null,null,1.2866232805239544]
[{"$f":"'Als-Ob-Allokation KW03'!A51","v":"2012-02-19"},{"$f":"'Als-Ob-Allokation KW03'!B51","v":2.5},7,1.656318034225537,null,null,1.6801111819550609,null,null,1.5776214105556552,null,null,1.6232171379982847,null,null,1.0919976087030312,null,null,1.2754213716161427,null,null,null,1.2263361043781404,null,null,1.1557517745480528,null,null,1.0718706030368821,null,null,1.0311643422148209,null,null,1.8907353364500346,null,null,null,1.7802639989162623,null,null,1.5894762596903727,null,null,1.3461821313579572,null,null,1.0512629181578781,null,null,1.5482640956814064,null,null,null,1.4916048480371784,null,null,1.4009424594327966,null,null,1.3310723919259333,null,null,1.2366154661784654,null,null,1.9772339609387595,null,null,null,1.8068112354924972,null,null,1.5975041009795443,null,null,1.4029623711622177,null,null,1.2081825533803765,null,null,1.7413833669146737,null,null,null,1.6759803187562874,null,null,1.6042824499176216,null,null,1.4984536303611653,null,null,1.3948603914815898,null,null,1.7391368447736548,null,null,null,1.7742310407582225,null,null,1.7229126477542047,null,null,1.6054670456429225,null,null,1.4315808533561936,null,null,1.8280706291083213,null,null,null,1.8344397260909306,null,null,1.7073801569488769,null,null,1.5344415814780501,null,null,1.3057195141774296,null,null,1.7081745161931605,null,null,null,1.6721811834218165,null,null,1.6034032785432875,null,null,1.4948992097281191,null,null,1.4159210292402362,null,null,1.5789500173380113,null,null,null,1.5315053879411731,null,null,1.4884858373074255,null,null,1.4315402424102759,null,null,1.3791330388520193,null,null,1.6853601421935245,null,null,null,1.7936771785398393,null,null,1.7064691295195737,null,null,1.4866342825126511,null,null,1.3061685055295711,null,null,0.62423831202794522,null,null,null,0.59590717090683964,null,null,0.56820190702947115,null,null,0.53995391032298257,null,null,0.51619450086709617,null,null,1.6164376457609566,null,null,null,1.7018531703909159]
[{"$f":"'Als-Ob-Allokation KW03'!A52","v":"2012-02-20"},{"$f":"'Als-Ob-Allokation KW03'!B52","v":0.4},1,1.8889225990079079,null,null,1.9450779982561672,null,null,1.7501692040020582,null,null,1.8186895830905656,null,null,1.0986032207258436,null,null,1.5443499514326913,null,null,null,1.4574528213727593,null,null,1.3544870102708262,null,null,1.2379483542869636,null,null,1.1738910407239818,null,null,2.7932073917376972,null,null,null,2.5191412582340993,null,null,2.1612235731932996,null,null,1.777514437141902,null,null,1.3039835022232458,null,null,2.1025254680223,null,null,null,2.0010609430933082,null,null,1.8563244964665415,null,null,1.745221345852578,null,null,1.5989539481622339,null,null,2.1628321006912778,null,null,null,1.9245379677293755,null,null,1.657008697509277,null,null,1.4199678314759068,null,null,1.1772034866969023,null,null,2.2444877949479762,null,null,null,2.1103615051325471,null,null,1.9735343486976344,null,null,1.7902301203475643,null,null,1.6316047118664228,null,null,2.5966668358296872,null,null,null,2.5150798700777526,null,null,2.3532085597710353,null,null,2.1224373436322534,null,null,1.842173745802566,null,null,2.4718652187825887,null,null,null,2.3684268653362719,null,null,2.1188853022795686,null,null,1.8426118492112451,null,null,1.5128343192255211,null,null,2.4414907427702235,null,null,null,2.2974985485105974,null,null,2.1394909190844191,null,null,1.9406343053229558,null,null,1.7838555339517415,null,null,1.9570397630137732,null,null,null,1.8830712127285221,null,null,1.8121252343298144,null,null,1.7316063828794899,null,null,1.654347752842185,null,null,2.6928924975199329,null,null,null,2.6715288942347897,null,null,2.3838646442978297,null,null,1.988800812387068,null,null,1.6717849125161539,null,null,1.7836757947911632,null,null,null,1.6835716681942507,null,null,1.587585477127297,null,null,1.4906982718884854,null,null,1.4058264750285843,null,null,1.9786737237924759,null,null,null,2.1426581566508243]
[{"$f":"'Als-Ob-Allokation KW03'!A53","v":"2012-02-21"},{"$f":"'Als-Ob-Allokation KW03'!B53","v":-0.6},2,1.9918643545934454,null,null,2.0621571641523055,null,null,1.8231792231576973,null,null,1.901002722588846,null,null,1.1009768939650899,null,null,1.6387756995666056,null,null,null,1.5347781080778315,null,null,1.4184417987400677,null,null,1.2895985193552051,null,null,1.2152448937629909,null,null,2.9735216488430627,null,null,null,2.6385756216286271,null,null,2.229879654656123,null,null,1.8145907515282214,null,null,1.2990368610089527,null,null,2.1682043687133716,null,null,null,2.0526882270607785,null,null,1.8954162462235968,null,null,1.7748485000067691,null,null,1.6183516052631592,null,null,2.4409803817349984,null,null,null,2.1562209980431586,null,null,1.8421593042661704,null,null,1.5648995477582786,null,null,1.279904813196072,null,null,2.3565896656616476,null,null,null,2.1978945374682701,null,null,2.0382774470062253,null,null,1.8325598972184201,null,null,1.6571304173594499,null,null,2.8282181202157508,null,null,null,2.682190988681584,null,null,2.4761098184306278,null,null,2.2045844213065457,null,null,1.8957747338278748,null,null,2.7254051688480594,null,null,null,2.5603344875961214,null,null,2.2561180007007833,null,null,1.9377692656595591,null,null,1.5690316161398923,null,null,2.5376312633376643,null,null,null,2.3534825363564877,null,null,2.1695654230730939,null,null,1.9467093224479872,null,null,1.7681772311933035,null,null,2.0846802613736592,null,null,null,2.000425182937156,null,null,1.9185315379003438,null,null,1.8292123181800766,null,null,1.7425100165038927,null,null,3.1848208115614542,null,null,null,3.0684084085873931,null,null,2.6823315847623452,null,null,2.2075635607646116,null,null,1.8205465625993058,null,null,1.8523319028747287,null,null,null,1.7416018483018632,null,null,1.6351183838613754,null,null,1.5282427296051782,null,null,1.4326987288360655,null,null,2.0741093371120609,null,null,null,2.269425332099678]
[{"$f":"'Als-Ob-Allokation KW03'!A54","v":"2012-02-22"},{"$f":"'Als-Ob-Allokation KW03'!B54","v":1.4},3,1.7806536845909038,null,null,1.8217286553543064,null,null,1.6711822266110219,null,null,1.7293181620522831,null,null,1.095767480251379,null,null,1.4886589185873456,null,null,null,1.4167991981300172,null,null,1.3249572197419865,null,null,1.2186387111621177,null,null,1.1632905758158767,null,null,2.3933322350378705,null,null,null,2.1997517306866512,null,null,1.9205723100663077,null,null,1.5997448475411271,null,null,1.2066399440428754,null,null,1.8695168906378099,null,null,null,1.7892899365998913,null,null,1.6688391111655159,null,null,1.5762370688778273,null,null,1.4527123996021178,null,null,2.1628144967658112,null,null,null,1.9447971191902249,null,null,1.6924532809776969,null,null,1.4657020552556437,null,null,1.2352263720032444,null,null,2.1834888398197538,null,null,null,2.0735844003297523,null,null,1.9587687671076164,null,null,1.7983224850106838,null,null,1.654186603194765,null,null,2.2976930812422891,null,null,null,2.2783673631513905,null,null,2.1663763218338583,null,null,1.9826293487497797,null,null,1.7406968879808518,null,null,2.2736703727273908,null,null,null,2.2253424467079395,null,null,2.0259773382848629,null,null,1.7874373162241972,null,null,1.4909937830159399,null,null,2.0877644395350323,null,null,null,1.9987668187051342,null,null,1.8846475545956647,null,null,1.7305579696311897,null,null,1.6122357999889392,null,null,1.8715793027114433,null,null,null,1.8069645668598002,null,null,1.746218349234969,null,null,1.6732072269784206,null,null,1.6042660922881711,null,null,2.4931760317063407,null,null,null,2.5543375170143268,null,null,2.3408935593072981,null,null,1.9881494139972005,null,null,1.7057354356155556,null,null,1.7694397710079526,null,null,null,1.67818321541533,null,null,1.5903489321168911,null,null,1.5012506477033243,null,null,1.4247223369732509,null,null,1.8569201699649873,null,null,null,1.9863039229984742]
[{"$f":"'Als-Ob-Allokation KW03'!A55","v":"2012-02-23"},{"$f":"'Als-Ob-Allokation KW03'!B55","v":5.4},4,1.3127790002819666,null,null,1.2918154341486585,null,null,1.3025436307341876,null,null,1.3117063240015825,null,null,1.077529096058214,null,null,1.3499635101553047,null,null,null,1.3399861955721777,null,null,1.2951637483945739,null,null,1.2368962018744891,null,null,1.2170718727237724,null,null,1.4928905390420519,null,null,null,1.524513139113604,null,null,1.4681711073547086,null,null,1.3206681805601683,null,null,1.1562521478185277,null,null,1.4311363479875081,null,null,null,1.4073035035839485,null,null,1.3562312168435076,null,null,1.3158528032615733,null,null,1.2590200565181904,null,null,1.3895022367080181,null,null,null,1.3671670616849991,null,null,1.2937038887673808,null,null,1.1962397684816959,null,null,1.1110633848443623,null,null,1.3619481376642275,null,null,null,1.3760398025675329,null,null,1.3803368207399844,null,null,1.3800062433755971,null,null,1.3387164000314178,null,null,1.2563782382073228,null,null,null,1.396400831809389,null,null,1.4573985406885674,null,null,1.4388829937006322,null,null,1.359148086249474,null,null,1.3856723023492741,null,null,null,1.4938862072129764,null,null,1.4957662260205695,null,null,1.4319764191230777,null,null,1.3015104671668702,null,null,1.3027623304908855,null,null,null,1.3757934407736194,null,null,1.4036913074686947,null,null,1.374730164502576,null,null,1.3726052815485896,null,null,1.3943901858096985,null,null,null,1.3765046390203517,null,null,1.3668893257053867,null,null,1.3330539512622275,null,null,1.3072190444884633,null,null,1.1921731871409114,null,null,null,1.4101177679429679,null,null,1.5479610414243838,null,null,1.4928239374143399,null,null,1.4023403992391945,null,null,1.50242725546883,null,null,null,1.4695311716534609,null,null,1.429898719804503,null,null,1.3884198873240203,null,null,1.35549256994889,null,null,1.3976509416556939,null,null,null,1.3935055334480855]
[{"$f":"'Als-Ob-Allokation KW03'!A56","v":"2012-02-24"},{"$f":"'Als-Ob-Allokation KW03'!B56","v":7.9},5,1.018865117563182,null,null,0.96739636054159828,null,null,1.0467849194735115,null,null,1.025963640419338,null,null,1.0571434067750936,null,null,1.2016237009281554,null,null,null,1.2322634799954557,null,null,1.2245165840645464,null,null,1.2096450477959433,null,null,1.2159523490270419,null,null,0.94364344934568689,null,null,null,1.0550982077135143,null,null,1.1061598861000914,null,null,1.0726682413125457,null,null,1.0653893393829132,null,null,1.0738146375741366,null,null,null,1.082558934148474,null,null,1.0805540752234297,null,null,1.0761563815458592,null,null,1.0663579464434796,null,null,0.9044706464870047,null,null,null,0.9973908136745715,null,null,1.0379491153329046,null,null,1.0236873108501441,null,null,1.0345589592816713,null,null,0.88121863530442435,null,null,null,0.943820360181023,null,null,0.99999949175410374,null,null,1.0898327197931617,null,null,1.1097824670988479,null,null,0.74838240076246054,null,null,null,0.90387684974515148,null,null,1.0193276113203997,null,null,1.0706439051962031,null,null,1.0852033631118847,null,null,0.85213476535084964,null,null,null,0.98216052842797563,null,null,1.0642431334317721,null,null,1.0947778076579311,null,null,1.0683609571342538,null,null,0.9080660192963026,null,null,null,1.0419894941933017,null,null,1.146389073917699,null,null,1.1827492988951382,null,null,1.2468693614659017,null,null,1.0044510410376088,null,null,null,1.01416508160787,null,null,1.0347469292806848,null,null,1.027283886643807,null,null,1.0299808605360046,null,null,0.60613925055652018,null,null,null,0.78467384403448515,null,null,1.0198760309850183,null,null,1.1207023765489601,null,null,1.1175587633706203,null,null,1.2172433031894121,null,null,null,1.2270781921844622,null,null,1.2213141943021555,null,null,1.2127374151247072,null,null,1.2071740898512997,null,null,1.0617696619538588,null,null,null,0.99656760433788494]
[{"$f":"'Als-Ob-Allokation KW03'!A57","v":"2012-02-25"},{"$f":"'Als-Ob-Allokation KW03'!B57","v":7.4},6,1.0762221225355455,null,null,1.029896861455746,null,null,1.0982318254542243,null,null,1.0829512655765903,null,null,1.0619890068332216,null,null,0.52458262092023877,null,null,null,0.53429211403982191,null,null,0.52777401663158963,null,null,0.51756229070322968,null,null,0.51799166714714506,null,null,0.76899326793438361,null,null,null,0.84306167409387167,null,null,0.86777385878130742,null,null,0.82735022084565868,null,null,0.7996733533444339,null,null,0.84364899511162939,null,null,null,0.84555699664289885,null,null,0.83702303355587548,null,null,0.82868078456359384,null,null,0.81491009031789763,null,null,1.0144893711726608,null,null,null,1.0885308873311814,null,null,1.1082621441099871,null,null,1.0773341849467613,null,null,1.0693759927963244,null,null,0.91391307718822323,null,null,null,0.96628616725906891,null,null,1.0116205837703875,null,null,1.0815089060464151,null,null,1.0895538012022274,null,null,0.7889306893421062,null,null,null,0.93656334170625566,null,null,1.0391978741038603,null,null,1.0770935282172052,null,null,1.0748647543632912,null,null,0.8377743868723625,null,null,null,0.95239831158880783,null,null,1.0147490952586384,null,null,1.0277131609811763,null,null,0.98792868397308919,null,null,0.87669719652284794,null,null,null,0.98836961427279757,null,null,1.0694633259755251,null,null,1.0913042536547293,null,null,1.1375179157569728,null,null,0.95515163078260845,null,null,null,0.95949484166630572,null,null,0.97303343013831656,null,null,0.96212795994554978,null,null,0.95986244171874457,null,null,0.61865736402618032,null,null,null,0.7864410942160931,null,null,0.98576062520567731,null,null,1.0522077516755515,null,null,1.0366027515843577,null,null,0.42867709172332757,null,null,null,0.42924703277234882,null,null,0.42513755218259724,null,null,0.42018134210557645,null,null,0.41661396227726699,null,null,1.0334209823102078,null,null,null,0.98253430522362051]
[{"$f":"'Als-Ob-Allokation KW03'!A58","v":"2012-02-26"},{"$f":"'Als-Ob-Allokation KW03'!B58","v":4.9000000000000004},7,1.3727195976932125,null,null,1.3590420919360429,null,null,1.352345964896388,null,null,1.3679131984997992,null,null,1.0806036932690979,null,null,1.1624180607617696,null,null,null,1.1469469768278724,null,null,1.1031821779835964,null,null,1.0474115674205973,null,null,1.0264216517141942,null,null,1.3917735245150382,null,null,null,1.3989290455172936,null,null,1.3274009498320516,null,null,1.1794612135480809,null,null,1.0099896518217706,null,null,1.2940619034258902,null,null,null,1.267458081743337,null,null,1.2149083057418697,null,null,1.1737408854022142,null,null,1.1163563706244859,null,null,1.4928090994234227,null,null,null,1.4445813137733261,null,null,1.3469247001314022,null,null,1.2323517741724821,null,null,1.1276460068074865,null,null,1.2966588953441009,null,null,null,1.2972754691232853,null,null,1.2892092200702268,null,null,1.2707442948671637,null,null,1.2226433362696385,null,null,1.1937073992825389,null,null,null,1.3060815234173462,null,null,1.34413571221328,null,null,1.3124956989476007,null,null,1.2252364561863629,null,null,1.3421919276633925,null,null,null,1.4285508670902587,null,null,1.4103171322635961,null,null,1.3334499602162739,null,null,1.1966152223940969,null,null,1.2728238932958649,null,null,null,1.3244386490911075,null,null,1.3342987946608109,null,null,1.2945291940154982,null,null,1.2796715260059108,null,null,1.312181716123302,null,null,null,1.2906261227602578,null,null,1.2759384536551197,null,null,1.2407671091330204,null,null,1.2122998428016674,null,null,1.0749985391609529,null,null,null,1.2485579765490447,null,null,1.3311393464791801,null,null,1.2565656631716839,null,null,1.1665829628798252,null,null,0.57216100324860375,null,null,null,0.55684555158024118,null,null,0.53969559330661054,null,null,0.52189387502793916,null,null,0.50760026812432713,null,null,1.347480531795636,null,null,null,1.3579226046725905]
[{"$f":"'Als-Ob-Allokation KW03'!A59","v":"2012-02-27"},{"$f":"'Als-Ob-Allokation KW03'!B59","v":4.2},1,1.4564800436323524,null,null,1.4534260873311857,null,null,1.4206410593509802,null,null,1.4451778360393894,null,null,1.0844596243363558,null,null,1.3572580097424722,null,null,null,1.3284766047938021,null,null,1.2695569341199284,null,null,1.1962145547735865,null,null,1.1657067444639282,null,null,1.8442003399137792,null,null,null,1.8153842159349063,null,null,1.689279832342242,null,null,1.4774744788309866,null,null,1.2286612131947412,null,null,1.6467479999999999,null,null,null,1.6045212152504802,null,null,1.5275709846331706,null,null,1.4677606711106304,null,null,1.3852435241215506,null,null,1.5107516767105491,null,null,null,1.4324987021284648,null,null,1.3112814108423916,null,null,1.1835728322185082,null,null,1.0619826974916262,null,null,1.5075540901616318,null,null,null,1.4892058961518269,null,null,1.4620095033553466,null,null,1.4152038546202954,null,null,1.347138299319828,null,null,1.5597620431166264,null,null,null,1.6704771535530514,null,null,1.6874829268964342,null,null,1.6237102481983057,null,null,1.4929251824680254,null,null,1.6251204095162175,null,null,null,1.6993680239961673,null,null,1.6465838728121003,null,null,1.5316043872135074,null,null,1.3514213168238469,null,null,1.6582026903584928,null,null,null,1.6920459472698495,null,null,1.6770327331448642,null,null,1.606768553072665,null,null,1.5672054573306633,null,null,1.5284396882751621,null,null,null,1.4963371528036737,null,null,1.470931792345348,null,null,1.425120157743714,null,null,1.3859345660934845,null,null,1.4887423736335681,null,null,null,1.6853182752666305,null,null,1.7300969681567679,null,null,1.5893794106118826,null,null,1.4515982636453604,null,null,1.5792243315328072,null,null,null,1.5271270748279742,null,null,1.4724201672494743,null,null,1.4160611404076877,null,null,1.370157889637919,null,null,1.5485625686030609,null,null,null,1.5826814457547422]
[{"$f":"'Als-Ob-Allokation KW03'!A60","v":"2012-02-28"},{"$f":"'Als-Ob-Allokation KW03'!B60","v":6.2},2,1.2172132911992219,null,null,1.1852867948904759,null,null,1.2215116181742118,null,null,1.2205788190223819,null,null,1.0719831149686894,null,null,1.2851930430689338,null,null,null,1.2884736016741316,null,null,1.2557260412809459,null,null,1.2113104435586155,null,null,1.1998874307344038,null,null,1.3453160027768576,null,null,null,1.411306084994743,null,null,1.393902623267596,null,null,1.2810879348279118,null,null,1.1645930316378028,null,null,1.3579856163021073,null,null,null,1.3446590192835661,null,null,1.3083978971706436,null,null,1.2789200549411821,null,null,1.23636991034206,null,null,1.1994156447951825,null,null,null,1.2167938029700516,null,null,1.1823594111187714,null,null,1.1137032912959426,null,null,1.0609889257474536,null,null,1.1000673906329081,null,null,null,1.130491126818965,null,null,1.1524068183578433,null,null,1.1811367965688988,null,null,1.1621244301966704,null,null,1.0710457522158103,null,null,null,1.2214933321752266,null,null,1.3053268587612781,null,null,1.3129100443128028,null,null,1.2658423486776222,null,null,1.2242030778207174,null,null,null,1.3476541578240473,null,null,1.3818481288370885,null,null,1.3513929577695705,null,null,1.2549702580563242,null,null,1.1968254749709566,null,null,null,1.2959399216624956,null,null,1.3515899602915677,null,null,1.3447872441616,null,null,1.3652956749073397,null,null,1.2927691160848513,null,null,null,1.2844151145541682,null,null,1.2853967152266219,null,null,1.2599595066401883,null,null,1.2434353901173107,null,null,1.0165675085293813,null,null,null,1.2376985302309205,null,null,1.4287390369646784,null,null,1.4306532884632503,null,null,1.3696243853212511,null,null,1.4734544537349379,null,null,null,1.4538122454685378,null,null,1.4241326377851542,null,null,1.3923359543351321,null,null,1.3676682851244344,null,null,1.2958921872707418,null,null,null,1.2688110206932779]
[{"$f":"'Als-Ob-Allokation KW03'!A61","v":"2012-02-29"},{"$f":"'Als-Ob-Allokation KW03'!B61","v":7.3},3,1.0878085415572949,null,null,1.0425758969345222,null,null,1.1085327858000198,null,null,1.0943959419875708,null,null,1.0629071717735761,null,null,1.1701883977331617,null,null,null,1.1902385048119344,null,null,1.1743442899116954,null,null,1.1499723016731804,null,null,1.1499260391537613,null,null,1.0650959613182176,null,null,null,1.163206328540366,null,null,1.1930075707146257,null,null,1.1337186631268905,null,null,1.0899701024688861,null,null,1.1601279533415965,null,null,null,1.1614653532074064,null,null,1.1479352696605707,null,null,1.1351962477329083,null,null,1.1146698047031609,null,null,1.0016027462415316,null,null,null,1.0691563348126973,null,null,1.0839664153972552,null,null,1.0507703276025651,null,null,1.0393206353980915,null,null,1.0004458666961755,null,null,null,1.0551298313077366,null,null,1.1020573634797022,null,null,1.1738053906754533,null,null,1.1800761463083245,null,null,0.85431125981975065,null,null,null,1.0107274485613924,null,null,1.1178924097831597,null,null,1.1556456679147979,null,null,1.1497628928124324,null,null,1.0060365035867127,null,null,null,1.1405698690720121,null,null,1.2112224878098032,null,null,1.2229621816855614,null,null,1.1721332530336281,null,null,0.94744621057778056,null,null,null,1.0644226445888316,null,null,1.1480334190203469,null,null,1.1689395784951,null,null,1.215709946361357,null,null,1.1394769822939643,null,null,null,1.1435343437291898,null,null,1.1583059465894936,null,null,1.144433275088929,null,null,1.1406390770301618,null,null,0.7568605620026303,null,null,null,0.95865923406967679,null,null,1.1930854499320709,null,null,1.2663366123583548,null,null,1.2445559553076568,null,null,1.4116501147519083,null,null,null,1.4116846498979472,null,null,1.3968284955349703,null,null,1.3792662456875262,null,null,1.3664842066446603,null,null,1.1457772043758572,null,null,null,1.0921232883906664]
[{"$f":"'Als-Ob-Allokation KW03'!A62","v":"2012-03-01"},{"$f":"'Als-Ob-Allokation KW03'!B62","v":7.7},4,1.0416868732608713,null,null,0.99221051813249572,null,null,1.0673456872860592,null,null,1.0487034932896548,null,null,1.0591336685262391,null,null,1.2088524512497769,null,null,null,1.2362694601659701,null,null,1.2255388003759695,null,null,1.207080440696535,null,null,1.2112491429237078,null,null,1.0134948269829327,null,null,null,1.1242067589504787,null,null,1.1698916360304523,null,null,1.1266647393475469,null,null,1.1067774043055754,null,null,1.1364148410381965,null,null,null,1.1429151096000962,null,null,1.1369234746943198,null,null,1.12955874590677,null,null,1.1158375907540825,null,null,0.93452505940187969,null,null,null,1.0190151098941205,null,null,1.0510258401377239,null,null,1.0305066889046017,null,null,1.033935557175665,null,null,0.9362641929701141,null,null,null,0.99753862304629681,null,null,1.0518039923197953,null,null,1.137385033961424,null,null,1.1531728835455433,null,null,0.78586378629423059,null,null,null,0.94258487010190151,null,null,1.0560764152256219,null,null,1.1032937821644155,null,null,1.1112589448495058,null,null,0.93912576592540986,null,null,null,1.0764428227908744,null,null,1.1585018635635396,null,null,1.1842496903945186,null,null,1.1486903461490532,null,null,0.88062503636929279,null,null,null,1.0033260312300643,null,null,1.096438018956283,null,null,1.1262094015876136,null,null,1.1818792887659528,null,null,1.0922271458175825,null,null,null,1.1005094701922757,null,null,1.1200726029450394,null,null,1.1101703289438034,null,null,1.1108341204593333,null,null,0.66862226862923302,null,null,null,0.85925497770425374,null,null,1.1005994767716347,null,null,1.1952496749001074,null,null,1.1861009409925596,null,null,1.3548477204779805,null,null,null,1.3620756650336865,null,null,1.3529864450488434,null,null,1.3409608665215234,null,null,1.3327118720253119,null,null,1.1073645538916643,null,null,null,1.0447723403299853]
[{"$f":"'Als-Ob-Allokation KW03'!A63","v":"2012-03-02"},{"$f":"'Als-Ob-Allokation KW03'!B63","v":6.4},5,1.19346567435287,null,null,1.1589552071200697,null,null,1.2010609698543624,null,null,1.1976556706093124,null,null,1.0704650109309379,null,null,1.2947781214996867,null,null,null,1.3014169030662148,null,null,1.2710808838752716,null,null,1.2293506389564286,null,null,1.2198244180522566,null,null,1.2308537942748614,null,null,null,1.3003486109858713,null,null,1.2928203600396373,null,null,1.1950202705898871,null,null,1.0970676469016107,null,null,1.2592189605078841,null,null,null,1.2491837559814818,null,null,1.2186892752018526,null,null,1.1936047935016445,null,null,1.1570341206834858,null,null,1.1934989548284383,null,null,null,1.2210788554680396,null,null,1.1950981727351693,null,null,1.1312744606443494,null,null,1.0848776838926042,null,null,1.1397086102386285,null,null,null,1.1765032888166977,null,null,1.2043985689047827,null,null,1.2426344864541816,null,null,1.2272085833509199,null,null,1.031151636639029,null,null,null,1.1837398639179371,null,null,1.2727302029783831,null,null,1.2863127435798143,null,null,1.2469604932980936,null,null,1.1125341501391277,null,null,null,1.2312146818896996,null,null,1.2702776923128596,null,null,1.2492346996783001,null,null,1.166590954115283,null,null,1.1905942715185598,null,null,null,1.2975992753216088,null,null,1.361218686501694,null,null,1.3599134101490395,null,null,1.3865889186790346,null,null,1.1895342691951221,null,null,null,1.1838826524247952,null,null,1.1872488056596693,null,null,1.1653374513498216,null,null,1.1520099152805905,null,null,0.90100761217266323,null,null,null,1.1049199399746503,null,null,1.292402120702733,null,null,1.3071948429490741,null,null,1.257389772884639,null,null,1.3054414592782937,null,null,null,1.2910304956195655,null,null,1.2668976073382077,null,null,1.2408001731663414,null,null,1.2207041799653482,null,null,1.2458093813279054,null,null,null,1.2140230571489357]
[{"$f":"'Als-Ob-Allokation KW03'!A64","v":"2012-03-03"},{"$f":"'Als-Ob-Allokation KW03'!B64","v":7.8},6,1.0302548259998958,null,null,0.97977126865532382,null,null,1.0570612294891046,null,null,1.0373230261643478,null,null,1.0581473869021918,null,null,0.51398587441867338,null,null,null,0.52636560092961648,null,null,0.52242421230878711,null,null,0.51531462124929051,null,null,0.51754735995610501,null,null,0.71451289377761229,null,null,null,0.79571582983785338,null,null,0.83112155284755329,null,null,0.80316359603866183,null,null,0.79332312918090564,null,null,0.80708593192109235,null,null,null,0.81267039852324996,null,null,0.80977461363730119,null,null,0.80549728480310501,null,null,0.79693304747342042,null,null,0.93864676240580114,null,null,null,1.0292251711660698,null,null,1.0662764193277157,null,null,1.0485217151688075,null,null,1.0558184634595886,null,null,0.85115718228927795,null,null,null,0.90922807835240183,null,null,0.96100648109918052,null,null,1.0432412687753871,null,null,1.0600165691884449,null,null,0.72223950392975289,null,null,null,0.86927596588466316,null,null,0.97711469340563084,null,null,1.0235401306614358,null,null,1.0341752052902142,null,null,0.77825493506235366,null,null,null,0.89452014404029145,null,null,0.96597980328583155,null,null,0.9905558784031715,null,null,0.96372288088471936,null,null,0.81308075868846086,null,null,null,0.92966867739753867,null,null,1.0193594213285215,null,null,1.0493564900438903,null,null,1.1037303144128412,null,null,0.91121306669612123,null,null,null,0.91906822178580871,null,null,0.93655628197178664,null,null,0.9290341970416911,null,null,0.93052596879964333,null,null,0.55451710969890899,null,null,null,0.71522208644409302,null,null,0.9228175033759255,null,null,1.0080703553291599,null,null,1.002791448925799,null,null,0.4205541115579543,null,null,null,0.42337176059972442,null,null,0.42096303661405798,null,null,0.41761335170600583,null,null,0.41537079056158932,null,null,0.98874044674798578,null,null,null,0.93044081684193269]
[{"$f":"'Als-Ob-Allokation KW03'!A65","v":"2012-03-04"},{"$f":"'Als-Ob-Allokation KW03'!B65","v":6.9},7,1.1344866988264131,null,null,1.0938277060674768,null,null,1.1497223168733843,null,null,1.1402649500854574,null,null,1.0664187579896223,null,null,1.0602175092151407,null,null,null,1.0726375855805426,null,null,1.0534637803478524,null,null,1.0258108253399461,null,null,1.0222267049184441,null,null,1.012794668460832,null,null,null,1.0895546481186793,null,null,1.1018207696271165,null,null,1.0338583503945971,null,null,0.97338594219239549,null,null,1.0723598576527713,null,null,null,1.0690555495740608,null,null,1.0502520653150418,null,null,1.0340109750386635,null,null,1.0093976239821896,null,null,1.085860225875622,null,null,null,1.1364190624966417,null,null,1.133588275562514,null,null,1.0869766195573183,null,null,1.0602218814928954,null,null,0.95353357894879753,null,null,null,0.99586786594327048,null,null,1.0307044207246923,null,null,1.081962251043777,null,null,1.0789403504174593,null,null,0.81076176409342771,null,null,null,0.94633237225318434,null,null,1.0334378988499862,null,null,1.0574693515050946,null,null,1.0397041985901916,null,null,0.97507729849136837,null,null,null,1.0935833626181086,null,null,1.1462789612795647,null,null,1.1436331703847145,null,null,1.0833260687875965,null,null,0.92593406582263205,null,null,null,1.0260939064675767,null,null,1.0927860755375862,null,null,1.1031944038613311,null,null,1.1371738022284248,null,null,1.0761180784957571,null,null,null,1.0758400017660352,null,null,1.0847630410675986,null,null,1.0685418547115753,null,null,1.0610184225958772,null,null,0.66874272610686758,null,null,null,0.83494637112257852,null,null,1.0103509990031723,null,null,1.0490286378829847,null,null,1.0211502890483259,null,null,0.52492599676518426,null,null,null,0.52227798101807366,null,null,0.514841209892556,null,null,0.50650659115335384,null,null,0.50024492495000972,null,null,1.1134403150981278,null,null,null,1.0719571157910281]
[{"$f":"'Als-Ob-Allokation KW03'!A66","v":"2012-03-05"},{"$f":"'Als-Ob-Allokation KW03'!B66","v":3.8},{"$f":"WEEKDAY(A67,2)","v":1},{"$f":"($F$3/(1+($F$4/(B67-40))^$F$5)+$F$6)","v":1.5040878811778395},null,null,1.5072660843670262,null,null,1.4587934755801246,null,null,1.4884107820557053,null,null,1.0864501276298899,null,null,{"$f":"($V$3/(1+($V$4/(B67-40))^$V$5)+$V$6)*VLOOKUP(C67,$T$9:$V$15,3)","v":1.3789728305582678},null,null,null,{"$f":"($Y$3/(1+($Y$4/(B67-40))^$Y$5)+$Y$6)*VLOOKUP(C67,$T$9:$V$15,3)","v":1.3437920150178901},null,null,{"$f":"($AB$3/(1+($AB$4/(B67-40))^$AB$5)+$AB$6)*VLOOKUP(C67,$T$9:$V$15,3)","v":1.2797100128868759},null,null,{"$f":"($AE$3/(1+($AE$4/(B67-40))^$AE$5)+$AE$6)*VLOOKUP(C67,$T$9:$V$15,3)","v":1.2008864806536792},null,null,{"$f":"($AH$3/(1+($AH$4/(B67-40))^$AH$5)+$AH$6)*VLOOKUP(C67,$T$9:$V$15,3)","v":1.1666107444637128},null,null,1.9439612149745613,null,null,null,1.8921713604403769,null,null,1.7423498611501447,null,null,1.5112458214019691,null,null,1.2370012811705944,null,null,1.6982754473116901,null,null,null,1.6500812720502851,null,null,1.5653922393158717,null,null,1.4997604363931942,null,null,1.4096675781853714,null,null,1.5864077186077814,null,null,null,1.4889781820388923,null,null,1.3502342690938287,null,null,1.2100730807155355,null,null,1.0744128457823579,null,null,1.5860277665325881,null,null,null,1.5562034195601411,null,null,1.5178899408137081,null,null,1.4554873502079704,null,null,1.3775915562315662,null,null,1.6640235322722179,null,null,null,1.7610778477928795,null,null,1.7612486398043474,null,null,1.6811668788876564,null,null,1.5334515982451515,null,null,1.7137554756097768,null,null,null,1.7743382266508556,null,null,1.7018910493485986,null,null,1.5692398506715253,null,null,1.3720337388942789,null,null,1.7447410242222727,null,null,null,1.7616899622609978,null,null,1.7310903543627179,null,null,1.6472781160903853,null,null,1.5950062586017644,null,null,1.5780034989215188,null,null,null,1.5411005447908543,null,null,1.5104348042356905,null,null,1.4605721342999221,null,null,1.4169304757547967,null,null,1.6090358980650601,null,null,null,1.7949762972733934,null,null,1.8063069701952406,null,null,1.6361498379159714,null,null,1.4805227482344194,null,null,1.6029182096871737,null,null,null,1.5448268183249796,null,null,1.4853133318573066,null,null,1.424191870277586,null,null,1.3740242669332969,null,null,1.5978520925870643,null,null,null,1.6454538251446778]
[{"$f":"'Als-Ob-Allokation KW03'!A67","v":"2012-03-06"},{"$f":"'Als-Ob-Allokation KW03'!B67","v":3.2},2,1.574913231808666,null,null,1.5875726287586507,null,null,{"$f":"($L$3/(1+($L$4/(B68-40))^$L$5)+$L$6)","v":1.5146733480716683},null,null,{"$f":"($O$3/(1+($O$4/(B68-40))^$O$5)+$O$6)","v":1.5517887645690414},null,null,{"$f":"($R$3/(1+($R$4/(B68-40))^$R$5)+$R$6)","v":1.0891747994156802},null,null,1.4579532397014319,null,null,null,1.411745876195553,null,null,1.3377373407354842,null,null,1.2481975443570037,null,null,1.2070302439024392,null,null,{"$f":"($AL$3/(1+($AL$4/(B68-40))^$AL$5)+$AL$6)*VLOOKUP(C68,$AJ$9:$AL$15,3)","v":2.0581326763991044},null,null,null,{"$f":"($AO$3/(1+($AO$4/(B68-40))^$AO$5)+$AO$6)*VLOOKUP(C68,$AJ$9:$AL$15,3)","v":1.9715776334173698},null,null,{"$f":"($AR$3/(1+($AR$4/(B68-40))^$AR$5)+$AR$6)*VLOOKUP(C68,$AJ$9:$AL$15,3)","v":1.7886945767333846},null,null,{"$f":"($AU$3/(1+($AU$4/(B68-40))^$AU$5)+$AU$6)*VLOOKUP(C68,$AJ$9:$AL$15,3)","v":1.533556859121644},null,null,{"$f":"($AX$3/(1+($AX$4/(B68-40))^$AX$5)+$AX$6)*VLOOKUP(C68,$AJ$9:$AL$15,3)","v":1.227286315721773},null,null,{"$f":"($BB$3/(1+($BB$4/(B68-40))^$BB$5)+$BB$6)*VLOOKUP(C68,$AZ$9:$BB$15,3)","v":1.7429891000843512},null,null,null,{"$f":"($BE$3/(1+($BE$4/(B68-40))^$BE$5)+$BE$6)*VLOOKUP(C68,$AZ$9:$BB$15,3)","v":1.6867127419004122},null,null,{"$f":"($BH$3/(1+($BH$4/(B68-40))^$BH$5)+$BH$6)*VLOOKUP(C68,$AZ$9:$BB$15,3)","v":1.5923381536782553},null,null,{"$f":"($BK$3/(1+($BK$4/(B68-40))^$BK$5)+$BK$6)*VLOOKUP(C68,$AZ$9:$BB$15,3)","v":1.519429531868697},null,null,{"$f":"($BN$3/(1+($BN$4/(B68-40))^$BN$5)+$BN$6)*VLOOKUP(C68,$AZ$9:$BB$15,3)","v":1.4200571803419328},null,null,{"$f":"($BR$3/(1+($BR$4/(B68-40))^$BR$5)+$BR$6)*VLOOKUP(C68,$BP$9:$BR$15,3)","v":1.8021150494433096},null,null,null,{"$f":"($BU$3/(1+($BU$4/(B68-40))^$BU$5)+$BU$6)*VLOOKUP(C68,$BP$9:$BR$15,3)","v":1.6687624417243985},null,null,{"$f":"($BX$3/(1+($BX$4/(B68-40))^$BX$5)+$BX$6)*VLOOKUP(C68,$BP$9:$BR$15,3)","v":1.4942625572066943},null,null,{"$f":"($CA$3/(1+($CA$4/(B68-40))^$CA$5)+$CA$6)*VLOOKUP(C68,$BP$9:$BR$15,3)","v":1.3259765824253924},null,null,{"$f":"($CD$3/(1+($CD$4/(B68-40))^$CD$5)+$CD$6)*VLOOKUP(C68,$BP$9:$BR$15,3)","v":1.1600396144407052},null,null,{"$f":"($CH$3/(1+($CH$4/(B68-40))^$CH$5)+$CH$6)*VLOOKUP(C68,$CF$9:$CH$15,3)","v":1.6579664630998814},null,null,null,1.6115782403784158,null,null,{"$f":"($CN$3/(1+($CN$4/(B68-40))^$CN$5)+$CN$6)*VLOOKUP(C68,$CF$9:$CH$15,3)","v":1.55764625164364},null,null,{"$f":"($CQ$3/(1+($CQ$4/(B68-40))^$CQ$5)+$CQ$6)*VLOOKUP(C68,$CF$9:$CH$15,3)","v":1.4743939439663634},null,null,{"$f":"($CT$3/(1+($CT$4/(B68-40))^$CT$5)+$CT$6)*VLOOKUP(C68,$CF$9:$CH$15,3)","v":1.3843151779508525},null,null,{"$f":"($CX$3/(1+($CX$4/(B68-40))^$CX$5)+$CX$6)*VLOOKUP(C68,$CV$9:$CX$15,3)","v":1.8022779446832837},null,null,null,{"$f":"($DA$3/(1+($DA$4/(B68-40))^$DA$5)+$DA$6)*VLOOKUP(C68,$CV$9:$CX$15,3)","v":1.8746274435923156},null,null,{"$f":"($DD$3/(1+($DD$4/(B68-40))^$DD$5)+$DD$6)*VLOOKUP(C68,$CV$9:$CX$15,3)","v":1.8483733365131685},null,null,{"$f":"($DG$3/(1+($DG$4/(B68-40))^$DG$5)+$DG$6)*VLOOKUP(C68,$CV$9:$CX$15,3)","v":1.7441888631374112},null,null,{"$f":"($DJ$3/(1+($DJ$4/(B68-40))^$DJ$5)+$DJ$6)*VLOOKUP(C68,$CV$9:$CX$15,3)","v":1.5734111697292854},null,null,{"$f":"($DN$3/(1+($DN$4/(B68-40))^$DN$5)+$DN$6)*VLOOKUP(C68,$DL$9:$DN$15,3)","v":1.8783713615431978},null,null,null,{"$f":"($DQ$3/(1+($DQ$4/(B68-40))^$DQ$5)+$DQ$6)*VLOOKUP(C68,$DL$9:$DN$15,3)","v":1.9165128418880035},null,null,{"$f":"($DT$3/(1+($DT$4/(B68-40))^$DT$5)+$DT$6)*VLOOKUP(C68,$DL$9:$DN$15,3)","v":1.8119242894573933},null,null,{"$f":"($DW$3/(1+($DW$4/(B68-40))^$DW$5)+$DW$6)*VLOOKUP(C68,$DL$9:$DN$15,3)","v":1.6501626068214557},null,null,{"$f":"($DZ$3/(1+($DZ$4/(B68-40))^$DZ$5)+$DZ$6)*VLOOKUP(C68,$DL$9:$DN$15,3)","v":1.424146090447949},null,null,{"$f":"($ED$3/(1+($ED$4/(B68-40))^$ED$5)+$ED$6)*VLOOKUP(C68,$EB$9:$ED$15,3)","v":1.8156014093818587},null,null,null,{"$f":"($EG$3/(1+($EG$4/(B68-40))^$EG$5)+$EG$6)*VLOOKUP(C68,$EB$9:$ED$15,3)","v":1.8060917088861841},null,null,{"$f":"($EJ$3/(1+($EJ$4/(B68-40))^$EJ$5)+$EJ$6)*VLOOKUP(C68,$EB$9:$ED$15,3)","v":1.7536373738312527},null,null,{"$f":"($EM$3/(1+($EM$4/(B68-40))^$EM$5)+$EM$6)*VLOOKUP(C68,$EB$9:$ED$15,3)","v":1.6525142261430699},null,null,{"$f":"($EP$3/(1+($EP$4/(B68-40))^$EP$5)+$EP$6)*VLOOKUP(C68,$EB$9:$ED$15,3)","v":1.5833586991080859},null,null,{"$f":"($ET$3/(1+($ET$4/(B68-40))^$ET$5)+$ET$6)*VLOOKUP(C68,$ER$9:$ET$15,3)","v":1.6776722546427938},null,null,null,{"$f":"($EW$3/(1+($EW$4/(B68-40))^$EW$5)+$EW$6)*VLOOKUP(C68,$ER$9:$ET$15,3)","v":1.632947337864129},null,null,{"$f":"($EZ$3/(1+($EZ$4/(B68-40))^$EZ$5)+$EZ$6)*VLOOKUP(C68,$ER$9:$ET$15,3)","v":1.5938908046264104},null,null,{"$f":"($FC$3/(1+($FC$4/(B68-40))^$FC$5)+$FC$6)*VLOOKUP(C68,$ER$9:$ET$15,3)","v":1.5371737871617892},null,null,{"$f":"($FF$3/(1+($FF$4/(B68-40))^$FF$5)+$FF$6)*VLOOKUP(C68,$ER$9:$ET$15,3)","v":1.4861819584462388},null,null,{"$f":"($FJ$3/(1+($FJ$4/(B68-40))^$FJ$5)+$FJ$6)*VLOOKUP(C68,$FH$9:$FJ$15,3)","v":1.9100773182161326},null,null,null,{"$f":"($FM$3/(1+($FM$4/(B68-40))^$FM$5)+$FM$6)*VLOOKUP(C68,$FH$9:$FJ$15,3)","v":2.0846586276670984},null,null,{"$f":"($FP$3/(1+($FP$4/(B68-40))^$FP$5)+$FP$6)*VLOOKUP(C68,$FH$9:$FJ$15,3)","v":2.0408113066519356},null,null,{"$f":"($FS$3/(1+($FS$4/(B68-40))^$FS$5)+$FS$6)*VLOOKUP(C68,$FH$9:$FJ$15,3)","v":1.8132975739326316},null,null,{"$f":"($FV$3/(1+($FV$4/(B68-40))^$FV$5)+$FV$6)*VLOOKUP(C68,$FH$9:$FJ$15,3)","v":1.6184189699528007},null,null,{"$f":"($FZ$3/(1+($FZ$4/(B68-40))^$FZ$5)+$FZ$6)*VLOOKUP(C68,$FX$9:$FZ$15,3)","v":1.6583576800172266},null,null,null,{"$f":"($GC$3/(1+($GC$4/(B68-40))^$GC$5)+$GC$6)*VLOOKUP(C68,$FX$9:$FZ$15,3)","v":1.5908231233350385},null,null,{"$f":"($GF$3/(1+($GF$4/(B68-40))^$GF$5)+$GF$6)*VLOOKUP(C68,$FX$9:$FZ$15,3)","v":1.5234485465063454},null,null,{"$f":"($GI$3/(1+($GI$4/(B68-40))^$GI$5)+$GI$6)*VLOOKUP(C68,$FX$9:$FZ$15,3)","v":1.4545093812819305},null,null,{"$f":"($GL$3/(1+($GL$4/(B68-40))^$GL$5)+$GL$6)*VLOOKUP(C68,$FX$9:$FZ$15,3)","v":1.3972809834509297},null,null,{"$f":"($GP$3/(1+($GP$4/(B68-40))^$GP$5)+$GP$6)*VLOOKUP(C68,$GN$9:$GP$15,3)","v":1.6704123711469478},null,null,null,{"$f":"($GS$3/(1+($GS$4/(B68-40))^$GS$5)+$GS$6)*VLOOKUP(C68,$GN$9:$GP$15,3)","v":1.7386471220974242}]
[{"$f":"'Als-Ob-Allokation KW03'!A68","v":"2012-03-07"},{"$f":"'Als-Ob-Allokation KW03'!B68","v":4.5999999999999996},3,1.4086632997249737,null,null,1.3994864419382966,null,null,1.3818371928947761,null,null,1.4012546017736673,null,null,1.0823172063448903,null,null,1.3254297646612867,null,null,null,1.3032296205854659,null,null,1.2499689781398153,null,null,1.1828096579336671,null,null,1.1563101588758651,null,null,1.639170439374485,null,null,null,1.6326214423351653,null,null,1.5359710099916386,null,null,1.3553096405660596,null,null,1.1458094362163425,null,null,1.4973936220951778,null,null,null,1.4632718370752216,null,null,1.3983824190723186,null,null,1.3477462593354881,null,null,1.2774963529192294,null,null,1.5438499442639089,null,null,null,1.4804020047340685,null,null,1.3690387014356675,null,null,1.2451066715008356,null,null,1.1295709922630863,null,null,1.5179077085821244,null,null,null,1.5101526535705674,null,null,1.4927478431971108,null,null,1.4596270747821656,null,null,1.3977930819385103,null,null,1.4431968316183807,null,null,null,1.5645107449341158,null,null,1.5970665809607312,null,null,1.5495114987459837,null,null,1.4368445772482719,null,null,1.5517342307544602,null,null,null,1.6390354432779239,null,null,1.6049525580976713,null,null,1.5066485397300078,null,null,1.3421058304384073,null,null,1.4593068971500027,null,null,null,1.5055608108392513,null,null,1.5058930874872227,null,null,1.4530433767929576,null,null,1.4280214088332543,null,null,1.4916979254611051,null,null,null,1.4641709552774953,null,null,1.4438817225787177,null,null,1.4017941080852718,null,null,1.3668116679119222,null,null,1.4403522266971582,null,null,null,1.6546312211857968,null,null,1.7349228678264781,null,null,1.6181258578826545,null,null,1.4917174153367763,null,null,1.5863085384501041,null,null,null,1.5394833327185025,null,null,1.4886815573123282,null,null,1.4361418203089467,null,null,1.3936898405889337,null,null,1.4841282331411609,null,null,null,1.5048724582361164]
[{"$f":"'Als-Ob-Allokation KW03'!A69","v":"2012-03-08"},{"$f":"'Als-Ob-Allokation KW03'!B69","v":4.2},4,1.4564800436323524,null,null,{"$f":"($I$3/(1+($I$4/(B70-40))^$I$5)+$I$6)","v":1.4534260873311857},null,null,1.4206410593509802,null,null,1.4451778360393894,null,null,1.0844596243363558,null,null,1.4204415730647388,null,null,null,1.3903203257949885,null,null,1.3286578054077753,null,null,1.2519011652235001,null,null,1.2199731443490947,null,null,1.7724480646547378,null,null,null,1.7447530891839103,null,null,1.62355504697243,null,null,1.4199904012072693,null,null,1.1808577096050075,null,null,1.582678,null,null,null,1.542094132138129,null,null,1.468137803001587,null,null,1.4106545284597465,null,null,1.3313478748841034,null,null,1.6382952906958743,null,null,null,1.5534358914199364,null,null,1.4219849584001001,null,null,1.2834947179679144,null,null,1.1516394645937404,null,null,1.6073265392932745,null,null,null,1.5877640311401511,null,null,1.558767735617421,null,null,1.5088644108268523,null,null,1.436294163324525,null,null,1.5502751722229842,null,null,null,1.6603168850964147,null,null,1.6772192249854017,null,null,1.6138344279978332,null,null,1.4838448304217342,null,null,1.6470942222776885,null,null,null,1.7223457643244908,null,null,1.6688479004529824,null,null,1.5523137376297611,null,null,1.3696943498888787,null,null,1.541807679566902,null,null,null,1.5732753606356165,null,null,1.5593159761963837,null,null,1.4939838831635546,null,null,1.4571978586340253,null,null,1.5491062477071229,null,null,null,1.516569642797156,null,null,1.4908207677102647,null,null,1.4443896982192908,null,null,1.4046742646885289,null,null,1.5387363656206754,null,null,null,1.7419135531613292,null,null,1.7881959754093402,null,null,1.6427529310583164,null,null,1.5003449059432219,null,null,1.5758014322030018,null,null,null,1.5238170940123399,null,null,1.4692287612515829,null,null,1.4129918901234293,null,null,1.3671881326322015,null,null,1.5485625686030609,null,null,null,1.5826814457547422]
[{"$f":"'Als-Ob-Allokation KW03'!A70","v":"2012-03-09"},{"$f":"'Als-Ob-Allokation KW03'!B70","v":3.2},5,1.574913231808666,null,null,1.5875726287586507,null,null,1.5146733480716683,null,null,1.5517887645690414,null,null,1.0891747994156802,null,null,1.4827921540518891,null,null,null,1.4357975631417088,null,null,1.3605281561917753,null,null,1.2694628847345071,null,null,1.2275942236174839,null,null,1.9460983748653591,null,null,null,1.8642549493103726,null,null,1.6913271184254328,null,null,1.4500778037895179,null,null,1.1604790749930662,null,null,1.648109616051022,null,null,null,1.5948966573040093,null,null,1.5056593428811795,null,null,1.4367194965611165,null,null,1.3427564717132063,null,null,1.8542077221884872,null,null,null,1.7170003695931249,null,null,1.537456320230862,null,null,1.3643058024146446,null,null,1.1935721927437213,null,null,1.7733541778892157,null,null,null,1.7237375237536667,null,null,1.6660520882075998,null,null,1.5770057589094884,null,null,1.4806578775693289,null,null,1.8059769123179934,null,null,null,1.8784749002298682,null,null,1.8521669096236824,null,null,1.7477686096313405,null,null,1.5766404147023421,null,null,1.7644873998721382,null,null,null,1.8003163966609252,null,null,1.7020689538426621,null,null,1.5501147361427434,null,null,1.337801397327566,null,null,1.8671003784468145,null,null,null,1.8573209382554596,null,null,1.8033787523075084,null,null,1.6993872779989372,null,null,1.6282701759568827,null,null,1.5759564988258119,null,null,null,1.5339432134169833,null,null,1.4972546425669551,null,null,1.4439763267218748,null,null,1.3960760865951791,null,null,1.7784145249763126,null,null,null,1.9409618384049359,null,null,1.900136939940883,null,null,1.6883058674283484,null,null,1.5068603643486551,null,null,1.4823338248017635,null,null,null,1.4219676209850094,null,null,1.3617444162033729,null,null,1.3001226938830794,null,null,1.2489687173517781,null,null,1.6379771794741915,null,null,null,1.7048869838042704]
[{"$f":"'Als-Ob-Allokation KW03'!A71","v":"2012-03-10"},{"$f":"'Als-Ob-Allokation KW03'!B71","v":5.2},6,1.3367512391453371,null,null,1.3186668367901198,null,null,1.3225550406318136,null,null,1.3342751585493655,null,null,1.0787929539743475,null,null,0.58205249142482574,null,null,null,0.57635658289834213,null,null,0.55597561311028232,null,null,0.52970235179039038,null,null,0.52035679494543374,null,null,1.1049336500974294,null,null,null,1.1211120331278426,null,null,1.0731992295952677,null,null,0.96054705822165487,null,null,0.83343782169531588,null,null,1.0461938464664686,null,null,null,1.0271053773476766,null,null,0.98764868725129085,null,null,0.95658304389938464,null,null,0.91304215343566064,null,null,1.4659164217608549,null,null,null,1.4324726192234265,null,null,1.3472972402659,null,null,1.2404259776296147,null,null,1.1451425547481093,null,null,1.2977517662488625,null,null,null,1.3059439465883329,null,null,1.3050448574947389,null,null,1.2971868194613447,null,null,1.2541766862970269,null,null,1.224859602871287,null,null,null,1.3527947040400368,null,null,1.4038824928686005,null,null,1.3798689943557112,null,null,1.2971501117726845,null,null,1.2058149586177886,null,null,null,1.293298194252716,null,null,1.2875473925942045,null,null,1.2264115903613106,null,null,1.1089335027115521,null,null,1.263054972194064,null,null,null,1.3258836536136192,null,null,1.3458036565847638,null,null,1.3130265346564356,null,null,1.3057106339043203,null,null,1.199319322458851,null,null,null,1.1821678094338177,null,null,1.1717837995055063,null,null,1.1414294896257002,null,null,1.117645153135544,null,null,1.0630435501043247,null,null,null,1.2482643932110991,null,null,1.3540753600081659,null,null,1.2944670306929098,null,null,1.2102843239716614,null,null,0.47250289913099958,null,null,null,0.46121576772720585,null,null,0.44805939968590686,null,null,0.43434074449505133,null,null,0.42339874277720646,null,null,1.2848646179429177,null,null,null,1.2866232805239544]
[{"$f":"'Als-Ob-Allokation KW03'!A72","v":"2012-03-11"},{"$f":"'Als-Ob-Allokation KW03'!B72","v":7.4},7,1.0762221225355455,null,null,1.029896861455746,null,null,1.0982318254542243,null,null,1.0829512655765903,null,null,1.0619890068332216,null,null,1.0341370092955653,null,null,null,1.0532778381679506,null,null,1.0404283736770723,null,null,1.0202974671427023,null,null,1.0211439192626635,null,null,0.9269448278836796,null,null,null,1.0162269176782335,null,null,1.0460149961138947,null,null,0.99728832493074804,null,null,0.96392661651008182,null,null,1.0169348746947888,null,null,null,1.0192347805909159,null,null,1.008947937682505,null,null,0.99889218702933658,null,null,0.98229298604841875,null,null,0.98999899430966665,null,null,null,1.0622531042264309,null,null,1.0815080367299661,null,null,1.0513266968976409,null,null,1.0435606202394412,null,null,0.87517446615557004,null,null,null,0.92532758496714163,null,null,0.96874038292253872,null,null,1.0356663047253118,null,null,1.0433701958272175,null,null,0.7285887038006944,null,null,null,0.86492955639745672,null,null,0.95971400569695009,null,null,0.99471118083935162,null,null,0.99265287651018141,null,null,0.89214462078337919,null,null,null,1.0142074570925961,null,null,1.0806047080999159,null,null,1.0944101212028667,null,null,1.0520436945018168,null,null,0.8459818920516351,null,null,null,0.95374183885285757,null,null,1.0319944121836031,null,null,1.0530701375258302,null,null,1.0976646924747373,null,null,1.0171394623514571,null,null,null,1.0217645407586449,null,null,1.0361817622296858,null,null,1.0245685442535284,null,null,1.0221559974736292,null,null,0.58594089860273169,null,null,null,0.74485171960806507,null,null,0.93363063324946105,null,null,0.99656383546651228,null,null,0.98178407479798357,null,null,0.51282031246138593,null,null,null,0.5135021248383167,null,null,0.50858601161281558,null,null,0.50265696793543035,null,null,0.49838936214649582,null,null,1.0556450894566638,null,null,null,1.0036640752284294]
[{"$f":"'Als-Ob-Allokation KW03'!A73","v":"2012-03-12"},{"$f":"'Als-Ob-Allokation KW03'!B73","v":8.1999999999999993},1,0.9849646895634937,null,null,0.93067459665669816,null,null,1.0160210971852779,null,null,0.99203204323559047,null,null,1.0540225683316358,null,null,1.1255030463955682,null,null,null,1.1590209974641859,null,null,1.1559748956762121,null,null,1.1470900319401713,null,null,1.1561185333125292,null,null,0.95953968523029454,null,null,null,1.0860309401916115,null,null,1.1515689860061962,null,null,1.1286734687566002,null,null,1.1399820407062915,null,null,1.116658616377971,null,null,null,1.1300261691784668,null,null,1.1339606228777352,null,null,1.1335844603606138,null,null,1.128535759804409,null,null,0.77914962143478306,null,null,null,0.87448110143714797,null,null,0.92270264857176743,null,null,0.9182983564568844,null,null,0.93829260943870596,null,null,0.80147156311159018,null,null,null,0.86533994682119764,null,null,0.92367464867630422,null,null,1.0187726556826164,null,null,1.0443851575398699,null,null,0.70611709895384278,null,null,null,0.86184235466932779,null,null,0.98152407529146213,null,null,1.0394398437581545,null,null,1.0638106112968724,null,null,0.84294449661021542,null,null,null,0.97976722376150382,null,null,1.072683605680459,null,null,1.1141331043290779,null,null,1.0972737291764545,null,null,0.85942994677103157,null,null,null,0.9969119033095345,null,null,1.1081719999387389,null,null,1.1510320543068349,null,null,1.2217801168953772,null,null,1.0140687062838505,null,null,null,1.0271500019161652,null,null,1.051988282006425,null,null,1.0470503680054426,null,null,1.0530762808258936,null,null,0.56219409732722503,null,null,null,0.73590187951920139,null,null,0.9779453456760232,null,null,1.0941816517052332,null,null,1.0991959310822998,null,null,1.3251455230389964,null,null,null,1.3414542428182981,null,null,1.3392122705729443,null,null,1.3335897133007744,null,null,1.3306091375461488,null,null,1.0463090735230709,null,null,null,0.97435240101928688]
[{"$f":"'Als-Ob-Allokation KW03'!A74","v":"2012-03-13"},{"$f":"'Als-Ob-Allokation KW03'!B74","v":8.3000000000000007},2,0.97375892846096601,null,null,0.91857382232386753,null,null,1.0057936154156759,null,null,0.98077703075114031,null,null,1.0529450831368492,null,null,1.1570661075476505,null,null,null,1.1931915478481376,null,null,1.1915323031014939,null,null,1.1841707381586504,null,null,1.1945443310414665,null,null,0.92458086292609831,null,null,null,1.0507923897480458,null,null,1.1184787212856482,null,null,1.1002351956316334,null,null,1.1175724944176273,null,null,1.084127637105466,null,null,null,1.0985486737972527,null,null,1.1044021716838566,null,null,1.1054498021893782,null,null,1.1022648764996494,null,null,0.80994844027514079,null,null,null,0.91460182614255436,null,null,0.96959882213946402,null,null,0.96794513228602674,null,null,0.99267179015338702,null,null,0.76517282173577039,null,null,null,0.82840799780328345,null,null,0.88647666529556379,null,null,0.98172245671818836,null,null,1.0086929975277352,null,null,0.68161462726878019,null,null,null,0.83488163645808766,null,null,0.95395079964239338,null,null,1.013049903273564,null,null,1.0402017663021952,null,null,0.84028528839143357,null,null,null,0.97944206535979861,null,null,1.0760694861457569,null,null,1.1212902437887655,null,null,1.1077288328008172,null,null,0.81616680777407358,null,null,null,0.95018232050716578,null,null,1.0599248077476984,null,null,1.1034086464197836,null,null,1.1739184399184894,null,null,1.0178201929256838,null,null,null,1.032071694274642,null,null,1.058396660059459,null,null,1.0543387794224022,null,null,1.0615315044035929,null,null,0.58118146869936704,null,null,null,0.76360496583238147,null,null,1.0223555421126662,null,null,1.1508758338870646,null,null,1.159023416495538,null,null,1.3353455114393145,null,null,null,1.3537002755738738,null,null,1.3528256434430184,null,null,1.3484279618411927,null,null,1.3464733910703703,null,null,1.0342546430889792,null,null,null,0.96058100863436002]
[{"$f":"'Als-Ob-Allokation KW03'!A75","v":"2012-03-14"},{"$f":"'Als-Ob-Allokation KW03'!B75","v":7.5},3,1.0646720260138169,null,null,1.0172750855098933,null,null,1.0879325911659443,null,null,1.0715196250589543,null,null,1.0610542114104857,null,null,1.1584295150224522,null,null,null,1.1814726598960701,null,null,1.1684342686320526,null,null,1.147482479875271,null,null,1.1494353783611435,null,null,1.0272714049776843,null,null,null,1.1305879366756271,null,null,1.1679494389573288,null,null,1.1172358830036815,null,null,1.0856726409643447,null,null,1.1351808234497809,null,null,null,1.1390312512900598,null,null,1.1293420702770613,null,null,1.1193814637295212,null,null,1.1024336986596914,null,null,0.96424239017368318,null,null,null,1.0400853100400114,null,null,1.0634640629088608,null,null,1.0367173118515711,null,null,1.0327299567105725,null,null,0.96602881841668764,null,null,null,1.0239772319878415,null,null,1.0745448744604784,null,null,1.1531188848986906,null,null,1.1641430823049341,null,null,0.8179158554331788,null,null,null,0.97430036617501581,null,null,1.0845611388749896,null,null,1.1270621078289074,null,null,1.1281773431587963,null,null,0.97019738947941214,null,null,null,1.1059593296828212,null,null,1.182295140382382,null,null,1.2010843344167743,null,null,1.1580390267830425,null,null,0.91304840352040895,null,null,null,1.032957206266141,null,null,1.1213672943995987,null,null,1.1467664143893646,null,null,1.1980225479361877,null,null,1.1134553232222106,null,null,null,1.1196308803130726,null,null,1.1367808031337663,null,null,1.1249256110877361,null,null,1.1233706521755824,null,null,0.71713877166367623,null,null,null,0.91493477811708257,null,null,1.1550794430739884,null,null,1.2399902024641323,null,null,1.2245516211094536,null,null,1.3983528051629399,null,null,null,1.402057964514918,null,null,1.3899788960919794,null,null,1.3750523810304749,null,null,1.3644483866605477,null,null,1.1211180148316833,null,null,null,1.0631990197326249]
[{"$f":"'Als-Ob-Allokation KW03'!A76","v":"2012-03-15"},{"$f":"'Als-Ob-Allokation KW03'!B76","v":7.8},4,1.0302548259998958,null,null,0.97977126865532382,null,null,1.0570612294891046,null,null,1.0373230261643478,null,null,1.0581473869021918,null,null,1.2026549118456717,null,null,null,1.2316217368825095,null,null,1.2223994398890476,null,null,1.2057639932075832,null,null,1.2109882888667889,null,null,0.9948297231230564,null,null,null,1.1078900962823015,null,null,1.1571861494752538,null,null,1.118259761059466,null,null,1.1045586942141277,null,null,1.1237209029841189,null,null,null,1.131496260730628,null,null,1.1274644050406886,null,null,1.1215089997612506,null,null,1.1095848512600173,null,null,0.91625918512555449,null,null,null,1.0046772166201041,null,null,1.0408447588821819,null,null,1.0235135205331667,null,null,1.0306362347540536,null,null,0.91956696913243163,null,null,null,0.98230517894691749,null,null,1.038245150871153,null,null,1.1270893691121002,null,null,1.1452129454363131,null,null,0.76852255224359756,null,null,null,0.92498150581732375,null,null,1.0397308287969995,null,null,1.0891313328330214,null,null,1.1004479316240574,null,null,0.92178411834586238,null,null,null,1.0594914663158939,null,null,1.144130028857959,null,null,1.1732385313727858,null,null,1.1414568749440457,null,null,0.86397429902080836,null,null,null,0.98785985929830322,null,null,1.0831646574851668,null,null,1.1150393466093378,null,null,1.1728166169385754,null,null,1.0792629708701011,null,null,null,1.0885668080609794,null,null,1.1092800928907371,null,null,1.1003707521168744,null,null,1.1021376429552436,null,null,0.65037630564285998,null,null,null,0.83886230047664601,null,null,1.0823446709409672,null,null,1.1823351562281903,null,null,1.1761436869580779,null,null,1.348333145902856,null,null,null,1.3573667743756963,null,null,1.3496441952831419,null,null,1.3389048134396837,null,null,1.3317149669023873,null,null,1.0950566238176618,null,null,null,1.0304882165023554]
[{"$f":"'Als-Ob-Allokation KW03'!A77","v":"2012-03-16"},{"$f":"'Als-Ob-Allokation KW03'!B77","v":10.9},5,0.70352756022791907,null,null,0.63335617251242715,null,null,0.75026152921319489,null,null,0.70453952903326056,null,null,1.0174688053340266,null,null,1.0208209669513759,null,null,null,1.0928625669913894,null,null,1.1295266128522037,null,null,1.1700125891664084,null,null,1.2077887802931666,null,null,0.50346254829636217,null,null,null,0.64497019907334208,null,null,0.7645430861220035,null,null,0.83913793346876087,null,null,0.99851316090399556,null,null,0.72602410612503732,null,null,null,0.77074460881029938,null,null,0.8231213076790771,null,null,0.85659791053307444,null,null,0.89130232813461374,null,null,0.45171181766055035,null,null,null,0.62400125813613927,null,null,0.7611296206396243,null,null,0.83097904018907764,null,null,0.93934900287289513,null,null,0.48073378704511571,null,null,null,0.56389232086869234,null,null,0.64820735679611718,null,null,0.80586642193946501,null,null,0.8850296087192645,null,null,0.35643783863663392,null,null,null,0.48220836971404141,null,null,0.59953658279652366,null,null,0.68995832931664891,null,null,0.77678565501541663,null,null,0.4545819969588602,null,null,null,0.5747076698326038,null,null,0.69535638619330509,null,null,0.79365554450111453,null,null,0.85029097702698608,null,null,0.47225151837544044,null,null,null,0.60750430035018455,null,null,0.74818099736155019,null,null,0.82788544102020045,null,null,0.93450956293898491,null,null,0.66503895031931037,null,null,null,0.69643734923339429,null,null,0.74163355676270604,null,null,0.75803221200967441,null,null,0.78727298998045991,null,null,0.24044347777220229,null,null,null,0.35417760873905807,null,null,0.57810739347195739,null,null,0.77138924534777342,null,null,0.83558162826345106,null,null,1.0436449744264991,null,null,null,1.1017548828985715,null,null,1.133362012837384,null,null,1.1581772296036636,null,null,1.1800918107731544,null,null,0.73224393776337382,null,null,null,0.63369591188755414]
[{"$f":"'Als-Ob-Allokation KW03'!A78","v":"2012-03-17"},{"$f":"'Als-Ob-Allokation KW03'!B78","v":11.2},6,0.67544573169585453,null,null,0.60455790318758218,null,null,0.72272419309822755,null,null,0.67544115851091702,null,null,1.0123462461443549,null,null,0.42719320444418363,null,null,null,0.4593447195800423,null,null,0.47673206144260921,null,null,0.49622771209079508,null,null,0.51360195121951224,null,null,0.34895142481178315,null,null,null,0.45404373523957903,null,null,0.54542880176240216,null,null,0.60740898328283,null,null,0.73687941090636955,null,null,0.51587704363169828,null,null,null,0.55173599363632209,null,null,0.59440488247274259,null,null,0.6217950023917469,null,null,0.65016097967348518,null,null,0.42445636515373181,null,null,null,0.60392276821052204,null,null,0.75001555762560601,null,null,0.82813947954451372,null,null,0.94649673622070107,null,null,0.42654373509157034,null,null,null,0.50558351887135211,null,null,0.5864176789434522,null,null,0.7395081353624211,null,null,0.81918149839425225,null,null,0.31021405674397184,null,null,null,0.42507796839443529,null,null,0.5333834546530053,null,null,0.62029155056433616,null,null,0.70620195395149621,null,null,0.38007625328125727,null,null,null,0.48575979480088521,null,null,0.5947174218845811,null,null,0.68640368215691683,null,null,0.74212846984682512,null,null,0.38558746292252416,null,null,null,0.50204719097739015,null,null,0.62590286082937807,null,null,0.69759714546613494,null,null,0.79260987807757322,null,null,0.56907595860462723,null,null,null,0.59844088878603952,null,null,0.64033366646482603,null,null,0.6566882918224306,null,null,0.68472935826223891,null,null,0.19329028169887524,null,null,null,0.28959589336982616,null,null,0.48346470597694274,null,null,0.65827677467417545,null,null,0.72034143919279137,null,null,0.35316313354717543,null,null,null,0.3746990358455986,null,null,0.38682563858384361,null,null,0.39641075931400843,null,null,0.404825732069369,null,null,0.64783810246215434,null,null,null,0.55612752189118198]
[{"$f":"'Als-Ob-Allokation KW03'!A79","v":"2012-03-18"},{"$f":"'Als-Ob-Allokation KW03'!B79","v":7.4},7,1.0762221225355455,null,null,1.029896861455746,null,null,1.0982318254542243,null,null,1.0829512655765903,null,null,1.0619890068332216,null,null,1.0341370092955653,null,null,null,1.0532778381679506,null,null,1.0404283736770723,null,null,1.0202974671427023,null,null,1.0211439192626635,null,null,0.9269448278836796,null,null,null,1.0162269176782335,null,null,1.0460149961138947,null,null,0.99728832493074804,null,null,0.96392661651008182,null,null,1.0169348746947888,null,null,null,1.0192347805909159,null,null,1.008947937682505,null,null,0.99889218702933658,null,null,0.98229298604841875,null,null,0.98999899430966665,null,null,null,1.0622531042264309,null,null,1.0815080367299661,null,null,1.0513266968976409,null,null,1.0435606202394412,null,null,0.87517446615557004,null,null,null,0.92532758496714163,null,null,0.96874038292253872,null,null,1.0356663047253118,null,null,1.0433701958272175,null,null,0.7285887038006944,null,null,null,0.86492955639745672,null,null,0.95971400569695009,null,null,0.99471118083935162,null,null,0.99265287651018141,null,null,0.89214462078337919,null,null,null,1.0142074570925961,null,null,1.0806047080999159,null,null,1.0944101212028667,null,null,1.0520436945018168,null,null,0.8459818920516351,null,null,null,0.95374183885285757,null,null,1.0319944121836031,null,null,1.0530701375258302,null,null,1.0976646924747373,null,null,1.0171394623514571,null,null,null,1.0217645407586449,null,null,1.0361817622296858,null,null,1.0245685442535284,null,null,1.0221559974736292,null,null,0.58594089860273169,null,null,null,0.74485171960806507,null,null,0.93363063324946105,null,null,0.99656383546651228,null,null,0.98178407479798357,null,null,0.51282031246138593,null,null,null,0.5135021248383167,null,null,0.50858601161281558,null,null,0.50265696793543035,null,null,0.49838936214649582,null,null,1.0556450894566638,null,null,null,1.0036640752284294]
[{"$f":"'Als-Ob-Allokation KW03'!A80","v":"2012-03-19"},{"$f":"'Als-Ob-Allokation KW03'!B80","v":6.7},1,1.1580035259082817,null,null,1.1197485946808907,null,null,1.1702866987130447,null,null,1.1632257768344929,null,null,1.0680815119779385,null,null,1.2142275912451954,null,null,null,1.2252215824778703,null,null,1.2006211709310788,null,null,1.1658978678299414,null,null,1.1598298686426405,null,null,1.2598147408295559,null,null,null,1.3453786821354676,null,null,1.3511898841100725,null,null,1.2601191713838613,null,null,1.1743477133700504,null,null,1.3155119531977415,null,null,null,1.3088200617814332,null,null,1.2821267036184023,null,null,1.2596178736461878,null,null,1.2261358843271657,null,null,1.0378289905595746,null,null,null,1.0760644688329151,null,null,1.0650671659068276,null,null,1.0159224277390586,null,null,0.9841494057117447,null,null,1.0431664503702682,null,null,null,1.0843277239423028,null,null,1.1172843071632965,null,null,1.1646285189448196,null,null,1.1568100698546879,null,null,0.97983745389555854,null,null,null,1.136062726287778,null,null,1.2328709831566873,null,null,1.2552440610476034,null,null,1.2270900176549404,null,null,1.1076665445848248,null,null,null,1.2356495622210981,null,null,1.2869341432960919,null,null,1.2764973140642095,null,null,1.2022364216710506,null,null,1.1355519294179035,null,null,null,1.249950989321561,null,null,1.3230477899478628,null,null,1.3300343155107854,null,null,1.3649894986972735,null,null,1.2069297080709562,null,null,null,1.204403992629175,null,null,1.2117148864427936,null,null,1.1918628961576676,null,null,1.1813342936752291,null,null,0.8434975204252263,null,null,null,1.045598621770264,null,null,1.2479872170888862,null,null,1.282026536467916,null,null,1.2420153283942974,null,null,1.4228249153701715,null,null,null,1.4121708239751953,null,null,1.3895111896276242,null,null,1.3645441235768663,null,null,1.3455756133185892,null,null,1.2324573085291588,null,null,null,1.1923682556413444]
[{"$f":"'Als-Ob-Allokation KW03'!A81","v":"2012-03-20"},{"$f":"'Als-Ob-Allokation KW03'!B81","v":6.3},2,1.2053299192683324,null,null,1.1721029435288439,null,null,1.2112938216339315,null,null,1.2091215300949212,null,null,1.0712309916866862,null,null,1.2791463413433868,null,null,null,1.2840526369014396,null,null,1.2527631563401553,null,null,1.2100349485606958,null,null,1.1996393322545227,null,null,1.3234311889859947,null,null,null,1.3932204135979915,null,null,1.3805699456181522,null,null,1.2724541224825581,null,null,1.162411624554379,null,null,1.3448490400635869,null,null,null,1.3328814256928567,null,null,1.2986249537042558,null,null,1.2706220626704268,null,null,1.2300103746720743,null,null,1.1796484845608686,null,null,null,1.2017628470247388,null,null,1.1719321828893878,null,null,1.1065928401098035,null,null,1.0576924623248869,null,null,1.0827488488635451,null,null,null,1.1151825389375063,null,null,1.1391981054060569,null,null,1.1714510715707231,null,null,1.1547380940507574,null,null,1.0499183133420231,null,null,null,1.2013272999405256,null,null,1.2876904570635919,null,null,1.2982865197705278,null,null,1.2551314903001309,null,null,1.2041932476881816,null,null,null,1.3291299012941287,null,null,1.3670549458050179,null,null,1.3406450395816152,null,null,1.2484547106442998,null,null,1.1772296599431749,null,null,null,1.2788556283047205,null,null,1.3376368018882026,null,null,1.3336177087232759,null,null,1.3568559127889339,null,null,1.2795402837389507,null,null,null,1.2723586094921091,null,null,1.274644527888481,null,null,1.2502641406855792,null,null,1.2349091560001462,null,null,0.99194717674204513,null,null,null,1.2120754757308141,null,null,1.408378487864655,null,null,1.4173196634389353,null,null,1.3600840962273137,null,null,1.4669640326273896,null,null,null,1.4490780596419424,null,null,1.4207368587560796,null,null,1.3902393302075036,null,null,1.366664571758013,null,null,1.2831805961331557,null,null,null,1.2534107779870873]
[{"$f":"'Als-Ob-Allokation KW03'!A82","v":"2012-03-21"},{"$f":"'Als-Ob-Allokation KW03'!B82","v":8.1},3,0.99621859706511384,null,null,0.94284636173089076,null,null,1.0262632276106174,null,null,1.0033161460208433,null,null,1.0550812690743778,null,null,1.1231709935954872,null,null,null,1.1550085298438135,null,null,1.1505539316770916,null,null,1.1399881520306092,null,null,1.1479489803164751,null,null,0.91845960215890843,null,null,null,1.0352866305520936,null,null,1.0935945188976886,null,null,1.068004795168253,null,null,1.0726501129819246,null,null,1.0608540449691963,null,null,null,1.0721714441943504,null,null,1.0739618651889939,null,null,1.0722491052093557,null,null,1.0657990031256548,null,null,0.85600887029147121,null,null,null,0.95501288262022954,null,null,1.0029886684227085,null,null,0.99516379554860879,null,null,1.0131043250913914,null,null,0.86680115113936351,null,null,null,0.93334651752027042,null,null,0.99378582535750049,null,null,1.0916991383374999,null,null,1.1166285396184457,null,null,0.71509898558635432,null,null,null,0.86973917729806061,null,null,0.9872713219333904,null,null,1.0426468448483928,null,null,1.0636319022389129,null,null,0.86717663295593117,null,null,null,1.0051001816314118,null,null,1.0966125835377967,null,null,1.1353132814550533,null,null,1.1147060713431407,null,null,0.81382742665940266,null,null,null,0.94059847876203595,null,null,1.0419544840123955,null,null,1.0798210352512956,null,null,1.1435709056839283,null,null,1.0361277710726087,null,null,null,1.0483650654828693,null,null,1.0723424849023124,null,null,1.066397869160999,null,null,1.0714099923941327,null,null,0.6070830192328599,null,null,null,0.79171310265114536,null,null,1.0443273715102741,null,null,1.1613951040338182,null,null,1.1638383039706302,null,null,1.3583984278491641,null,null,null,1.3731823723721022,null,null,1.3694908993783832,null,null,1.3624475550912467,null,null,1.3583331494791728,null,null,1.0481428348514341,null,null,null,0.97863675161053099]
[{"$f":"'Als-Ob-Allokation KW03'!A83","v":"2012-03-22"},{"$f":"'Als-Ob-Allokation KW03'!B83","v":10.6},4,0.73231615010641249,null,null,0.66306273118928205,null,null,0.77830009497068187,null,null,0.73431809932978809,null,null,1.0223640587672396,null,null,1.033574646892788,null,null,null,1.1016855424516088,null,null,1.1339514536452819,null,null,1.1688861632024017,null,null,1.2034350266622229,null,null,0.55784181609024175,null,null,null,0.70388168572674259,null,null,0.82348268670799452,null,null,0.89113868701289622,null,null,1.0402644884639072,null,null,0.7848086012637252,null,null,null,0.827414704991567,null,null,0.87629701708232199,null,null,0.90734678823357706,null,null,0.93945906160829895,null,null,0.4847620125467656,null,null,null,0.65112435621691844,null,null,0.78028305214405547,null,null,0.84246003526019897,null,null,0.94179593993483268,null,null,0.52609916730156225,null,null,null,0.61085141998331416,null,null,0.69601006042211722,null,null,0.85316009577157148,null,null,0.92910787242493509,null,null,0.38760373621158323,null,null,null,0.51788768546649977,null,null,0.63788738956550872,null,null,0.72665172560613234,null,null,0.80904957463022653,null,null,0.5167277864271973,null,null,null,0.64648475116048665,null,null,0.77312188932618708,null,null,0.87271891759445708,null,null,0.92640145193722212,null,null,0.473510853845725,null,null,null,0.60187747157227689,null,null,0.7323451734762868,null,null,0.80455166039934101,null,null,0.90216017816807703,null,null,0.73886842286049126,null,null,null,0.77059343958686777,null,null,0.81674815709599535,null,null,0.83207820322949955,null,null,0.86081503866759035,null,null,0.27724347674409094,null,null,null,0.40195147886563087,null,null,0.6413315161480988,null,null,0.83861051954774879,null,null,0.89965372675710531,null,null,1.1688806547666566,null,null,null,1.2278568263277605,null,null,1.2586323203985663,null,null,1.2825394047398444,null,null,1.3038295203478227,null,null,0.77689610795773034,null,null,null,0.67784567725890499]
[{"$f":"'Als-Ob-Allokation KW03'!A84","v":"2012-03-23"},{"$f":"'Als-Ob-Allokation KW03'!B84","v":11.1},5,0.68472655563219009,null,null,0.61405549221254518,null,null,0.73184547871319061,null,null,0.68506288175659724,null,null,1.0140792752795682,null,null,1.009498808964346,null,null,null,1.0838963414625935,null,null,1.1233647797471342,null,null,1.1674115030701218,null,null,1.2072257582781614,null,null,0.48066964083634706,null,null,null,0.62216531551337673,null,null,0.74406786486943266,null,null,0.82457996557380353,null,null,0.99389911063299852,null,null,0.70472877536434597,null,null,null,0.75180580464918478,null,null,0.80755365884013486,null,null,0.84329409582828008,null,null,0.88033217436950395,null,null,0.42851335126135642,null,null,null,0.60362226843862787,null,null,0.74513562108821585,null,null,0.81964856108309292,null,null,0.93337629342112416,null,null,0.45986081116026817,null,null,null,0.54316308303803795,null,null,0.62811511169952439,null,null,0.78832958554978716,null,null,0.87073960229720493,null,null,0.33777144806058745,null,null,null,0.46085043793017716,null,null,0.57651549889464382,null,null,0.66809257413667633,null,null,0.75779081319216124,null,null,0.43404678304770622,null,null,null,0.5527061337682565,null,null,0.67401173646403523,null,null,0.77502697388150665,null,null,0.83541222049009389,null,null,0.44988364378584461,null,null,null,0.58340208133203864,null,null,0.72436299433614548,null,null,0.80539414240836127,null,null,0.91310616061013861,null,null,0.64486046098481764,null,null,null,0.67718468349859784,null,null,0.7234292907597909,null,null,0.74107236171739499,null,null,0.77169040033972791,null,null,0.22476421110377215,null,null,null,0.33480676659467562,null,null,0.55477520184245877,null,null,0.75030392429331338,null,null,0.81822031326092126,null,null,1.0326233822359572,null,null,null,1.0937603089231875,null,null,1.1278121838590287,null,null,1.1546765715082661,null,null,1.1783024131793285,null,null,0.71302499524918184,null,null,null,0.61373611681874074]
[{"$f":"'Als-Ob-Allokation KW03'!A85","v":"2012-03-24"},{"$f":"'Als-Ob-Allokation KW03'!B85","v":10.6},6,0.73231615010641249,null,null,0.66306273118928205,null,null,0.77830009497068187,null,null,0.73431809932978809,null,null,1.0223640587672396,null,null,0.44172502305327299,null,null,null,0.4708339867854493,null,null,0.48462366362079701,null,null,0.49955392088946127,null,null,0.51431927678720213,null,null,0.40065667623352047,null,null,null,0.50554635477398979,null,null,0.59144694190315283,null,null,0.64003926221251983,null,null,0.74714533821230922,null,null,0.56367019572970811,null,null,null,0.59427102093585615,null,null,0.62937958419516427,null,null,0.65168034715062695,null,null,0.67474422717093885,null,null,0.49660652902703584,null,null,null,0.66703371579606385,null,null,0.79934823306002967,null,null,0.86304442824756378,null,null,0.96480747393066857,null,null,0.48696081946876035,null,null,null,0.56540805714338793,null,null,0.64423144997562742,null,null,0.7896905473276099,null,null,0.85998830458437658,null,null,0.36426091771219693,null,null,null,0.48669872335001313,null,null,0.59947163613854271,null,null,0.68289028122771545,null,null,0.7603258508545353,null,null,0.43626912404659501,null,null,null,0.54582188824870503,null,null,0.65274060791214183,null,null,0.73682957974908414,null,null,0.78215331276575062,null,null,0.44561807536225145,null,null,null,0.5664230889484978,null,null,0.68920541959036963,null,null,0.75715848860661739,null,null,0.84901724849311799,null,null,0.62382068101238342,null,null,null,0.65060585808458615,null,null,0.6895739157490488,null,null,0.70251695069690923,null,null,0.72677923028348101,null,null,0.23638046170063107,null,null,null,0.34270770685512392,null,null,0.54680543495775669,null,null,0.71500741559621928,null,null,0.76705344269590825,null,null,0.36458168129769325,null,null,null,0.38297674301470053,null,null,0.3925758251154659,null,null,0.40003260435851784,null,null,0.40667313357912377,null,null,0.70146930135989238,null,null,null,0.61203541733085598]
[{"$f":"'Als-Ob-Allokation KW03'!A86","v":"2012-03-25"},{"$f":"'Als-Ob-Allokation KW03'!B86","v":11.4},7,0.6571269110893031,null,null,0.58587055552595524,null,null,0.7046612456206085,null,null,0.65643698247128202,null,null,1.0088030153846055,null,null,0.83281680934452562,null,null,null,0.89810523612147164,null,null,0.93469627027007052,null,null,0.97607038619422271,null,null,1.0120151521315446,null,null,0.4012595945385023,null,null,null,0.52767667150845055,null,null,0.63958405978995314,null,null,0.71935530654076341,null,null,0.88407736898562761,null,null,0.60316648084967006,null,null,null,0.64849625117048304,null,null,0.70289145405552689,null,null,0.73788218903748204,null,null,0.77404217249322405,null,null,0.39247894734289523,null,null,null,0.57001208661245595,null,null,0.71655266980386889,null,null,0.79722720917140266,null,null,0.91780322592626062,null,null,0.39046397024930934,null,null,null,0.46612310319909822,null,null,0.54393085992925794,null,null,0.69251130844296582,null,null,0.77162279040723158,null,null,0.27128296889379283,null,null,null,0.37499626509513306,null,null,0.47337464156429021,null,null,0.55445588662750556,null,null,0.63598226932425772,null,null,0.3861573695028247,null,null,null,0.49724300376878505,null,null,0.61363280369561024,null,null,0.71355935058963338,null,null,0.77614179028379215,null,null,0.35415420465859593,null,null,null,0.46487674071198304,null,null,0.58433842470402908,null,null,0.65441812366481655,null,null,0.74675401617458903,null,null,0.58728917717986928,null,null,null,0.61934831684776925,null,null,0.6648479185799353,null,null,0.68338026543762231,null,null,0.71447275373425578,null,null,0.17095261714503163,null,null,null,0.25922283968558768,null,null,0.43924136123583607,null,null,0.60615115690320331,null,null,0.66801293185606203,null,null,0.41801671942605834,null,null,null,0.44500008448292661,null,null,0.46050427637935981,null,null,0.47279479184673606,null,null,0.48355356534917732,null,null,0.64426349684020134,null,null,null,0.55010446781772149]
[{"$f":"'Als-Ob-Allokation KW03'!A87","v":"2012-03-26"},{"$f":"'Als-Ob-Allokation KW03'!B87","v":11.2},1,0.67544573169585453,null,null,0.60455790318758218,null,null,0.72272419309822755,null,null,0.67544115851091702,null,null,1.0123462461443549,null,null,0.95510962114808406,null,null,null,1.0269933054419411,null,null,1.0658675602904832,null,null,1.1094555277743086,null,null,1.1483004878048781,null,null,0.50551987770609874,null,null,null,0.6577652853411754,null,null,0.79015324643833629,null,null,0.87994286056387949,null,null,1.0675044238218896,null,null,0.74734212691277091,null,null,null,0.79929036592851377,null,null,0.86110404523381179,null,null,0.90078363696861796,null,null,0.94187693634176928,null,null,0.38207630706480183,null,null,null,0.5436237973405259,null,null,0.67512987912185196,null,null,0.7454534789797177,null,null,0.85199329616158515,null,null,0.43222108592211239,null,null,null,0.51231289917782041,null,null,0.59422297210027097,null,null,0.74935108177351095,null,null,0.83008490730090245,null,null,0.33211340565933445,null,null,null,0.45508605649917944,null,null,0.57103729439750162,null,null,0.66408060782898137,null,null,0.7560557973157207,null,null,0.44416586077586206,null,null,null,0.56767008074135061,null,null,0.69500047248227459,null,null,0.80214714729714642,null,null,0.86726841724537551,null,null,0.44065373486520892,null,null,null,0.57374523566194158,null,null,0.71528890279999113,null,null,0.79722194609508423,null,null,0.90580357675197143,null,null,0.66503526810296965,null,null,null,0.69935180163551403,null,null,0.74830866620505754,null,null,0.76742105796043425,null,null,0.80019049384280161,null,null,0.21933862207224883,null,null,null,0.32862264802570879,null,null,0.54861776545367114,null,null,0.74698799872481147,null,null,0.81741667147152219,null,null,1.1347312753668208,null,null,null,1.2039272348539132,null,null,1.2428906318903639,null,null,1.2736881167847829,null,null,1.3007258561743951,null,null,0.71749811347959036,null,null,null,0.6159261801590511]
[{"$f":"'Als-Ob-Allokation KW03'!A88","v":"2012-03-27"},{"$f":"'Als-Ob-Allokation KW03'!B88","v":10.6},2,0.73231615010641249,null,null,0.66306273118928205,null,null,0.77830009497068187,null,null,0.73431809932978809,null,null,1.0223640587672396,null,null,1.0206469978256891,null,null,null,1.0879059822447799,null,null,1.1197683208682512,null,null,1.154266077306626,null,null,1.188382813697717,null,null,0.57018344918958341,null,null,null,0.7194542893932635,null,null,0.84170133021923332,null,null,0.91085414469017278,null,null,1.0632791895361178,null,null,0.80217162341557757,null,null,null,0.8457203400577521,null,null,0.895684119230161,null,null,0.92742083222104565,null,null,0.96024355412175699,null,null,0.47445200832304862,null,null,null,0.63727612824316859,null,null,0.76368785418075824,null,null,0.82454244622261441,null,null,0.92176565730687854,null,null,0.47998073195717783,null,null,null,0.55730350835664955,null,null,0.63499704811255908,null,null,0.77837113741403707,null,null,0.8476612478994362,null,null,0.3852318046543875,null,null,null,0.51471848447724389,null,null,0.63398385333018803,null,null,0.72220499819348682,null,null,0.80409861560140627,null,null,0.51815575534337688,null,null,null,0.64827130135904332,null,null,0.7752583992166443,null,null,0.87513066226857938,null,null,0.92896154743047343,null,null,0.49335946925120017,null,null,null,0.62710695545302064,null,null,0.76304359902309127,null,null,0.83827683554877042,null,null,0.93997690457500183,null,null,0.74091027384800345,null,null,null,0.77272296214718961,null,null,0.81900522747485782,null,null,0.83437763794397013,null,null,0.86319388716400347,null,null,0.28535830428164172,null,null,null,0.41371646957979963,null,null,0.66010308368525539,null,null,0.86315638016537255,null,null,0.92598630244792124,null,null,1.1862775108512769,null,null,null,1.2461314452232259,null,null,1.2773649816434363,null,null,1.3016278834105501,null,null,1.3232348671912939,null,null,0.77689610795773034,null,null,null,0.67784567725890499]
[{"$f":"'Als-Ob-Allokation KW03'!A89","v":"2012-03-28"},{"$f":"'Als-Ob-Allokation KW03'!B89","v":11.9},3,0.61277521618466535,null,null,0.54096486133505661,null,null,0.66060581261613527,null,null,0.61037412677686431,null,null,0.99949029015744983,null,null,0.9119736911041062,null,null,null,0.99061467788759283,null,null,1.0381893897775396,null,null,1.09287710914119,null,null,1.1380570002780961,null,null,0.4015617487418302,null,null,null,0.54275493726636537,null,null,0.67294392305270812,null,null,0.77644573011283469,null,null,0.98590443214703494,null,null,0.62941041476087067,null,null,null,0.68648683979061242,null,null,0.75602859501776887,null,null,0.80090651014580816,null,null,0.84685441987725862,null,null,0.33938661362270517,null,null,null,0.52051441158600364,null,null,0.67479710858366426,null,null,0.76533736355060289,null,null,0.89692472755573582,null,null,0.39115960869822047,null,null,null,{"$f":"($CK$3/(1+($CK$4/(B90-40))^$CK$5)+$CK$6)*VLOOKUP(C90,$CF$9:$CH$15,3)","v":0.47559291990733094},null,null,0.56357921685132661,null,null,0.73494550470644848,null,null,0.83127664009570745,null,null,0.27103422950922029,null,null,null,0.38325443715795071,null,null,0.4908685827639751,null,null,0.58568596967089925,null,null,0.68447781354669512,null,null,0.37939056452394626,null,null,null,0.49826335398007848,null,null,0.62738588408415608,null,null,0.74345786757667598,null,null,0.8206616836395304,null,null,0.34335847256163787,null,null,null,0.46004234445833475,null,null,0.59035920533815378,null,null,0.6691878095632251,null,null,0.77167111602221761,null,null,0.6003941579470613,null,null,null,0.63777995176300428,null,null,0.69026705030441737,null,null,0.71364702786808842,null,null,0.75121605503500355,null,null,0.18060184026711917,null,null,null,0.2829838375621167,null,null,0.49732678742242137,null,null,0.70953960595401522,null,null,0.79684964299348993,null,null,1.115244361004728,null,null,null,1.1973115341187999,null,null,1.2465435163048497,null,null,1.2856987375509226,null,null,1.3198155759557799,null,null,0.64657792301373296,null,null,null,0.54484310695551907]
[{"$f":"'Als-Ob-Allokation KW03'!A90","v":"2012-03-29"},{"$f":"'Als-Ob-Allokation KW03'!B90","v":10.9},4,0.70352756022791907,null,null,0.63335617251242715,null,null,0.75026152921319489,null,null,0.70453952903326056,null,null,1.0174688053340266,null,null,1.0164339973512515,null,null,null,1.0881659992153343,null,null,1.1246724816445419,null,null,1.1649844698128602,null,null,1.2025983180729976,null,null,0.52092140931267861,null,null,null,0.66733620247000192,null,null,0.79105558745255422,null,null,0.86823720332214871,null,null,1.0331391773935557,null,null,0.75120086258135077,null,null,null,0.79747216391807918,null,null,0.85166515976691581,null,null,0.88630265007620468,null,null,0.92221053277282949,null,null,0.44856137178099242,null,null,null,0.61964918649295009,null,null,0.75582115275500605,null,null,0.82518341034100051,null,null,0.93279755108468521,null,null,0.49263891627659123,null,null,null,0.57785682915474812,null,null,0.66425988432675809,null,null,0.8258232965237674,null,null,0.90694691960820417,null,null,0.35789793706857959,null,null,null,0.48418366977529076,null,null,0.60199250169610963,null,null,0.69278464842630449,null,null,0.77996765028613224,null,null,0.48258811088379155,null,null,null,0.61011454600134996,null,null,0.73819624852934185,null,null,0.84255147030801181,null,null,0.90267612674974118,null,null,0.44075036164732917,null,null,null,0.56698121586299244,null,null,0.6982741872363919,null,null,0.77266201025133252,null,null,0.87217385609503906,null,null,0.70601100097631198,null,null,null,0.73934380807842592,null,null,0.78732448605643279,null,null,0.80473343781785778,null,null,0.83577569619169922,null,null,0.25090064197302953,null,null,null,0.36958120148840923,null,null,0.60324995086324551,null,null,0.80493785342853064,null,null,0.87192203712338179,null,null,1.15045291168157,null,null,null,1.2145098611590319,null,null,1.2493517044668931,null,null,1.2767065416791008,null,null,1.3008638886050294,null,null,0.74674381771908427,null,null,null,0.64624434578631762]
[{"$f":"'Als-Ob-Allokation KW03'!A91","v":"2012-03-30"},{"$f":"'Als-Ob-Allokation KW03'!B91","v":9.6999999999999993},5,0.82269136358300854,null,null,0.75744512406727205,null,null,0.86505549954315419,null,null,0.82735048261513577,null,null,1.0357360045966475,null,null,1.0911312946792424,null,null,null,1.1479083882994141,null,null,1.1672169101946324,null,null,1.1857809458684456,null,null,1.211118947603756,null,null,0.65720089599009346,null,null,null,0.79415955714448183,null,null,0.89412733753704765,null,null,0.92959857014868186,null,null,1.0258024708817075,null,null,0.85949657030145354,null,null,null,0.88998956991724454,null,null,0.92134646575195778,null,null,0.9404715713151075,null,null,0.95935089864191458,null,null,0.6095701973989831,null,null,null,0.75875341803089102,null,null,0.86409210138078507,null,null,0.90331831501533277,null,null,0.97628080365617198,null,null,0.62118321173016366,null,null,null,0.70060615641380075,null,null,0.77806057827275299,null,null,0.91508743033776097,null,null,0.972800541001689,null,null,0.48686972749534663,null,null,null,0.62779839429642215,null,null,0.75118934116855163,null,null,0.83125095765923684,null,null,0.89566747264941282,null,null,0.59322142349776752,null,null,null,0.7207302520742066,null,null,0.83292793848588975,null,null,0.91026058841103918,null,null,0.93946981194930856,null,null,0.62401722909300328,null,null,null,0.76572492702080996,null,null,0.89935095175095325,null,null,0.96709608651188472,null,null,1.0625700901598865,null,null,0.79340037510898698,null,null,null,0.81783597621384441,null,null,0.85510739693828985,null,null,0.8630444208792617,null,null,0.88288085931373261,null,null,0.35505046026883352,null,null,null,0.49338902867221834,null,null,0.73478846235767992,null,null,0.90466016039968222,null,null,0.94504226441604222,null,null,1.1116404661586696,null,null,null,1.1509059432531592,null,null,1.1676418337858749,null,null,1.1796024826081386,null,null,1.1908884345989177,null,null,0.85553282911231998,null,null,null,0.76507025571345144]
[{"$f":"'Als-Ob-Allokation KW03'!A92","v":"2012-03-31"},{"$f":"'Als-Ob-Allokation KW03'!B92","v":9},6,0.89678320954971191,null,null,0.83598541303565066,null,null,0.93474822218674691,null,null,0.90297194517522084,null,null,1.0448538138288297,null,null,0.4823972879738132,null,null,null,0.50241198271673126,null,null,0.50618807361813944,null,null,0.50854377341915191,null,null,0.5161887372618521,null,null,0.56525869007223239,null,null,null,0.66186656764768159,null,null,0.72413964464984948,null,null,0.73155285317381269,null,null,0.77389484963504762,null,null,0.69944668499328044,null,null,null,0.7158762884319636,null,null,0.7296840312063243,null,null,0.73727665193441116,null,null,0.74347227194732413,null,null,0.72872820969776564,null,null,null,0.86141836057353993,null,null,0.94531214991608292,null,null,0.96504737550177022,null,null,1.0158547409124941,null,null,0.67852164620770006,null,null,null,0.74930575532847044,null,null,0.81648258044995858,null,null,0.93113569176653854,null,null,0.97263652913128429,null,null,0.54608618966200817,null,null,null,0.68595576909797473,null,null,0.80209792701060267,null,null,0.8690245848428696,null,null,0.91360835292658471,null,null,0.61543283413154337,null,null,null,0.73201664723687065,null,null,0.82449616292025596,null,null,0.87943474908482155,null,null,0.88792472266531774,null,null,0.63818889976080506,null,null,null,0.76250838057824599,null,null,0.87227411716693815,null,null,0.92274337131194439,null,null,0.99765458289609943,null,null,0.78274906361791263,null,null,null,0.80003316470568142,null,null,0.82818695706378098,null,null,0.83023448487809204,null,null,0.84237208378121942,null,null,0.39177693313004042,null,null,null,0.52882362435165997,null,null,0.74645788191809703,null,null,0.87802936564467082,null,null,0.90011666657265743,null,null,0.39622689169720188,null,null,null,0.4058185554247345,null,null,0.40856062799091508,null,null,0.40997200531359901,null,null,0.41163635005908022,null,null,0.85921410419352939,null,null,null,0.78316312945313238]
[{"$f":"'Als-Ob-Allokation KW03'!A93","v":"2012-04-01"},{"$f":"'Als-Ob-Allokation KW03'!B93","v":5.2},7,1.3367512391453371,null,null,1.3186668367901198,null,null,1.3225550406318136,null,null,1.3342751585493655,null,null,1.0787929539743475,null,null,1.1474303545916031,null,null,null,1.1362017138134053,null,null,1.0960236478565233,null,null,1.0442298010871978,null,null,1.0258064187248708,null,null,1.3318875142608415,null,null,null,1.3513889443758869,null,null,1.2936348296445248,null,null,1.1578438520653216,null,null,1.0046263217079727,null,null,1.2610825287856395,null,null,null,1.2380732796027309,null,null,1.1905121677759694,null,null,1.1530656274346232,null,null,1.1005814186648755,null,null,1.4305283273769021,null,null,null,1.3978918781259122,null,null,1.3147726834808018,null,null,1.2104813566941759,null,null,1.1174981323179212,null,null,1.2427431421854829,null,null,null,1.2505880754009089,null,null,1.2497270965647889,null,null,1.2422021421543932,null,null,1.2010151066792356,null,null,1.1311752508170492,null,null,null,1.2493251349455017,null,null,1.2965054339825266,null,null,1.2743286268287626,null,null,1.1979365631719829,null,null,1.2840704440811328,null,null,null,1.3772312034734058,null,null,1.3711071838743025,null,null,1.3060037646793414,null,null,1.1809015347724034,null,null,1.2188035268960877,null,null,null,1.2794309898254044,null,null,1.2986530905347955,null,null,1.2670243232307454,null,null,1.2599647368822506,null,null,1.2771532513994648,null,null,null,1.2588886322808206,null,null,1.2478307165163038,null,null,1.2155064598892191,null,null,1.1901785575433248,null,null,1.0068266042261269,null,null,null,1.1822524110792823,null,null,1.28246777514383,null,null,1.226011713882575,null,null,1.1462808423351198,null,null,0.56524850300995,null,null,null,0.55174586812452431,null,null,0.53600709201527885,null,null,0.51959565978025479,null,null,0.50650589863313988,null,null,1.3124961151029804,null,null,null,1.3142925983846845]
[{"$f":"'Als-Ob-Allokation KW03'!A94","v":"2012-04-02"},{"$f":"'Als-Ob-Allokation KW03'!B94","v":7.2},1,1.0994297523927541,null,null,1.0553103615647514,null,null,1.1188338862100917,null,null,1.1058516476166538,null,null,1.0638089692347714,null,null,1.1846924552401439,null,null,null,1.2033716242982377,null,null,1.1859244397170923,null,null,1.1596604340735381,null,null,1.1586079654614141,null,null,1.1547096889970656,null,null,null,1.2562774001849106,null,null,1.2838757647798509,null,null,1.2161343531633229,null,null,1.1630378420619816,null,null,1.2487819944532483,null,null,null,1.2488628996192737,null,null,1.2324073683786247,null,null,1.2173568512098449,null,null,1.1935784869868618,null,null,0.9481832008356551,null,null,null,1.0070054724108144,null,null,1.0167269900658007,null,null,0.98286532107212743,null,null,0.96873728163226214,null,null,0.95880052470755883,null,null,null,1.0087017682825565,null,null,1.0511296674292336,null,null,1.1154351809359513,null,null,1.1190838972685355,null,null,0.88193102835912096,null,null,null,1.0398666483924524,null,null,1.1464462161782165,null,null,1.182104867386687,null,null,1.1725604095620135,null,null,1.0149167721990831,null,null,null,1.1475171133568898,null,null,1.2145962478327315,null,null,1.2226641980019657,null,null,1.1683903472445116,null,null,1.0392879222424138,null,null,null,1.163573668140397,null,null,1.2509538998968837,null,null,1.270987348699675,null,null,1.3188881252701146,null,null,1.1420443507900497,null,null,null,1.1449988195996481,null,null,1.1584406441776622,null,null,1.1436870466234696,null,null,1.1388100604303566,null,null,0.7406086560538927,null,null,null,0.93469999387005143,null,null,1.1550498008285135,null,null,1.2191306598135236,null,null,1.1952866584579727,null,null,1.390387074116652,null,null,null,1.3886275254310894,null,null,1.3727065498416167,null,null,1.3541974156256957,null,null,1.3405969825088384,null,null,1.1695133521308436,null,null,null,1.1175613418954689]
[{"$f":"'Als-Ob-Allokation KW03'!A95","v":"2012-04-03"},{"$f":"'Als-Ob-Allokation KW03'!B95","v":10.3},2,0.76178955332545528,null,null,0.69366055441257801,null,null,0.80680401003581059,null,null,0.76473987680897604,null,null,1.0270366595597455,null,null,1.0378266154974183,null,null,null,1.1013903503306464,null,null,1.129008662131415,null,null,1.1581363360950636,null,null,1.1892040107846784,null,null,0.60984441829111402,null,null,null,0.75821273759246388,null,null,0.87561379707484588,null,null,0.93461815222444866,null,null,1.0705174578538594,null,null,0.8371739895188085,null,null,null,0.87696663909639272,null,null,0.92141153805673082,null,null,0.94939347539948504,null,null,0.97812875240383945,null,null,0.51183046092254592,null,null,null,0.66938629788149129,null,null,0.78836207203100139,null,null,0.84190784057858692,null,null,0.93068743900513651,null,null,0.51203202351493804,null,null,null,0.58864405089750937,null,null,0.66489890298954202,null,null,0.80371430863873594,null,null,0.86808420206905934,null,null,0.41672022089940991,null,null,null,0.55008060663402902,null,null,0.67110951729043566,null,null,0.75695094728784218,null,null,0.83353314648197152,null,null,0.55414884141875953,null,null,null,0.68634473078102176,null,null,0.81137205356453523,null,null,0.9059401198998126,null,null,0.95274672881948541,null,null,0.52932396287688777,null,null,null,0.66489012325657737,null,null,0.79941091694678501,null,null,0.87195488847606206,null,null,0.97118925073726836,null,null,0.7746964014653287,null,null,null,0.8047357984220902,null,null,0.84899989743222348,null,null,0.86217346787924942,null,null,0.88854695237885029,null,null,0.31481940530277647,null,null,null,0.44967037073818111,null,null,0.70122576002592241,null,null,0.89859957411247038,null,null,0.95514992090778483,null,null,1.2052061442356465,null,null,null,1.2598205957465238,null,null,1.2869024099519941,null,null,1.3075984878526195,null,null,1.3262519758772311,null,null,0.80792532627319191,null,null,null,0.71072043008804775]
[{"$f":"'Als-Ob-Allokation KW03'!A96","v":"2012-04-04"},{"$f":"'Als-Ob-Allokation KW03'!B96","v":9.5},3,0.84354138219923325,null,null,0.77944646124192907,null,null,0.88479782141140972,null,null,0.84869671731597474,null,null,1.0384511234004941,null,null,1.0419355149670786,null,null,null,1.0929876839000667,null,null,1.1084251884711351,null,null,1.1224504259933432,null,null,1.1443982296462663,null,null,0.69319398072686356,null,null,null,0.82999564249824487,null,null,0.92675416332179483,null,null,0.95543980795003824,null,null,1.041522851874696,null,null,0.89221810213927955,null,null,null,0.92062972392406195,null,null,0.94867163335071736,null,null,0.96546920557265259,null,null,0.98160123146420108,null,null,0.62976484876835759,null,null,null,0.77191733460718681,null,null,0.8696098005725923,null,null,0.90282409399761332,null,null,0.9684137632787041,null,null,0.66036272454862899,null,null,null,0.74022379580965236,null,null,0.81753569141482862,null,null,0.95295625909788373,null,null,1.0078811033946218,null,null,0.51182270480255787,null,null,null,0.65498023011837803,null,null,0.77859583879890537,null,null,0.85628947545476797,null,null,0.91609783964069813,null,null,0.65427344726471048,null,null,null,0.79000530902709976,null,null,0.90623034737713526,null,null,0.98343579001399106,null,null,1.0086346327094766,null,null,0.6078465431560186,null,null,null,0.74016985559658344,null,null,0.86271842073843652,null,null,0.92334653898983832,null,null,1.0098607422207129,null,null,0.86244525653383008,null,null,null,0.88680322533012612,null,null,0.92452528135478096,null,null,0.93126048118617111,null,null,0.95038620981650146,null,null,0.40045325099537843,null,null,null,0.55172525733427757,null,null,0.80914912136829042,null,null,0.98316742833428816,null,null,1.0214069662036018,null,null,1.2657678089444953,null,null,null,1.306378226466258,null,null,1.3224203597676696,null,null,1.3333947770643468,null,null,1.344056210435274,null,null,0.88599842576248999,null,null,null,0.79666039098244867]
[{"$f":"'Als-Ob-Allokation KW03'!A97","v":"2012-04-05"},{"$f":"'Als-Ob-Allokation KW03'!B97","v":7.3},4,1.0878085415572949,null,null,1.0425758969345222,null,null,1.1085327858000198,null,null,1.0943959419875708,null,null,1.0629071717735761,null,null,1.2336474026803403,null,null,null,1.2547848217225268,null,null,1.2380286677841468,null,null,1.2123349931187313,null,null,1.2122862217952133,null,null,1.090137724139729,null,null,null,1.1905547910730168,null,null,1.2210566984130617,null,null,1.1603738330828512,null,null,1.1155966880347377,null,null,1.1874040393519405,null,null,null,1.1887728831922404,null,null,1.1749246901459416,null,null,1.1618861575851755,null,null,1.1408771117322196,null,null,1.0091898895400817,null,null,null,1.0772551967130026,null,null,1.092177463694892,null,null,1.0587299154524399,null,null,1.0471934918009871,null,null,1.0047306353267387,null,null,null,1.0596488036508267,null,null,1.1067773198284778,null,null,1.1788326337115622,null,null,1.1851302461069229,null,null,0.85789450057006778,null,null,null,1.0149667462875085,null,null,1.1225811898866205,null,null,1.1604927966428842,null,null,1.1545853473960197,null,null,1.0103691328011259,null,null,null,1.1454818840120295,null,null,1.2164387775936527,null,null,1.2282290300132341,null,null,1.1771811998597852,null,null,0.94887696595467241,null,null,null,1.0660300481596392,null,null,1.1497670847089914,null,null,1.1707048149470709,null,null,1.2175458115778497,null,null,1.1443842905725776,null,null,null,1.1484591255712624,null,null,1.1632943442922909,null,null,1.1493619282977532,null,null,1.1455513900234013,null,null,0.74535232771098581,null,null,null,0.94408260579044567,null,null,1.1749443185571711,null,null,1.2470816806592493,null,null,1.2256322033752736,null,null,1.3808775420135533,null,null,null,1.380911324327653,null,null,1.3663790193987317,null,null,1.3491996091835958,null,null,1.3366962059174572,null,null,1.1570103142226793,null,null,null,1.1028303794533201]
[{"$f":"'Als-Ob-Allokation KW03'!A98","v":"2012-04-06"},{"$f":"'Als-Ob-Allokation KW03'!B98","v":6.7},5,1.1580035259082817,null,null,1.1197485946808907,null,null,1.1702866987130447,null,null,1.1632257768344929,null,null,1.0680815119779385,null,null,1.2762373705178576,null,null,null,1.2877928174237352,null,null,1.2619360795497938,null,null,1.2254394809178644,null,null,1.2190615931289996,null,null,1.1702187956348373,null,null,null,1.2496975706480917,null,null,1.2550954895289543,null,null,1.1705015755905466,null,null,1.0908300421151771,null,null,1.221954914180964,null,null,null,1.2157389390380196,null,null,1.1909439684533585,null,null,1.1700359293206446,null,null,1.1389351238239849,null,null,1.1333511182038691,null,null,null,1.1751058026946015,null,null,1.1630963043264861,null,null,1.109428268009399,null,null,1.0747308464005108,null,null,1.0853273658141509,null,null,null,1.1281522252636043,null,null,1.162440791235775,null,null,1.2116984803046185,null,null,1.2035640385261919,null,null,0.96990475137972221,null,null,null,1.1245463537969287,null,null,1.2203732564496541,null,null,1.2425195363893686,null,null,1.214650893127641,null,null,1.0574931227758346,null,null,null,1.1796789571716781,null,null,1.2286405260268369,null,null,1.2186764486695683,null,null,1.1477793150684117,null,null,1.1313064787050597,null,null,null,1.2452778385997307,null,null,1.318101354617653,null,null,1.325061759886855,null,null,1.3598862572777117,null,null,1.152260012003226,null,null,null,1.1498487026404669,null,null,1.1568284385249192,null,null,1.1378756739925191,null,null,1.127823980392084,null,null,0.83548701920325175,null,null,null,1.0356688130457958,null,null,1.2361353705980285,null,null,1.2698514264192193,null,null,1.2302201955517043,null,null,1.2879323870686403,null,null,null,1.2782883688804931,null,null,1.2577770068428265,null,null,1.2351769717791397,null,null,1.218006792629077,null,null,1.2085260986548063,null,null,null,1.1692154739784058]
[{"$f":"'Als-Ob-Allokation KW03'!A99","v":"2012-04-07"},{"$f":"'Als-Ob-Allokation KW03'!B99","v":5.6},6,1.2888265449045222,null,null,1.2650354090466944,null,null,1.2824231226704665,null,null,1.2890382776638274,null,null,1.076217930793665,null,null,0.57180080055180582,null,null,null,0.56896518706643662,null,null,0.55104302101883496,null,null,0.52753222559850377,null,null,0.51993676303562208,null,null,1.039898747538021,null,null,null,1.0689019975979466,null,null,1.0357351635070886,null,null,0.93649404803706748,null,null,0.82744701919144414,null,null,1.0095169416108729,null,null,null,0.99435728652076738,null,null,0.96046247285289843,null,null,0.93353052344384035,null,null,0.89544000564902848,null,null,1.3811186812351535,null,null,null,1.3687041473258716,null,null,1.3033336499637047,null,null,1.2105081267305811,null,null,1.1312818104579587,null,null,1.2238686973143784,null,null,null,1.2416107027924175,null,null,1.2503453838463481,null,null,1.2575270935114602,null,null,1.2240802124659036,null,null,1.1374034677730056,null,null,null,1.2722443614999217,null,null,1.3355127011347128,null,null,1.3245428843016571,null,null,1.2573354722478169,null,null,1.1344272879748256,null,null,null,1.2293735646930761,null,null,1.2380928950590289,null,null,1.1914340171268609,null,null,1.088584500255694,null,null,1.1892628892251427,null,null,null,1.2636199136985697,null,null,1.2960879796171414,null,null,1.2742643229627373,null,null,1.2775146296160191,null,null,1.1551484751314238,null,null,null,1.1420879332343781,null,null,1.13622692006909,null,null,1.1094492504119988,null,null,1.0896123145499614,null,null,0.97103910976238272,null,null,null,1.1569249778641977,null,null,1.2855762358068841,null,null,1.2510096173859795,null,null,1.1807473937926256,null,null,0.46470625571748542,null,null,null,0.45548476567818502,null,null,0.44392425574144739,null,null,0.43177241731294086,null,null,0.42217435500076728,null,null,1.2390070788639453,null,null,null,1.2298846549353797]
[{"$f":"'Als-Ob-Allokation KW03'!A100","v":"2012-04-08"},{"$f":"'Als-Ob-Allokation KW03'!B100","v":3.2},7,1.574913231808666,null,null,1.5875726287586507,null,null,1.5146733480716683,null,null,1.5517887645690414,null,null,1.0891747994156802,null,null,1.2438964176027292,null,null,null,1.2044732232459607,null,null,1.141330627431532,null,null,1.0649370717843851,null,null,1.029813957981164,null,null,1.7432613145589171,null,null,null,1.6699482285075187,null,null,1.5150442412858252,null,null,1.2989397509885454,null,null,1.0395251873793334,null,null,1.4763311931818817,null,null,null,1.4286644906066308,null,null,1.348728162588674,null,null,1.2869737473578831,null,null,1.2028042581214344,null,null,1.8407291984712033,null,null,null,1.7045192274173004,null,null,1.5262803116162171,null,null,1.3543884517880549,null,null,1.1848959312247591,null,null,1.6107780543651389,null,null,null,1.565710115535403,null,null,1.5133131184816626,null,null,1.4324303062135033,null,null,1.3449153276591175,null,null,1.5738226579109791,null,null,null,1.6370011931682309,null,null,1.6140750353542963,null,null,1.5230969011075808,null,null,1.3739668492505046,null,null,1.6841617215775038,null,null,null,1.7183596562969983,null,null,1.6245847829545288,null,null,1.4795480561969432,null,null,1.2768999680106812,null,null,1.5824547160979943,null,null,null,1.5741661840885468,null,null,1.52844766379079,null,null,1.4403100355983109,null,null,1.3800349722858125,null,null,1.5042134108671255,null,null,null,1.4641127181172724,null,null,1.4290943401739222,null,null,1.3782414408316528,null,null,1.3325217882676292,null,null,1.4985651700526901,null,null,null,1.6355342169024492,null,null,1.6011334795884182,null,null,1.422635911814438,null,null,1.269742473665344,null,null,0.60970772254616701,null,null,null,0.58487813285992141,null,null,0.56010736097474667,null,null,0.5347613563524054,null,null,0.51372090378481261,null,null,1.5406716044559225,null,null,null,1.6036065689248087]
[{"$f":"'Als-Ob-Allokation KW03'!A101","v":"2012-04-09"},{"$f":"'Als-Ob-Allokation KW03'!B101","v":5.7},1,1.2768616402509712,null,null,1.2516772680647019,null,null,1.2723251593558174,null,null,1.2776713494328376,null,null,1.075544071007156,null,null,1.2726488416350674,null,null,null,1.2679023747348965,null,null,1.2292188014409557,null,null,1.1782257261523572,null,null,1.162227392143143,null,null,1.4832717831830984,null,null,null,1.5297108129554664,null,null,1.4868664071761135,null,null,1.3479409497336312,null,null,1.1965234261690447,null,null,1.4491464083900876,null,null,null,1.4285957673986296,null,null,1.3815170192482373,null,null,1.3440014030726686,null,null,1.2907985046281816,null,null,1.2242251673239748,null,null,null,1.2177221165407766,null,null,1.1633143624376592,null,null,1.082912917741911,null,null,1.0152113733291095,null,null,1.2216819866588213,null,null,null,1.2419808892507584,null,null,1.2531950039709547,null,null,1.2642379931527714,null,null,1.2327544478942782,null,null,1.1948574305667252,null,null,null,1.3407980475238988,null,null,1.4115944744866427,null,null,1.403217308398347,null,null,1.3353729260184493,null,null,1.3051765266582136,null,null,null,1.418096404032432,null,null,1.4323596487389487,null,null,1.3820003568753563,null,null,1.2660603907801387,null,null,1.3382305289647027,null,null,null,1.4263024267989435,null,null,1.4669016507097155,null,null,1.4450235234273836,null,null,1.4517067182196781,null,null,1.3369775236027424,null,null,null,1.3229009377454888,null,null,1.317365508972673,null,null,1.2871181502102913,null,null,1.265091062689877,null,null,1.0766372959849084,null,null,null,1.2873927067526678,null,null,1.439433008240153,null,null,1.4071938004485318,null,null,1.3313034432184983,null,null,1.4868136917902766,null,null,null,1.4588680717027456,null,null,1.4230180019950187,null,null,1.3852407710300725,null,null,1.3554818884210988,null,null,1.3595134923041232,null,null,null,1.3464846353910624]
[{"$f":"'Als-Ob-Allokation KW03'!A102","v":"2012-04-10"},{"$f":"'Als-Ob-Allokation KW03'!B102","v":12.5},2,0.56235194674512745,null,null,0.49052849577913693,null,null,0.60996835886415945,null,null,0.55796599717268736,null,null,0.98745161640939716,null,null,0.91858578341050701,null,null,null,1.0064117226566673,null,null,1.0636121419006204,null,null,1.1302772551152673,null,null,1.1830684644901936,null,null,0.36211429894827174,null,null,null,0.50673546844151185,null,null,0.64591911591115503,null,null,0.76953207644794452,null,null,1.0164394111325921,null,null,0.59697845104192615,null,null,null,0.66407559980465558,null,null,0.74663863925888985,null,null,0.79998321386705917,null,null,0.85368594360731453,null,null,0.28179985301284166,null,null,null,0.46438224732440386,null,null,0.62505770370390301,null,null,0.72566202793837009,null,null,0.86813932780195802,null,null,0.31131106479378917,null,null,null,0.38734384404965921,null,null,0.46774563665701996,null,null,0.62779866161855835,null,null,0.72347322477446419,null,null,0.22825172802363985,null,null,null,0.33227885239146671,null,null,0.43255804746515858,null,null,0.52838702924047487,null,null,0.63143353064414642,null,null,0.32956222067352414,null,null,null,0.44416942999247738,null,null,0.57320132448297789,null,null,0.69497123828982299,null,null,0.78027422737319219,null,null,0.30675524791370173,null,null,null,0.42141991553357883,null,null,0.55454778811980787,null,null,0.63777058108403417,null,null,0.74437457436129273,null,null,0.54777702057179345,null,null,null,0.58714764597960023,null,null,0.64186974073621017,null,null,0.6684160329513662,null,null,0.70950683254867875,null,null,0.14769203894752519,null,null,null,0.24220555938406996,null,null,0.44397963704548604,null,null,0.65863140988395508,null,null,0.75851278289531465,null,null,1.0725966933057729,null,null,null,1.1633124952751748,null,null,1.2200665316814245,null,null,1.2651444287444527,null,null,1.3043435706090591,null,null,0.6017668794927471,null,null,null,0.49935617360404355]
[{"$f":"'Als-Ob-Allokation KW03'!A103","v":"2012-04-11"},{"$f":"'Als-Ob-Allokation KW03'!B103","v":7.9},3,1.018865117563182,null,null,0.96739636054159828,null,null,1.0467849194735115,null,null,1.025963640419338,null,null,1.0571434067750936,null,null,1.1349136673649625,null,null,null,1.1638524308078462,null,null,1.1565356160139535,null,null,1.1424896965194273,null,null,1.1484468379821269,null,null,0.95393841002430735,null,null,null,1.0666091174411505,null,null,1.1182278684927673,null,null,1.0843708365811027,null,null,1.0770125232920198,null,null,1.085529739795869,null,null,null,1.094369434891181,null,null,1.0923427033575641,null,null,1.0878970317244232,null,null,1.0779916976612538,null,null,0.89141001927348906,null,null,null,0.98298841194469311,null,null,1.0229610485397871,null,null,1.0089051856345281,null,null,1.0196198466083504,null,null,0.89919046335278097,null,null,null,0.96306890593590444,null,null,1.020393770987702,null,null,1.1120590838949935,null,null,1.1324156921246571,null,null,0.74830940920869438,null,null,null,0.90378869243999715,null,null,1.0192281938219774,null,null,1.0705394826949646,null,null,1.0850975205913429,null,null,0.90075429065766577,null,null,null,1.0381988226144578,null,null,1.1249647446867563,null,null,1.1572416097337097,null,null,1.1293175155382718,null,null,0.84621632138757608,null,null,null,0.97101807353617264,null,null,1.06830684597284,null,null,1.1021905231189988,null,null,1.1619432749264282,null,null,1.0617611459587228,null,null,null,1.0720294322428561,null,null,1.0937856008147571,null,null,1.0858967457300088,null,null,1.0887475985574822,null,null,0.64226675555657764,null,null,null,0.83144248374514984,null,null,1.0806633440900857,null,null,1.1874992069392956,null,null,1.1841682260880746,null,null,1.3717196393781357,null,null,null,1.3828026417247217,null,null,1.3763071538663969,null,null,1.3666419239082701,null,null,1.3603725753583245,null,null,1.0722822328642929,null,null,null,1.0064346103214283]
[{"$f":"'Als-Ob-Allokation KW03'!A104","v":"2012-04-12"},{"$f":"'Als-Ob-Allokation KW03'!B104","v":7.2},4,1.0994297523927541,null,null,1.0553103615647514,null,null,1.1188338862100917,null,null,1.1058516476166538,null,null,1.0638089692347714,null,null,1.2398426847659803,null,null,null,1.2593914132243633,null,null,1.2411320210276686,null,null,1.2136453639414526,null,null,1.2125439004317324,null,null,1.1097834162619282,null,null,null,1.2073994340177454,null,null,1.2339240294509208,null,null,1.1688182319309461,null,null,1.1177875459991287,null,null,1.2001956519256609,null,null,null,1.2002734093155922,null,null,1.1844581131847407,null,null,1.1699931662641128,null,null,1.1471399465051073,null,null,1.0282325656777125,null,null,null,1.0920208453766276,null,null,1.1025630918874896,null,null,1.0658426872686264,null,null,1.050521903027305,null,null,1.0222555457930846,null,null,null,1.0754593370635077,null,null,1.1206951854817897,null,null,1.1892565453406241,null,null,1.1931467398178828,null,null,0.87656689872148585,null,null,null,1.0335419139988702,null,null,1.1394732376476866,null,null,1.1749150038372218,null,null,1.1654285978413716,null,null,1.0286398114214002,null,null,null,1.1630330874606143,null,null,1.2310192220162917,null,null,1.2391962617184304,null,null,1.1841885555325387,null,null,0.96633669038859082,null,null,null,1.0818983877615356,null,null,1.1631450973150947,null,null,1.1817723287096331,null,null,1.2263107832682585,null,null,1.1574863257862451,null,null,null,1.1604807429861608,null,null,1.1741043191037654,null,null,1.1591512330757863,null,null,1.1542083034726831,null,null,0.76547930115145335,null,null,null,0.96608848984591078,null,null,1.193837942759606,null,null,1.2600707240700382,null,null,1.2354260087468982,null,null,1.3873734712426735,null,null,null,1.3856177363015527,null,null,1.3697312687269243,null,null,1.3512622522459179,null,null,1.3376912974700861,null,null,1.1695133521308436,null,null,null,1.1175613418954689]
[{"$f":"'Als-Ob-Allokation KW03'!A105","v":"2012-04-13"},{"$f":"'Als-Ob-Allokation KW03'!B105","v":7.6},5,1.0531597728510496,null,null,1.0047123765710835,null,null,1.0776366776204407,null,null,1.0601030303600312,null,null,1.0601025207588579,null,null,1.2202956170270778,null,null,null,1.2462661308861902,null,null,1.2339748511064113,null,null,1.213611341553291,null,null,1.2167382872928179,null,null,0.99776028363349334,null,null,null,1.1024053016378448,null,null,1.1429970031278962,null,null,1.0970370846951631,null,null,1.071822371719503,null,null,1.1106183796051146,null,null,null,1.1156655228931962,null,null,1.1079786465136496,null,null,1.0994949068276261,null,null,1.0844866587536042,null,null,0.95964872030532455,null,null,null,1.040703436906161,null,null,1.0687050938799716,null,null,1.0448130450679807,null,null,1.0445261965257309,null,null,0.93009788099210478,null,null,null,0.98841428606261905,null,null,1.0396911631308035,null,null,1.1199724820321233,null,null,1.1330847614828528,null,null,0.80019390313576388,null,null,null,0.95646937312388769,null,null,1.06816155131753,null,null,1.1129550308911798,null,null,1.1175022931371985,null,null,0.90113903120162475,null,null,null,1.0300603805600093,null,null,1.1048535086004652,null,null,1.1258920769717655,null,null,1.0888010729819602,null,null,0.96158542419706461,null,null,null,1.0917005894752403,null,null,1.1890523519088763,null,null,1.2186522466935255,null,null,1.2759992150526205,null,null,1.0410841983335775,null,null,null,1.0479118683664379,null,null,1.0652438923281076,null,null,1.054975191450608,null,null,1.0545552295108243,null,null,0.6585978411200043,null,null,null,0.84329996380718308,null,null,1.0723536326687393,null,null,1.1578287696761951,null,null,1.1461825891120789,null,null,1.234971773974026,null,null,null,1.239892879723181,null,null,1.2304097340041331,null,null,1.2183327995180055,null,null,1.209887116016138,null,null,1.0979741915004873,null,null,null,1.0385853025612675]
[{"$f":"'Als-Ob-Allokation KW03'!A106","v":"2012-04-14"},{"$f":"'Als-Ob-Allokation KW03'!B106","v":9.5},6,0.84354138219923325,null,null,0.77944646124192907,null,null,0.88479782141140972,null,null,0.84869671731597474,null,null,1.0384511234004941,null,null,0.46944666344324132,null,null,null,0.49244834639085561,null,null,0.49940375285188487,null,null,0.50572285884666179,null,null,0.51561149691184738,null,null,0.50957572547362129,null,null,null,0.61014036968771534,null,null,0.68126879090209791,null,null,0.70235597367998093,null,null,0.76563671583658277,null,null,0.65588089238972469,null,null,null,0.67676663748474353,null,null,0.69738060231572774,null,null,0.70972871163169837,null,null,0.72158756936214974,null,null,0.65003934753763692,null,null,null,0.79676825647284233,null,null,0.89760581029899,null,null,0.93188939673470383,null,null,0.99959064412581078,null,null,0.61385388128547258,null,null,null,0.68809039817958273,null,null,0.75995727591592566,null,null,0.88584027625478545,null,null,0.93689680563959943,null,null,0.48301645229855134,null,null,null,0.61811682855982319,null,null,0.73477514049740644,null,null,0.80809604711518546,null,null,0.86453829482284006,null,null,0.55477679613028374,null,null,null,0.6698676464714427,null,null,0.76841811443788099,null,null,0.83388277342558725,null,null,0.85524957850569094,null,null,0.57290439313668051,null,null,null,0.69762108004582857,null,null,0.81312492247591295,null,null,0.87026782422459148,null,null,0.95180874546162431,null,null,0.73129150855486036,null,null,null,0.75194531308497636,null,null,0.78393090178996649,null,null,0.78964186652401913,null,null,0.80585910795044535,null,null,0.33623877912401129,null,null,null,0.46325364190912616,null,null,0.67939843670111766,null,null,0.82551212895866866,null,null,0.85761978570882647,null,null,0.38619515190665049,null,null,null,0.39858569166677282,null,null,0.4034802655874129,null,null,0.40682864174694838,null,null,0.41008152418805049,null,null,0.80782209407756433,null,null,null,0.72636682707223266]
[{"$f":"'Als-Ob-Allokation KW03'!A107","v":"2012-04-15"},{"$f":"'Als-Ob-Allokation KW03'!B107","v":7.4},7,1.0762221225355455,null,null,1.029896861455746,null,null,1.0982318254542243,null,null,1.0829512655765903,null,null,1.0619890068332216,null,null,1.0341370092955653,null,null,null,1.0532778381679506,null,null,1.0404283736770723,null,null,1.0202974671427023,null,null,1.0211439192626635,null,null,0.9269448278836796,null,null,null,1.0162269176782335,null,null,1.0460149961138947,null,null,0.99728832493074804,null,null,0.96392661651008182,null,null,1.0169348746947888,null,null,null,1.0192347805909159,null,null,1.008947937682505,null,null,0.99889218702933658,null,null,0.98229298604841875,null,null,0.98999899430966665,null,null,null,1.0622531042264309,null,null,1.0815080367299661,null,null,1.0513266968976409,null,null,1.0435606202394412,null,null,0.87517446615557004,null,null,null,0.92532758496714163,null,null,0.96874038292253872,null,null,1.0356663047253118,null,null,1.0433701958272175,null,null,0.7285887038006944,null,null,null,0.86492955639745672,null,null,0.95971400569695009,null,null,0.99471118083935162,null,null,0.99265287651018141,null,null,0.89214462078337919,null,null,null,1.0142074570925961,null,null,1.0806047080999159,null,null,1.0944101212028667,null,null,1.0520436945018168,null,null,0.8459818920516351,null,null,null,0.95374183885285757,null,null,1.0319944121836031,null,null,1.0530701375258302,null,null,1.0976646924747373,null,null,1.0171394623514571,null,null,null,1.0217645407586449,null,null,1.0361817622296858,null,null,1.0245685442535284,null,null,1.0221559974736292,null,null,0.58594089860273169,null,null,null,0.74485171960806507,null,null,0.93363063324946105,null,null,0.99656383546651228,null,null,0.98178407479798357,null,null,0.51282031246138593,null,null,null,0.5135021248383167,null,null,0.50858601161281558,null,null,0.50265696793543035,null,null,0.49838936214649582,null,null,1.0556450894566638,null,null,null,1.0036640752284294]
[{"$f":"'Als-Ob-Allokation KW03'!A108","v":"2012-04-16"},{"$f":"'Als-Ob-Allokation KW03'!B108","v":5.5},1,1.3007995202722038,null,null,1.2784154784253017,null,null,1.2924963789554147,null,null,1.3003838486677446,null,null,1.076879533480009,null,null,1.2841758517766166,null,null,null,1.2762402769972272,null,null,1.2347885196441419,null,null,1.1806626297641358,null,null,1.1626994389140273,null,null,1.5298360537706346,null,null,null,1.5673401503810471,null,null,1.5140319628180576,null,null,1.3654131818335669,null,null,1.2008868637223298,null,null,1.4757786616947759,null,null,null,1.4524014776240792,null,null,1.401278217954006,null,null,1.3607631609213882,null,null,1.3036050557210306,null,null,1.2622563057698355,null,null,null,1.2463827260435607,null,null,1.1830931856249607,null,null,1.0963773218759085,null,null,1.0214465351642146,null,null,1.2587348431092291,null,null,null,1.274352098127157,null,null,1.2808081822944071,null,null,1.2843006629893869,null,null,1.2479940364092585,null,null,1.2407686563786418,null,null,null,1.3834418750765449,null,null,1.4480344285693185,null,null,1.4328727126707888,null,null,1.3567941806492458,null,null,1.346388959818454,null,null,null,1.4552956725531681,null,null,1.4613487377457732,null,null,1.4026284587065112,null,null,1.2781738876091002,null,null,1.3800651588110449,null,null,null,1.4618649789272939,null,null,1.4954375281390599,null,null,1.4674070698629718,null,null,1.4681316820105319,null,null,1.3628705655805973,null,null,null,1.3464174592993468,null,null,1.3382507898189109,null,null,1.3059121579837478,null,null,1.2815757734810682,null,null,1.1275012026596962,null,null,null,1.3384750908223519,null,null,1.4782374236522438,null,null,1.4319758091732968,null,null,1.3483601928721365,null,null,1.4994176377599497,null,null,null,1.468114456260353,null,null,1.4296804199857389,null,null,1.3893719765768597,null,null,1.3574528929771636,null,null,1.3849469071879081,null,null,null,1.3778050832668156]
[{"$f":"'Als-Ob-Allokation KW03'!A109","v":"2012-04-17"},{"$f":"'Als-Ob-Allokation KW03'!B109","v":5.8},2,1.2649063773079494,null,null,1.2383430961420734,null,null,1.2622038078831843,null,null,1.2662848263368667,null,null,1.0748577341697798,null,null,1.309254561445061,null,null,null,1.3059931313734867,null,null,1.2674525974901358,null,null,1.216388711597419,null,null,1.2008734099868592,null,null,1.4344421328391808,null,null,null,1.484317136292485,null,null,1.4472841108586163,null,null,1.3155604517541826,null,null,1.1732600617963107,null,null,1.4104772945470243,null,null,null,1.3916706038267324,null,null,1.3474142162559444,null,null,1.3120350597349992,null,null,1.261714717502932,null,null,1.2792332635359978,null,null,null,1.2772589662073359,null,null,1.2242080084965064,null,null,1.1422190339805003,null,null,1.0741980525958219,null,null,1.1704813395991978,null,null,null,1.1924441646262249,null,null,1.2056195324606971,null,null,1.2200042458339422,null,null,1.1917161458481711,null,null,1.1579915735942508,null,null,null,1.3036149249443409,null,null,1.3764941348348141,null,null,1.3714944058823915,null,null,1.3085124121801739,null,null,1.3057389090159577,null,null,null,1.4224104275727336,null,null,1.4409813677507319,null,null,1.3940073102561383,null,null,1.2804852708530889,null,null,1.2763245526703448,null,null,null,1.3645672526064905,null,null,1.4072458986730927,null,null,1.3889892943143398,null,null,1.3983182744104734,null,null,1.3456167493117579,null,null,null,1.3325115457427976,null,null,1.3282171066098742,null,null,1.2985384869605385,null,null,1.2773255586260404,null,null,1.1188555827024755,null,null,null,1.3427241105380716,null,null,1.5107185034670834,null,null,1.4837948834800483,null,null,1.4070984147076209,null,null,1.4992621607477055,null,null,null,1.4726762290729765,null,null,1.4376871837010679,null,null,1.4007172587102292,null,null,1.3716748861768626,null,null,1.3467887961419127,null,null,null,1.3308714353236091]
[{"$f":"'Als-Ob-Allokation KW03'!A110","v":"2012-04-18"},{"$f":"'Als-Ob-Allokation KW03'!B110","v":8.1},3,0.99621859706511384,null,null,0.94284636173089076,null,null,1.0262632276106174,null,null,1.0033161460208433,null,null,1.0550812690743778,null,null,1.1231709935954872,null,null,null,1.1550085298438135,null,null,1.1505539316770916,null,null,1.1399881520306092,null,null,1.1479489803164751,null,null,0.91845960215890843,null,null,null,1.0352866305520936,null,null,1.0935945188976886,null,null,1.068004795168253,null,null,1.0726501129819246,null,null,1.0608540449691963,null,null,null,1.0721714441943504,null,null,1.0739618651889939,null,null,1.0722491052093557,null,null,1.0657990031256548,null,null,0.85600887029147121,null,null,null,0.95501288262022954,null,null,1.0029886684227085,null,null,0.99516379554860879,null,null,1.0131043250913914,null,null,0.86680115113936351,null,null,null,0.93334651752027042,null,null,0.99378582535750049,null,null,1.0916991383374999,null,null,1.1166285396184457,null,null,0.71509898558635432,null,null,null,0.86973917729806061,null,null,0.9872713219333904,null,null,1.0426468448483928,null,null,1.0636319022389129,null,null,0.86717663295593117,null,null,null,1.0051001816314118,null,null,1.0966125835377967,null,null,1.1353132814550533,null,null,1.1147060713431407,null,null,0.81382742665940266,null,null,null,0.94059847876203595,null,null,1.0419544840123955,null,null,1.0798210352512956,null,null,1.1435709056839283,null,null,1.0361277710726087,null,null,null,1.0483650654828693,null,null,1.0723424849023124,null,null,1.066397869160999,null,null,1.0714099923941327,null,null,0.6070830192328599,null,null,null,0.79171310265114536,null,null,1.0443273715102741,null,null,1.1613951040338182,null,null,1.1638383039706302,null,null,1.3583984278491641,null,null,null,1.3731823723721022,null,null,1.3694908993783832,null,null,1.3624475550912467,null,null,1.3583331494791728,null,null,1.0481428348514341,null,null,null,0.97863675161053099]
[{"$f":"'Als-Ob-Allokation KW03'!A111","v":"2012-04-19"},{"$f":"'Als-Ob-Allokation KW03'!B111","v":8.5},4,0.95149748229459141,null,null,0.89459156470877854,null,null,0.98538911894905257,null,null,0.95836221132856347,null,null,1.0507326677043805,null,null,1.1593916183540514,null,null,null,1.198954672599982,null,null,1.2002868727064422,null,null,1.1965279727115741,null,null,1.2091447345132742,null,null,0.86992079014255841,null,null,null,0.99696467865884253,null,null,1.0694224368995717,null,null,1.0597909930890987,null,null,1.0888739956448548,null,null,1.0356630060414165,null,null,null,1.0522874960795696,null,null,1.06189369704468,null,null,1.065675666406654,null,null,1.0659906015168319,null,null,0.79335874689809827,null,null,null,0.90714495202579271,null,null,0.97096995496205274,null,null,0.97538634606694674,null,null,1.0077383029790725,null,null,0.8075936979897429,null,null,null,0.87918996484996592,null,null,0.94561018021575993,null,null,1.0558548410114992,null,null,1.089873116360341,null,null,0.65458197362946791,null,null,null,0.8074964884337219,null,null,0.92875918527752144,null,null,0.99185368150007425,null,null,1.0252032602457362,null,null,0.80581736637872847,null,null,null,0.94463422066541436,null,null,1.0451399816028561,null,null,1.0962366852452912,null,null,1.0896986322369557,null,null,0.75233583234164447,null,null,null,0.88231724160064362,null,null,0.99120405896317054,null,null,1.0365678362406996,null,null,1.1078858069905617,null,null,0.9896285353566856,null,null,null,1.0057053294485852,null,null,1.034067379789851,null,null,1.0319128974283873,null,null,1.0411910254126007,null,null,0.5328821925674917,null,null,null,0.70545157139279779,null,null,0.95876587241209688,null,null,1.0926992848807549,null,null,1.1059546702958472,null,null,1.3027525117549426,null,null,null,1.324462484790849,null,null,1.3263549007549069,null,null,1.3245684074031818,null,null,1.3247313356793007,null,null,1.0103203455229561,null,null,null,0.93336969325657615]
[{"$f":"'Als-Ob-Allokation KW03'!A112","v":"2012-04-20"},{"$f":"'Als-Ob-Allokation KW03'!B112","v":8.6},5,0.94044457270032111,null,null,0.88271316087905738,null,null,0.97521536383560858,null,null,0.94720634702657125,null,null,1.0495971915330635,null,null,1.1582171434582005,null,null,null,1.1994322006708529,null,null,1.2022809757318491,null,null,1.2003652824150548,null,null,1.2140964481410719,null,null,0.8243283363175169,null,null,null,0.94871501000283487,null,null,1.0216467538588756,null,null,1.0162615961547521,null,null,1.0501934165057345,null,null,0.98892546942991333,null,null,null,1.0062050905714759,null,null,1.0173579511129327,null,null,1.02233734181542,null,null,1.0242785943340349,null,null,0.78200884531510373,null,null,null,0.89992705681228213,null,null,0.96795787900221053,null,null,0.97544485535278447,null,null,1.0115533255350151,null,null,0.77316979777924466,null,null,null,0.84408013438098173,null,null,0.91018279188781692,null,null,1.0205345856816896,null,null,1.0558787680393202,null,null,0.63675315574357116,null,null,null,0.78832232387071421,null,null,0.90970180430144887,null,null,0.97426460615774002,null,null,1.0103985131216831,null,null,0.74419111991380826,null,null,null,0.8749014748638323,null,null,0.97141805677797188,null,null,1.0222935973664204,null,null,1.0193569065249668,null,null,0.78979967939571771,null,null,null,0.92967894300461229,null,null,1.0481499852041318,null,null,1.0986266226180279,null,null,1.1769195591225599,null,null,0.92031254308091648,null,null,null,0.93631349753443927,null,null,0.96400042324881241,null,null,0.96285048060165368,null,null,0.97256894765242885,null,null,0.49595280984994322,null,null,null,0.65907382302089368,null,null,0.90250893538066046,null,null,1.0350190503589607,null,null,1.0502212719417003,null,null,1.1759108940820602,null,null,null,1.1972485063434917,null,null,1.2002158302291448,null,null,1.1997464379237788,null,null,1.200838069862542,null,null,0.97905754487748198,null,null,null,0.90207137202136733]
[{"$f":"'Als-Ob-Allokation KW03'!A113","v":"2012-04-21"},{"$f":"'Als-Ob-Allokation KW03'!B113","v":7.4},6,1.0762221225355455,null,null,1.029896861455746,null,null,1.0982318254542243,null,null,1.0829512655765903,null,null,1.0619890068332216,null,null,0.52458262092023877,null,null,null,0.53429211403982191,null,null,0.52777401663158963,null,null,0.51756229070322968,null,null,0.51799166714714506,null,null,0.76899326793438361,null,null,null,0.84306167409387167,null,null,0.86777385878130742,null,null,0.82735022084565868,null,null,0.7996733533444339,null,null,0.84364899511162939,null,null,null,0.84555699664289885,null,null,0.83702303355587548,null,null,0.82868078456359384,null,null,0.81491009031789763,null,null,1.0144893711726608,null,null,null,1.0885308873311814,null,null,1.1082621441099871,null,null,1.0773341849467613,null,null,1.0693759927963244,null,null,0.91391307718822323,null,null,null,0.96628616725906891,null,null,1.0116205837703875,null,null,1.0815089060464151,null,null,1.0895538012022274,null,null,0.7889306893421062,null,null,null,0.93656334170625566,null,null,1.0391978741038603,null,null,1.0770935282172052,null,null,1.0748647543632912,null,null,0.8377743868723625,null,null,null,0.95239831158880783,null,null,1.0147490952586384,null,null,1.0277131609811763,null,null,0.98792868397308919,null,null,0.87669719652284794,null,null,null,0.98836961427279757,null,null,1.0694633259755251,null,null,1.0913042536547293,null,null,1.1375179157569728,null,null,0.95515163078260845,null,null,null,0.95949484166630572,null,null,0.97303343013831656,null,null,0.96212795994554978,null,null,0.95986244171874457,null,null,0.61865736402618032,null,null,null,0.7864410942160931,null,null,0.98576062520567731,null,null,1.0522077516755515,null,null,1.0366027515843577,null,null,0.42867709172332757,null,null,null,0.42924703277234882,null,null,0.42513755218259724,null,null,0.42018134210557645,null,null,0.41661396227726699,null,null,1.0334209823102078,null,null,null,0.98253430522362051]
[{"$f":"'Als-Ob-Allokation KW03'!A114","v":"2012-04-22"},{"$f":"'Als-Ob-Allokation KW03'!B114","v":6.5},7,1.1816221397102102,null,null,1.145845582114648,null,null,1.1908145161197163,null,null,1.1861831435549048,null,null,1.0696849328455769,null,null,1.0809968517171764,null,null,null,1.0879452444966895,null,null,1.0637466257415651,null,null,1.0301954516326715,null,null,1.023083198077122,null,null,1.0843124752890052,null,null,null,1.1496243772160175,null,null,1.1467969514951666,null,null,1.0631468500562822,null,null,0.98086541327521548,null,null,1.1168450571780824,null,null,null,1.1089996700406035,null,null,1.0833843647604664,null,null,1.0621624219910903,null,null,1.031040145691259,null,null,1.1648165802048263,null,null,null,1.1969383974702312,null,null,1.1757984025110171,null,null,1.1158092507770858,null,null,1.0736304129636443,null,null,1.0186344403800864,null,null,null,1.053924462309769,null,null,1.0812335040352625,null,null,1.119331215783115,null,null,1.1075363971354173,null,null,0.88058655214904558,null,null,null,1.0142355424352727,null,null,1.0938470205561281,null,null,1.1082194234370968,null,null,1.0772901094331599,null,null,1.0442295428018089,null,null,null,1.1586935865478585,null,null,1.1991938870580769,null,null,1.1826691904496649,null,null,1.1075456812888831,null,null,0.99221979420594353,null,null,null,1.0849537602967885,null,null,1.1415188930675642,null,null,1.1427790673075611,null,null,1.1677168561977385,null,null,1.1235200327765154,null,null,null,1.119163817036575,null,null,1.1235335311998329,null,null,1.1035633687301096,null,null,1.0918871515416979,null,null,0.74051684409285301,null,null,null,0.91137587658656327,null,null,1.0731647203903594,null,null,1.0910140955149406,null,null,1.0519435908573078,null,null,0.53455288437077531,null,null,null,0.52927651674203635,null,null,0.51984537439431888,null,null,0.50959006456122902,null,null,0.50172567270576041,null,null,1.1600970722046502,null,null,null,1.1277987873428608]
[{"$f":"'Als-Ob-Allokation KW03'!A115","v":"2012-04-23"},{"$f":"'Als-Ob-Allokation KW03'!B115","v":8.1999999999999993},1,0.9849646895634937,null,null,0.93067459665669816,null,null,1.0160210971852779,null,null,0.99203204323559047,null,null,1.0540225683316358,null,null,1.1255030463955682,null,null,null,1.1590209974641859,null,null,1.1559748956762121,null,null,1.1470900319401713,null,null,1.1561185333125292,null,null,0.95953968523029454,null,null,null,1.0860309401916115,null,null,1.1515689860061962,null,null,1.1286734687566002,null,null,1.1399820407062915,null,null,1.116658616377971,null,null,null,1.1300261691784668,null,null,1.1339606228777352,null,null,1.1335844603606138,null,null,1.128535759804409,null,null,0.77914962143478306,null,null,null,0.87448110143714797,null,null,0.92270264857176743,null,null,0.9182983564568844,null,null,0.93829260943870596,null,null,0.80147156311159018,null,null,null,0.86533994682119764,null,null,0.92367464867630422,null,null,1.0187726556826164,null,null,1.0443851575398699,null,null,0.70611709895384278,null,null,null,0.86184235466932779,null,null,0.98152407529146213,null,null,1.0394398437581545,null,null,1.0638106112968724,null,null,0.84294449661021542,null,null,null,0.97976722376150382,null,null,1.072683605680459,null,null,1.1141331043290779,null,null,1.0972737291764545,null,null,0.85942994677103157,null,null,null,0.9969119033095345,null,null,1.1081719999387389,null,null,1.1510320543068349,null,null,1.2217801168953772,null,null,1.0140687062838505,null,null,null,1.0271500019161652,null,null,1.051988282006425,null,null,1.0470503680054426,null,null,1.0530762808258936,null,null,0.56219409732722503,null,null,null,0.73590187951920139,null,null,0.9779453456760232,null,null,1.0941816517052332,null,null,1.0991959310822998,null,null,1.3251455230389964,null,null,null,1.3414542428182981,null,null,1.3392122705729443,null,null,1.3335897133007744,null,null,1.3306091375461488,null,null,1.0463090735230709,null,null,null,0.97435240101928688]
[{"$f":"'Als-Ob-Allokation KW03'!A116","v":"2012-04-24"},{"$f":"'Als-Ob-Allokation KW03'!B116","v":8.3000000000000007},2,0.97375892846096601,null,null,0.91857382232386753,null,null,1.0057936154156759,null,null,0.98077703075114031,null,null,1.0529450831368492,null,null,1.1570661075476505,null,null,null,1.1931915478481376,null,null,1.1915323031014939,null,null,1.1841707381586504,null,null,1.1945443310414665,null,null,0.92458086292609831,null,null,null,1.0507923897480458,null,null,1.1184787212856482,null,null,1.1002351956316334,null,null,1.1175724944176273,null,null,1.084127637105466,null,null,null,1.0985486737972527,null,null,1.1044021716838566,null,null,1.1054498021893782,null,null,1.1022648764996494,null,null,0.80994844027514079,null,null,null,0.91460182614255436,null,null,0.96959882213946402,null,null,0.96794513228602674,null,null,0.99267179015338702,null,null,0.76517282173577039,null,null,null,0.82840799780328345,null,null,0.88647666529556379,null,null,0.98172245671818836,null,null,1.0086929975277352,null,null,0.68161462726878019,null,null,null,0.83488163645808766,null,null,0.95395079964239338,null,null,1.013049903273564,null,null,1.0402017663021952,null,null,0.84028528839143357,null,null,null,0.97944206535979861,null,null,1.0760694861457569,null,null,1.1212902437887655,null,null,1.1077288328008172,null,null,0.81616680777407358,null,null,null,0.95018232050716578,null,null,1.0599248077476984,null,null,1.1034086464197836,null,null,1.1739184399184894,null,null,1.0178201929256838,null,null,null,1.032071694274642,null,null,1.058396660059459,null,null,1.0543387794224022,null,null,1.0615315044035929,null,null,0.58118146869936704,null,null,null,0.76360496583238147,null,null,1.0223555421126662,null,null,1.1508758338870646,null,null,1.159023416495538,null,null,1.3353455114393145,null,null,null,1.3537002755738738,null,null,1.3528256434430184,null,null,1.3484279618411927,null,null,1.3464733910703703,null,null,1.0342546430889792,null,null,null,0.96058100863436002]
[{"$f":"'Als-Ob-Allokation KW03'!A117","v":"2012-04-25"},{"$f":"'Als-Ob-Allokation KW03'!B117","v":10.9},3,0.70352756022791907,null,null,0.63335617251242715,null,null,0.75026152921319489,null,null,0.70453952903326056,null,null,1.0174688053340266,null,null,0.96414848211711668,null,null,null,1.0321905791905166,null,null,1.066819162761391,null,null,1.1050574962930231,null,null,1.1407364826326178,null,null,0.50895522367228196,null,null,null,0.65200669452397664,null,null,0.77288409777655886,null,null,0.84829275993948972,null,null,1.0094067391254302,null,null,0.73394488343713604,null,null,null,0.77915327783297172,null,null,0.83210139597637467,null,null,0.86594322185001438,null,null,0.90102625768371536,null,null,0.44518906351555027,null,null,null,0.61499063093122652,null,null,0.75013884910386552,null,null,0.81897963754587588,null,null,0.92578472945223544,null,null,0.49053801111809558,null,null,null,0.57539250416309118,null,null,0.66142708535076267,null,null,0.82230149512653761,null,null,0.9030791588630972,null,null,0.35640307438825419,null,null,null,0.48216133876020201,null,null,0.59947810853700967,null,null,0.68989103600451407,null,null,0.77670989322325656,null,null,0.48051869359869803,null,null,null,0.6074982743632652,null,null,0.73503074146017644,null,null,0.8389384708641523,null,null,0.8988053028786015,null,null,0.44008578028175716,null,null,null,0.56612629846874785,null,null,0.69722130094683155,null,null,0.77149695896928894,null,null,0.87085875679453384,null,null,0.70298350954845457,null,null,null,0.73617338008495059,null,null,0.78394830901502432,null,null,0.80128260832464215,null,null,0.83219175238298682,null,null,0.25477454598379051,null,null,null,0.37528753243873703,null,null,0.61256412553319994,null,null,0.81736608778572017,null,null,0.88538450676921976,null,null,1.1760905188043209,null,null,null,1.2415749642596796,null,null,1.2771932508978929,null,null,1.3051576850455617,null,null,1.3298533734918829,null,null,0.73949387774122899,null,null,null,0.63997012883693594]
[{"$f":"'Als-Ob-Allokation KW03'!A118","v":"2012-04-26"},{"$f":"'Als-Ob-Allokation KW03'!B118","v":13},4,0.52271998941046804,null,null,0.45138159188696514,null,null,0.5697624086958859,null,null,0.51679438870067163,null,null,0.9767054169532301,null,null,0.90536040604912016,null,null,null,0.99894255657520981,null,null,1.0630701592782728,null,null,1.1384107682711599,null,null,1.1966062,null,null,0.31192906393073327,null,null,null,0.45009378805848343,null,null,0.58730723533489571,null,null,0.71946117227199313,null,null,0.98211998125749933,null,null,0.5364142688996244,null,null,null,0.60803350047553539,null,null,0.6964376962765455,null,null,0.75352986777296582,null,null,0.80999853174335923,null,null,0.24819165336723831,null,null,null,0.43678983911151714,null,null,0.60673331218227589,null,null,0.71828114068628957,null,null,0.87352718706828969,null,null,0.30265022228433291,null,null,null,0.38424405134169337,null,null,0.47150071852770592,null,null,0.64808930692345879,null,null,0.75899401209871875,null,null,0.19876905469787523,null,null,null,0.29698950289603454,null,null,0.39143578779838872,null,null,0.48819769493725057,null,null,0.59417802906377359,null,null,0.28957835259834452,null,null,null,0.39966636012164325,null,null,0.52664357426523045,null,null,0.65088578503812988,null,null,0.7406650641890804,null,null,0.25780930240887706,null,null,null,0.36178519384654478,null,null,0.48620249389713022,null,null,0.56595618505202283,null,null,0.66689502182435612,null,null,0.50206558472639451,null,null,null,0.54232405879295764,null,null,0.59790870807848551,null,null,0.62650185970905492,null,null,0.6697376133953602,null,null,0.11942270517171391,null,null,null,0.2047076598226121,null,null,0.38794942957250778,null,null,0.59383048923774295,null,null,0.70000786848947016,null,null,1.0295563339253824,null,null,null,1.1261195733172331,null,null,1.1883490574055755,null,null,1.2375751285053733,null,null,1.2804007389121872,null,null,0.56216249118207762,null,null,null,0.46080002989099506]
[{"$f":"'Als-Ob-Allokation KW03'!A119","v":"2012-04-27"},{"$f":"'Als-Ob-Allokation KW03'!B119","v":14.9},5,0.3921900366472606,null,null,0.32597639196164341,null,null,0.43492005513609955,null,null,0.38197172073524444,null,null,0.93048246863674988,null,null,0.82493611629154695,null,null,null,0.93358875113327333,null,null,1.0191153843352683,null,null,1.120865247211384,null,null,1.1961449900571648,null,null,0.18071859708245722,null,null,null,0.29823316501340152,null,null,0.4260703451572822,null,null,0.58518738908180179,null,null,0.90316005824633305,null,null,0.3644997559525508,null,null,null,0.45504144730186236,null,null,0.56527687753639289,null,null,0.63590947270115661,null,null,0.69988308218804085,null,null,0.13627468691186914,null,null,null,0.32616101715287571,null,null,0.50917875358165843,null,null,0.64810812278949514,null,null,0.83216798403007941,null,null,0.18408949119546292,null,null,null,0.25458723721861537,null,null,0.33260328682284124,null,null,0.4977528663829085,null,null,0.62243390777946195,null,null,0.11209671702093527,null,null,null,0.18860103170681847,null,null,0.2570319169983647,null,null,0.35102571186887355,null,null,0.45560757698627635,null,null,0.16426504472976786,null,null,null,0.25437738652425024,null,null,0.36373581615494233,null,null,0.48324371135261895,null,null,0.57436213853113138,null,null,0.16296376661234063,null,null,null,0.24887745098459574,null,null,0.36208987064921044,null,null,0.44113448533230798,null,null,0.5363342630100788,null,null,0.33894624897700032,null,null,null,0.37757907229355936,null,null,0.42991850809111742,null,null,0.46167769006684872,null,null,0.50710219553506153,null,null,5.4760498755145236E-2,null,null,null,0.11935390453855353,null,null,0.25103930052726225,null,null,0.42578100740170177,null,null,0.56059744954799018,null,null,0.84904241970340244,null,null,null,0.95789844035392513,null,null,1.0345874151605563,null,null,1.0934635169874882,null,null,1.1453470267756589,null,null,0.42797746998935732,null,null,null,0.33687579103377457]
[{"$f":"'Als-Ob-Allokation KW03'!A120","v":"2012-04-28"},{"$f":"'Als-Ob-Allokation KW03'!B120","v":20.8},6,0.16624367206228469,null,null,0.1271467400204376,null,null,0.19457959550859927,null,null,0.1593447780562095,null,null,0.77946492136257928,null,null,0.28568943742378705,null,null,null,0.34138765308473629,null,null,0.39427119704661034,null,null,0.45417498047937899,null,null,0.50131737024221457,null,null,2.2495480214063328E-2,null,null,null,7.6321591427667729E-2,null,null,0.13877966371371778,null,null,0.2775096582771498,null,null,0.56202018528045272,null,null,6.5981086446613227E-2,null,null,null,0.17177144996973129,null,null,0.28694983266814678,null,null,0.35840027846211397,null,null,0.40349524476634208,null,null,1.3238712782589649E-2,null,null,null,0.18526030017725939,null,null,0.36143504770632301,null,null,0.53659265410914581,null,null,0.74185352557176187,null,null,4.294948984419579E-2,null,null,null,8.3845381670082222E-2,null,null,0.12941889193319664,null,null,0.2093438676072297,null,null,0.32859160255720621,null,null,1.9381240003382393E-2,null,null,null,6.1061699619919092E-2,null,null,7.3599851630417712E-2,null,null,0.14853322989943149,null,null,0.20807458833052267,null,null,2.6232054398658791E-2,null,null,null,8.8259886041792995E-2,null,null,0.15758731806832926,null,null,0.24722962754447764,null,null,0.30780945992150932,null,null,2.8398222152378569E-2,null,null,null,5.8462978031577184E-2,null,null,0.1005077351927809,null,null,0.13997943088845574,null,null,0.17822693773458251,null,null,0.11595374219096573,null,null,null,0.14117949794478954,null,null,0.17239755049521169,null,null,0.19827161317628481,null,null,0.23147993751376286,null,null,3.1376346343539104E-3,null,null,null,4.6421634447096044E-2,null,null,9.975734035776071E-2,null,null,0.17547868168878022,null,null,0.36982777398397865,null,null,0.23600544284878905,null,null,null,0.28412259376298693,null,null,0.32534458513383513,null,null,0.35260715289935979,null,null,0.37876755365469239,null,null,0.22305682666684784,null,null,null,0.1687252535488995]
[{"$f":"'Als-Ob-Allokation KW03'!A121","v":"2012-04-29"},{"$f":"'Als-Ob-Allokation KW03'!B121","v":19},7,0.21090810872207449,null,null,0.16380781151951726,null,null,0.24246725179592465,null,null,0.20112657690845731,null,null,0.81970708700706973,null,null,0.58927094583407369,null,null,null,0.6956992536078529,null,null,0.79335072731594236,null,null,0.90657136337490729,null,null,0.99292629533678767,null,null,4.7418418402411365E-2,null,null,null,0.12162346868435464,null,null,0.20863585680585295,null,null,0.37492304693525669,null,null,0.71763209217223389,null,null,0.12930550175843708,null,null,null,0.24545137083318802,null,null,0.37621165397775042,null,null,0.45802104483956502,null,null,0.51580928413962646,null,null,2.8820823032122817E-2,null,null,null,0.20230282156422888,null,null,0.3795935678609148,null,null,0.54579765219980081,null,null,0.7480549152653031,null,null,6.0110562832241018E-2,null,null,null,0.1051222393986385,null,null,0.1559955588316129,null,null,0.25767260956042981,null,null,0.3772513490963943,null,null,2.8308171059491433E-2,null,null,null,7.1506220313497362E-2,null,null,9.2965161287390491E-2,null,null,0.16539035974036315,null,null,0.23196020528266947,null,null,4.7333349279587364E-2,null,null,null,0.11665252627163415,null,null,0.19745734804464776,null,null,0.2989104193040179,null,null,0.37148723202505374,null,null,4.2795757110352585E-2,null,null,null,8.0412072847403301E-2,null,null,0.13448451775278747,null,null,0.18026832132716963,null,null,0.2278144648951739,null,null,0.1594303808439464,null,null,null,0.18976295129036633,null,null,0.22876788309635032,null,null,0.2586342374585256,null,null,0.29838968307013713,null,null,7.4545309309189045E-3,null,null,null,4.9908069869979678E-2,null,null,0.11055363192622825,null,null,0.20122262816005818,null,null,0.36841872402158271,null,null,0.29640364316343426,null,null,null,0.35203839090120082,null,null,0.39729615987998695,null,null,0.42873753487294292,null,null,0.4580689792464171,null,null,0.25837962008629622,null,null,null,0.19526802985819017]
[{"$f":"'Als-Ob-Allokation KW03'!A122","v":"2012-04-30"},{"$f":"'Als-Ob-Allokation KW03'!B122","v":17.399999999999999},1,0.26686154113849025,null,null,0.21194652896865435,null,null,0.30235189462154921,null,null,0.25553575601265188,null,null,0.86198701049161852,null,null,0.70490599801346487,null,null,null,0.82055236773383222,null,null,0.92205573693631393,null,null,1.0416357539616776,null,null,1.1307999486373397,null,null,9.3450311155267834E-2,null,null,null,0.19565160910853777,null,null,0.3141445541315892,null,null,0.50841789241974278,null,null,0.90557279951806469,null,null,0.22948224276891191,null,null,null,0.35425231561694592,null,null,0.49935945239484097,null,null,0.59096326950510658,null,null,0.66260265350578207,null,null,5.0654642108253482E-2,null,null,null,0.21638625365143507,null,null,0.38378436582912467,null,null,0.53026854354145248,null,null,0.7145064174215574,null,null,9.3645974417192912E-2,null,null,null,0.14839839767438259,null,null,0.21034241893898747,null,null,0.34116924605450677,null,null,0.46896723873044727,null,null,5.2500917764031325E-2,null,null,null,0.11031392165945653,null,null,0.14949866020376967,null,null,0.23765404978490504,null,null,0.32761779882408759,null,null,8.3764607083720757E-2,null,null,null,0.16501166854324159,null,null,0.26275116260147785,null,null,0.38056420514238393,null,null,0.46850571783872985,null,null,7.9356437893009807E-2,null,null,null,0.13704399529112185,null,null,0.21906247202146142,null,null,0.28308758987707916,null,null,0.35392940063405887,null,null,0.22782944412749417,null,null,null,0.26458175000252837,null,null,0.31305518610736227,null,null,0.34731522237476181,null,null,0.39419206221489622,null,null,1.8953654036547498E-2,null,null,null,7.3015807027764709E-2,null,null,0.16303391384136995,null,null,0.29693615450378902,null,null,0.47458810348778363,null,null,0.84161805009920632,null,null,null,0.98294397433944602,null,null,1.0921324544946887,null,null,1.1712573048986912,null,null,1.2432678877596897,null,null,0.32528793738914147,null,null,null,0.24774210330630636]
[{"$f":"'Als-Ob-Allokation KW03'!A123","v":"2012-05-01"},{"$f":"'Als-Ob-Allokation KW03'!B123","v":16.5},2,0.30626578863787374,null,null,0.24698419825275286,null,null,0.34430975004363873,null,null,0.29476472363877432,null,null,0.88694075429424957,null,null,0.75478722536828113,null,null,null,0.87045339619053752,null,null,0.96872104412714677,null,null,1.0851933760661598,null,null,1.1713470559989181,null,null,0.12035681423259073,null,null,null,0.22900799107977265,null,null,0.35295789703772212,null,null,0.5379960681883893,null,null,0.91333129144625813,null,null,0.27617518572545452,null,null,null,0.38958890221535947,null,null,0.52388981456973416,null,null,0.60913187719355777,null,null,0.67959957774433888,null,null,7.5428692396908109E-2,null,null,null,0.25485453451864759,null,null,0.43387352873736695,null,null,0.58347620113789522,null,null,0.77512092838669988,null,null,0.11439048622263479,null,null,null,0.17207125452080405,null,null,0.23702289612746838,null,null,0.37570550030199446,null,null,0.49872954715868933,null,null,6.833790227534231E-2,null,null,null,0.13124974106157006,null,null,0.17965474574066162,null,null,0.26926418398516599,null,null,0.36476748342783155,null,null,0.11092234091069428,null,null,null,0.1975229994546388,null,null,0.30282301700983077,null,null,0.4259921896270884,null,null,0.51940841772231094,null,null,9.9789085670659985E-2,null,null,null,0.16460604749622335,null,null,0.25495413907531161,null,null,0.32260414447973285,null,null,0.39998290284387816,null,null,0.27108452536036831,null,null,null,0.31018094717222466,null,null,0.3623171852019566,null,null,0.39736787373266785,null,null,0.44604300008716374,null,null,3.0060281661332323E-2,null,null,null,9.0674289617182699E-2,null,null,0.20040005725470461,null,null,0.35935252859652994,null,null,0.53310267701448755,null,null,0.88374116472237629,null,null,null,1.0204576164254389,null,null,1.1228285933735889,null,null,1.1986865026023112,null,null,1.2668399511520103,null,null,0.35894993586657542,null,null,null,0.27581443015086593]
[{"$f":"'Als-Ob-Allokation KW03'!A124","v":"2012-05-02"},{"$f":"'Als-Ob-Allokation KW03'!B124","v":16.8},3,0.29245046796262064,null,null,0.23460502639268521,null,null,0.32962431160114747,null,null,0.28094214285412095,null,null,0.87860075137371441,null,null,0.71620550400898819,null,null,null,0.82862267048827187,null,null,0.92524069810009546,null,null,1.0395579244183903,null,null,1.1243008845080251,null,null,0.10519565707328316,null,null,null,0.20635844813650686,null,null,0.3224845801468052,null,null,0.50145457980431296,null,null,0.86548482640800772,null,null,0.2470287892602627,null,null,null,0.35842288582495885,null,null,0.48955405166861987,null,null,0.57263307446413625,null,null,0.64007033861082618,null,null,6.8448541819694689E-2,null,null,null,0.24922028841370072,null,null,0.43041583073539169,null,null,0.58427276558535646,null,null,0.78016488086444524,null,null,0.11566944498542286,null,null,null,0.17697954674911018,null,null,0.24615504419644682,null,null,0.39352880055667311,null,null,0.52845806908665294,null,null,6.2428979410955855E-2,null,null,null,0.12339297340443812,null,null,0.16851938285534354,null,null,0.25745662584789264,null,null,0.35101424575902063,null,null,0.10089897416201302,null,null,null,0.18546450300345882,null,null,0.28800272254844761,null,null,0.40922297781541456,null,null,0.50075120958412256,null,null,8.7645656142310527E-2,null,null,null,0.14677421993027295,null,null,0.22982322043315334,null,null,0.29286049169433198,null,null,0.36419080612801807,null,null,0.25527926459260325,null,null,null,0.29355647342496288,null,null,0.3444244780880924,null,null,0.37921431194203792,null,null,0.42728745980275112,null,null,2.6007356466845259E-2,null,null,null,8.4669220525079414E-2,null,null,0.1880266150670237,null,null,0.33936630462878981,null,null,0.51590215080134372,null,null,0.8791678151589799,null,null,null,1.0191858955024535,null,null,1.1251502648586282,null,null,1.2031009873664393,null,null,1.2734275520075595,null,null,0.34362569038820129,null,null,null,0.26315987764025217]
[{"$f":"'Als-Ob-Allokation KW03'!A125","v":"2012-05-03"},{"$f":"'Als-Ob-Allokation KW03'!B125","v":14},4,0.45006389680119552,null,null,0.38086049466788985,null,null,0.49515126125768316,null,null,0.44152809343800153,null,null,0.95335864263746783,null,null,0.85901952503875079,null,null,null,0.96086956024061709,null,null,1.0365890093453174,null,null,1.1263960977645509,null,null,1.1936769878296147,null,null,0.23956408857339082,null,null,null,0.36953626820211605,null,null,0.50564641216943074,null,null,0.65682550010946317,null,null,0.95719770092238177,null,null,0.44821552637872436,null,null,null,0.53160127043768846,null,null,0.63418390643386002,null,null,0.700212526668202,null,null,0.76278093660360435,null,null,0.18186939856147222,null,null,null,0.37169468690358026,null,null,0.54962597741623165,null,null,0.67637507151193355,null,null,0.847879299439249,null,null,0.2366549608880027,null,null,null,0.31371297026307127,null,null,0.39776155557540616,null,null,0.57261220885851116,null,null,0.69358289684533647,null,null,0.1478567084044429,null,null,null,0.23412717000076433,null,null,0.31503680629977993,null,null,0.41111102735526489,null,null,0.51826946144910591,null,null,0.22284289812663213,null,null,null,0.32494673993039014,null,null,0.44682440394889228,null,null,0.5738091021977817,null,null,0.6691801512831832,null,null,0.19608220085087849,null,null,null,0.28745362310283445,null,null,0.40290874341206973,null,null,0.48041597818659698,null,null,0.57610160337670424,null,null,0.42214705266874636,null,null,null,0.46333960892491016,null,null,0.51961176955681265,null,null,0.55145556018710562,null,null,0.59800366211019684,null,null,8.1660116644363193E-2,null,null,null,0.15627337209311074,null,null,0.31447143538645272,null,null,0.51006117267501527,null,null,0.63444193711115648,null,null,0.97817730988268636,null,null,null,1.0878635141353654,null,null,1.1621909619646222,null,null,1.2201968687119604,null,null,1.2709126869934873,null,null,0.49118433864674516,null,null,null,0.39357863420226175]
[{"$f":"'Als-Ob-Allokation KW03'!A126","v":"2012-05-04"},{"$f":"'Als-Ob-Allokation KW03'!B126","v":14.7},5,0.4044420670763218,null,null,0.33749183769943436,null,null,0.44772789311538708,null,null,0.39453839467046842,null,null,0.93569824590858164,null,null,0.83299002449762649,null,null,null,0.94031542185632433,null,null,1.023819652072558,null,null,1.1231328070171311,null,null,1.1967441651472817,null,null,0.19110333987362563,null,null,null,0.31046142321190534,null,null,0.43930573492143704,null,null,0.59580754434134997,null,null,0.90805992190334262,null,null,0.37910269480666053,null,null,null,0.46746178485740658,null,null,0.57533618230614325,null,null,0.64453131511896689,null,null,0.70786449032182019,null,null,0.14571606126147557,null,null,null,0.33603212405396571,null,null,0.5184353780892893,null,null,0.65504779863625318,null,null,0.83684967198528071,null,null,0.19366622773943623,null,null,null,0.26524324440270702,null,null,0.34422096417270781,null,null,0.51087527955869716,null,null,0.63425947087232937,null,null,0.11915307024973244,null,null,null,0.19763578607523041,null,null,0.26873337365138883,null,null,0.36316514037400838,null,null,0.46844281475359106,null,null,0.17359111778743835,null,null,null,0.26498441700953579,null,null,0.37560912498587518,null,null,0.49530294773743905,null,null,0.58637847713314539,null,null,0.17251897553633683,null,null,null,0.26104894596795736,null,null,0.37669576515850761,null,null,0.45674536672365112,null,null,0.55371074751921068,null,null,0.3512629600658857,null,null,null,0.39000122941918469,null,null,0.44257905600150516,null,null,0.4740223419135825,null,null,0.519191701033758,null,null,5.9355885504775857E-2,null,null,null,0.12531828088939473,null,null,0.26124747916658603,null,null,0.43903583366134985,null,null,0.57039484736231372,null,null,0.85724906006233625,null,null,null,0.96414116590202759,null,null,1.0388263584645074,null,null,1.0963887906431313,null,null,1.1470145714388822,null,null,0.43919106990182388,null,null,null,0.34698965463909365]
[{"$f":"'Als-Ob-Allokation KW03'!A127","v":"2012-05-05"},{"$f":"'Als-Ob-Allokation KW03'!B127","v":12.5},6,0.56235194674512745,null,null,0.49052849577913693,null,null,0.60996835886415945,null,null,0.55796599717268736,null,null,0.98745161640939716,null,null,0.39755402917739541,null,null,null,0.43556414934708326,null,null,0.460319874453823,null,null,0.48917181712775643,null,null,0.51201928371299799,null,null,0.25445058364892376,null,null,null,0.3560730301870032,null,null,0.45387463712684917,null,null,0.54073502912603566,null,null,0.71423194874555995,null,null,0.41948499613142254,null,null,null,0.46663284064748245,null,null,0.52464826185005708,null,null,0.56213244345507918,null,null,0.59986829361519778,null,null,0.29495848775025152,null,null,null,0.48606656087442157,null,null,0.65424475233046497,null,null,0.75954679212954934,null,null,0.90867706475814414,null,null,0.31583828501515937,null,null,null,0.39297676584948804,null,null,0.47454779611811715,null,null,0.63692838143019215,null,null,0.73399428548584111,null,null,0.21582637496371337,null,null,null,0.31419056849955435,null,null,0.40901085899388284,null,null,0.49962319271907685,null,null,0.59706014552209896,null,null,0.27747992731801047,null,null,null,0.37397521141626433,null,null,0.48261557872462074,null,null,0.58514161087596994,null,null,0.65696376076465668,null,null,0.27707116555408356,null,null,null,0.38063996615777762,null,null,0.50088532487965665,null,null,0.57605481718366891,null,null,0.67234295853067272,null,null,0.46120919911299912,null,null,null,0.4943578963583824,null,null,0.54043199685667798,null,null,0.56278305159641784,null,null,0.59738007568006213,null,null,0.12234272432971417,null,null,null,0.20063429412994788,null,null,0.36777661633042696,null,null,0.54558635379766973,null,null,0.62832445783551694,null,null,0.32964386682096558,null,null,null,0.35752378471516866,null,null,0.37496614691469538,null,null,0.38882005154516391,null,null,0.40086722340478176,null,null,0.5433429106099561,null,null,null,0.45087499170073836]
[{"$f":"'Als-Ob-Allokation KW03'!A128","v":"2012-05-06"},{"$f":"'Als-Ob-Allokation KW03'!B128","v":11.9},7,0.61277521618466535,null,null,0.54096486133505661,null,null,0.66060581261613527,null,null,0.61037412677686431,null,null,0.99949029015744983,null,null,0.81001284756344838,null,null,null,0.87986158361916855,null,null,0.92211732874195995,null,null,0.97069083006179613,null,null,1.0108195011291661,null,null,0.35582596275099926,null,null,null,0.48093798449619346,null,null,0.5962991247246775,null,null,0.68801261650776901,null,null,0.87361506629640895,null,null,0.557723855669779,null,null,null,0.60829957397518508,null,null,0.66992088646978243,null,null,0.70968744144352014,null,null,0.75040212422347941,null,null,0.34185598697010444,null,null,null,0.52430166884163776,null,null,0.6797069250818808,null,null,0.77090594996934036,null,null,0.90345074221850552,null,null,0.34819794614585098,null,null,null,0.4233578166834745,null,null,0.50168044305800497,null,null,0.65422530746353991,null,null,0.7399762458185164,null,null,0.23621643002973894,null,null,null,0.33402052243526043,null,null,0.42781026014398338,null,null,0.51044714582613004,null,null,0.59654791884897784,null,null,0.34257344973523146,null,null,null,0.44991049332970051,null,null,0.56650261425342263,null,null,0.67131064987902556,null,null,0.74102239306526652,null,null,0.31228233576178765,null,null,null,0.41840557131144629,null,null,0.53692792318784666,null,null,0.60862203479252752,null,null,0.70182994685842282,null,null,0.54213024023643641,null,null,null,0.57588801271738399,null,null,0.62328161734349485,null,null,0.64439273690644217,null,null,0.67831596126473914,null,null,0.14362226569749914,null,null,null,0.22504078500159,null,null,0.39549541630374463,null,null,0.56425607656324439,null,null,0.63368873195144604,null,null,0.4070593646289391,null,null,null,0.43701352760234474,null,null,0.45498298800833342,null,null,0.46927447428670649,null,null,0.48172697263578401,null,null,0.60220492829710415,null,null,null,0.50745191334092465]
[{"$f":"'Als-Ob-Allokation KW03'!A129","v":"2012-05-07"},{"$f":"'Als-Ob-Allokation KW03'!B129","v":11.3},1,0.66624562885135441,null,null,0.59516278270045375,null,null,0.71366238137201732,null,null,0.66589880098091592,null,null,1.0105875316614448,null,null,0.94980180176056805,null,null,null,1.0227732249409844,null,null,1.0629636845849966,null,null,1.1082241951193512,null,null,1.1480313389222008,null,null,0.49377813335924592,null,null,null,0.645890482179727,null,null,0.77936394044220192,null,null,0.87221856284116739,null,null,1.0650085872592783,null,null,0.73608055317052701,null,null,null,0.78929450902921083,null,null,0.8528941001489645,null,null,0.89376571686115525,null,null,0.93605379482672979,null,null,0.37195481836249722,null,null,null,0.53463867730833248,null,null,0.66800664345686467,null,null,0.74039134210791013,null,null,0.84929109031073069,null,null,0.42261400418292622,null,null,null,0.50270335888276241,null,null,0.58484034099608362,null,null,0.7410455846318682,null,null,0.82328084680101654,null,null,0.32320015940403601,null,null,null,0.44480287438297761,null,null,0.55981912787040278,null,null,0.65335528381653618,null,null,0.74662817290944872,null,null,0.43387632188984004,null,null,null,0.55658568548820675,null,null,0.68413746814101206,null,null,0.79256783852435464,null,null,0.85949835620402548,null,null,0.42993894909135139,null,null,null,0.56206641308191485,null,null,0.70360604667933924,null,null,0.78609235004633227,null,null,0.89508630527535682,null,null,0.65471382516144994,null,null,null,0.68947164469893318,null,null,0.7389260663001227,null,null,0.75865758305064812,null,null,0.79211048210775437,null,null,0.2119745434352921,null,null,null,0.31947878513802885,null,null,0.53734161351776144,null,null,0.73656955624837828,null,null,0.80884808738072711,null,null,1.1287165920759759,null,null,null,1.1995570928008947,null,null,1.2398617822205069,null,null,1.2717701600968006,null,null,1.2997399971320094,null,null,0.70795549354969312,null,null,null,0.60610609636494139]
[{"$f":"'Als-Ob-Allokation KW03'!A130","v":"2012-05-08"},{"$f":"'Als-Ob-Allokation KW03'!B130","v":14.7},{"$f":"WEEKDAY(A131,2)","v":2},{"$f":"($F$3/(1+($F$4/(B131-40))^$F$5)+$F$6)","v":0.4044420670763218},null,null,0.33749183769943436,null,null,0.44772789311538708,null,null,0.39453839467046842,null,null,0.93569824590858164,null,null,{"$f":"($V$3/(1+($V$4/(B131-40))^$V$5)+$V$6)*VLOOKUP(C131,$T$9:$V$15,3)","v":0.81903623615531396},null,null,null,{"$f":"($Y$3/(1+($Y$4/(B131-40))^$Y$5)+$Y$6)*VLOOKUP(C131,$T$9:$V$15,3)","v":0.92456377779611043},null,null,{"$f":"($AB$3/(1+($AB$4/(B131-40))^$AB$5)+$AB$6)*VLOOKUP(C131,$T$9:$V$15,3)","v":1.0066691913160364},null,null,{"$f":"($AE$3/(1+($AE$4/(B131-40))^$AE$5)+$AE$6)*VLOOKUP(C131,$T$9:$V$15,3)","v":1.1043187071977774},null,null,{"$f":"($AH$3/(1+($AH$4/(B131-40))^$AH$5)+$AH$6)*VLOOKUP(C131,$T$9:$V$15,3)","v":1.1766969685551809},null,null,0.20210490561152872,null,null,null,0.32833427545408694,null,null,0.46459598324976065,null,null,0.63010739420553641,null,null,0.96033572687556912,null,null,0.40092713398752328,null,null,null,0.49437293962564427,null,null,0.60845752301751399,null,null,0.68163612782452987,null,null,0.74861530989908465,null,null,0.14162227014941448,null,null,null,0.32659153589292106,null,null,0.50387029772253711,null,null,0.6366446875940166,null,null,0.81333896410828754,null,null,0.18106485135938161,null,null,null,0.24798453082109936,null,null,0.32182336817428936,null,null,0.4776339046626763,null,null,0.59298979567717924,null,null,0.11890902319274967,null,null,null,0.19723099220928095,null,null,0.26818295905598466,null,null,0.36242131242629999,null,null,0.46748335907136873,null,null,0.18479507662895436,null,null,null,0.28208710371182044,null,null,0.39985177766579305,null,null,0.52727090733849979,null,null,0.62422465501993818,null,null,0.16776050111962953,null,null,null,0.25384860915262947,null,null,0.3663056202146478,null,null,0.44414726766963536,null,null,0.53843811783812912,null,null,0.37393425683088671,null,null,null,0.41517278069580982,null,null,0.47114409775456134,null,null,0.50461680363749406,null,null,0.55270149418090397,null,null,6.3750227527418643E-2,null,null,null,0.13459606999546933,null,null,0.2805886239620563,null,null,0.47153932673363919,null,null,0.61262334797261053,null,null,0.95904548533933787,null,null,null,1.0786307917571905,null,null,1.1621846853520543,null,null,1.2265825287303214,null,null,1.2832200087532371,null,null,0.4478879227711669,null,null,null,0.35386073690917474]
[{"$f":"'Als-Ob-Allokation KW03'!A131","v":"2012-05-09"},{"$f":"'Als-Ob-Allokation KW03'!B131","v":16.899999999999999},3,0.28799877980867794,null,null,0.23063732535623122,null,null,{"$f":"($L$3/(1+($L$4/(B132-40))^$L$5)+$L$6)","v":0.32488621884112345},null,null,{"$f":"($O$3/(1+($O$4/(B132-40))^$O$5)+$O$6)","v":0.27650308718522193},null,null,{"$f":"($R$3/(1+($R$4/(B132-40))^$R$5)+$R$6)","v":0.87582201521911651},null,null,0.71335498749935522,null,null,null,0.82619134324362387,null,null,0.92352828821414112,null,null,1.0386217985209154,null,null,1.1240120574056767,null,null,{"$f":"($AL$3/(1+($AL$4/(B132-40))^$AL$5)+$AL$6)*VLOOKUP(C132,$AJ$9:$AL$15,3)","v":0.10208514558340097},null,null,null,{"$f":"($AO$3/(1+($AO$4/(B132-40))^$AO$5)+$AO$6)*VLOOKUP(C132,$AJ$9:$AL$15,3)","v":0.20236306354018091},null,null,{"$f":"($AR$3/(1+($AR$4/(B132-40))^$AR$5)+$AR$6)*VLOOKUP(C132,$AJ$9:$AL$15,3)","v":0.31769082343441274},null,null,{"$f":"($AU$3/(1+($AU$4/(B132-40))^$AU$5)+$AU$6)*VLOOKUP(C132,$AJ$9:$AL$15,3)","v":0.49730298093151742},null,null,{"$f":"($AX$3/(1+($AX$4/(B132-40))^$AX$5)+$AX$6)*VLOOKUP(C132,$AJ$9:$AL$15,3)","v":0.86296486477580592},null,null,{"$f":"($BB$3/(1+($BB$4/(B132-40))^$BB$5)+$BB$6)*VLOOKUP(C132,$AZ$9:$BB$15,3)","v":0.2415532659302542},null,null,null,{"$f":"($BE$3/(1+($BE$4/(B132-40))^$BE$5)+$BE$6)*VLOOKUP(C132,$AZ$9:$BB$15,3)","v":0.35392755422088423},null,null,{"$f":"($BH$3/(1+($BH$4/(B132-40))^$BH$5)+$BH$6)*VLOOKUP(C132,$AZ$9:$BB$15,3)","v":0.48594847653687512},null,null,{"$f":"($BK$3/(1+($BK$4/(B132-40))^$BK$5)+$BK$6)*VLOOKUP(C132,$AZ$9:$BB$15,3)","v":0.56954072142544554},null,null,{"$f":"($BN$3/(1+($BN$4/(B132-40))^$BN$5)+$BN$6)*VLOOKUP(C132,$AZ$9:$BB$15,3)","v":0.63697899956098114},null,null,{"$f":"($BR$3/(1+($BR$4/(B132-40))^$BR$5)+$BR$6)*VLOOKUP(C132,$BP$9:$BR$15,3)","v":6.5934712748025814E-2},null,null,null,{"$f":"($BU$3/(1+($BU$4/(B132-40))^$BU$5)+$BU$6)*VLOOKUP(C132,$BP$9:$BR$15,3)","v":0.24630947578158902},null,null,{"$f":"($BX$3/(1+($BX$4/(B132-40))^$BX$5)+$BX$6)*VLOOKUP(C132,$BP$9:$BR$15,3)","v":0.42736374722982445},null,null,{"$f":"($CA$3/(1+($CA$4/(B132-40))^$CA$5)+$CA$6)*VLOOKUP(C132,$BP$9:$BR$15,3)","v":0.58189956558347145},null,null,{"$f":"($CD$3/(1+($CD$4/(B132-40))^$CD$5)+$CD$6)*VLOOKUP(C132,$BP$9:$BR$15,3)","v":0.77825554139457254},null,null,{"$f":"($CH$3/(1+($CH$4/(B132-40))^$CH$5)+$CH$6)*VLOOKUP(C132,$CF$9:$CH$15,3)","v":0.11277160782928936},null,null,null,0.17354087165763249,null,null,{"$f":"($CN$3/(1+($CN$4/(B132-40))^$CN$5)+$CN$6)*VLOOKUP(C132,$CF$9:$CH$15,3)","v":0.24214511727995608},null,null,{"$f":"($CQ$3/(1+($CQ$4/(B132-40))^$CQ$5)+$CQ$6)*VLOOKUP(C132,$CF$9:$CH$15,3)","v":0.38814926090345747},null,null,{"$f":"($CT$3/(1+($CT$4/(B132-40))^$CT$5)+$CT$6)*VLOOKUP(C132,$CF$9:$CH$15,3)","v":0.52325504425724989},null,null,{"$f":"($CX$3/(1+($CX$4/(B132-40))^$CX$5)+$CX$6)*VLOOKUP(C132,$CV$9:$CX$15,3)","v":6.0540191792424487E-2},null,null,null,{"$f":"($DA$3/(1+($DA$4/(B132-40))^$DA$5)+$DA$6)*VLOOKUP(C132,$CV$9:$CX$15,3)","v":0.12084403679799981},null,null,{"$f":"($DD$3/(1+($DD$4/(B132-40))^$DD$5)+$DD$6)*VLOOKUP(C132,$CV$9:$CX$15,3)","v":0.16487539929015277},null,null,{"$f":"($DG$3/(1+($DG$4/(B132-40))^$DG$5)+$DG$6)*VLOOKUP(C132,$CV$9:$CX$15,3)","v":0.25353019470233878},null,null,{"$f":"($DJ$3/(1+($DJ$4/(B132-40))^$DJ$5)+$DJ$6)*VLOOKUP(C132,$CV$9:$CX$15,3)","v":0.34635593142650212},null,null,{"$f":"($DN$3/(1+($DN$4/(B132-40))^$DN$5)+$DN$6)*VLOOKUP(C132,$DL$9:$DN$15,3)","v":9.7980567793838139E-2},null,null,null,{"$f":"($DQ$3/(1+($DQ$4/(B132-40))^$DQ$5)+$DQ$6)*VLOOKUP(C132,$DL$9:$DN$15,3)","v":0.18209174833158526},null,null,{"$f":"($DT$3/(1+($DT$4/(B132-40))^$DT$5)+$DT$6)*VLOOKUP(C132,$DL$9:$DN$15,3)","v":0.28396555320188888},null,null,{"$f":"($DW$3/(1+($DW$4/(B132-40))^$DW$5)+$DW$6)*VLOOKUP(C132,$DL$9:$DN$15,3)","v":0.40481105399829692},null,null,{"$f":"($DZ$3/(1+($DZ$4/(B132-40))^$DZ$5)+$DZ$6)*VLOOKUP(C132,$DL$9:$DN$15,3)","v":0.49590249071489517},null,null,{"$f":"($ED$3/(1+($ED$4/(B132-40))^$ED$5)+$ED$6)*VLOOKUP(C132,$EB$9:$ED$15,3)","v":8.51381045106991E-2},null,null,null,{"$f":"($EG$3/(1+($EG$4/(B132-40))^$EG$5)+$EG$6)*VLOOKUP(C132,$EB$9:$ED$15,3)","v":0.14330052538759655},null,null,{"$f":"($EJ$3/(1+($EJ$4/(B132-40))^$EJ$5)+$EJ$6)*VLOOKUP(C132,$EB$9:$ED$15,3)","v":0.22518201989249867},null,null,{"$f":"($EM$3/(1+($EM$4/(B132-40))^$EM$5)+$EM$6)*VLOOKUP(C132,$EB$9:$ED$15,3)","v":0.28761932527766126},null,null,{"$f":"($EP$3/(1+($EP$4/(B132-40))^$EP$5)+$EP$6)*VLOOKUP(C132,$EB$9:$ED$15,3)","v":0.35801271433949589},null,null,{"$f":"($ET$3/(1+($ET$4/(B132-40))^$ET$5)+$ET$6)*VLOOKUP(C132,$ER$9:$ET$15,3)","v":0.25083046639273793},null,null,null,{"$f":"($EW$3/(1+($EW$4/(B132-40))^$EW$5)+$EW$6)*VLOOKUP(C132,$ER$9:$ET$15,3)","v":0.28891810417903585},null,null,{"$f":"($EZ$3/(1+($EZ$4/(B132-40))^$EZ$5)+$EZ$6)*VLOOKUP(C132,$ER$9:$ET$15,3)","v":0.33947364493483545},null,null,{"$f":"($FC$3/(1+($FC$4/(B132-40))^$FC$5)+$FC$6)*VLOOKUP(C132,$ER$9:$ET$15,3)","v":0.37424417255432191},null,null,{"$f":"($FF$3/(1+($FF$4/(B132-40))^$FF$5)+$FF$6)*VLOOKUP(C132,$ER$9:$ET$15,3)","v":0.42221162474780294},null,null,{"$f":"($FJ$3/(1+($FJ$4/(B132-40))^$FJ$5)+$FJ$6)*VLOOKUP(C132,$FH$9:$FJ$15,3)","v":2.488376100784697E-2},null,null,null,{"$f":"($FM$3/(1+($FM$4/(B132-40))^$FM$5)+$FM$6)*VLOOKUP(C132,$FH$9:$FJ$15,3)","v":8.3193991566440889E-2},null,null,{"$f":"($FP$3/(1+($FP$4/(B132-40))^$FP$5)+$FP$6)*VLOOKUP(C132,$FH$9:$FJ$15,3)","v":0.18498802336368825},null,null,{"$f":"($FS$3/(1+($FS$4/(B132-40))^$FS$5)+$FS$6)*VLOOKUP(C132,$FH$9:$FJ$15,3)","v":0.33450942405198641},null,null,{"$f":"($FV$3/(1+($FV$4/(B132-40))^$FV$5)+$FV$6)*VLOOKUP(C132,$FH$9:$FJ$15,3)","v":0.51272947850080253},null,null,{"$f":"($FZ$3/(1+($FZ$4/(B132-40))^$FZ$5)+$FZ$6)*VLOOKUP(C132,$FX$9:$FZ$15,3)","v":0.87559754793370814},null,null,null,{"$f":"($GC$3/(1+($GC$4/(B132-40))^$GC$5)+$GC$6)*VLOOKUP(C132,$FX$9:$FZ$15,3)","v":1.0163489067287701},null,null,{"$f":"($GF$3/(1+($GF$4/(B132-40))^$GF$5)+$GF$6)*VLOOKUP(C132,$FX$9:$FZ$15,3)","v":1.1232416884972412},null,null,{"$f":"($GI$3/(1+($GI$4/(B132-40))^$GI$5)+$GI$6)*VLOOKUP(C132,$FX$9:$FZ$15,3)","v":1.2016818786386525},null,null,{"$f":"($GL$3/(1+($GL$4/(B132-40))^$GL$5)+$GL$6)*VLOOKUP(C132,$FX$9:$FZ$15,3)","v":1.2725506206865596},null,null,{"$f":"($GP$3/(1+($GP$4/(B132-40))^$GP$5)+$GP$6)*VLOOKUP(C132,$GN$9:$GP$15,3)","v":0.33984456988076178},null,null,null,{"$f":"($GS$3/(1+($GS$4/(B132-40))^$GS$5)+$GS$6)*VLOOKUP(C132,$GN$9:$GP$15,3)","v":0.25999693765831561}]
[{"$f":"'Als-Ob-Allokation KW03'!A132","v":"2012-05-10"},{"$f":"'Als-Ob-Allokation KW03'!B132","v":20.100000000000001},4,0.18157992531981965,null,null,0.13951982334656299,null,null,0.21101447228916434,null,null,0.1734741280109689,null,null,0.79394015679768593,null,null,0.67913568865235463,null,null,null,0.80811072187293065,null,null,0.92915056764617521,null,null,1.0675712742245147,null,null,1.1751570475056292,null,null,3.8862028058858585E-2,null,null,null,0.11757157049921688,null,null,0.20950975941114564,null,null,0.40270156447574224,null,null,0.8004952560289128,null,null,0.11167851236905368,null,null,null,0.25423850013818944,null,null,0.41139318234365585,null,null,0.50918429576919744,null,null,0.57361857597932442,null,null,1.7851738207708006E-2,null,null,null,0.18774545328707187,null,null,0.36177725236863489,null,null,0.53127483704557932,null,null,0.73284214012640858,null,null,5.3285079821177798E-2,null,null,null,9.978161292684827E-2,null,null,0.15195641259513748,null,null,0.24917414378618488,null,null,0.38083215972457929,null,null,2.4351663070027469E-2,null,null,null,7.0475318169447035E-2,null,null,8.7704048612900376E-2,null,null,0.1687460465326126,null,null,0.23704647867739195,null,null,3.800777338825697E-2,null,null,null,0.11265300213456472,null,null,0.19745736460319124,null,null,0.3060618009829848,null,null,0.38111569211890234,null,null,3.5517398383237725E-2,null,null,null,7.0662755584740763E-2,null,null,0.1205895102256323,null,null,0.16555828787989882,null,null,0.2102746998448457,null,null,0.15071938424500397,null,null,null,0.18204377897742399,null,null,0.22143862152767582,null,null,0.25314099078510754,null,null,0.29444626818343467,null,null,5.3150910170768218E-3,null,null,null,5.6617099663383089E-2,null,null,0.1232484006736609,null,null,0.22036035410586111,null,null,0.44090554154325462,null,null,0.76977587176868834,null,null,null,0.92245496251464543,null,null,1.0507538939598347,null,null,1.1372501481360198,null,null,1.2193557998854829,null,null,0.25804572500633072,null,null,null,0.1949434885222836]
[{"$f":"'Als-Ob-Allokation KW03'!A133","v":"2012-05-11"},{"$f":"'Als-Ob-Allokation KW03'!B133","v":22.7},5,0.13538244393870108,null,null,{"$f":"($I$3/(1+($I$4/(B134-40))^$I$5)+$I$6)","v":0.10314116434522487},null,null,0.16162686365651247,null,null,0.13187953036856878,null,null,0.74859349453921964,null,null,0.64971823516235327,null,null,null,0.78325776406587821,null,null,0.9130162370508742,null,null,1.0560437715001905,null,null,1.172286685618289,null,null,1.7467465795249236E-2,null,null,null,8.2414625410423922E-2,null,null,0.15558447508127712,null,null,0.34046873594453109,null,null,0.70982424881431294,null,null,5.0005356602250549E-2,null,null,null,0.20249316858250127,null,null,0.36374098125082044,null,null,0.46308560781261099,null,null,0.51937445278725802,null,null,4.927513715129673E-3,null,null,null,0.16997783225534338,null,null,0.33825229554653607,null,null,0.51287219996779099,null,null,0.7096831312518872,null,null,3.349209004060915E-2,null,null,null,7.1951182076558831E-2,null,null,0.11375033517818818,null,null,0.17158342064877646,null,null,0.28785541631536254,null,null,1.444247539018107E-2,null,null,null,5.5431292992053051E-2,null,null,6.1127040675366499E-2,null,null,0.13785160396093304,null,null,0.18970160810298403,null,null,1.7787223726601693E-2,null,null,null,8.5023800180404591E-2,null,null,0.15726985491400897,null,null,0.25226623170198581,null,null,0.31297314885333244,null,null,2.2685351580534488E-2,null,null,null,5.0350578513020994E-2,null,null,8.6455430630267227E-2,null,null,0.12449236923215692,null,null,0.15930720873336959,null,null,0.10539580129509349,null,null,null,0.13036294335121187,null,null,0.15976818673108939,null,null,0.18593061536495417,null,null,0.2179857002907149,null,null,1.2093765465850045E-3,null,null,null,4.9092786967815778E-2,null,null,0.10212800393377983,null,null,0.17061240411765369,null,null,0.40399019315863527,null,null,0.66183918990523238,null,null,null,0.80384751969266732,null,null,0.93131469973552383,null,null,1.0114118956597833,null,null,1.0903778812452229,null,null,0.22198539309179,null,null,null,0.16903602204646112]
[{"$f":"'Als-Ob-Allokation KW03'!A134","v":"2012-05-12"},{"$f":"'Als-Ob-Allokation KW03'!B134","v":11.6},6,0.63913613541298919,null,null,0.5675962775678961,null,null,0.68684567172514643,null,null,0.63775944891839587,null,null,1.005156178183662,null,null,0.41778580932829101,null,null,null,0.45184767840075418,null,null,0.47156936539975375,null,null,0.49403190179536893,null,null,0.51311903051518148,null,null,0.31738868255530739,null,null,null,0.42191968859068574,null,null,0.51603287758170791,null,null,0.58627507128030576,null,null,0.72996829601617053,null,null,0.48512813339176486,null,null,null,0.52447710701924211,null,null,0.57202731447862099,null,null,0.60266358837942335,null,null,0.63422540336693067,null,null,0.38079369775089167,null,null,null,0.5649173074319277,null,null,0.71890237834679283,null,null,0.80598628934502925,null,null,0.93457841120525798,null,null,0.38960833289499708,null,null,null,0.46848055341036327,null,null,0.55003176703910239,null,null,0.70701977535818805,null,null,0.79247826433599344,null,null,0.27802710515298423,null,null,null,0.38776583878066045,null,null,0.49238773619846515,null,null,0.58094647092163654,null,null,0.67136985547704298,null,null,0.34579437813755209,null,null,null,0.44871584315340224,null,null,0.55819652030905986,null,null,0.65400004322573413,null,null,0.71560214788554832,null,null,0.34913939051758919,null,null,null,0.46205069809736071,null,null,0.5855987269160744,null,null,0.65900127628882343,null,null,0.75518345092865036,null,null,0.53426801113342992,null,null,null,0.56505489425520095,null,null,0.60854529637950083,null,null,0.62695117791761557,null,null,0.65725236901677464,null,null,0.1684358278034756,null,null,null,0.25864913970373093,null,null,0.44477048850763956,null,null,0.62204648485132619,null,null,0.69058003549054259,null,null,0.34573381815166548,null,null,null,0.36929495593558725,null,null,0.38308376317317461,null,null,0.39403537232774744,null,null,0.40360050762096394,null,null,0.61394175394153983,null,null,null,0.52143542500357698]
[{"$f":"'Als-Ob-Allokation KW03'!A135","v":"2012-05-13"},{"$f":"'Als-Ob-Allokation KW03'!B135","v":9.3000000000000007},7,0.86465140033153232,null,null,0.80180355330989217,null,null,0.90468233435879752,null,null,0.87025807571130409,null,null,1.0410771851951373,null,null,0.93561520113048724,null,null,null,0.97863375378620776,null,null,0.98984642196214068,null,null,0.99918085447010374,null,null,1.0169084685435272,null,null,0.64053051402441874,null,null,null,0.76003839319449529,null,null,0.84170491892775179,null,null,0.86063000706201598,null,null,0.92689416701514682,null,null,0.81147336710138518,null,null,null,0.8345047707741643,null,null,0.85608784857722842,null,null,0.86869822895401871,null,null,0.88030963580334143,null,null,0.66442256088087548,null,null,null,0.80237373847207494,null,null,0.89435161418893827,null,null,0.92221006902582459,null,null,0.98177827600239786,null,null,0.61210367926675857,null,null,null,0.68198920917699546,null,null,0.74912739166543141,null,null,0.8655358244672251,null,null,0.91082278391342031,null,null,0.46871712255817688,null,null,null,0.59533535629027012,null,null,0.70305550337325751,null,null,0.76853940856431824,null,null,0.81644117886181211,null,null,0.61607253735462575,null,null,null,0.73936856136958484,null,null,0.84192161203039484,null,null,0.90731559091263669,null,null,0.92473519393394343,null,null,0.57749790775517873,null,null,null,0.69786705985344111,null,null,0.80728913832985172,null,null,0.85998257636549436,null,null,0.93624564921031972,null,null,0.80048467113825073,null,null,null,0.82108851726439891,null,null,0.85356781664481207,null,null,0.85811659500073112,null,null,0.8736793112876764,null,null,0.33872743283746365,null,null,null,0.46280224920165564,null,null,0.66841109768463158,null,null,0.80161264573567959,null,null,0.82830622393231668,null,null,0.46678601272845899,null,null,null,0.48027361698998078,null,null,0.48509933697109564,null,null,0.48818326819425734,null,null,0.49131839569738855,null,null,0.84598011286938946,null,null,null,0.76484004539808526]
[{"$f":"'Als-Ob-Allokation KW03'!A136","v":"2012-05-14"},{"$f":"'Als-Ob-Allokation KW03'!B136","v":10.3},1,0.76178955332545528,null,null,0.69366055441257801,null,null,0.80680401003581059,null,null,0.76473987680897604,null,null,1.0270366595597455,null,null,1.0042229172166617,null,null,null,1.0657285273737269,null,null,1.0924525882438312,null,null,1.1206371397698018,null,null,1.150698876905913,null,null,0.62079768913635358,null,null,null,0.77183081660421016,null,null,0.89134048864982918,null,null,0.9514046070170955,null,null,1.0897447678180763,null,null,0.85221027283428852,null,null,null,0.89271762874581662,null,null,0.93796079198701188,null,null,0.96644530626463176,null,null,0.99569669075870237,null,null,0.48224010073983958,null,null,null,0.63068719111090177,null,null,0.74278464073913442,null,null,0.79323477763023931,null,null,0.87688177748189644,null,null,0.52639253523707719,null,null,null,0.60515323275502753,null,null,0.68354673760127749,null,null,0.82625537681495476,null,null,0.89243059601926678,null,null,0.4218518420715488,null,null,null,0.55685446867819322,null,null,0.67937376662376203,null,null,0.7662722744338808,null,null,0.84379753042027561,null,null,0.5452491783759229,null,null,null,0.67532199396623582,null,null,0.79834137057941645,null,null,0.89139066819753499,null,null,0.93744556022017977,null,null,0.54638080837624925,null,null,null,0.68631542968857906,null,null,0.82517099859273069,null,null,0.9000526147424398,null,null,1.0024846882429364,null,null,0.76225473161379975,null,null,null,0.79181169408555752,null,null,0.83536490905761129,null,null,0.84832691118709014,null,null,0.87427683597173966,null,null,0.29592908206907409,null,null,null,0.42268849316397772,null,null,0.65914963306688501,null,null,0.84468029173428794,null,null,0.89783740954832647,null,null,1.1901112119495401,null,null,null,1.2440416299020569,null,null,1.2707842505566382,null,null,1.2912211147982624,null,null,1.3096409721365572,null,null,0.80792532627319191,null,null,null,0.71072043008804775]
[{"$f":"'Als-Ob-Allokation KW03'!A137","v":"2012-05-15"},{"$f":"'Als-Ob-Allokation KW03'!B137","v":8.9},2,0.90761336578144547,null,null,0.84754662746927845,null,null,0.94482758607489492,null,null,0.91396833723698179,null,null,1.0460704211359397,null,null,1.1206536976147141,null,null,null,1.1654853144185753,null,null,1.1727325351595927,null,null,1.176342719409766,null,null,1.1929673342950942,null,null,0.82094168041510762,null,null,null,0.95706509617120628,null,null,1.0429322379510164,null,null,1.0494752159863008,null,null,1.1036813474101494,null,null,1.0079464145427679,null,null,null,1.0300540558807025,null,null,1.0477483729849955,null,null,1.0571786035097939,null,null,1.0643297089589294,null,null,0.7118733968627885,null,null,null,0.83572204141529227,null,null,0.91245336201964811,null,null,0.92845042643265951,null,null,0.97367201230444156,null,null,0.68205787681835872,null,null,null,0.75102308863472123,null,null,0.81619403036113714,null,null,0.92682434702071115,null,null,0.96579125223430262,null,null,0.59162085683919308,null,null,null,0.74044135397461974,null,null,0.86295456432830042,null,null,0.93222693779748589,null,null,0.97669121211989229,null,null,0.74596410404676194,null,null,null,0.88466696695151248,null,null,0.99284423279564227,null,null,1.0554117522770994,null,null,1.0622713234724319,null,null,0.72162570902211776,null,null,null,0.85896939268085659,null,null,0.97901767250478999,null,null,1.0332690414887942,null,null,1.1145812344770263,null,null,0.94209049672719258,null,null,null,0.96176890648516078,null,null,0.99424210712209249,null,null,0.99577382153718652,null,null,1.0091873667180611,null,null,0.48736224088647451,null,null,null,0.65524664323684101,null,null,0.91789558108361158,null,null,1.072804990859993,null,null,1.0969429045228367,null,null,1.2958076042722819,null,null,null,1.3251856245126619,null,null,1.3327066045012921,null,null,1.3360251854858436,null,null,1.3403967120260982,null,null,0.96321013973315983,null,null,null,0.88033300807876336]
[{"$f":"'Als-Ob-Allokation KW03'!A138","v":"2012-05-16"},{"$f":"'Als-Ob-Allokation KW03'!B138","v":6.4},3,1.19346567435287,null,null,1.1589552071200697,null,null,1.2010609698543624,null,null,1.1976556706093124,null,null,1.0704650109309379,null,null,1.2228964734634384,null,null,null,1.22916669260832,null,null,1.2005148253335203,null,null,1.1611013007298525,null,null,1.1521039429928739,null,null,1.2442821621843476,null,null,null,1.3145351534006793,null,null,1.3069247707472587,null,null,1.2080577019464105,null,null,1.1090364347891017,null,null,1.2729567866891509,null,null,null,1.2628121000950534,null,null,1.2319849306492137,null,null,1.2066267822871681,null,null,1.1696571307669215,null,null,1.1762647361290495,null,null,null,1.2034463808360356,null,null,1.1778408612035318,null,null,1.1149387685309193,null,null,1.0692119648815814,null,null,1.1629521576942088,null,null,null,1.2004972376028979,null,null,1.2289614221115424,null,null,1.2679771340365238,null,null,1.2522366305980495,null,null,1.0310510659146908,null,null,null,1.183624410893074,null,null,1.2726060705095465,null,null,1.2861872863727937,null,null,1.2468388742116505,null,null,1.1760110606781735,null,null,null,1.3014630461371239,null,null,1.342754841373502,null,null,1.3205112166857418,null,null,1.2331521375367316,null,null,1.1095011632417537,null,null,null,1.2092179005319017,null,null,1.2685041010433742,null,null,1.2672877289624176,null,null,1.292146329790679,null,null,1.2574045097440394,null,null,null,1.2514304335039639,null,null,1.2549886464681723,null,null,1.2318271147348796,null,null,1.21773916082619,null,null,0.95471005263328557,null,null,null,1.1707760953373778,null,null,1.3694327106783926,null,null,1.3851071183566348,null,null,1.332333534182399,null,null,1.4711107327996877,null,null,null,1.454870921234287,null,null,1.427675407630951,null,null,1.3982660340922934,null,null,1.3756197246204045,null,null,1.2581441276776868,null,null,null,1.226043087417737]
[{"$f":"'Als-Ob-Allokation KW03'!A139","v":"2012-05-17"},{"$f":"'Als-Ob-Allokation KW03'!B139","v":9},4,0.89678320954971191,null,null,0.83598541303565066,null,null,0.93474822218674691,null,null,0.90297194517522084,null,null,1.0448538138288297,null,null,1.1287420466543077,null,null,null,1.1755736273254429,null,null,1.1844091508216685,null,null,1.1899211582084976,null,null,1.2078093021710234,null,null,0.78702029177444655,null,null,null,0.92152925436540489,null,null,1.0082332291874034,null,null,1.0185547786619791,null,null,1.0775083356696129,null,null,0.97385275763515855,null,null,null,0.99672800310975451,null,null,1.0159527827334613,null,null,1.0265241311898434,null,null,1.0351504093098016,null,null,0.71134738043981383,null,null,null,0.84087275077616008,null,null,0.9227655970936347,null,null,0.94203011963570815,null,null,0.9916256832642335,null,null,0.73305625174400024,null,null,null,0.8095294696658154,null,null,0.88210547649308513,null,null,1.005973566040802,null,null,1.0508099370731352,null,null,0.58108086021399219,null,null,null,0.7299136581771215,null,null,0.85349851768208318,null,null,0.92471401560282618,null,null,0.97215483135702219,null,null,0.72893365252555498,null,null,null,0.86701836299139057,null,null,0.97655335594640713,null,null,1.0416239567602843,null,null,1.0516796884480639,null,null,0.67813535300368388,null,null,null,0.81023642063580337,null,null,0.92687277478922248,null,null,0.98050107432292488,null,null,1.060101238052809,null,null,0.9271070737704713,null,null,null,0.94757878447194377,null,null,0.9809248225087267,null,null,0.98334996436915334,null,null,0.99772603241536306,null,null,0.45950328664079954,null,null,null,0.62024119567608882,null,null,0.87549781795459958,null,null,1.0298140221209633,null,null,1.0557195477177586,null,null,1.2703379581625536,null,null,null,1.3010896682820352,null,null,1.3098809919853174,null,null,1.3144059907268599,null,null,1.3197420250797958,null,null,0.95160271754767234,null,null,null,0.86737421864164121]
[{"$f":"'Als-Ob-Allokation KW03'!A140","v":"2012-05-18"},{"$f":"'Als-Ob-Allokation KW03'!B140","v":13.5},5,0.48528773761524824,null,null,0.41483825288512205,null,null,0.53146646179437107,null,null,0.47796877446409697,null,null,0.96532974381584946,null,null,0.88541509889260184,null,null,null,0.98372072597715832,null,null,1.0540869808474278,null,null,1.1372280678215587,null,null,1.2003055010634307,null,null,0.26460633249548021,null,null,null,0.39438219567597049,null,null,0.52693033472331097,null,null,0.66438727530758379,null,null,0.93720426073903396,null,null,0.47465514858650992,null,null,null,0.54959413645296806,null,null,0.64206483672812764,null,null,0.70170243994066805,null,null,0.75950271597958963,null,null,0.21444551308737902,null,null,null,0.40540961205093345,null,null,0.58112569064631781,null,null,0.70149039800237267,null,null,0.86652374081520045,null,null,0.26139974262549454,null,null,null,0.33894967707170648,null,null,0.42274285420165642,null,null,0.59484335481074735,null,null,0.70830547923258991,null,null,0.17091949082853353,null,null,null,0.26261415028805785,null,null,0.3499924436758321,null,null,0.44621335886507346,null,null,0.55287513815541878,null,null,0.23962977584458442,null,null,null,0.33948362706035273,null,null,0.45691125168166635,null,null,0.57564613150052168,null,null,0.66341303845521915,null,null,0.24121342686595906,null,null,null,0.34589990644831142,null,null,0.47475417619688837,null,null,0.55932492081398966,null,null,0.66506297911028633,null,null,0.43395402596240656,null,null,null,0.47247215944995413,null,null,0.52535463157316986,null,null,0.55397137074099512,null,null,0.59644444880687797,null,null,9.4841123298960675E-2,null,null,null,0.17109222919638073,null,null,0.3345310830205141,null,null,0.52759211842644693,null,null,0.63807297249963713,null,null,0.91015856774099746,null,null,null,1.0039020918730825,null,null,1.0659250663066302,null,null,1.1146935448658926,null,null,1.1572019368832671,null,null,0.51510979706880555,null,null,null,0.41732171814342933]
[{"$f":"'Als-Ob-Allokation KW03'!A141","v":"2012-05-19"},{"$f":"'Als-Ob-Allokation KW03'!B141","v":17.100000000000001},6,0.27932165325446218,null,null,0.22293431678411502,null,null,0.31564279763464897,null,null,0.26787300529948338,null,null,0.87027297645870094,null,null,0.31889599384802381,null,null,null,0.3701007074990364,null,null,0.41458877481088896,null,null,0.46711986673018741,null,null,0.50616591416219425,null,null,7.0653975536751734E-2,null,null,null,0.14308484657455681,null,null,0.22667835668694405,null,null,0.35959801031771743,null,null,0.63066871174243944,null,null,0.16971283795118783,null,null,null,0.25374517824324022,null,null,0.35207224527653547,null,null,0.41425558525408634,null,null,0.46380562662342062,null,null,6.3112073301401159E-2,null,null,null,0.24846914599918599,null,null,0.43502092426029243,null,null,0.59587574107793617,null,null,0.79942958914683881,null,null,9.9657313559235572E-2,null,null,null,0.15515209391958062,null,null,0.21786426832670161,null,null,0.35098717517680694,null,null,0.47684668979999745,null,null,5.3736083502703071E-2,null,null,null,0.10944163499322909,null,null,0.14897057391784169,null,null,0.23210401827064339,null,null,0.31829859290940782,null,null,7.8329580197669238E-2,null,null,null,0.14890554201608219,null,null,0.23417403907910259,null,null,0.33599221359418296,null,null,0.41246134139859236,null,null,7.5724564940504543E-2,null,null,null,0.12876463388175599,null,null,0.20375620271362088,null,null,0.26147281594202082,null,null,0.32606326420452153,null,null,0.20537053546469458,null,null,null,0.23733550679604676,null,null,0.27965954822261196,null,null,0.30909229779748532,null,null,0.34956295868715709,null,null,1.9115638719225222E-2,null,null,null,6.7517703946452595E-2,null,null,0.15044791884030231,null,null,0.27295457325613592,null,null,0.4253939409880092,null,null,0.26501935253325254,null,null,null,0.30839536405269641,null,null,0.34156623262933927,null,null,0.36578686474297373,null,null,0.3877327276190633,null,null,0.30318345304307881,null,null,null,0.23150278878189393]
[{"$f":"'Als-Ob-Allokation KW03'!A142","v":"2012-05-20"},{"$f":"'Als-Ob-Allokation KW03'!B142","v":18.3},7,0.23330443880274743,null,null,0.1828215387966079,null,null,0.26646877561110005,null,null,0.22268428883837077,null,null,0.837676014002525,null,null,0.6022420846513814,null,null,null,0.70691545061127081,null,null,0.80128735350984726,null,null,0.91154937828441485,null,null,0.99473720930561615,null,null,5.8961082893111638E-2,null,null,null,0.13762383737507894,null,null,0.22965010388121668,null,null,0.39446330489979625,null,null,0.73332752641116339,null,null,0.1540672353204072,null,null,null,0.26506404870606742,null,null,0.39179910790761341,null,null,0.47139115615132254,null,null,0.53018518402999959,null,null,3.8484238031379646E-2,null,null,null,0.21457802352553779,null,null,0.39386952339339498,null,null,0.55728524277935088,null,null,0.75905790285246932,null,null,7.0909424939764765E-2,null,null,null,0.11870048919438998,null,null,0.17281712419367509,null,null,0.28431035175769653,null,null,0.40490108353958537,null,null,3.460347731604662E-2,null,null,null,8.0385669776634666E-2,null,null,0.10681281863739829,null,null,0.18074950167148024,null,null,0.25216078403355185,null,null,5.8364274931997626E-2,null,null,null,0.12950192781325798,null,null,0.21369369630637652,null,null,0.31772505822580827,null,null,0.39367013145702684,null,null,5.1872606397334597E-2,null,null,null,9.391467932278165E-2,null,null,0.15430101637700494,null,null,0.20358256542589781,null,null,0.25622008623470532,null,null,0.17836285918160524,null,null,null,0.21010265239382228,null,null,0.25141332095170671,null,null,0.2819932872524451,null,null,0.32320796044962619,null,null,1.0433382780989436E-2,null,null,null,5.3843905066099818E-2,null,null,0.12009803093550435,null,null,0.21957973300390793,null,null,0.37891510920204929,null,null,0.30326882764430596,null,null,null,0.35775537556689063,null,null,0.40111754905589436,null,null,0.43181263619503096,null,null,0.46013440571785402,null,null,0.27465857702460222,null,null,null,0.20802793605731179]
[{"$f":"'Als-Ob-Allokation KW03'!A143","v":"2012-05-21"},{"$f":"'Als-Ob-Allokation KW03'!B143","v":17.899999999999999},1,0.24752992621377054,null,null,0.19508088208732427,null,null,0.28169436470535686,null,null,0.23653811227736216,null,null,0.84835072416645818,null,null,0.69232383468236502,null,null,null,0.80974945303158707,null,null,0.91443004639288694,null,null,1.0372172578134056,null,null,1.1293380126764589,null,null,8.0182299049971761E-2,null,null,null,0.17802448380119337,null,null,0.29212999112395605,null,null,0.48874918236686143,null,null,0.89211140356615948,null,null,0.2039887219678104,null,null,null,0.33364291231415683,null,null,0.48289523796182121,null,null,0.57684125911225526,null,null,0.64802904889301105,null,null,4.1665890593766471E-2,null,null,null,0.20554586168139927,null,null,0.37189047877398701,null,null,0.52088070567442435,null,null,0.70636274120628362,null,null,8.2713441865067683E-2,null,null,null,0.13509066535170827,null,null,0.1944046848588061,null,null,0.31819120736918988,null,null,0.44605660201814862,null,null,4.5156691239409415E-2,null,null,null,0.10020574477860987,null,null,0.13448164220271605,null,null,0.22125738004269477,null,null,0.30725830740690768,null,null,7.2184059809258738E-2,null,null,null,0.15157363900138301,null,null,0.24626809359211399,null,null,0.36206585156856197,null,null,0.44749533806032077,null,null,6.8772657480324489E-2,null,null,null,0.12190956425516165,null,null,0.19798118322606148,null,null,0.25882553569319083,null,null,0.32485314578131197,null,null,0.20921096589383503,null,null,null,0.24491158977581312,null,null,0.29166637950712854,null,null,0.32558597043314447,null,null,0.37161353661565866,null,null,1.5073182784000994E-2,null,null,null,6.7905176377064821E-2,null,null,0.15172153256783708,null,null,0.277314378171785,null,null,0.4624771346260661,null,null,0.82609292393313516,null,null,null,0.97035933103219774,null,null,1.0836919784887344,null,null,1.1647668144400227,null,null,1.2391117335048307,null,null,0.30930151288675972,null,null,null,0.23475058963176135]
[{"$f":"'Als-Ob-Allokation KW03'!A144","v":"2012-05-22"},{"$f":"'Als-Ob-Allokation KW03'!B144","v":18.100000000000001},2,0.24028286603030538,null,null,0.18881869443760241,null,null,0.27394009920123397,null,null,0.22946606396734492,null,null,0.84298238319151109,null,null,0.71059872317349759,null,null,null,0.83263420738886451,null,null,0.94205356020013686,null,null,1.0701535872636161,null,null,1.1665230465304881,null,null,7.4055556366659073E-2,null,null,null,0.16852808851602674,null,null,0.27889545199071908,null,null,0.47280461229472193,null,null,0.87107747172480543,null,null,0.19097481047904155,null,null,null,0.32019891551054008,null,null,0.46834875808676435,null,null,0.56149442334317978,null,null,0.63118360894728742,null,null,4.0836848851218271E-2,null,null,null,0.21399915746200873,null,null,0.39005178818298969,null,null,0.54914050640446121,null,null,0.74638194442188899,null,null,7.6612733893193716E-2,null,null,null,0.12667180933444702,null,null,0.18336393057472813,null,null,0.3009639252465805,null,null,0.42524695757323183,null,null,4.2031543089996466E-2,null,null,null,9.5410284593270098E-2,null,null,0.12743985468761701,null,null,0.21262957218878628,null,null,0.29599791341476261,null,null,6.910769258423996E-2,null,null,null,0.14910309023020171,null,null,0.24415746792124612,null,null,0.36101577758055453,null,null,0.44678477425837021,null,null,6.2956338163427231E-2,null,null,null,0.11278203990404628,null,null,0.18424873060726069,null,null,0.24198393339570878,null,null,0.30414401540989489,null,null,0.20562330748023325,null,null,null,0.2414671679358745,null,null,0.2882672011922352,null,null,0.32256607561429829,null,null,0.36895142923779689,null,null,1.4609340350966702E-2,null,null,null,7.0359413587245637E-2,null,null,0.15710638267657176,null,null,0.28727892454427839,null,null,0.48734805254204366,null,null,0.83062337373812212,null,null,null,0.97780123060338564,null,null,1.0941777673525626,null,null,1.1769946234852737,null,null,1.253171210728609,null,null,0.30340813535953221,null,null,null,0.23002252489138481]
[{"$f":"'Als-Ob-Allokation KW03'!A145","v":"2012-05-23"},{"$f":"'Als-Ob-Allokation KW03'!B145","v":18.7},3,0.22012937802827359,null,null,0.17159156347568372,null,null,0.25235300912944358,null,null,0.20996190227514155,null,null,0.82728161907002351,null,null,0.66946865673929945,null,null,null,0.78848579320878309,null,null,0.89690605146993985,null,null,1.0230418607522522,null,null,1.1187855992490099,null,null,5.876153636470291E-2,null,null,null,0.14459703972771226,null,null,0.24519595557938353,null,null,0.43224961819742458,null,null,0.81746210879460413,null,null,0.15744819924495934,null,null,null,0.2860869032801307,null,null,0.43178158183878645,null,null,0.52308002349075455,null,null,0.58881935359490589,null,null,3.2433347263791615E-2,null,null,null,0.20574938170039622,null,null,0.38263086010147318,null,null,0.54652467690079909,null,null,0.7472189842236604,null,null,7.2414365230493966E-2,null,null,null,0.12428017551410492,null,null,0.18296345103863423,null,null,0.30193633394271807,null,null,0.43685299961894297,null,null,3.5359304252476104E-2,null,null,null,8.612751917163021E-2,null,null,0.11309924301536227,null,null,0.19692468692518281,null,null,0.27567696954725157,null,null,5.7342126848758578E-2,null,null,null,0.13492642732206456,null,null,0.22597265159571342,null,null,0.33954323290891597,null,null,0.42151717028957919,null,null,5.1050074118528722E-2,null,null,null,9.4407823322664369E-2,null,null,0.15676109988293471,null,null,0.2087169928905489,null,null,0.26332769278182377,null,null,0.18512782501339761,null,null,null,0.21938922040962874,null,null,0.26368369366300537,null,null,0.29711944841904231,null,null,0.34186831313095956,null,null,1.0841625868335524E-2,null,null,null,6.469876284572966E-2,null,null,0.14381831485684654,null,null,0.26246882367764446,null,null,0.46858441301793885,null,null,0.81985708166624593,null,null,null,0.97101880769062487,null,null,1.0928499472818092,null,null,1.1781754315815365,null,null,1.2573988256125885,null,null,0.28454061134952552,null,null,null,0.21519679261881677]
[{"$f":"'Als-Ob-Allokation KW03'!A146","v":"2012-05-24"},{"$f":"'Als-Ob-Allokation KW03'!B146","v":20.2},4,0.17923981882960247,null,null,0.13761592132104072,null,null,0.20850557020527694,null,null,0.17130163879130739,null,null,0.79177464754811933,null,null,0.67751097936312987,null,null,null,0.80669377767083339,null,null,0.92814498979040916,null,null,1.0668513760545204,null,null,1.1748502783109405,null,null,3.7674718236192159E-2,null,null,null,0.11581386797018181,null,null,0.20701614151228576,null,null,0.40023332213950785,null,null,0.79792002436202558,null,null,0.10866056130981967,null,null,null,0.25192616046941585,null,null,0.40957025411362535,null,null,0.50762096963739611,null,null,0.57182535158854364,null,null,1.7062258265133783E-2,null,null,null,0.18665709303302058,null,null,0.36038962210512093,null,null,0.53012368096704288,null,null,0.73154866173141797,null,null,5.2201060454051665E-2,null,null,null,9.8347559088745262E-2,null,null,0.1500836503750583,null,null,0.24572960767744173,null,null,0.37701613146272556,null,null,2.375541295482362E-2,null,null,null,6.9601996975323391E-2,null,null,8.6235271444808817E-2,null,null,0.16707978707715923,null,null,0.23465173007578408,null,null,3.691541162211074E-2,null,null,null,0.11137576857224667,null,null,0.19577069112830547,null,null,0.3040138329669364,null,null,0.37857866530730128,null,null,3.4668420405386167E-2,null,null,null,6.9321053471254834E-2,null,null,0.11845625588001098,null,null,0.16297103134968757,null,null,0.20706774212219414,null,null,0.14865153575610343,null,null,null,0.17976396880230033,null,null,0.21880577966451084,null,null,0.25035994300913861,null,null,0.29138676691460469,null,null,5.047225253547386E-3,null,null,null,5.6261740899087254E-2,null,null,0.12225369799254147,null,null,0.21811468117632082,null,null,0.43977392584482156,null,null,0.76778608933145431,null,null,null,0.92072220648059921,null,null,1.0496006093113217,null,null,1.1362495338592626,null,null,1.2186288072794813,null,null,0.25633997223408128,null,null,null,0.19367827941045074]
[{"$f":"'Als-Ob-Allokation KW03'!A147","v":"2012-05-25"},{"$f":"'Als-Ob-Allokation KW03'!B147","v":18.2},5,0.23676044725452619,null,null,0.18578746939582258,null,null,0.27016940581881632,null,null,0.22603935237328085,null,null,0.84032093466001168,null,null,0.72028344373303044,null,null,null,0.84473263581002633,null,null,0.95662806973846637,null,null,1.0874969524336493,null,null,1.186088923691877,null,null,6.7892078459793989E-2,null,null,null,0.15645981280415455,null,null,0.26000565368950335,null,null,0.44368745292596923,null,null,0.82115721765187144,null,null,0.17624718251464461,null,null,null,0.29930233815076529,null,null,0.44009204060135543,null,null,0.52856022791158463,null,null,0.59432931090932817,null,null,4.0363461539159193E-2,null,null,null,0.21813744551787767,null,null,0.39901320409887314,null,null,0.56317028937119062,null,null,0.76627682747127424,null,null,7.9977004237266128E-2,null,null,null,0.13305291040690473,null,null,0.19315913647577171,null,null,0.3174282571298368,null,null,0.45028416442073149,null,null,4.0892045333673868E-2,null,null,null,9.3897810284624961E-2,null,null,0.12510027360527709,null,null,0.21020277462988138,null,null,0.29294536633539298,null,null,6.3005164779361272E-2,null,null,null,0.13783901099734766,null,null,0.2265845252324406,null,null,0.33596767432318231,null,null,0.41603680529587733,null,null,6.2944101539069791E-2,null,null,null,0.11335776276541121,null,null,0.18572271690606507,null,null,0.24447988879456214,null,null,0.30748918372535461,null,null,0.18997733634499425,null,null,null,0.22343992691336276,null,null,0.26706249032254398,null,null,0.29919345651050855,null,null,0.3425729412623667,null,null,1.2979133639329747E-2,null,null,null,6.4687340581632405E-2,null,null,0.14437060571585328,null,null,0.26399233037940384,null,null,0.4516845218063959,null,null,0.73986444865088674,null,null,null,0.87188344474535728,null,null,0.9766115058142637,null,null,1.0509426371706598,null,null,1.119419934595304,null,null,0.2947281639896851,null,null,null,0.22333110846731929]
[{"$f":"'Als-Ob-Allokation KW03'!A148","v":"2012-05-26"},{"$f":"'Als-Ob-Allokation KW03'!B148","v":17.2},6,0.27509488498757556,null,null,0.21919711191814234,null,null,0.31113646306040776,null,null,0.26368036626054131,null,null,0.867504872328829,null,null,0.31767219245895101,null,null,null,0.36905416856878392,null,null,0.41385103825840908,null,null,0.46670788863423168,null,null,0.50603551149881054,null,null,6.8547846419481737E-2,null,null,null,0.14034494554965365,null,null,0.223340925256451,null,null,0.35667381799042847,null,null,0.62881353353719149,null,null,0.16588103094372225,null,null,null,0.25061721540360249,null,null,0.34956714154307938,null,null,0.41210696315842982,null,null,0.46163208007763123,null,null,6.0757297685621187E-2,null,null,null,0.24570049285568252,null,null,0.43206817598802832,null,null,0.59356689863400136,null,null,0.79751945292183712,null,null,9.717614639753118E-2,null,null,null,0.15217952292078973,null,null,0.21436298737763188,null,null,0.3461624870591648,null,null,0.47212753872808916,null,null,5.2118766550060404E-2,null,null,null,0.10724269134424745,null,null,0.1457810597621691,null,null,0.22864977212314314,null,null,0.31412970302312659,null,null,7.6050473805593849E-2,null,null,null,0.1462672396791512,null,null,0.23098646529711805,null,null,0.33247324134129452,null,null,0.40854432816436703,null,null,7.3565318299437382E-2,null,null,null,0.12573727004662036,null,null,0.19964727466032464,null,null,0.25679872152662986,null,null,0.32051706038114547,null,null,0.20182531878306034,null,null,null,0.23362082862565547,null,null,0.27566693576681134,null,null,0.30506624822977702,null,null,0.34542467897996876,null,null,1.8278670759248841E-2,null,null,null,6.6417442448277381E-2,null,null,0.14811924113946878,null,null,0.26911609611313031,null,null,0.42293832066129344,null,null,0.26397661071365791,null,null,null,0.3075607098110516,null,null,0.34100538726613466,null,null,0.36536467336066109,null,null,0.38746839883562334,null,null,0.29995411734355293,null,null,null,0.22883077662824614]
[{"$f":"'Als-Ob-Allokation KW03'!A149","v":"2012-05-27"},{"$f":"'Als-Ob-Allokation KW03'!B149","v":15.4},7,0.36305707713103053,null,null,0.29883440808746836,null,null,0.4043482877302228,null,null,0.35220372719854037,null,null,0.91716827824108471,null,null,0.67586681093227208,null,null,null,0.76962402559641463,null,null,0.8454332549229634,null,null,0.93561826218508826,null,null,1.0021696601022534,null,null,0.14050438957145492,null,null,null,0.2416026366681987,null,null,0.35352622426194474,null,null,0.50133393236962709,null,null,0.79801140816712823,null,null,0.29528577956677282,null,null,null,0.38120361685517457,null,null,0.48500367693101193,null,null,0.55132333191457461,null,null,0.6097762096869761,null,null,0.11405143028088184,null,null,null,0.30121232933180153,null,null,0.4839142858818698,null,null,0.62713456810091206,null,null,0.81483583279493887,null,null,0.14721644990536126,null,null,null,0.20875755611709965,null,null,0.27731470767609279,null,null,0.42332319894378373,null,null,0.53912569400252541,null,null,8.3792967214114777E-2,null,null,null,0.14640475422245361,null,null,0.20034975692383178,null,null,0.28120820274052749,null,null,0.37042391024239113,null,null,0.1363336306826454,null,null,null,0.21945711962952574,null,null,0.32074153879249478,null,null,0.43404746960476809,null,null,0.52062612828029498,null,null,0.11965515762905647,null,null,null,0.18707419566831979,null,null,0.27773027603204575,null,null,0.34240675503996931,null,null,0.41913959502047116,null,null,0.29582183092384062,null,null,null,0.33230424189341867,null,null,0.38150264137700851,null,null,0.41240102046110777,null,null,0.45615205264060293,null,null,3.7604855131523687E-2,null,null,null,8.9463802046401239E-2,null,null,0.1919211921897481,null,null,0.33241070838684716,null,null,0.45324558858554509,null,null,0.34111071299592932,null,null,null,0.38778572168581299,null,null,0.42133069678668622,null,null,0.44681904485270818,null,null,0.46940225529937429,null,null,0.37780475379536094,null,null,null,0.29482616041318621]
[{"$f":"'Als-Ob-Allokation KW03'!A150","v":"2012-05-28"},{"$f":"'Als-Ob-Allokation KW03'!B150","v":17.600000000000001},1,0.25891715394511372,null,null,0.20498798462183765,null,null,0.29386772578278042,null,null,0.24770637493644765,null,null,0.85650096384246743,null,null,0.69974321765093628,null,null,null,0.81612473335478952,null,null,0.9189315251599014,null,null,1.0398456741555504,null,null,1.1302156212175152,null,null,8.791585070962335E-2,null,null,null,0.18834416208217122,null,null,0.30508532321661014,null,null,0.5003709016459118,null,null,0.90019048930274126,null,null,0.21901805679664263,null,null,null,0.34576817578579028,null,null,0.49257667846178138,null,null,0.58514547601371614,null,null,0.65663441669404221,null,null,4.6877101392482669E-2,null,null,null,0.21186445187302202,null,null,0.37886460227949853,null,null,0.52639618480330841,null,null,0.71119468879722014,null,null,8.9085591253402013E-2,null,null,null,0.14287320084960872,null,null,0.20375774686506712,null,null,0.33180338308536683,null,null,0.45968270942902945,null,null,4.9414917206737352E-2,null,null,null,0.10608165068699195,null,null,0.14325516533784818,null,null,0.2308530666499144,null,null,0.31924379124090607,null,null,7.8933859469730958E-2,null,null,null,0.15940978523782914,null,null,0.25591013733606222,null,null,0.37292351579814542,null,null,0.45987782401235044,null,null,7.4923540048020557E-2,null,null,null,0.1307415820493576,null,null,0.21035040060559013,null,null,0.2730948499020926,null,null,0.3419871580088229,null,null,0.22013755020661005,null,null,null,0.25647520887600389,null,null,0.30427067764055976,null,null,0.33841067226967253,null,null,0.38496939920756645,null,null,1.7305098605460409E-2,null,null,null,7.0845750136133964E-2,null,null,0.15829301562419207,null,null,0.28883539173869804,null,null,0.46953414107761154,null,null,0.83526222298405051,null,null,null,0.97781156991155949,null,null,1.0886883134695624,null,null,1.1686258887174972,null,null,1.2415943511048262,null,null,0.31867296293298208,null,null,null,0.24233785746823625]
[{"$f":"'Als-Ob-Allokation KW03'!A151","v":"2012-05-29"},{"$f":"'Als-Ob-Allokation KW03'!B151","v":19.5},2,0.19673479751630857,null,null,0.15197619140781735,null,null,0.22726710462588945,null,null,0.18767100794259817,null,null,0.80757425590279153,null,null,0.6810111425894394,null,null,null,0.80703063769026662,null,null,0.92393172103536814,null,null,1.0586559814919339,null,null,1.1622777662053896,null,null,4.7888502767063162E-2,null,null,null,0.13207350802462059,null,null,0.23072082789008772,null,null,0.42777427450634881,null,null,0.83403185958841497,null,null,0.13408320818370473,null,null,null,0.2752603162746361,null,null,0.43265672920854276,null,null,0.53088004478555906,null,null,0.59808927380119936,null,null,2.2783327631371961E-2,null,null,null,0.19093084241153652,null,null,0.36303420931958102,null,null,0.52734708382903983,null,null,0.72522444932352981,null,null,5.5271034646815702E-2,null,null,null,9.9733999874124415E-2,null,null,0.14985353819012304,null,null,0.24723113323544027,null,null,0.36914892394901644,null,null,2.8268558174447941E-2,null,null,null,7.5945639244119539E-2,null,null,9.6914077914248623E-2,null,null,0.17871275072051102,null,null,0.25107283725865903,null,null,4.5484415928704947E-2,null,null,null,0.12157740149517741,null,null,0.20925941295992853,null,null,0.32042680743235541,null,null,0.39873305583926183,null,null,4.3028245310860698E-2,null,null,null,8.3005019291792492E-2,null,null,0.14027615851577316,null,null,0.19012153901836276,null,null,0.24086137357546278,null,null,0.16477038330555185,null,null,null,0.19748623070326926,null,null,0.23915320870533921,null,null,0.27180365905468784,null,null,0.31485763454952015,null,null,7.4205371731484457E-3,null,null,null,6.085868666335352E-2,null,null,0.13384253011500863,null,null,0.24198835946545535,null,null,0.46169997841341359,null,null,0.79420869178700626,null,null,null,0.94736107973445294,null,null,1.0738385815313918,null,null,1.1605187295696735,null,null,1.2420247448991708,null,null,0.26930406478196556,null,null,null,0.20340479744912285]
[{"$f":"'Als-Ob-Allokation KW03'!A152","v":"2012-05-30"},{"$f":"'Als-Ob-Allokation KW03'!B152","v":18.600000000000001},3,0.22332731955839069,null,null,0.17430590894293932,null,null,0.25578035017829504,null,null,0.21303969079393698,null,null,0.82985047237980936,null,null,0.67155414657334012,null,null,null,0.79028925553222307,null,null,0.89818221957810018,null,null,1.0238425582379049,null,null,1.1190768846495929,null,null,6.0619693500522188E-2,null,null,null,0.14717401252819307,null,null,0.2485820207723681,null,null,0.43539906594135047,null,null,0.81999270432863669,null,null,0.1614386427188155,null,null,null,0.28924709853888136,null,null,0.43429308715762693,null,null,0.52523426662436523,null,null,0.59113634892886446,null,null,3.3800944989587023E-2,null,null,null,0.20748777074083777,null,null,0.38465383269109915,null,null,0.54815280355439844,null,null,0.74877936333464634,null,null,7.4144847514905549E-2,null,null,null,0.12645682949548734,null,null,0.18566091669288828,null,null,0.30621060320396942,null,null,0.44129030173661332,null,null,3.6389002657016382E-2,null,null,null,8.7580379702557554E-2,null,null,0.11536632018581855,null,null,0.1994396743421524,null,null,0.27898647574808316,null,null,5.9084755982735125E-2,null,null,null,0.13695645864707173,null,null,0.2285386643543777,null,null,0.34251773698657945,null,null,0.42502554879476939,null,null,5.2473212788466304E-2,null,null,null,9.6525908213569753E-2,null,null,0.15987132520433583,null,null,0.21237702529629704,null,null,0.2677879283308911,null,null,0.18812085886611127,null,null,null,0.22260520161672265,null,null,0.26726492234642113,null,null,0.30081393186459671,null,null,0.34579413807710574,null,null,1.1374978006784079E-2,null,null,null,6.5403502052731835E-2,null,null,0.14552966618350233,null,null,0.26576414002912963,null,null,0.47046721449870232,null,null,0.82254335746822693,null,null,null,0.97325610823748832,null,null,1.0943453786792687,null,null,1.1793790120474601,null,null,1.2582072871526677,null,null,0.28703537007971391,null,null,null,0.21715150763786406]
[{"$f":"'Als-Ob-Allokation KW03'!A153","v":"2012-05-31"},{"$f":"'Als-Ob-Allokation KW03'!B153","v":18.3},4,0.23330443880274743,null,null,0.1828215387966079,null,null,0.26646877561110005,null,null,0.22268428883837077,null,null,0.837676014002525,null,null,0.71482011364841958,null,null,null,0.8390602311332731,null,null,0.95107321739647632,null,null,1.0819466901895411,null,null,1.1806849490064464,null,null,6.810402593417049E-2,null,null,null,0.15896481085233674,null,null,0.2652613531346546,null,null,0.45563171211892523,null,null,0.84704273439967137,null,null,0.17795804410323676,null,null,null,0.30616684703739105,null,null,0.45255438497114719,null,null,0.54448856683768465,null,null,0.61239963296723099,null,null,3.8495662206532437E-2,null,null,null,0.21464172173161108,null,null,0.39398644488262713,null,null,0.55745067477305144,null,null,0.7592832317371474,null,null,7.9999599269154051E-2,null,null,null,{"$f":"($CK$3/(1+($CK$4/(B154-40))^$CK$5)+$CK$6)*VLOOKUP(C154,$CF$9:$CH$15,3)","v":0.13391719897136781},null,null,0.19497127066092798,null,null,0.32075727913473895,null,null,0.45680703875865547,null,null,3.987048673404589E-2,null,null,null,9.2621205411354671E-2,null,null,0.12307084139586073,null,null,0.20826145715812974,null,null,0.29054227998046073,null,null,6.4915177650915007E-2,null,null,null,0.14403743831185262,null,null,0.23767903010483471,null,null,0.35338704409344274,null,null,0.43785631791309382,null,null,5.7120731507713587E-2,null,null,null,0.10341634158767234,null,null,0.16991216636245796,null,null,0.22417969458233691,null,null,0.28214272945127833,null,null,0.19838260140453268,null,null,null,0.23368492148603828,null,null,0.27963236778666778,null,null,0.31364468006647156,null,null,0.3594853563283919,null,null,1.2920260647378942E-2,null,null,null,6.6678018273644085E-2,null,null,0.14872432992212545,null,null,0.27191826877680425,null,null,0.46923247012856711,null,null,0.81277092014202756,null,null,null,0.9587967482312314,null,null,1.0750088690739041,null,null,1.1572727615144967,null,null,1.2331760808695398,null,null,0.29778772035298984,null,null,null,0.22554607804108542]
[{"$f":"'Als-Ob-Allokation KW03'!A154","v":"2012-06-01"},{"$f":"'Als-Ob-Allokation KW03'!B154","v":16.8},5,0.29245046796262064,null,null,0.23460502639268521,null,null,0.32962431160114747,null,null,0.28094214285412095,null,null,0.87860075137371441,null,null,0.75830394249331268,null,null,null,0.87732897101934038,null,null,0.97962618996539041,null,null,1.1006629635266496,null,null,1.1903871004884858,null,null,0.10406037921702878,null,null,null,0.20413141535646362,null,null,0.31900430716776851,null,null,0.49604285182800884,null,null,0.85614446212223994,null,null,0.24436283971341846,null,null,null,0.35455476449017415,null,null,0.4842707549075016,null,null,0.56645318389370036,null,null,0.6331626610309059,null,null,6.9451425867087802E-2,null,null,null,0.25287177674189909,null,null,0.43672213265088078,null,null,0.59283332539209888,null,null,0.79159558329513136,null,null,0.11335759731749304,null,null,null,0.17344231396931453,null,null,0.24123522319318677,null,null,0.3856634681005105,null,null,0.51789594911823222,null,null,6.2435068854909334E-2,null,null,null,0.12340500939482094,null,null,0.16853582056338642,null,null,0.2574817386674253,null,null,0.35104848437058517,null,null,9.545280501402037E-2,null,null,null,0.17545378621774244,null,null,0.2724573559566853,null,null,0.38713457131834367,null,null,0.47372243341363313,null,null,9.4051650943409643E-2,null,null,null,0.15750190377899725,null,null,0.24662093089670611,null,null,0.31426557746601075,null,null,0.39080940325365399,null,null,0.24150019432461323,null,null,null,0.2777113350373967,null,null,0.32583366503022237,null,null,0.35874566691042642,null,null,0.40422399656906838,null,null,2.4544442665585215E-2,null,null,null,7.9906576870543686E-2,null,null,0.17745011796950361,null,null,0.32027694999342038,null,null,0.48688265481876813,null,null,0.78016024897557701,null,null,null,0.90441018003349849,null,null,0.99844136196945721,null,null,1.0676136565313583,null,null,1.1300203884817219,null,null,0.34025681107066991,null,null,null,0.2605798788398575]
[{"$f":"'Als-Ob-Allokation KW03'!A155","v":"2012-06-02"},{"$f":"'Als-Ob-Allokation KW03'!B155","v":17.100000000000001},6,0.27932165325446218,null,null,0.22293431678411502,null,null,0.31564279763464897,null,null,0.26787300529948338,null,null,0.87027297645870094,null,null,0.31889599384802381,null,null,null,0.3701007074990364,null,null,0.41458877481088896,null,null,0.46711986673018741,null,null,0.50616591416219425,null,null,7.0653975536751734E-2,null,null,null,0.14308484657455681,null,null,0.22667835668694405,null,null,0.35959801031771743,null,null,0.63066871174243944,null,null,0.16971283795118783,null,null,null,0.25374517824324022,null,null,0.35207224527653547,null,null,0.41425558525408634,null,null,0.46380562662342062,null,null,6.3112073301401159E-2,null,null,null,0.24846914599918599,null,null,0.43502092426029243,null,null,0.59587574107793617,null,null,0.79942958914683881,null,null,9.9657313559235572E-2,null,null,null,0.15515209391958062,null,null,0.21786426832670161,null,null,0.35098717517680694,null,null,0.47684668979999745,null,null,5.3736083502703071E-2,null,null,null,0.10944163499322909,null,null,0.14897057391784169,null,null,0.23210401827064339,null,null,0.31829859290940782,null,null,7.8329580197669238E-2,null,null,null,0.14890554201608219,null,null,0.23417403907910259,null,null,0.33599221359418296,null,null,0.41246134139859236,null,null,7.5724564940504543E-2,null,null,null,0.12876463388175599,null,null,0.20375620271362088,null,null,0.26147281594202082,null,null,0.32606326420452153,null,null,0.20537053546469458,null,null,null,0.23733550679604676,null,null,0.27965954822261196,null,null,0.30909229779748532,null,null,0.34956295868715709,null,null,1.9115638719225222E-2,null,null,null,6.7517703946452595E-2,null,null,0.15044791884030231,null,null,0.27295457325613592,null,null,0.4253939409880092,null,null,0.26501935253325254,null,null,null,0.30839536405269641,null,null,0.34156623262933927,null,null,0.36578686474297373,null,null,0.3877327276190633,null,null,0.30318345304307881,null,null,null,0.23150278878189393]
[{"$f":"'Als-Ob-Allokation KW03'!A156","v":"2012-06-03"},{"$f":"'Als-Ob-Allokation KW03'!B156","v":15.8},7,0.34126430007811426,null,null,0.27876391164598158,null,null,0.38137564166881843,null,null,0.33005832481952996,null,null,0.90628726584117392,null,null,0.66368767340663304,null,null,null,0.75936130893185405,null,null,0.8382346884278159,null,null,0.93198910563275972,null,null,1.0011550344380435,null,null,0.12521014049920468,null,null,null,0.22297295063332706,null,null,0.33253800232910308,null,null,0.48399703728104909,null,null,0.78916087592164652,null,null,0.27181781849694864,null,null,null,0.36150068948614367,null,null,0.4691047246648592,null,null,0.53769188291519443,null,null,0.59678599718953662,null,null,9.9155210503207108E-2,null,null,null,0.28501526620154405,null,null,0.46806625726123774,null,null,0.61508789902784766,null,null,0.80615886435984552,null,null,0.13290723948071848,null,null,null,0.19243577075463236,null,null,0.25905220771260595,null,null,0.40131770212202095,null,null,0.51876705665905987,null,null,7.407208913700751E-2,null,null,null,0.13369621021635195,null,null,0.18324571847090329,null,null,0.26318764089007551,null,null,0.35050523884259421,null,null,0.12170414297219154,null,null,null,0.20269691441849758,null,null,0.30147006955707589,null,null,0.41389175938329592,null,null,0.4997154485140019,null,null,0.10658720982548493,null,null,null,0.16986869298561502,null,null,0.25620227684586866,null,null,0.31887407718776323,null,null,0.39228697272965085,null,null,0.2753676613081843,null,null,null,0.31141005484885931,null,null,0.35982794969876125,null,null,0.39103171534351183,null,null,0.43489002620541617,null,null,3.1820895157140892E-2,null,null,null,8.1917473666330176E-2,null,null,0.1780410397125417,null,null,0.31288091566147974,null,null,0.43942899216553449,null,null,0.33495691693492735,null,null,null,0.38303072289857848,null,null,0.41811437804864887,null,null,0.44453866305150125,null,null,0.46806319894741011,null,null,0.35962034567248724,null,null,null,0.27890095708323642]
[{"$f":"'Als-Ob-Allokation KW03'!A157","v":"2012-06-04"},{"$f":"'Als-Ob-Allokation KW03'!B157","v":14.2},1,0.43659142517606198,null,null,0.36797573678848461,null,null,0.48119158461875633,null,null,0.427623395510351,null,null,0.94841421908372847,null,null,0.81249340048859975,null,null,null,0.91124208898305681,null,null,0.98567746714336013,null,null,1.0740560773670333,null,null,1.1400155037621582,null,null,0.23610074794851041,null,null,null,0.36945345874286623,null,null,0.51039539415330004,null,null,0.67110685637054235,null,null,0.99071700500683024,null,null,0.44921360807928623,null,null,null,0.53838460699745994,null,null,0.64788448020429867,null,null,0.71830069550421571,null,null,0.78439167991374281,null,null,0.15725064501311664,null,null,null,0.33218573040742788,null,null,0.49727446126355052,null,null,0.61663255603503475,null,null,0.77734080872368594,null,null,0.21113618305698556,null,null,null,0.28244746019383493,null,null,0.3605004772379804,null,null,0.52361511347751466,null,null,0.63866525324335155,null,null,0.14007580095500013,null,null,null,0.22464733581628299,null,null,0.3033005014291964,null,null,0.39965387111046363,null,null,0.50722272664520407,null,null,0.20836525945019232,null,null,null,0.3076269090911512,null,null,0.42667976431247917,null,null,0.55212625786631042,null,null,0.64678987830181689,null,null,0.19942129063945671,null,null,null,0.29497745301006822,null,null,0.41692436793458881,null,null,0.49951615154993195,null,null,0.60094376698301977,null,null,0.40208319522143715,null,null,null,0.44276129108228257,null,null,0.49822580215151407,null,null,0.5301366032834216,null,null,0.57653282108614512,null,null,7.3071121530952091E-2,null,null,null,0.14353528230538651,null,null,0.29195078915317435,null,null,0.47858967834387645,null,null,0.60244431410121035,null,null,0.97055616299171787,null,null,null,1.0829026408560731,null,null,1.1597242883499737,null,null,1.2194759396149633,null,null,1.2717970982034719,null,null,0.47828695976979324,null,null,null,0.38163999214478594]
[{"$f":"'Als-Ob-Allokation KW03'!A158","v":"2012-06-05"},{"$f":"'Als-Ob-Allokation KW03'!B158","v":10.9},2,0.70352756022791907,null,null,0.63335617251242715,null,null,0.75026152921319489,null,null,0.70453952903326056,null,null,1.0174688053340266,null,null,1.0037207385100748,null,null,null,1.0745555374969711,null,null,1.1106054075325429,null,null,1.1504131851556396,null,null,1.187556570414549,null,null,0.53244621925322466,null,null,null,0.682100277745887,null,null,0.80855681726345152,null,null,0.88744599100626709,null,null,1.0559962388403157,null,null,0.76782035069155774,null,null,null,0.8151153533852934,null,null,0.87050730931928122,null,null,0.90591111578585537,null,null,0.94261342066603382,null,null,0.43902128918796512,null,null,null,0.60647037799596881,null,null,0.7397462147945425,null,null,0.80763326361795029,null,null,0.91295864778235991,null,null,0.44945364357417972,null,null,null,0.52720125988180067,null,null,0.60603012759796249,null,null,0.7534307122473759,null,null,0.8274429487365601,null,null,0.35570778942066111,null,null,null,0.48122071968341673,null,null,0.59830862334673074,null,null,0.68854516976182112,null,null,0.77519465738005877,null,null,0.48392173535640726,null,null,null,0.61180058772367119,null,null,0.74023624197391502,null,null,0.84487984772738778,null,null,0.90517065768891991,null,null,0.45922572361022984,null,null,null,0.59074791942299121,null,null,0.72754442608616821,null,null,0.80505043589214531,null,null,0.90873361664908314,null,null,0.70796205100759768,null,null,null,0.74138697278533205,null,null,0.78950024459422918,null,null,0.80695730571348545,null,null,0.83808534886842478,null,null,0.25824442319588314,null,null,null,0.38039872457829443,null,null,0.62090688321303644,null,null,0.82849812592160776,null,null,0.89744291516365127,null,null,1.1675755012761873,null,null,null,1.2325858325439412,null,null,1.267946239086875,null,null,1.2957082078263762,null,null,1.3202250969229641,null,null,0.74674381771908427,null,null,null,0.64624434578631762]
[{"$f":"'Als-Ob-Allokation KW03'!A159","v":"2012-06-06"},{"$f":"'Als-Ob-Allokation KW03'!B159","v":13.8},3,0.4638885819412516,null,null,0.39414694066659173,null,null,0.50943601084037327,null,null,0.45581676803647647,null,null,0.9582156840209598,null,null,0.82326825189041919,null,null,null,0.91841137880454604,null,null,0.98812262639149206,null,null,1.0706947127823321,null,null,1.1328331356308388,null,null,0.24699053698202966,null,null,null,0.37569926563860134,null,null,0.50919121838993331,null,null,0.65352578331738176,null,null,0.9401076502755259,null,null,0.45440113129405185,null,null,null,0.53359516401130169,null,null,0.63116647843222795,null,null,0.69402296527860974,null,null,0.75413952358139003,null,null,0.19236667844656344,null,null,null,0.38077778246255983,null,null,0.55612917457838718,null,null,0.67914533599026528,null,null,0.84645331871990159,null,null,0.24766998771275786,null,null,null,0.32538934459893537,null,null,0.40985041410387507,null,null,0.58470449924192036,null,null,0.70336737955191542,null,null,0.15632175596317846,null,null,null,0.2444976177943842,null,null,0.32779413774744642,null,null,0.42372385572625509,null,null,0.53052932299631539,null,null,0.2340353723030299,null,null,null,0.33723077282971131,null,null,0.45974214500898453,null,null,0.58590618884252144,null,null,0.6801282236071704,null,null,0.20696675270598661,null,null,null,0.30072861934426781,null,null,0.41799585887116947,null,null,0.49601921310213454,null,null,0.59283900905877696,null,null,0.43534968382524697,null,null,null,0.47628296840211259,null,null,0.53230972364321949,null,null,0.56347154989705084,null,null,0.60928573359148641,null,null,8.959433445109595E-2,null,null,null,0.16728308543963644,null,null,0.33288389333868079,null,null,0.53403287726383752,null,null,0.65664161465429272,null,null,1.0101095751025884,null,null,null,1.1196973087823658,null,null,1.1932688825998734,null,null,1.2508668482465104,null,null,1.3011577278207056,null,null,0.49961194336308529,null,null,null,0.40206415225763609]
[{"$f":"'Als-Ob-Allokation KW03'!A160","v":"2012-06-07"},{"$f":"'Als-Ob-Allokation KW03'!B160","v":17.899999999999999},4,0.24752992621377054,null,null,0.19508088208732427,null,null,0.28169436470535686,null,null,0.23653811227736216,null,null,0.84835072416645818,null,null,0.72455314298938878,null,null,null,0.84744520098337095,null,null,0.95699892299948797,null,null,1.0855021688749626,null,null,1.1819113622710027,null,null,7.7062647530655101E-2,null,null,null,0.17109808785163555,null,null,0.28076409389419665,null,null,0.46973342518103534,null,null,0.85740203842560136,null,null,0.19605213578918587,null,null,null,0.32066187247565814,null,null,0.46410724010409565,null,null,0.55439810480368934,null,null,0.62281619230379703,null,null,4.5183489381289979E-2,null,null,null,0.22289885386582975,null,null,0.40328693949004873,null,null,0.56485550886749147,null,null,0.76599666926135168,null,null,8.8187555679518442E-2,null,null,null,0.14403119135002784,null,null,0.20727071179449547,null,null,0.33924963323832386,null,null,0.47557737339552431,null,null,4.4882036716520558E-2,null,null,null,9.9596267860184259E-2,null,null,0.13366369052683549,null,null,0.21991163617875484,null,null,0.30538948395000143,null,null,7.3160085342704378E-2,null,null,null,0.15362311837748824,null,null,0.24959796930226424,null,null,0.36696146864598117,null,null,0.4535460766471901,null,null,6.3945265596248996E-2,null,null,null,0.11335230817930163,null,null,0.18408419578772406,null,null,0.24065767165864682,null,null,0.30205057428100679,null,null,0.21203977941760718,null,null,null,0.24822312373067248,null,null,0.29561010107666669,null,null,0.32998833047377035,null,null,0.37663825123089839,null,null,1.5579360745124192E-2,null,null,null,7.0185524477449912E-2,null,null,0.15681654780875817,null,null,0.28662697183860725,null,null,0.47800774527583512,null,null,0.82430240382827891,null,null,null,0.96825611983063486,null,null,1.0813431237549145,null,null,1.1622422335626141,null,null,1.2364260132828968,null,null,0.30930151288675972,null,null,null,0.23475058963176135]
[{"$f":"'Als-Ob-Allokation KW03'!A161","v":"2012-06-08"},{"$f":"'Als-Ob-Allokation KW03'!B161","v":16.600000000000001},5,0.30158333999189746,null,null,0.24277752966932487,null,null,0.33933563299121072,null,null,0.29007220192802474,null,null,0.8841612008282641,null,null,0.7644839917341919,null,null,null,0.88259311047296041,null,null,0.98333208984637399,null,null,1.1026679315999965,null,null,1.190998014059754,null,null,0.11046945174388285,null,null,null,0.21231136711305459,null,null,0.32874474895909062,null,null,0.50442978137458683,null,null,0.86112577638777743,null,null,0.25545989710157357,null,null,null,0.36369095236330418,null,null,0.49160407012285384,null,null,0.57274249262910037,null,null,0.63941297833254562,null,null,7.4803400315581914E-2,null,null,null,0.25902173038420634,null,null,0.44311621038874072,null,null,0.59779133166178677,null,null,0.79552989475718616,null,null,0.11927289850969408,null,null,null,0.18042807293884175,null,null,0.2493407984017694,null,null,0.39639414266572559,null,null,0.52821714548163845,null,null,6.6399411275438441E-2,null,null,null,0.12873480778403187,null,null,0.17610016773052745,null,null,0.26561130021793533,null,null,0.36061111650088856,null,null,0.10120382166460569,null,null,null,0.18209420705157203,null,null,0.28036849224264554,null,null,0.39573571280349418,null,null,0.48311335897713076,null,null,9.9679067835641511E-2,null,null,null,0.16525045492903304,null,null,0.25689242542301161,null,null,0.32582162002111487,null,null,0.40438378462934976,null,null,0.25017790250434963,null,null,null,0.28673639838825637,null,null,0.33543330627895102,null,null,0.36836143286045325,null,null,0.41401283115373849,null,null,2.6794994081763269E-2,null,null,null,8.2859502211512545E-2,null,null,0.18344998513040786,null,null,0.32972043964987396,null,null,0.4931148624490197,null,null,0.78663302148297409,null,null,null,0.90953519583223152,null,null,1.0018913117933594,null,null,1.070163386994333,null,null,1.1315858919298618,null,null,0.34798938242401251,null,null,null,0.26708385852191063]
[{"$f":"'Als-Ob-Allokation KW03'!A162","v":"2012-06-09"},{"$f":"'Als-Ob-Allokation KW03'!B162","v":16.2},6,0.32078451895184101,null,null,0.26009692953160973,null,null,0.35971081171586483,null,null,0.3093609923126181,null,null,0.8952639884816076,null,null,0.33082522003891035,null,null,null,0.38025602479870296,null,null,0.42173660923262712,null,null,0.47097293615063252,null,null,0.50733521144305316,null,null,9.241556894008017E-2,null,null,null,0.17078204829600191,null,null,0.25955526958896796,null,null,0.3878423931714699,null,null,0.64732011482586405,null,null,0.20713008751183137,null,null,null,0.28458405212568788,null,null,0.37683292516781736,null,null,0.43549086471534892,null,null,0.484860694722693,null,null,8.8068326188646295E-2,null,null,null,0.27704778480058029,null,null,0.46462722563548875,null,null,0.61880657193667166,null,null,0.81753107334236308,null,null,0.12529323364588435,null,null,null,0.18536412610986178,null,null,0.25284527509036969,null,null,0.39705949234957699,null,null,0.5210732089829383,null,null,7.0886780383103101E-2,null,null,null,0.13245910785609086,null,null,0.18153271261927806,null,null,0.26705834757739161,null,null,0.3592690684539408,null,null,0.10188234046370609,null,null,null,0.17608809632728423,null,null,0.26648994218155264,null,null,0.37104816343215524,null,null,0.45062778516443358,null,null,9.8347411187077585E-2,null,null,null,0.15982942899831126,null,null,0.24479654168410275,null,null,0.30757078035070112,null,null,0.38012622672043445,null,null,0.24075011352566972,null,null,null,0.2740938631118342,null,null,0.31870380892044753,null,null,0.34816839575287145,null,null,0.38929386188155279,null,null,2.8344553348003051E-2,null,null,null,7.9622383384524958E-2,null,null,0.17488368446814836,null,null,0.31115863665765447,null,null,0.4507104056442317,null,null,0.27510563565674806,null,null,null,0.31637120265103097,null,null,0.34693659627112294,null,null,0.36974748938624391,null,null,0.39015923673183689,null,null,0.33559378225882242,null,null,null,0.25882826992169405]
[{"$f":"'Als-Ob-Allokation KW03'!A163","v":"2012-06-10"},{"$f":"'Als-Ob-Allokation KW03'!B163","v":13.8},7,0.4638885819412516,null,null,0.39414694066659173,null,null,0.50943601084037327,null,null,0.45581676803647647,null,null,0.9582156840209598,null,null,0.73122488897129356,null,null,null,0.81573078635578822,null,null,0.87764814945070313,null,null,0.95098847875968118,null,null,1.0061796770646274,null,null,0.21885960474915636,null,null,null,0.3329090814041798,null,null,0.4511969979103706,null,null,0.57909260969229548,null,null,0.83303429870242207,null,null,0.4026472155887551,null,null,null,0.47282146157717581,null,null,0.55927991286016265,null,null,0.61497737412816489,null,null,0.66824697040416858,null,null,0.19376633632821388,null,null,null,0.38354831750888363,null,null,0.56017556446617955,null,null,0.68408679014428586,null,null,0.85261210395527998,null,null,0.22046801133315166,null,null,null,0.28965133149651118,null,null,0.36483591159356088,null,null,0.52048550313216724,null,null,0.62611545645275202,null,null,0.1362402350303355,null,null,null,0.21308878413898,null,null,0.28568480499155618,null,null,0.36929112864944297,null,null,0.46237607305619177,null,null,0.21132392934051938,null,null,null,0.30450496139805977,null,null,0.41512748953581868,null,null,0.52904822391895778,null,null,0.61412669056691094,null,null,0.18823493848242054,null,null,null,0.27351075678607828,null,null,0.38016456146603694,null,null,0.45112630334890602,null,null,0.53918328881878497,null,null,0.39310214057720411,null,null,null,0.4300631454564009,null,null,0.48065290865860621,null,null,0.50879070468740317,null,null,0.55015895266874104,null,null,7.1249225857797846E-2,null,null,null,0.13303062531463625,null,null,0.26472343196942666,null,null,0.42468566032408717,null,null,0.5221893437432692,null,null,0.36868562283196704,null,null,null,0.40868467129398067,null,null,0.43553797729583793,null,null,0.45656098545426266,null,null,0.47491693882367458,null,null,0.46532484921071671,null,null,null,0.37447151435760218]
[{"$f":"'Als-Ob-Allokation KW03'!A164","v":"2012-06-11"},{"$f":"'Als-Ob-Allokation KW03'!B164","v":14.3},1,0.42998689614714569,null,null,0.36168265115667164,null,null,0.47433436468679102,null,null,0.42081498097494663,null,null,0.94591047258047067,null,null,0.80840488597747318,null,null,null,0.90784985338842028,null,null,0.98331035154157476,null,null,1.0729461125397743,null,null,1.1397325234476026,null,null,0.22974219859674955,null,null,null,0.36213932323835635,null,null,0.50269378914018703,null,null,0.66504554942397376,null,null,0.98809691948426071,null,null,0.4407927859030441,null,null,null,0.5311628218102642,null,null,0.6420212416738349,null,null,0.71327672308801671,null,null,0.77982915345059223,null,null,0.15222576890063227,null,null,null,0.32707015958195684,null,null,0.49261186539246171,null,null,0.61316901758406406,null,null,0.77510154045941448,null,null,0.20590369262649874,null,null,null,0.27672305448734991,null,null,0.35436880456429254,null,null,0.51697806340708774,null,null,0.63278540108059755,null,null,0.13591046622392416,null,null,null,0.21939244414378559,null,null,0.29667257670313568,null,null,0.39285467930122214,null,null,0.50024735054889047,null,null,0.20280761345336559,null,null,null,0.30134320833313338,null,null,0.41977918246862733,null,null,0.54526195241218745,null,null,0.6401475948312858,null,null,0.19390039809272308,null,null,null,0.28810599364279049,null,null,0.4089121580702183,null,null,0.49109099896249231,null,null,0.59174163527547829,null,null,0.3950330499100369,null,null,null,0.43571185870605639,null,null,0.49112583659663422,null,null,0.52326466628720647,null,null,0.56987314838545933,null,null,7.0254107797286858E-2,null,null,null,0.13989488505877021,null,null,0.28602332204675796,null,null,0.47130359220939311,null,null,0.59691415848044471,null,null,0.96575478143117055,null,null,null,1.079285498450355,null,null,1.1572612148109394,null,null,1.2178048417308525,null,null,1.2708624541196316,null,null,0.47199758186070556,null,null,null,0.37585061644576845]
[{"$f":"'Als-Ob-Allokation KW03'!A165","v":"2012-06-12"},{"$f":"'Als-Ob-Allokation KW03'!B165","v":12.3},2,0.57881531615480042,null,null,0.50692094637601937,null,null,0.62656565065159153,null,null,0.57507770541418013,null,null,0.99156911473737896,null,null,0.9286990608313016,null,null,null,1.0145945844980113,null,null,1.0692750388330448,null,null,1.1327477723377408,null,null,1.1836366879352878,null,null,0.38069024387436562,null,null,null,0.52647398626558972,null,null,0.66488016416861218,null,null,0.78357380354355755,null,null,1.0214466774882724,null,null,0.61711048220832443,null,null,null,0.68175182651224164,null,null,0.76109808664279299,null,null,0.81235674022001791,null,null,0.86428080581928057,null,null,0.29865320327129635,null,null,null,0.48011645396761499,null,null,0.63816797253103585,null,null,0.7351256998843998,null,null,0.87352948773362382,null,null,0.32640360041227312,null,null,null,0.40295661304694225,null,null,0.48352565632190775,null,null,0.64278547510235917,null,null,0.73608622009657265,null,null,0.2416525305307701,null,null,null,0.34830972392090753,null,null,0.45104559783435361,null,null,0.54657917826840052,null,null,0.64835754528187828,null,null,0.34638354133969096,null,null,null,0.46269397114390326,null,null,0.59219920714907137,null,null,0.71253415998497382,null,null,0.79555441637696744,null,null,0.32321552586592589,null,null,null,0.44031890941359508,null,null,0.57457335416729338,null,null,0.65761730386024764,null,null,0.76450998340606713,null,null,0.56629195870681759,null,null,null,0.60515429647377006,null,null,0.65933507096951316,null,null,0.68493584917912176,null,null,0.72500658484544422,null,null,0.15875740522851489,null,null,null,0.25621239446412936,null,null,0.4632140535963607,null,null,0.67838463788085268,null,null,0.77448816340330617,null,null,1.0839681228831328,null,null,null,1.171661399143096,null,null,1.2258116107431674,null,null,1.2688619083549706,null,null,1.3063096850081211,null,null,0.61837931743009011,null,null,null,0.51573951362135295]
[{"$f":"'Als-Ob-Allokation KW03'!A166","v":"2012-06-13"},{"$f":"'Als-Ob-Allokation KW03'!B166","v":13.7},3,0.47093328361547071,null,null,0.40094204111923459,null,null,0.51669944655131128,null,null,0.46310500861950299,null,null,0.96061030752986443,null,null,0.82755422596320338,null,null,null,0.9219448748914586,null,null,0.99058310510446446,null,null,1.0718225912667059,null,null,1.1331120572876052,null,null,0.25367478765385865,null,null,null,0.38322557474966512,null,null,0.51692078863822477,null,null,0.65950574159536057,null,null,0.94255155251513278,null,null,0.46278421096941635,null,null,null,0.54083537133253778,null,null,0.63705728348409496,null,null,0.69906905191934521,null,null,0.75864576961708519,null,null,0.19853333197283876,null,null,null,0.38690740373386268,null,null,0.56157683203302244,null,null,0.68315934226928687,null,null,0.8489546620390197,null,null,0.2538850523672922,null,null,null,0.33208548741442956,null,null,0.41690960475292516,null,null,0.5920656297442215,null,null,0.70979282589402926,null,null,0.16105181015416856,null,null,null,0.25038307084026168,null,null,0.33504019322320411,null,null,0.43107832169048421,null,null,0.53787292095895556,null,null,0.24031626451164603,null,null,null,0.3442890319094431,null,null,0.46735597290152725,null,null,0.59333488541505275,null,null,0.68712046657896775,null,null,0.21276399722248418,null,null,null,0.30779129184381504,null,null,0.42601910796599773,null,null,0.50432732934246371,null,null,0.60174717937541378,null,null,0.4430249035355151,null,null,null,0.48389845095073847,null,null,0.53989928765674244,null,null,0.57076968517527626,null,null,0.61629356574977912,null,null,9.3105527439189512E-2,null,null,null,0.17179984479218413,null,null,0.33991010502750379,null,null,0.5422532181717501,null,null,0.663014806480137,null,null,1.0152475992138326,null,null,null,1.1235371386412503,null,null,1.1958906415419781,null,null,1.2526203332089145,null,null,1.3021225524436073,null,null,0.50637040305987957,null,null,null,0.4084021509025299]
[{"$f":"'Als-Ob-Allokation KW03'!A167","v":"2012-06-14"},{"$f":"'Als-Ob-Allokation KW03'!B167","v":14.7},4,0.4044420670763218,null,null,0.33749183769943436,null,null,0.44772789311538708,null,null,0.39453839467046842,null,null,0.93569824590858164,null,null,0.82941025680771385,null,null,null,0.93627442416548401,null,null,1.0194197956481099,null,null,1.1183061531367733,null,null,1.1916011670686797,null,null,0.1977303405550021,null,null,null,0.32122747295508075,null,null,0.45453979313612941,null,null,0.6164687060192694,null,null,0.93954923928085976,null,null,0.39224905749428679,null,null,null,0.4836722266467342,null,null,0.59528744676172363,null,null,0.66688209908373919,null,null,0.73241151531252435,null,null,0.14469977046092894,null,null,null,0.33368848153846159,null,null,0.51481957142481583,null,null,0.65047919414674682,null,null,0.83101309765218101,null,null,0.19846227397363608,null,null,null,0.2718118592733188,null,null,0.35274542235121026,null,null,0.52352684761613788,null,null,0.64996658605854307,null,null,0.11964116436369798,null,null,null,0.19844537380712934,null,null,0.26983420284219722,null,null,0.36465279626942515,null,null,0.47036172611803567,null,null,0.18428580577252182,null,null,null,0.28130970886171663,null,null,0.39874983890761501,null,null,0.52581781826572438,null,null,0.62250437420690219,null,null,0.16101123638572837,null,null,null,0.24363588652680734,null,null,0.35156857789631613,null,null,0.42627853533791926,null,null,0.51677591859659511,null,null,0.37290374334156851,null,null,null,0.41402861927414508,null,null,0.46984568676578609,null,null,0.50322614628640716,null,null,0.5511783217651246,null,null,6.1937341432630098E-2,null,null,null,0.13076851748041318,null,null,0.27260943338555388,null,null,0.45813000849687363,null,null,0.59520197722684065,null,null,0.94498100537201501,null,null,null,1.0628125835546476,null,null,1.1451411525109818,null,null,1.2085945962836222,null,null,1.2644014830600663,null,null,0.4478879227711669,null,null,null,0.35386073690917474]
[{"$f":"'Als-Ob-Allokation KW03'!A168","v":"2012-06-15"},{"$f":"'Als-Ob-Allokation KW03'!B168","v":18.7},5,0.22012937802827359,null,null,0.17159156347568372,null,null,0.25235300912944358,null,null,0.20996190227514155,null,null,0.82728161907002351,null,null,0.70881991123980814,null,null,null,0.83483285487664083,null,null,0.94962603759497222,null,null,1.0831760884294903,null,null,1.184547627694049,null,null,5.8127378331088844E-2,null,null,null,0.14303653978075678,null,null,0.24254978608382646,null,null,0.42758475432788212,null,null,0.80864000856479135,null,null,0.1557490088117896,null,null,null,0.28299943621832935,null,null,0.4271217690457681,null,null,0.51743491242590922,null,null,0.58246477972685529,null,null,3.2908549301843774E-2,null,null,null,0.20876394953752947,null,null,0.38823703337316823,null,null,0.55453216494070912,null,null,0.75816697492244223,null,null,7.0967042807499423E-2,null,null,null,0.121796227968853,null,null,0.17930661990528379,null,null,0.29590163039955913,null,null,0.42812176045267497,null,null,3.5362753267717283E-2,null,null,null,8.6135920217199055E-2,null,null,0.11311027493528186,null,null,0.1969438953417772,null,null,0.27570385961451144,null,null,5.4247002000189358E-2,null,null,null,0.12764357680913085,null,null,0.21377544846622906,null,null,0.32121589217194324,null,null,0.39876516684012736,null,null,5.4781308771710231E-2,null,null,null,0.1013080629010651,null,null,0.16821872180128875,null,null,0.22397205549384486,null,null,0.28257423511139229,null,null,0.17513528091276059,null,null,null,0.207547367570981,null,null,0.2494509820900381,null,null,0.28108199326464101,null,null,0.32341547280118055,null,null,1.023178441324165E-2,null,null,null,6.1059457435657369E-2,null,null,0.13572853464614892,null,null,0.24770495234577694,null,null,0.44222653978567977,null,null,0.72752879931286607,null,null,null,0.86166743334535967,null,null,0.96977854769415917,null,null,1.0454950945552377,null,null,1.1157967386171046,null,null,0.2817509975127655,null,null,null,0.21308702014216169]
[{"$f":"'Als-Ob-Allokation KW03'!A169","v":"2012-06-16"},{"$f":"'Als-Ob-Allokation KW03'!B169","v":20.7},6,0.16828914482003204,null,null,0.12878221495307141,null,null,0.19677032125007218,null,null,0.16121377829115371,null,null,0.78143340745316614,null,null,0.28629804359590233,null,null,null,0.34191987652887135,null,null,0.3946492595362236,null,null,0.45446144747312728,null,null,0.50144811787904042,null,null,2.3193782508235731E-2,null,null,null,7.7383367720599422E-2,null,null,0.14033360970118874,null,null,0.27908766987380546,null,null,0.56386063179277945,null,null,6.7882238788208732E-2,null,null,null,0.17320792965735296,null,null,0.28807851396804801,null,null,0.35936809565295458,null,null,0.40463530670300091,null,null,1.3877356947366229E-2,null,null,null,0.18617079106486684,null,null,0.36264064451802147,null,null,0.53760543660565741,null,null,0.74307030421108999,null,null,4.3770753449703069E-2,null,null,null,8.4954688206961365E-2,null,null,0.1308990780035871,null,null,0.21224137582406041,null,null,0.33189114273598874,null,null,1.9825245058877165E-2,null,null,null,6.1722029952368453E-2,null,null,7.4745123520436718E-2,null,null,0.14984380236490183,null,null,0.21002698136815362,null,null,2.6987236578505127E-2,null,null,null,8.9143703199811131E-2,null,null,0.15877492496940696,null,null,0.2486979875722978,null,null,0.30966064196154253,null,null,2.9039602321276638E-2,null,null,null,5.9501625720322547E-2,null,null,0.10221333047600889,null,null,0.1420714048413273,null,null,0.18083159195258031,null,null,0.11744003586321253,null,null,null,0.14283543214406877,null,null,0.17433853351435066,null,null,0.20034180315177613,null,null,0.2337901030274597,null,null,3.3095340943205499E-3,null,null,null,4.66500067883567E-2,null,null,0.10043527684130818,null,null,0.17711217665888118,null,null,0.37060808737948403,null,null,0.23655489352208695,null,null,null,0.28461029343220473,null,null,0.3256687245485046,null,null,0.35289760674229154,null,null,0.37898580813333177,null,null,0.22435972570972729,null,null,null,0.16967042025939216]
[{"$f":"'Als-Ob-Allokation KW03'!A170","v":"2012-06-17"},{"$f":"'Als-Ob-Allokation KW03'!B170","v":17.899999999999999},7,0.24752992621377054,null,null,0.19508088208732427,null,null,0.28169436470535686,null,null,0.23653811227736216,null,null,0.84835072416645818,null,null,0.61044224545877779,null,null,null,0.71397985972042133,null,null,0.80627981137057181,null,null,0.9145448996114699,null,null,0.99577047301348909,null,null,6.6717012492177014E-2,null,null,null,0.14812822593519492,null,null,0.24307160680201773,null,null,0.40667186762990026,null,null,0.74229609728505275,null,null,0.16973220115960772,null,null,null,0.27761312175542763,null,null,0.40180099604568476,null,null,0.47997034191063148,null,null,0.53920332370793789,null,null,4.5170080491375657E-2,null,null,null,0.22283270522980272,null,null,0.40316725793712854,null,null,0.5646878793762854,null,null,0.76576934806165009,null,null,7.8167002300088717E-2,null,null,null,0.12766525139279858,null,null,0.18371900752595871,null,null,0.3007014613038328,null,null,0.42153858731693888,null,null,3.8952986698602345E-2,null,null,null,8.6439305811631492E-2,null,null,0.1160063210157625,null,null,0.19086065752862305,null,null,0.26504662837234216,null,null,6.5777149343283381E-2,null,null,null,0.13812027081109218,null,null,0.22440983803762751,null,null,0.32992962232464573,null,null,0.40777656119365713,null,null,5.8070117550916102E-2,null,null,null,0.10293775151706984,null,null,0.16717095142202443,null,null,0.21854658280701802,null,null,0.27429884278795891,null,null,0.19064182569135923,null,null,null,0.2231737347435577,null,null,0.2657786643470888,null,null,0.2966876213093218,null,null,0.33862987424847779,null,null,1.2580662153280641E-2,null,null,null,5.6676290250095712E-2,null,null,0.1266326674310565,null,null,0.23145732072787029,null,null,0.3860013288317225,null,null,0.30757156467864499,null,null,null,0.36128494640180886,null,null,0.40348104649841454,null,null,0.43366689294154492,null,null,0.46134705145664318,null,null,0.28527809441011814,null,null,null,0.21651753412638181]
[{"$f":"'Als-Ob-Allokation KW03'!A171","v":"2012-06-18"},{"$f":"'Als-Ob-Allokation KW03'!B171","v":22.1},1,0.14361449483890418,null,null,0.10940634690113092,null,null,0.17039160219944041,null,null,0.13905121919055036,null,null,0.7570056634450224,null,null,0.62365104848384867,null,null,null,0.75003960180946849,null,null,0.87209867811030872,null,null,1.0078160975315826,null,null,1.1170548828576907,null,null,2.2188063174390378E-2,null,null,null,9.4273328525936159E-2,null,null,0.17635846095822499,null,null,0.37621169468976495,null,null,0.77981160630207169,null,null,6.5009745776330008E-2,null,null,null,0.22610714789400649,null,null,0.39790281452606358,null,null,0.50395112357734217,null,null,0.56601249482095317,null,null,6.2423003726935385E-3,null,null,null,0.15836636078148264,null,null,0.31374782246138433,null,null,0.47313251723839123,null,null,0.65495204955889375,null,null,3.4969980395682068E-2,null,null,null,7.3139177418275803E-2,null,null,0.11498093337971961,null,null,0.17814642619174814,null,null,0.29299239919429587,null,null,1.6037403995882216E-2,null,null,null,5.824602214100752E-2,null,null,6.6006295220652211E-2,null,null,0.1442458734345011,null,null,0.1998544491177853,null,null,2.15823332263189E-2,null,null,null,9.2516561170939066E-2,null,null,0.16960780121423993,null,null,0.27056778945480209,null,null,0.33615847406027899,null,null,2.5084369985114308E-2,null,null,null,5.4553131460171884E-2,null,null,9.3995913340608431E-2,null,null,0.13407140996579567,null,null,0.17132475203992906,null,null,0.1168673803258142,null,null,null,0.14397366119816488,null,null,0.17642349850136974,null,null,0.20469897111484545,null,null,0.23988353521879838,null,null,1.733029196772901E-3,null,null,null,5.0246260694052428E-2,null,null,0.10550436379332628,null,null,0.17919123967438577,null,null,0.41070352761951601,null,null,0.73849927364636558,null,null,null,0.89493038351888576,null,null,1.0334221799532215,null,null,1.1218415196428255,null,null,1.2083126328339575,null,null,0.23166421576040916,null,null,null,0.17598427387476206]
[{"$f":"'Als-Ob-Allokation KW03'!A172","v":"2012-06-19"},{"$f":"'Als-Ob-Allokation KW03'!B172","v":21.5},2,0.15318503086683857,null,null,0.11682492609388226,null,null,0.18060824637387657,null,null,0.14754115785260905,null,null,0.766644896273738,null,null,0.65112164300925324,null,null,null,0.78093359474680157,null,null,0.90540383485761822,null,null,1.0450066735358323,null,null,1.1562316778574697,null,null,2.5936088897410885E-2,null,null,null,9.9210428662135169E-2,null,null,0.18345292324961426,null,null,0.38042143968832509,null,null,0.78156809129147176,null,null,7.6590242527355801E-2,null,null,null,0.23149474474888679,null,null,0.39820638767107169,null,null,0.50133782535534677,null,null,0.56378113100358795,null,null,9.0050316576949056E-3,null,null,null,0.17168627767274841,null,null,0.33810349894355773,null,null,0.50654921869558855,null,null,0.70108695468850446,null,null,3.7384755880284962E-2,null,null,null,7.5866579005689105E-2,null,null,0.11839210805790566,null,null,0.18762721296552551,null,null,0.30216862612209783,null,null,1.7686480551460434E-2,null,null,null,6.0355464176795479E-2,null,null,7.0366148948641599E-2,null,null,0.14848765515133361,null,null,0.20694186354359045,null,null,2.5670449763605257E-2,null,null,null,9.8403458439794964E-2,null,null,0.17843837921365446,null,null,0.28271676118999883,null,null,0.35167189918927194,null,null,2.7154573531797045E-2,null,null,null,5.7674437339158904E-2,null,null,9.9448608125006582E-2,null,null,0.14036692944268525,null,null,0.17909156043390626,null,null,0.12664602476158057,null,null,null,0.15525758967772563,null,null,0.19005409186041763,null,null,0.21970545103291833,null,null,0.25715058954143827,null,null,2.5867027100402976E-3,null,null,null,5.4443149420459906E-2,null,null,0.1155013603969836,null,null,0.19945302897263975,null,null,0.44074600836446981,null,null,0.75640972032030751,null,null,null,0.91413411770650088,null,null,1.0517377425976278,null,null,1.1410222573500028,null,null,1.2275971278168176,null,null,0.23802784592498161,null,null,null,0.1804231517732684]
[{"$f":"'Als-Ob-Allokation KW03'!A173","v":"2012-06-20"},{"$f":"'Als-Ob-Allokation KW03'!B173","v":19.5},3,0.19673479751630857,null,null,0.15197619140781735,null,null,0.22726710462588945,null,null,0.18767100794259817,null,null,0.80757425590279153,null,null,0.65416189408131942,null,null,null,0.77521299949036482,null,null,0.88750519167156183,null,null,1.0169178721511583,null,null,1.1164543095411505,null,null,4.5775709838498803E-2,null,null,null,0.1262465567172803,null,null,0.22054165532313993,null,null,0.4089013006195899,null,null,0.79723520666929815,null,null,0.128167590911899,null,null,null,0.26311610594991003,null,null,0.41356834629513273,null,null,0.50745814725840765,null,null,0.57170217219386998,null,null,2.3103408745255197E-2,null,null,null,0.193613214262679,null,null,0.36813444735226974,null,null,0.53475574005020798,null,null,0.73541306853274468,null,null,6.032333655698479E-2,null,null,null,0.10885064263814534,null,null,0.16355158676260753,null,null,0.26983042660276002,null,null,0.40289267102236581,null,null,2.8323813370254126E-2,null,null,null,7.6094086545222178E-2,null,null,9.7103511217442998E-2,null,null,0.17906207196898735,null,null,0.25156359730021227,null,null,4.5164559730023562E-2,null,null,null,0.12072244305075631,null,null,0.20778785574629793,null,null,0.31817349718337751,null,null,0.39592907920407167,null,null,4.1234882843490528E-2,null,null,null,7.9545475795984061E-2,null,null,0.13442962687285814,null,null,0.18219751539502144,null,null,0.23082257826580527,null,null,0.16361168252016642,null,null,null,0.19609746504024142,null,null,0.23747143188844333,null,null,0.26989227724626369,null,null,0.31264348792244945,null,null,7.3208318144810736E-3,null,null,null,6.0040964571245151E-2,null,null,0.13204416738752922,null,null,0.23873690534416359,null,null,0.45549638952620963,null,null,0.80000078054201251,null,null,null,0.95427009434686427,null,null,1.0816699845833844,null,null,1.168982282730229,null,null,1.251082713708582,null,null,0.26668946221126688,null,null,null,0.20142999359039349]
[{"$f":"'Als-Ob-Allokation KW03'!A174","v":"2012-06-21"},{"$f":"'Als-Ob-Allokation KW03'!B174","v":20.2},4,0.17923981882960247,null,null,0.13761592132104072,null,null,0.20850557020527694,null,null,0.17130163879130739,null,null,0.79177464754811933,null,null,0.67751097936312987,null,null,null,0.80669377767083339,null,null,0.92814498979040916,null,null,1.0668513760545204,null,null,1.1748502783109405,null,null,3.7674718236192159E-2,null,null,null,0.11581386797018181,null,null,0.20701614151228576,null,null,0.40023332213950785,null,null,0.79792002436202558,null,null,0.10866056130981967,null,null,null,0.25192616046941585,null,null,0.40957025411362535,null,null,0.50762096963739611,null,null,0.57182535158854364,null,null,1.7062258265133783E-2,null,null,null,0.18665709303302058,null,null,0.36038962210512093,null,null,0.53012368096704288,null,null,0.73154866173141797,null,null,5.2201060454051665E-2,null,null,null,9.8347559088745262E-2,null,null,0.1500836503750583,null,null,0.24572960767744173,null,null,0.37701613146272556,null,null,2.375541295482362E-2,null,null,null,6.9601996975323391E-2,null,null,8.6235271444808817E-2,null,null,0.16707978707715923,null,null,0.23465173007578408,null,null,3.691541162211074E-2,null,null,null,0.11137576857224667,null,null,0.19577069112830547,null,null,0.3040138329669364,null,null,0.37857866530730128,null,null,3.4668420405386167E-2,null,null,null,6.9321053471254834E-2,null,null,0.11845625588001098,null,null,0.16297103134968757,null,null,0.20706774212219414,null,null,0.14865153575610343,null,null,null,0.17976396880230033,null,null,0.21880577966451084,null,null,0.25035994300913861,null,null,0.29138676691460469,null,null,5.047225253547386E-3,null,null,null,5.6261740899087254E-2,null,null,0.12225369799254147,null,null,0.21811468117632082,null,null,0.43977392584482156,null,null,0.76778608933145431,null,null,null,0.92072220648059921,null,null,1.0496006093113217,null,null,1.1362495338592626,null,null,1.2186288072794813,null,null,0.25633997223408128,null,null,null,0.19367827941045074]
[{"$f":"'Als-Ob-Allokation KW03'!A175","v":"2012-06-22"},{"$f":"'Als-Ob-Allokation KW03'!B175","v":17.899999999999999},5,0.24752992621377054,null,null,0.19508088208732427,null,null,0.28169436470535686,null,null,0.23653811227736216,null,null,0.84835072416645818,null,null,0.72768034320135755,null,null,null,0.85110280821037587,null,null,0.96112936845240571,null,null,1.0901872394532128,null,null,1.1870125387663151,null,null,7.4479866272802217E-2,null,null,null,0.16536367632130394,null,null,0.27135418828072139,null,null,0.45399014713881647,null,null,0.82866591286737179,null,null,0.18948138072037113,null,null,null,0.30991477902797082,null,null,0.44855252559862979,null,null,0.5358172607714814,null,null,0.60194229242993591,null,null,4.5500833109262243E-2,null,null,null,0.22446437158513674,null,null,0.40611940290915982,null,null,0.56882274015936918,null,null,0.77137660432095767,null,null,8.6056412133434568E-2,null,null,null,0.14055052855678893,null,null,0.20226180054472329,null,null,0.33105131477018779,null,null,0.46408455400433229,null,null,4.4698933701261323E-2,null,null,null,9.9189949914567199E-2,null,null,0.13311838940958176,null,null,0.21901447360279488,null,null,0.30414360164539728,null,null,6.891437427221582E-2,null,null,null,0.14470788309143046,null,null,0.23511300996311055,null,null,0.34566553435920755,null,null,0.42722536379430853,null,null,6.8515539403942297E-2,null,null,null,0.12145378497016245,null,null,0.19724099747701554,null,null,0.25785787316139092,null,null,0.32363862799168186,null,null,0.19973444058919831,null,null,null,0.23381795102703423,null,null,0.27845491224917568,null,null,0.3108380642970478,null,null,0.35478074265460552,null,null,1.4930036246890351E-2,null,null,null,6.7260296593573993E-2,null,null,0.15028066819941333,null,null,0.2746807875429752,null,null,0.45808509604581071,null,null,0.74777424823553273,null,null,null,0.87836331514161203,null,null,0.98095133253905176,null,null,1.0543397768022553,null,null,1.1216363415750557,null,null,0.3032956582675993,null,null,null,0.23019232575541645]
[{"$f":"'Als-Ob-Allokation KW03'!A176","v":"2012-06-23"},{"$f":"'Als-Ob-Allokation KW03'!B176","v":17.8},6,0.25125605076741231,null,null,0.19831377452392651,null,null,0.2856792517171225,null,null,0.24018527339405776,null,null,0.85105551100140997,null,null,0.3107436215244973,null,null,null,0.36311249356819841,null,null,0.4096585671889148,null,null,0.46430607025449655,null,null,0.50525148319581403,null,null,5.7077148602416222E-2,null,null,null,0.12520398411871483,null,null,0.2045756488694937,null,null,0.34000800402311593,null,null,0.61766809522451482,null,null,0.14420727697594821,null,null,null,0.2330432294717347,null,null,0.33551701645731441,null,null,0.40005576502051349,null,null,0.44927134670551228,null,null,4.8152297796488795E-2,null,null,null,0.23061816318305203,null,null,0.41566444109026313,null,null,0.58065676737538219,null,null,0.78648203605329647,null,null,8.3663337515777647E-2,null,null,null,0.13581149781083507,null,null,0.19486027491344568,null,null,0.31843231007426576,null,null,0.44464026582740312,null,null,4.3460452821198578E-2,null,null,null,9.5370857095829889E-2,null,null,0.12827390796984711,null,null,0.20958174299518448,null,null,0.29065885605559777,null,null,6.3638837990914715E-2,null,null,null,0.1318751219243568,null,null,0.21341478516783247,null,null,0.31285192481114549,null,null,0.38639377452792023,null,null,6.1916369150367655E-2,null,null,null,0.10918070604683752,null,null,0.17676826588233924,null,null,0.23056056159959507,null,null,0.28916507355477616,null,null,0.18207167577452674,null,null,null,0.21280417644809393,null,null,0.25311184638537032,null,null,0.28220435582773562,null,null,0.32174788778679886,null,null,1.3911777250745985E-2,null,null,null,6.0669423553352239E-2,null,null,0.13557236702161435,null,null,0.24769241364731714,null,null,0.40956708051205459,null,null,0.25804165965032966,null,null,null,0.30276847769028287,null,null,0.33778945940730432,null,null,0.36290780456469485,null,null,0.38590592143005176,null,null,0.28202778872531437,null,null,null,0.21418198152278947]
[{"$f":"'Als-Ob-Allokation KW03'!A177","v":"2012-06-24"},{"$f":"'Als-Ob-Allokation KW03'!B177","v":17.899999999999999},7,0.24752992621377054,null,null,0.19508088208732427,null,null,0.28169436470535686,null,null,0.23653811227736216,null,null,0.84835072416645818,null,null,0.61044224545877779,null,null,null,0.71397985972042133,null,null,0.80627981137057181,null,null,0.9145448996114699,null,null,0.99577047301348909,null,null,6.6717012492177014E-2,null,null,null,0.14812822593519492,null,null,0.24307160680201773,null,null,0.40667186762990026,null,null,0.74229609728505275,null,null,0.16973220115960772,null,null,null,0.27761312175542763,null,null,0.40180099604568476,null,null,0.47997034191063148,null,null,0.53920332370793789,null,null,4.5170080491375657E-2,null,null,null,0.22283270522980272,null,null,0.40316725793712854,null,null,0.5646878793762854,null,null,0.76576934806165009,null,null,7.8167002300088717E-2,null,null,null,0.12766525139279858,null,null,0.18371900752595871,null,null,0.3007014613038328,null,null,0.42153858731693888,null,null,3.8952986698602345E-2,null,null,null,8.6439305811631492E-2,null,null,0.1160063210157625,null,null,0.19086065752862305,null,null,0.26504662837234216,null,null,6.5777149343283381E-2,null,null,null,0.13812027081109218,null,null,0.22440983803762751,null,null,0.32992962232464573,null,null,0.40777656119365713,null,null,5.8070117550916102E-2,null,null,null,0.10293775151706984,null,null,0.16717095142202443,null,null,0.21854658280701802,null,null,0.27429884278795891,null,null,0.19064182569135923,null,null,null,0.2231737347435577,null,null,0.2657786643470888,null,null,0.2966876213093218,null,null,0.33862987424847779,null,null,1.2580662153280641E-2,null,null,null,5.6676290250095712E-2,null,null,0.1266326674310565,null,null,0.23145732072787029,null,null,0.3860013288317225,null,null,0.30757156467864499,null,null,null,0.36128494640180886,null,null,0.40348104649841454,null,null,0.43366689294154492,null,null,0.46134705145664318,null,null,0.28527809441011814,null,null,null,0.21651753412638181]
[{"$f":"'Als-Ob-Allokation KW03'!A178","v":"2012-06-25"},{"$f":"'Als-Ob-Allokation KW03'!B178","v":15.6},1,0.35199457146759372,null,null,0.28862033651008384,null,null,0.39269760589175695,null,null,0.34094778394048081,null,null,0.91174928402371846,null,null,0.75952323568571811,null,null,null,0.86696431419771525,null,null,0.95470317114534708,null,null,1.0590463250952953,null,null,1.1360208036545132,null,null,0.1594402219756639,null,null,null,0.27893551555792628,null,null,0.41206469935365003,null,null,0.59197146304878345,null,null,0.95375802248634234,null,null,0.34057971482709737,null,null,null,0.44611267674984489,null,null,0.57318011098746713,null,null,0.65427002651391908,null,null,0.72494085104689077,null,null,9.813008657053976E-2,null,null,null,0.27019077923678486,null,null,0.43892358144521448,null,null,0.57282989031073905,null,null,0.74758483078006666,null,null,0.14801818872693825,null,null,null,0.21207415452841025,null,null,0.28360102645609819,null,null,0.43618091530082798,null,null,0.55963578281984883,null,null,9.1333885318017824E-2,null,null,null,0.16215242573185742,null,null,0.22211860441115736,null,null,0.31533096753490897,null,null,0.41769682946244424,null,null,0.1413834505834555,null,null,null,0.23141239352284987,null,null,0.34118559505660823,null,null,0.46507237082743802,null,null,0.55971856880363346,null,null,0.13375633063318182,null,null,null,0.21112509909875316,null,null,0.31593651057479522,null,null,0.39136242370915442,null,null,0.48028724597923,null,null,0.31320877933721175,null,null,null,0.35301736329184641,null,null,0.40659913608518511,null,null,0.4406936272953525,null,null,0.48878940675097893,null,null,4.1461147730931389E-2,null,null,null,0.10250208665204907,null,null,0.22140004896497797,null,null,0.38636391668642722,null,null,0.53457320703340605,null,null,0.90780896760682128,null,null,null,1.0350860178802004,null,null,1.1272683429135144,null,null,1.1970075052142197,null,null,1.2589427780172733,null,null,0.39957180823056898,null,null,null,0.31082216406623292]
[{"$f":"'Als-Ob-Allokation KW03'!A179","v":"2012-06-26"},{"$f":"'Als-Ob-Allokation KW03'!B179","v":17},2,0.2836227282022577,null,null,0.22674740432780494,null,null,0.32022587876467101,null,null,0.27214697438599295,null,null,0.87304572449869999,null,null,0.73971308444145623,null,null,null,0.85760798494599078,null,null,0.95967673301120537,null,null,1.0802836665864597,null,null,1.1698448136986301,null,null,0.10363028762713661,null,null,null,0.2076184541620387,null,null,0.32742824327523368,null,null,0.51597376351647384,null,null,0.90015764437244283,null,null,0.24706632393470265,null,null,null,0.36564491597097148,null,null,0.5046752361011978,null,null,0.59265265351475194,null,null,0.66319208318397305,null,null,6.2620674809842944E-2,null,null,null,0.24010320468365143,null,null,0.41849692613049588,null,null,0.57154278878805409,null,null,0.76560981422351782,null,null,0.10074277997138266,null,null,null,0.15593038134349679,null,null,0.21826582346704573,null,null,0.35076931980722209,null,null,0.47470174942866716,null,null,5.8596800117453551E-2,null,null,null,0.11813889826207648,null,null,0.161006406440414,null,null,0.24920676847151732,null,null,0.34111175561218782,null,null,9.5814463946346504E-2,null,null,null,0.18007418076497375,null,null,0.28200561535145591,null,null,0.40332357299988358,null,null,0.49460841732928024,null,null,8.6301439252436205E-2,null,null,null,0.14600085378210792,null,null,0.23023159685305333,null,null,0.29475798005215131,null,null,0.36723858204840204,null,null,0.24821751851683299,null,null,null,0.28638028974883595,null,null,0.33697372731062242,null,null,0.37196409392432134,null,null,0.4201556002147348,null,null,2.4128112276195889E-2,null,null,null,8.2889342473565247E-2,null,null,0.18451923397266176,null,null,0.33423968636704543,null,null,0.51658197560183117,null,null,0.86576438560118063,null,null,null,1.0062075513893765,null,null,1.1132378742598903,null,null,1.1915844082270284,null,null,1.2624701042474258,null,null,0.339439831982981,null,null,null,0.25943164210802899]
[{"$f":"'Als-Ob-Allokation KW03'!A180","v":"2012-06-27"},{"$f":"'Als-Ob-Allokation KW03'!B180","v":19.899999999999999},3,0.1864162291312606,null,null,0.14347166554947638,null,null,0.21620044717668785,null,null,0.177981371581201,null,null,0.79836493190408042,null,null,0.64738339427421943,null,null,null,0.76931490091575105,null,null,0.88332273322040122,null,null,1.0140446046398159,null,null,1.115289042035047,null,null,4.0405957745969404E-2,null,null,null,0.11845411596996275,null,null,0.20974131481262118,null,null,0.39841231765061252,null,null,0.78714404814433725,null,null,0.11520157898704446,null,null,null,0.25307932833049596,null,null,0.40563628819744968,null,null,0.5006551528594948,null,null,0.56405121510770106,null,null,1.9378151764778313E-2,null,null,null,0.18860427573102651,null,null,0.36192495369839206,null,null,0.52965217855507074,null,null,0.72995372297011296,null,null,5.5325334917795586E-2,null,null,null,0.10234030514203867,null,null,0.15518475263348189,null,null,0.25513243597140517,null,null,0.38693383435030776,null,null,2.5507348749458768E-2,null,null,null,7.2015664329946036E-2,null,null,9.0399870396218093E-2,null,null,0.1715074629130951,null,null,0.24099368269279234,null,null,4.0129477878176271E-2,null,null,null,0.11484053003398421,null,null,0.20012196914899594,null,null,0.30899335576925674,null,null,0.38471486086006385,null,null,3.7253157417378523E-2,null,null,null,7.3366832750814195E-2,null,null,0.12484060559518013,null,null,0.1706694802035294,null,null,0.21659371964780488,null,null,0.15435600855456355,null,null,null,0.18597276405872062,null,null,0.22590788144874027,null,null,0.25776557526883676,null,null,0.29944325435238239,null,null,5.9805440828955125E-3,null,null,null,5.8264920197538192E-2,null,null,0.12728555288231816,null,null,0.2285034852323462,null,null,0.45013362804305357,null,null,0.79112033586508468,null,null,null,0.94664357561123014,null,null,1.0765879608755442,null,null,1.1646751654717884,null,null,1.248028913340542,null,null,0.25905973384806852,null,null,null,0.19567573119854065]
[{"$f":"'Als-Ob-Allokation KW03'!A181","v":"2012-06-28"},{"$f":"'Als-Ob-Allokation KW03'!B181","v":22.2},4,0.14215349437759978,null,null,0.10828609352470706,null,null,0.16883427716056701,null,null,0.13776891853738438,null,null,0.75551947014344201,null,null,0.651662093534224,null,null,null,0.7840579797089644,null,null,0.91205810959069211,null,null,1.0541750063757496,null,null,1.1687541974405395,null,null,2.0731366734862495E-2,null,null,null,8.9643183975956137E-2,null,null,0.16798008306237941,null,null,0.35993643853992419,null,null,0.74695515277470714,null,null,6.0576265568725418E-2,null,null,null,0.21591958636159794,null,null,0.38133786442850071,null,null,0.48341500951705835,null,null,0.54282401427543514,null,null,6.4213803864754896E-3,null,null,null,0.17119814363256686,null,null,0.33945470692252555,null,null,0.51239993442319098,null,null,0.70928858160167496,null,null,3.6743490841909761E-2,null,null,null,7.7211339006527727E-2,null,null,0.12151081210768426,null,null,0.1874764320293128,null,null,0.3093857445945295,null,null,1.5673639976604575E-2,null,null,null,5.7481006482675075E-2,null,null,6.4837498424533582E-2,null,null,0.14247271305990966,null,null,0.1971849363052264,null,null,2.1328267715745086E-2,null,null,null,9.3127808080331179E-2,null,null,0.17100566054230479,null,null,0.27307166177631265,null,null,0.3391929816812474,null,null,2.2927509176578986E-2,null,null,null,5.0043806893420029E-2,null,null,8.6191819482515822E-2,null,null,0.12314369144219196,null,null,0.15739882917563927,null,null,0.11726971002321172,null,null,null,0.14457473235905469,null,null,0.17717472447991678,null,null,0.20568288469918103,null,null,0.24106725942937332,null,null,1.6910601348262952E-3,null,null,null,5.1800104800763032E-2,null,null,0.10859026239220296,null,null,0.18392088822344255,null,null,0.42395615804223002,null,null,0.73560448331349682,null,null,null,0.89178639933862636,null,null,1.0303841214267406,null,null,1.1186350553350524,null,null,1.2050605310089111,null,null,0.23071294372043047,null,null,null,0.17532980293364245]
[{"$f":"'Als-Ob-Allokation KW03'!A182","v":"2012-06-29"},{"$f":"'Als-Ob-Allokation KW03'!B182","v":24.3},5,0.11891533996498885,null,null,9.1016728467784094E-2,null,null,0.1441975829109523,null,null,0.11800837921992284,null,null,0.73168200646578296,null,null,0.63814086872791365,null,null,null,0.77304841313030703,null,null,0.90574307758071515,null,null,1.0487268491325044,null,null,1.167530604866158,null,null,1.1913322975881034E-2,null,null,null,7.2834740663479641E-2,null,null,0.13937268579626477,null,null,0.3218862158814671,null,null,0.67198163551259849,null,null,2.9144806083667728E-2,null,null,null,0.1877663755240527,null,null,0.35235117568212715,null,null,0.45332837070106058,null,null,0.50633344446722073,null,null,1.8176387322181512E-3,null,null,null,0.16477691389991325,null,null,0.33000547133713221,null,null,0.50551638774156316,null,null,0.69743349086221806,null,null,2.8388033463157068E-2,null,null,null,6.4339456028837283E-2,null,null,0.10250398858890976,null,null,0.14182032671360564,null,null,0.2490258093739123,null,null,1.2064887376934607E-2,null,null,null,5.1632385990646519E-2,null,null,5.3506294173550586E-2,null,null,0.12878992998686908,null,null,0.17373868972086123,null,null,1.2807831953071133E-2,null,null,null,7.9186691094727743E-2,null,null,0.14878011047774431,null,null,0.24088913749449306,null,null,0.29762264961277418,null,null,1.8767019747212756E-2,null,null,null,4.3239147497506486E-2,null,null,7.2881902749999172E-2,null,null,0.10704762744557623,null,null,0.13743313794842804,null,null,9.3678527439754619E-2,null,null,null,0.11665131052205897,null,null,0.14253934260018802,null,null,0.16670019051197305,null,null,0.19503616152694481,null,null,4.4623305982297961E-4,null,null,null,4.807295125040912E-2,null,null,9.8128740176787327E-2,null,null,0.15752768622044308,null,null,0.39917241301733236,null,null,0.64827960535393425,null,null,null,0.79061595784230676,null,null,0.92256219528844219,null,null,1.0021907281273439,null,null,1.0821639236066796,null,null,0.21227069043483693,null,null,null,0.16268112653969186]
[{"$f":"'Als-Ob-Allokation KW03'!A183","v":"2012-06-30"},{"$f":"'Als-Ob-Allokation KW03'!B183","v":24.1},6,0.12059345345671529,null,null,9.22220283503834E-2,null,null,0.14596498224961563,null,null,0.11938611958859713,null,null,0.73339441062176558,null,null,0.27205616971106811,null,null,null,0.32940599829169331,null,null,0.38574543555913632,null,null,0.44662082160056482,null,null,0.49707977337439713,null,null,9.2357422683531989E-3,null,null,null,5.4812129174275484E-2,null,null,0.10478569180649518,null,null,0.24064579400953642,null,null,0.50282471631906034,null,null,2.324314331204403E-2,null,null,null,0.14063111556556321,null,null,0.26268712363213237,null,null,0.33760542627390167,null,null,0.3772754913755994,null,null,2.125947476828672E-3,null,null,null,0.16811311263129014,null,null,0.33652849314359701,null,null,0.51499895486085578,null,null,0.71085576088594171,null,null,2.7375176146912674E-2,null,null,null,6.1717480035448399E-2,null,null,9.8279374516001439E-2,null,null,0.1375674443926255,null,null,0.24034515062660691,null,null,1.1582492514241831E-2,null,null,null,4.9044982409643674E-2,null,null,5.116899277451821E-2,null,null,0.12234626247048079,null,null,0.16545785658463827,null,null,1.1893418642989283E-2,null,null,null,7.1460539976269388E-2,null,null,0.13407527034660383,null,null,0.21690234319842422,null,null,0.26812303728138831,null,null,1.6792605590822695E-2,null,null,null,3.8559393923539506E-2,null,null,6.517615937016108E-2,null,null,9.5535564030004794E-2,null,null,0.12260670992564521,null,null,8.4992572573710651E-2,null,null,null,0.10577612674273858,null,null,0.12932500286933143,null,null,0.15118612511240329,null,null,0.17696846740514127,null,null,4.5215100954196474E-4,null,null,null,4.2843878337124476E-2,null,null,8.7621490602915048E-2,null,null,0.14129279184624041,null,null,0.35552707908888931,null,null,0.22337820909515332,null,null,null,0.27231937571646958,null,null,0.31752206438390085,null,null,0.34493435195089811,null,null,0.37240876650138699,null,null,0.19632510909911369,null,null,null,0.15034553931754355]
[{"$f":"'Als-Ob-Allokation KW03'!A184","v":"2012-07-01"},{"$f":"'Als-Ob-Allokation KW03'!B184","v":16.899999999999999},7,0.28799877980867794,null,null,0.23063732535623122,null,null,0.32488621884112345,null,null,0.27650308718522193,null,null,0.87582201521911651,null,null,0.63360019086557084,null,null,null,0.73382117170816819,null,null,0.82027561303447494,null,null,0.9225013931518764,null,null,0.99834481651827445,null,null,9.0458180649928235E-2,null,null,null,0.17931496746150546,null,null,0.28150749781295614,null,null,0.44066276861112291,null,null,0.76467767358627003,null,null,0.21404161047356113,null,null,null,0.31361705421230018,null,null,0.430601482967152,null,null,0.50467300773062218,null,null,0.56443041818874373,null,null,6.6414453008227722E-2,null,null,null,0.24810162087598309,null,null,0.43047324125432129,null,null,0.5861334605588121,null,null,0.78391812033624531,null,null,0.10038572837416422,null,null,null,0.15448061031824847,null,null,0.21554994593313309,null,null,0.34551822948796401,null,null,0.46578513647454634,null,null,5.2763032936530709E-2,null,null,null,0.10532008084179949,null,null,0.14369505390728785,null,null,0.22096101147731145,null,null,0.30186209981426032,null,null,8.8472261186224796E-2,null,null,null,0.16442105900167547,null,null,0.25640874671832919,null,null,0.36552706426202808,null,null,0.44777873479711328,null,null,7.7432561778884093E-2,null,null,null,0.13033091174383846,null,null,0.20480160754141075,null,null,0.26158793763801386,null,null,0.32561027497664413,null,null,0.22648918082261296,null,null,null,0.26088068838445816,null,null,0.30653017896068263,null,null,0.33792647794526054,null,null,0.38123903526610403,null,null,1.978862524178129E-2,null,null,null,6.6159400942528784E-2,null,null,0.14711034507233603,null,null,0.26601612313835671,null,null,0.40774429143837143,null,null,0.31958931512682287,null,null,null,0.37096295186968092,null,null,0.40997835454869003,null,null,0.43860868443582834,null,null,0.46447546854051025,null,null,0.31652190332031732,null,null,null,0.24215401056411748]
[{"$f":"'Als-Ob-Allokation KW03'!A185","v":"2012-07-02"},{"$f":"'Als-Ob-Allokation KW03'!B185","v":16.8},1,0.29245046796262064,null,null,0.23460502639268521,null,null,0.32962431160114747,null,null,0.28094214285412095,null,null,0.87860075137371441,null,null,0.72145949554178701,null,null,null,0.83470133990684126,null,null,0.93202814495216224,null,null,1.0471839877510167,null,null,1.1325486113049545,null,null,0.11202759702967097,null,null,null,0.21976041325926707,null,null,0.34342836575279345,null,null,0.53402158566171376,null,null,0.92169380434200243,null,null,0.26307209278323601,null,null,null,0.38170068742893093,null,null,0.5213481768203494,null,null,0.60982277307550914,null,null,0.68163975547570343,null,null,6.3597857753732071E-2,null,null,null,0.23155900813241484,null,null,0.39991392147067883,null,null,0.54286760896907127,null,null,0.72487760584255545,null,null,0.10895407795000762,null,null,null,0.16670472772208467,null,null,0.23186413556792942,null,null,0.37068188246972439,null,null,0.49777762536885928,null,null,6.3074460470023491E-2,null,null,null,0.12466878838501466,null,null,0.17026177990788613,null,null,0.26011858471834498,null,null,0.35464353858485526,null,null,9.9981622975737677E-2,null,null,null,0.18377830070799245,null,null,0.2853842654097643,null,null,0.4055024128912626,null,null,0.49619849019370332,null,null,9.4404598315371027E-2,null,null,null,0.15809296074035947,null,null,0.24754642458615805,null,null,0.31544492103469829,null,null,0.39227599262696727,null,null,0.25295832190561918,null,null,null,0.29088752281003599,null,null,0.34129304681061434,null,null,0.37576657917962114,null,null,0.42340265659849613,null,null,2.4779770424660213E-2,null,null,null,8.0672706944324726E-2,null,null,0.17915147819912128,null,null,0.32334770853343836,null,null,0.49155079928031015,null,null,0.8618708958397272,null,null,null,0.99913423312143412,null,null,1.1030138387773616,null,null,1.1794309435447969,null,null,1.2483738896166026,null,null,0.34699456970573267,null,null,null,0.26573987644064678]
[{"$f":"'Als-Ob-Allokation KW03'!A186","v":"2012-07-03"},{"$f":"'Als-Ob-Allokation KW03'!B186","v":17.7},2,0.25505155105048716,null,null,0.20161582016979646,null,null,0.28973683043777587,null,null,0.24390772996617432,null,null,0.85377261786782777,null,null,0.72055798596744536,null,null,null,0.8412015289513548,null,null,0.94810511280825704,null,null,1.0737280884050875,null,null,1.1677331562937394,null,null,8.3759576975163258E-2,null,null,null,0.18155929330531026,null,null,0.29537811342603076,null,null,0.48767841481580998,null,null,0.88166278183254521,null,null,0.21014572680481805,null,null,null,0.33561917455231949,null,null,0.4806517083193243,null,null,0.5720473020275556,null,null,0.64218582288144999,null,null,4.7847211433311533E-2,null,null,null,0.22256482727781995,null,null,0.39958795494468879,null,null,0.5567037356782728,null,null,0.75310510937694608,null,null,8.4529762062796637E-2,null,null,null,0.13638777679041975,null,null,0.1950994505778226,null,null,0.31828143922223967,null,null,0.44268493871517234,null,null,4.7364209997872546E-2,null,null,null,0.10279575197420339,null,null,0.13854719945724123,null,null,0.22480678310625754,null,null,0.31133870941474068,null,null,7.7869845856112258E-2,null,null,null,0.15928189078196756,null,null,0.25673819747262633,null,null,0.37525140609554797,null,null,0.46311367919138385,null,null,7.0535546332931548E-2,null,null,null,0.123729362302738,null,null,0.19970031684920292,null,null,0.25986936895703838,null,null,0.32567773307266085,null,null,0.21994734017151837,null,null,null,0.25666413299126012,null,null,0.3048901015702451,null,null,0.33951793583964629,null,null,0.38666371937875565,null,null,1.7585350246312859E-2,null,null,null,7.4282327496054484E-2,null,null,0.16599253598664121,null,null,0.30309918049611884,null,null,0.49693104820480016,null,null,0.84271222268375034,null,null,null,0.98766499155385612,null,null,1.1007874018643549,null,null,1.182133723831845,null,null,1.2565004664668329,null,null,0.31547680009004009,null,null,null,0.23974093550065753]
[{"$f":"'Als-Ob-Allokation KW03'!A187","v":"2012-07-04"},{"$f":"'Als-Ob-Allokation KW03'!B187","v":20.9},3,0.1642446655956992,null,null,0.12555309374981677,null,null,0.19243913882095731,null,null,0.15752321469637731,null,null,0.77753035564574313,null,null,0.63276624263070858,null,null,null,0.75655353332440189,null,null,0.87426294833553864,null,null,1.0074120442168968,null,null,1.1123824352876006,null,null,2.9683200346646642E-2,null,null,null,0.10242054584948659,null,null,0.18672366276626129,null,null,0.37540200914669269,null,null,0.76203488437304245,null,null,8.7227581528244377E-2,null,null,null,0.23176057679651815,null,null,0.38885112100031405,null,null,0.48626108564598391,null,null,0.54737014306990184,null,null,1.2231419944362746E-2,null,null,null,0.17862989085246475,null,null,0.34902636952974825,null,null,0.51890047508038561,null,null,0.71755366259888886,null,null,4.5349660487130079E-2,null,null,null,8.9040492874712676E-2,null,null,0.13767430789506863,null,null,0.22213846087037975,null,null,0.34997922643029428,null,null,2.0084849768008114E-2,null,null,null,6.4028985368364696E-2,null,null,7.6813591251490065E-2,null,null,0.1560442497778855,null,null,0.21846464272888264,null,null,3.0075782212410328E-2,null,null,null,0.10308124869681504,null,null,0.18449195194449539,null,null,0.28988512595970656,null,null,0.3608846332762452,null,null,2.9474708733692286E-2,null,null,null,6.0962744773792849E-2,null,null,0.1048778678755888,null,null,0.14635432954913441,null,null,0.18640291283070246,null,null,0.13504415314958154,null,null,null,0.16459603604303816,null,null,0.2010796901930561,null,null,0.23144137864147166,null,null,0.27032209306400412,null,null,3.5417673114905234E-3,null,null,null,5.5027941406408036E-2,null,null,0.11803163311521983,null,null,0.20709799043021168,null,null,0.43956073574542381,null,null,0.77175230414315366,null,null,null,0.9296510200852599,null,null,1.0652844359649045,null,null,1.1547417257953569,null,null,1.2407129932134133,null,null,0.24325417138559852,null,null,null,0.18404976927574093]
[{"$f":"'Als-Ob-Allokation KW03'!A188","v":"2012-07-05"},{"$f":"'Als-Ob-Allokation KW03'!B188","v":21.9},4,0.14664866657827857,null,null,0.11174358719707572,null,null,0.17362793721537406,null,null,0.14172637671827332,null,null,0.76008069407744117,null,null,0.65480400136784767,null,null,null,0.78681865839803988,null,null,0.91402236721066132,null,null,1.0558706167881058,null,null,1.1696619126206416,null,null,2.2578713259452623E-2,null,null,null,9.2624350248670106E-2,null,null,0.17265356264298165,null,null,0.36496041483421665,null,null,0.7545163012437669,null,null,6.6432077641027765E-2,null,null,null,0.22020646707339928,null,null,0.38468124529801234,null,null,0.48628076071169685,null,null,0.54640617192151408,null,null,7.5118378098890234E-3,null,null,null,0.17287444700611784,null,null,0.34187075028452968,null,null,0.51448748357337792,null,null,0.71220702244007805,null,null,3.8427374858051054E-2,null,null,null,7.9594340944534478E-2,null,null,0.12484686330940878,null,null,0.19499155630843779,null,null,0.31849643324289162,null,null,1.6507392474958516E-2,null,null,null,5.876384948674164E-2,null,null,6.7220710921819207E-2,null,null,0.14525094154566204,null,null,0.20166556938982436,null,null,2.3027635684191604E-2,null,null,null,9.5119099987962974E-2,null,null,0.1737847071958841,null,null,0.27664387801344098,null,null,0.34385539357023492,null,null,2.4165162260685279E-2,null,null,null,5.2159426497679864E-2,null,null,8.9922848436688393E-2,null,null,0.12782714142312954,null,null,0.16326412479120861,null,null,0.1209116434441572,null,null,null,0.14872768895075283,null,null,0.1822051913738528,null,null,0.21116456774262571,null,null,0.24738093329979519,null,null,2.007778702794681E-3,null,null,null,5.2222104382276473E-2,null,null,0.11001966935657817,null,null,0.18790153378811375,null,null,0.42563990816874442,null,null,0.73957834740768402,null,null,null,0.89547124030736014,null,null,1.0328267989498994,null,null,1.1209924027562685,null,null,1.2069745566856636,null,null,0.23365744243081674,null,null,null,0.17736358678889591]
[{"$f":"'Als-Ob-Allokation KW03'!A189","v":"2012-07-06"},{"$f":"'Als-Ob-Allokation KW03'!B189","v":18.399999999999999},5,0.22991408707019106,null,null,0.17991994108009118,null,null,0.26283752234021773,null,null,0.21939994611957453,null,null,0.83504863579236055,null,null,0.7155702797644985,null,null,null,0.84066644488484621,null,null,0.95375306501515689,null,null,1.0857440362593278,null,null,1.1854726470588237,null,null,6.3811149653159871E-2,null,null,null,0.15088465542953297,null,null,0.25280902637891978,null,null,0.43708797330489835,null,null,0.81615028479405594,null,null,0.16781795146393885,null,null,null,0.29257773142058485,null,null,0.43473798585934242,null,null,0.52396774551359904,null,null,0.58946147986798914,null,null,3.7223395591883979E-2,null,null,null,0.21421913658397587,null,null,0.39454704389016415,null,null,0.55960045217209409,null,null,0.76297467873142544,null,null,7.6211296339321666E-2,null,null,null,0.12837052846340216,null,null,0.1874256118556335,null,null,0.3086422760677513,null,null,0.44129340742651446,null,null,3.8563954612866228E-2,null,null,null,9.0641290963233534E-2,null,null,0.12010541347137554,null,null,0.20469178071024574,null,null,0.28583942773270815,null,null,5.9344790604163672E-2,null,null,null,0.13358009912829594,null,null,0.22125680060421132,null,null,0.32986031525106674,null,null,0.40892413182492982,null,null,5.9517998853910833E-2,null,null,null,0.10832922583348796,null,null,0.17847364685077899,null,null,0.23601360265686658,null,null,0.29722655002683235,null,null,0.18383295586126727,null,null,null,0.21687687386434013,null,null,0.25981492346087093,null,null,0.2917569769083746,null,null,0.33473299845921584,null,null,1.1809248829635651E-2,null,null,null,6.3143180267410767E-2,null,null,0.14074065971919475,null,null,0.25725388434407614,null,null,0.44772661952960346,null,null,0.73480452758216996,null,null,null,0.867710017542069,null,null,0.97381877176602261,null,null,1.0487314259358502,null,null,1.1179598818971972,null,null,0.28934743699310078,null,null,null,0.21906109926299586]
[{"$f":"'Als-Ob-Allokation KW03'!A190","v":"2012-07-07"},{"$f":"'Als-Ob-Allokation KW03'!B190","v":19.7},6,0.19146579099412633,null,null,0.14762141373498938,null,null,0.2216159001868826,null,null,0.18271116813285809,null,null,0.8029112007341197,null,null,0.29317568132049193,null,null,null,0.34791869908430678,null,null,0.39890667794986451,null,null,0.45752052145022176,null,null,0.50275874116703456,null,null,3.1613623790271786E-2,null,null,null,8.986239180420949E-2,null,null,0.15806423425045565,null,null,0.29666292493516255,null,null,0.58234682008586247,null,null,8.9353512517454173E-2,null,null,null,0.18964651520330714,null,null,0.30103559589872664,null,null,0.37047986048415965,null,null,0.41739965601865453,null,null,2.185206494139812E-2,null,null,null,0.19717781214316413,null,null,0.37669761148336905,null,null,0.54927412758901306,null,null,0.75623363530382803,null,null,5.3677517946826625E-2,null,null,null,9.8071936425438822E-2,null,null,0.14804644949423634,null,null,0.24389242757717072,null,null,0.36702103533009517,null,null,2.5351219187706126E-2,null,null,null,6.9820058537229626E-2,null,null,8.8381133510529286E-2,null,null,0.16531870032223112,null,null,0.23230612695024833,null,null,3.6093439113071078E-2,null,null,null,9.9791136146100065E-2,null,null,0.17284544438621102,null,null,0.26579595317182675,null,null,0.33085752991532308,null,null,3.6922216161742176E-2,null,null,null,7.1970537524781955E-2,null,null,0.12206654282153662,null,null,0.16616183649299773,null,null,0.21069537890882867,null,null,0.13470693546312873,null,null,null,0.16188211944354297,null,null,0.19635171658901626,null,null,0.22360656820421204,null,null,0.2594054440558467,null,null,5.5586040669340607E-3,null,null,null,4.9633748474700937E-2,null,null,0.10880112502080463,null,null,0.1960503875925643,null,null,0.38012843353403764,null,null,0.24270564235681616,null,null,null,0.28997281539033232,null,null,0.3292376424395711,null,null,0.35600077114901763,null,null,0.38124604079733826,null,null,0.23958754309840669,null,null,null,0.180954326040145]
[{"$f":"'Als-Ob-Allokation KW03'!A191","v":"2012-07-08"},{"$f":"'Als-Ob-Allokation KW03'!B191","v":19.100000000000001},7,0.2079559652696287,null,null,0.16132984522434407,null,null,0.23930162230471036,null,null,0.19831099375036496,null,null,0.81722919422114881,null,null,0.58755574445500303,null,null,null,0.69421227998589385,null,null,0.79229760922565284,null,null,0.9058879411088413,null,null,0.99266744752742664,null,null,4.5960708121788055E-2,null,null,null,0.11956670330401763,null,null,0.20587783849215341,null,null,0.37231547258470399,null,null,0.7153911850759801,null,null,0.12603223603039101,null,null,null,0.24288122187554217,null,null,0.37417339250840764,null,null,0.45627277414953837,null,null,0.51389693786776847,null,null,2.7628021346014397E-2,null,null,null,0.20075399308631575,null,null,0.37774753623639901,null,null,0.54430009204811236,null,null,0.74655920673995702,null,null,5.8747042494919917E-2,null,null,null,0.10338427839716186,null,null,0.15381183541942997,null,null,0.25407537121664897,null,null,0.37345362636587753,null,null,2.7530041972953338E-2,null,null,null,7.0397397159769531E-2,null,null,9.1200419978679864E-2,null,null,0.16342067180070804,null,null,0.22930710069717281,null,null,4.5940366411642397E-2,null,null,null,0.11502785184237117,null,null,0.19537942923332807,null,null,0.29647126822850933,null,null,0.36857006680084925,null,null,4.1663683558221309E-2,null,null,null,7.8700148788255583E-2,null,null,0.13191713315456444,null,null,0.17722168913621658,null,null,0.22408159650235193,null,null,0.15697479850897689,null,null,null,0.18710644859422687,null,null,0.22578111165331127,null,null,0.25553377909380798,null,null,0.29506490811893188,null,null,7.0983558093625845E-3,null,null,null,4.9436901910481029E-2,null,null,0.10936595710612122,null,null,0.19883759556446307,null,null,0.36709939809856401,null,null,0.29548990319421653,null,null,null,0.35126862092512762,null,null,0.39678227132044902,null,null,0.42831590200271635,null,null,0.45778000353082965,null,null,0.25627738505664149,null,null,null,0.19364466737777722]
[{"$f":"'Als-Ob-Allokation KW03'!A192","v":"2012-07-09"},{"$f":"'Als-Ob-Allokation KW03'!B192","v":19.7},1,0.19146579099412633,null,null,0.14762141373498938,null,null,0.2216159001868826,null,null,0.18271116813285809,null,null,0.8029112007341197,null,null,0.65547604925076175,null,null,null,0.77786934205823566,null,null,0.89186719752681987,null,null,1.0229148014616662,null,null,1.1240574658244002,null,null,4.5798108550279694E-2,null,null,null,0.13018208863810765,null,null,0.22898491505256729,null,null,0.42977043470748671,null,null,0.84363573936150893,null,null,0.12944488404022853,null,null,null,0.27473761777781497,null,null,0.43610504730275618,null,null,0.53670774912451591,null,null,0.60467964324527068,null,null,1.9670234587071581E-2,null,null,null,0.17749049486274393,null,null,0.3390860500432567,null,null,0.49443157757674583,null,null,0.68072710972405215,null,null,5.4391972470537842E-2,null,null,null,9.9377286249878988E-2,null,null,0.15001696638112594,null,null,0.2471386665026373,null,null,0.37190613153086433,null,null,2.7140871146900267E-2,null,null,null,7.4748957760064544E-2,null,null,9.4620339111324281E-2,null,null,0.17698926076875141,null,null,0.24870561890963022,null,null,4.2179623992859815E-2,null,null,null,0.11661821937434766,null,null,0.20199116604682046,null,null,0.31061527078341922,null,null,0.38664772739765862,null,null,4.2195128254056774E-2,null,null,null,8.2248748235167937E-2,null,null,0.1394990324340547,null,null,0.18989163518891078,null,null,0.24078507358957038,null,null,0.15742162638659535,null,null,null,0.18917917209011784,null,null,0.22946113697095649,null,null,0.26131178410681849,null,null,0.3031471746900945,null,null,6.3076971380584936E-3,null,null,null,5.6322531598777405E-2,null,null,0.12346346972141969,null,null,0.2224706875758751,null,null,0.43135560716772148,null,null,0.77982568657179763,null,null,null,0.93169753967432811,null,null,1.0578574443821867,null,null,1.1438487506327863,null,null,1.2249630978107926,null,null,0.26534964450683751,null,null,null,0.20041178045306379]
[{"$f":"'Als-Ob-Allokation KW03'!A193","v":"2012-07-10"},{"$f":"'Als-Ob-Allokation KW03'!B193","v":19.7},2,0.19146579099412633,null,null,0.14762141373498938,null,null,0.2216159001868826,null,null,0.18271116813285809,null,null,0.8029112007341197,null,null,0.67740984404040283,null,null,null,0.80389870886936576,null,null,0.9217112049661853,null,null,1.0571439748512852,null,null,1.1616711144319094,null,null,4.4990052889104841E-2,null,null,null,0.12788517339340705,null,null,0.2249447360410535,null,null,0.42218762302019397,null,null,0.82875074396017945,null,null,0.12716097593419845,null,null,null,0.26989018423938993,null,null,0.42841046856370107,null,null,0.52723814985928974,null,null,0.59401075703165984,null,null,2.0877204570316048E-2,null,null,null,0.18838135123063593,null,null,0.35989244573353157,null,null,0.52477000949842556,null,null,0.72249667706605569,null,null,5.2908105382829924E-2,null,null,null,9.6666175076041735E-2,null,null,0.14592435438527832,null,null,0.24039647796512975,null,null,0.36176016249849757,null,null,2.6810715734223164E-2,null,null,null,7.3839673276789003E-2,null,null,9.3469329000489487E-2,null,null,0.17483627304362467,null,null,0.24568023679120837,null,null,4.2868088012059477E-2,null,null,null,0.11852168461234888,null,null,0.20528810511016915,null,null,0.31568519359222719,null,null,0.39295866673802987,null,null,4.0877886190606456E-2,null,null,null,7.9681117436911447E-2,null,null,0.13514416965875101,null,null,0.18396362265006638,null,null,0.23326827626468799,null,null,0.15999109276281079,null,null,null,0.19226699129846531,null,null,0.23320644623772213,null,null,0.26557696582538637,null,null,0.30809520178325905,null,null,6.7103423832135878E-3,null,null,null,5.9917821456071593E-2,null,null,0.13134463109388547,null,null,0.23667187107885829,null,null,0.45889074089332887,null,null,0.78971670836503383,null,null,null,0.94351484811685393,null,null,1.0712749185904538,null,null,1.1583569068983384,null,null,1.2405000785809706,null,null,0.26534964450683751,null,null,null,0.20041178045306379]
[{"$f":"'Als-Ob-Allokation KW03'!A194","v":"2012-07-11"},{"$f":"'Als-Ob-Allokation KW03'!B194","v":17.7},{"$f":"WEEKDAY(A195,2)","v":3},{"$f":"($F$3/(1+($F$4/(B195-40))^$F$5)+$F$6)","v":0.25505155105048716},null,null,0.20161582016979646,null,null,0.28973683043777587,null,null,0.24390772996617432,null,null,0.85377261786782777,null,null,{"$f":"($V$3/(1+($V$4/(B195-40))^$V$5)+$V$6)*VLOOKUP(C195,$T$9:$V$15,3)","v":0.69214958084768707},null,null,null,{"$f":"($Y$3/(1+($Y$4/(B195-40))^$Y$5)+$Y$6)*VLOOKUP(C195,$T$9:$V$15,3)","v":0.80803668408501828},null,null,{"$f":"($AB$3/(1+($AB$4/(B195-40))^$AB$5)+$AB$6)*VLOOKUP(C195,$T$9:$V$15,3)","v":0.91072553383570776},null,null,{"$f":"($AE$3/(1+($AE$4/(B195-40))^$AE$5)+$AE$6)*VLOOKUP(C195,$T$9:$V$15,3)","v":1.031395752745909},null,null,{"$f":"($AH$3/(1+($AH$4/(B195-40))^$AH$5)+$AH$6)*VLOOKUP(C195,$T$9:$V$15,3)","v":1.1216946177974561},null,null,8.0064188067444433E-2,null,null,null,0.1735490785596859,null,null,0.28234632597728171,null,null,0.46616253006893948,null,null,0.84276470018035854,null,null,0.20087430715486798,null,null,null,0.32081199166472985,null,null,0.45944583484737472,null,null,0.54680914621368437,null,null,0.61385322555620225,null,null,4.8519413008936189E-2,null,null,null,0.2256916224053333,null,null,0.40520173357186812,null,null,0.56452482110977475,null,null,0.7636854217079948,null,null,9.225659187636899E-2,null,null,null,0.1488549258062678,null,null,0.21293340887308423,null,null,0.34737541102192504,null,null,0.48315058180952691,null,null,4.7456790549080266E-2,null,null,null,0.10299668190378547,null,null,0.13881801102772054,null,null,0.22524620215064031,null,null,0.31194726826817054,null,null,7.7322248346528261E-2,null,null,null,0.15816178625684491,null,null,0.25493275923134773,null,null,0.37261255747338023,null,null,0.45985696416143396,null,null,6.7595714589967104E-2,null,null,null,0.11857248005336193,null,null,0.19137706196460516,null,null,0.24903834460687527,null,null,0.31210389991420551,null,null,0.21840062315425215,null,null,null,0.25485921558734931,null,null,0.30274604877957723,null,null,0.3371303726682946,null,null,0.38394461691424664,null,null,1.7349066320676777E-2,null,null,null,7.3284239900396106E-2,null,null,0.16376219269066755,null,null,0.29902661650270512,null,null,0.49025408031984702,null,null,0.84885804309491986,null,null,null,0.99486793877723734,null,null,1.1088153401102145,null,null,1.1907549130979986,null,null,1.2656640053423736,null,null,0.31241391853576783,null,null,null,0.23741335360259289]
[{"$f":"'Als-Ob-Allokation KW03'!A195","v":"2012-07-12"},{"$f":"'Als-Ob-Allokation KW03'!B195","v":15.5},4,0.35748406068266159,null,null,0.29368225456799535,null,null,{"$f":"($L$3/(1+($L$4/(B196-40))^$L$5)+$L$6)","v":0.3984817701690373},null,null,{"$f":"($O$3/(1+($O$4/(B196-40))^$O$5)+$O$6)","v":0.34652968829862579},null,null,{"$f":"($R$3/(1+($R$4/(B196-40))^$R$5)+$R$6)","v":0.91446460626888926},null,null,0.79851948306570741,null,null,null,0.91038810195882591,null,null,1.0012960578844436,null,null,1.1094277557243211,null,null,1.1892061694133156,null,null,{"$f":"($AL$3/(1+($AL$4/(B196-40))^$AL$5)+$AL$6)*VLOOKUP(C196,$AJ$9:$AL$15,3)","v":0.15770786236737211},null,null,null,{"$f":"($AO$3/(1+($AO$4/(B196-40))^$AO$5)+$AO$6)*VLOOKUP(C196,$AJ$9:$AL$15,3)","v":0.27351813969494199},null,null,{"$f":"($AR$3/(1+($AR$4/(B196-40))^$AR$5)+$AR$6)*VLOOKUP(C196,$AJ$9:$AL$15,3)","v":0.40214110772478784},null,null,{"$f":"($AU$3/(1+($AU$4/(B196-40))^$AU$5)+$AU$6)*VLOOKUP(C196,$AJ$9:$AL$15,3)","v":0.57397650547277412},null,null,{"$f":"($AX$3/(1+($AX$4/(B196-40))^$AX$5)+$AX$6)*VLOOKUP(C196,$AJ$9:$AL$15,3)","v":0.91920478001330486},null,null,{"$f":"($BB$3/(1+($BB$4/(B196-40))^$BB$5)+$BB$6)*VLOOKUP(C196,$AZ$9:$BB$15,3)","v":0.33415357029816145},null,null,null,{"$f":"($BE$3/(1+($BE$4/(B196-40))^$BE$5)+$BE$6)*VLOOKUP(C196,$AZ$9:$BB$15,3)","v":0.43449035541611358},null,null,{"$f":"($BH$3/(1+($BH$4/(B196-40))^$BH$5)+$BH$6)*VLOOKUP(C196,$AZ$9:$BB$15,3)","v":0.55550787244148914},null,null,{"$f":"($BK$3/(1+($BK$4/(B196-40))^$BK$5)+$BK$6)*VLOOKUP(C196,$AZ$9:$BB$15,3)","v":0.63278264944830931},null,null,{"$f":"($BN$3/(1+($BN$4/(B196-40))^$BN$5)+$BN$6)*VLOOKUP(C196,$AZ$9:$BB$15,3)","v":0.70051041954939908},null,null,{"$f":"($BR$3/(1+($BR$4/(B196-40))^$BR$5)+$BR$6)*VLOOKUP(C196,$BP$9:$BR$15,3)","v":0.11019360440549805},null,null,null,{"$f":"($BU$3/(1+($BU$4/(B196-40))^$BU$5)+$BU$6)*VLOOKUP(C196,$BP$9:$BR$15,3)","v":0.29710084167900108},null,null,{"$f":"($BX$3/(1+($BX$4/(B196-40))^$BX$5)+$BX$6)*VLOOKUP(C196,$BP$9:$BR$15,3)","v":0.47998011603383178},null,null,{"$f":"($CA$3/(1+($CA$4/(B196-40))^$CA$5)+$CA$6)*VLOOKUP(C196,$BP$9:$BR$15,3)","v":0.62422908962518331},null,null,{"$f":"($CD$3/(1+($CD$4/(B196-40))^$CD$5)+$CD$6)*VLOOKUP(C196,$BP$9:$BR$15,3)","v":0.81287856139498815},null,null,{"$f":"($CH$3/(1+($CH$4/(B196-40))^$CH$5)+$CH$6)*VLOOKUP(C196,$CF$9:$CH$15,3)","v":0.16189989670221183},null,null,null,0.23076296868389404,null,null,{"$f":"($CN$3/(1+($CN$4/(B196-40))^$CN$5)+$CN$6)*VLOOKUP(C196,$CF$9:$CH$15,3)","v":0.30756882421255444},null,null,{"$f":"($CQ$3/(1+($CQ$4/(B196-40))^$CQ$5)+$CQ$6)*VLOOKUP(C196,$CF$9:$CH$15,3)","v":0.47128706743159599},null,null,{"$f":"($CT$3/(1+($CT$4/(B196-40))^$CT$5)+$CT$6)*VLOOKUP(C196,$CF$9:$CH$15,3)","v":0.60243582754347214},null,null,{"$f":"($CX$3/(1+($CX$4/(B196-40))^$CX$5)+$CX$6)*VLOOKUP(C196,$CV$9:$CX$15,3)","v":9.3619577376729657E-2},null,null,null,{"$f":"($DA$3/(1+($DA$4/(B196-40))^$DA$5)+$DA$6)*VLOOKUP(C196,$CV$9:$CX$15,3)","v":0.16487619064683232},null,null,{"$f":"($DD$3/(1+($DD$4/(B196-40))^$DD$5)+$DD$6)*VLOOKUP(C196,$CV$9:$CX$15,3)","v":0.22574957126370071},null,null,{"$f":"($DG$3/(1+($DG$4/(B196-40))^$DG$5)+$DG$6)*VLOOKUP(C196,$CV$9:$CX$15,3)","v":0.31865733322323836},null,null,{"$f":"($DJ$3/(1+($DJ$4/(B196-40))^$DJ$5)+$DJ$6)*VLOOKUP(C196,$CV$9:$CX$15,3)","v":0.42093745017065287},null,null,{"$f":"($DN$3/(1+($DN$4/(B196-40))^$DN$5)+$DN$6)*VLOOKUP(C196,$DL$9:$DN$15,3)","v":0.14741331362968854},null,null,null,{"$f":"($DQ$3/(1+($DQ$4/(B196-40))^$DQ$5)+$DQ$6)*VLOOKUP(C196,$DL$9:$DN$15,3)","v":0.23925759667887325},null,null,{"$f":"($DT$3/(1+($DT$4/(B196-40))^$DT$5)+$DT$6)*VLOOKUP(C196,$DL$9:$DN$15,3)","v":0.35121334059452758},null,null,{"$f":"($DW$3/(1+($DW$4/(B196-40))^$DW$5)+$DW$6)*VLOOKUP(C196,$DL$9:$DN$15,3)","v":0.47701399792480681},null,null,{"$f":"($DZ$3/(1+($DZ$4/(B196-40))^$DZ$5)+$DZ$6)*VLOOKUP(C196,$DL$9:$DN$15,3)","v":0.57313806214876328},null,null,{"$f":"($ED$3/(1+($ED$4/(B196-40))^$ED$5)+$ED$6)*VLOOKUP(C196,$EB$9:$ED$15,3)","v":0.12801361232233838},null,null,null,{"$f":"($EG$3/(1+($EG$4/(B196-40))^$EG$5)+$EG$6)*VLOOKUP(C196,$EB$9:$ED$15,3)","v":0.2010968251822684},null,null,{"$f":"($EJ$3/(1+($EJ$4/(B196-40))^$EJ$5)+$EJ$6)*VLOOKUP(C196,$EB$9:$ED$15,3)","v":0.29974000356583574},null,null,{"$f":"($EM$3/(1+($EM$4/(B196-40))^$EM$5)+$EM$6)*VLOOKUP(C196,$EB$9:$ED$15,3)","v":0.37041990586412321},null,null,{"$f":"($EP$3/(1+($EP$4/(B196-40))^$EP$5)+$EP$6)*VLOOKUP(C196,$EB$9:$ED$15,3)","v":0.45401356387091929},null,null,{"$f":"($ET$3/(1+($ET$4/(B196-40))^$ET$5)+$ET$6)*VLOOKUP(C196,$ER$9:$ET$15,3)","v":0.32318251203717796},null,null,null,{"$f":"($EW$3/(1+($EW$4/(B196-40))^$EW$5)+$EW$6)*VLOOKUP(C196,$ER$9:$ET$15,3)","v":0.36364828304830599},null,null,{"$f":"($EZ$3/(1+($EZ$4/(B196-40))^$EZ$5)+$EZ$6)*VLOOKUP(C196,$ER$9:$ET$15,3)","v":0.41816680506611065},null,null,{"$f":"($FC$3/(1+($FC$4/(B196-40))^$FC$5)+$FC$6)*VLOOKUP(C196,$ER$9:$ET$15,3)","v":0.45263268198403844},null,null,{"$f":"($FF$3/(1+($FF$4/(B196-40))^$FF$5)+$FF$6)*VLOOKUP(C196,$ER$9:$ET$15,3)","v":0.50134288366714697},null,null,{"$f":"($FJ$3/(1+($FJ$4/(B196-40))^$FJ$5)+$FJ$6)*VLOOKUP(C196,$FH$9:$FJ$15,3)","v":4.4676406882545143E-2},null,null,null,{"$f":"($FM$3/(1+($FM$4/(B196-40))^$FM$5)+$FM$6)*VLOOKUP(C196,$FH$9:$FJ$15,3)","v":0.10832201606812245},null,null,{"$f":"($FP$3/(1+($FP$4/(B196-40))^$FP$5)+$FP$6)*VLOOKUP(C196,$FH$9:$FJ$15,3)","v":0.23319035581460573},null,null,{"$f":"($FS$3/(1+($FS$4/(B196-40))^$FS$5)+$FS$6)*VLOOKUP(C196,$FH$9:$FJ$15,3)","v":0.4054375066452921},null,null,{"$f":"($FV$3/(1+($FV$4/(B196-40))^$FV$5)+$FV$6)*VLOOKUP(C196,$FH$9:$FJ$15,3)","v":0.55685188814275532},null,null,{"$f":"($FZ$3/(1+($FZ$4/(B196-40))^$FZ$5)+$FZ$6)*VLOOKUP(C196,$FX$9:$FZ$15,3)","v":0.90998970245631505},null,null,null,{"$f":"($GC$3/(1+($GC$4/(B196-40))^$GC$5)+$GC$6)*VLOOKUP(C196,$FX$9:$FZ$15,3)","v":1.0360446662115081},null,null,{"$f":"($GF$3/(1+($GF$4/(B196-40))^$GF$5)+$GF$6)*VLOOKUP(C196,$FX$9:$FZ$15,3)","v":1.1269914831256345},null,null,{"$f":"($GI$3/(1+($GI$4/(B196-40))^$GI$5)+$GI$6)*VLOOKUP(C196,$FX$9:$FZ$15,3)","v":1.1959463667512362},null,null,{"$f":"($GL$3/(1+($GL$4/(B196-40))^$GL$5)+$GL$6)*VLOOKUP(C196,$FX$9:$FZ$15,3)","v":1.257112725526224},null,null,{"$f":"($GP$3/(1+($GP$4/(B196-40))^$GP$5)+$GP$6)*VLOOKUP(C196,$GN$9:$GP$15,3)","v":0.40454782475533263},null,null,null,{"$f":"($GS$3/(1+($GS$4/(B196-40))^$GS$5)+$GS$6)*VLOOKUP(C196,$GN$9:$GP$15,3)","v":0.31518755851729774}]
[{"$f":"'Als-Ob-Allokation KW03'!A196","v":"2012-07-13"},{"$f":"'Als-Ob-Allokation KW03'!B196","v":15.7},5,0.34658814516629166,null,null,0.28364783348439881,null,null,0.38699562780978902,null,null,0.33545750723537765,null,null,0.90902320012744631,null,null,0.79470687987488253,null,null,null,0.90820043149000063,null,null,1.0013270630950162,null,null,1.1120529425437775,null,null,1.1937340790038646,null,null,0.14388734377590653,null,null,null,0.25395385249899022,null,null,0.37694859963358135,null,null,0.54506243711766056,null,null,0.8834570783330884,null,null,0.30985530527791522,null,null,null,0.40893096913363502,null,null,0.5280158082169456,null,null,0.60396629501583643,null,null,0.66978173314238942,null,null,0.10346742426024093,null,null,null,0.29103137496249992,null,null,0.47536998287271542,null,null,0.62254631627798862,null,null,0.81421747552758006,null,null,0.15011253637122821,null,null,null,0.21620322493565425,null,null,0.29008421991550493,null,null,0.44778468282406608,null,null,0.57667044949370416,null,null,8.7662311428094955E-2,null,null,null,0.15691409810899276,null,null,0.2150167511717769,null,null,0.30701921458492565,null,null,0.40779204641552802,null,null,0.13119666058522772,null,null,null,0.2165947506591325,null,null,0.32073726487261295,null,null,0.43877333929176893,null,null,0.52892250401187857,null,null,0.12945591441848872,null,null,null,0.20532120178055047,null,null,0.30846363884545203,null,null,0.38301180749176861,null,null,0.47062045899069455,null,null,0.29371313057951925,null,null,null,0.33159977246879724,null,null,0.38254521142087788,null,null,0.4151707155619343,null,null,0.46111009542348025,null,null,3.9384389828875981E-2,null,null,null,9.9332102864062091E-2,null,null,0.21523755698373334,null,null,0.37695172322519321,null,null,0.52544585358953799,null,null,0.81802566798683451,null,null,null,0.93407805266201205,null,null,1.0184518722551463,null,null,1.0821427079128927,null,null,1.1387746940409298,null,null,0.38702700493577324,null,null,null,0.30060339082667653]
[{"$f":"'Als-Ob-Allokation KW03'!A197","v":"2012-07-14"},{"$f":"'Als-Ob-Allokation KW03'!B197","v":17.5},6,0.26285357963500078,null,null,{"$f":"($I$3/(1+($I$4/(B198-40))^$I$5)+$I$6)","v":0.20843123290251314},null,null,0.2980725485179751,null,null,0.25158209223163441,null,null,0.85923945986613726,null,null,0.31411992365339619,null,null,null,0.36601142715256424,null,null,0.41170491869813053,null,null,0.46549186214013771,null,null,0.5056438202247191,null,null,6.2569985906175268E-2,null,null,null,0.13250252939727389,null,null,0.21369213816499188,null,null,0.34815372397326871,null,null,0.62324352071585121,null,null,0.15476487504532951,null,null,null,0.24157783195238652,null,null,0.34233496291718307,null,null,0.40590379425335071,null,null,0.45530690893615622,null,null,5.4140041291307062E-2,null,null,null,0.23784084152034746,null,null,0.42359050476184057,null,null,0.58691312336032697,null,null,0.79191015766627626,null,null,9.0133914486397154E-2,null,null,null,0.14368874926599048,null,null,0.20429526813347978,null,null,0.33203759841038027,null,null,0.45820618048727885,null,null,4.7573817368427147E-2,null,null,null,0.10103286705473304,null,null,0.13668709449432789,null,null,0.21876843592390455,null,null,0.30206767856856653,null,null,6.9582008006372389E-2,null,null,null,0.13877174112908772,null,null,0.22187513092734371,null,null,0.32234772412134438,null,null,0.39718051368714524,null,null,6.7470122613369141E-2,null,null,null,0.11712362486614947,null,null,0.18783414049320685,null,null,0.24329704687893183,null,null,0.30443000154075911,null,null,0.19162894970015079,null,null,null,0.22290175788849234,null,null,0.26409230741510642,null,null,0.29335994594072212,null,null,0.33333994851750026,null,null,1.5961511597043714E-2,null,null,null,6.3369016282929458E-2,null,null,0.14155049916075066,null,null,0.25806542824625583,null,null,0.41596821046502896,null,null,0.2609406432064475,null,null,null,0.30511846917348967,null,null,0.33936557524957972,null,null,0.36411984210272652,null,null,0.38668205720709403,null,null,0.29068636928175701,null,null,null,0.22121760917720948]
[{"$f":"'Als-Ob-Allokation KW03'!A198","v":"2012-07-15"},{"$f":"'Als-Ob-Allokation KW03'!B198","v":14.3},7,0.42998689614714569,null,null,0.36168265115667164,null,null,0.47433436468679102,null,null,0.42081498097494663,null,null,0.94591047258047067,null,null,0.71279431548437788,null,null,null,0.80047786206307525,null,null,0.86701359812824141,null,null,0.94604807950248371,null,null,1.0049356182500293,null,null,0.19116080874915933,null,null,null,0.30132403334237468,null,null,0.41827470909637715,null,null,0.55336218535132675,null,null,0.8221624386153874,null,null,0.36676895215023469,null,null,null,0.44196284015265919,null,null,0.53420442801597778,null,null,0.59349373376017023,null,null,0.64886978783312033,null,null,0.16502827939388431,null,null,null,0.35457745470234447,null,null,0.53404156958337456,null,null,0.664737834338613,null,null,0.84028922633370973,null,null,0.19458595909221407,null,null,null,0.2615126531898741,null,null,0.33489051521570457,null,null,0.48856176892457226,null,null,0.59800362294703746,null,null,0.11723885071546267,null,null,null,0.18925192975716587,null,null,0.25591518370752242,null,null,0.33888362227808644,null,null,0.43152250213886229,null,null,0.18480682180147809,null,null,null,0.27459659751044169,null,null,0.3825204352512554,null,null,0.49686560952375775,null,null,0.58332939513552062,null,null,0.16372522631738107,null,null,null,0.24327035672202721,null,null,0.34527642172224993,null,null,0.41466642533200815,null,null,0.49965360623223393,null,null,0.35997071913281803,null,null,null,0.39703895952208246,null,null,0.44753450533989214,null,null,0.47682075781531708,null,null,0.51929236575398963,null,null,5.8636799390235993E-2,null,null,null,0.11676168936029137,null,null,0.23872614259336319,null,null,0.39336823218964911,null,null,0.49820767584156955,null,null,0.35957057688671179,null,null,null,0.40184042239806911,null,null,0.43087240220704315,null,null,0.45341405281750768,null,null,0.47316850463248378,null,null,0.4353375755025925,null,null,null,0.34665833555677672]
[{"$f":"'Als-Ob-Allokation KW03'!A199","v":"2012-07-16"},{"$f":"'Als-Ob-Allokation KW03'!B199","v":15.2},1,0.37445545896208265,null,null,0.30941263180898698,null,null,0.4163289120339545,null,null,0.36383009868974581,null,null,0.92253723513397567,null,null,0.7737142340831854,null,null,null,0.87889675980788451,null,null,0.96306691776008257,null,null,1.0632136877618716,null,null,1.1371690288010716,null,null,0.178763635381715,null,null,null,0.30227430001694949,null,null,0.43809544737978162,null,null,0.61331604770734316,null,null,0.96437479233511247,null,null,0.36958828895211931,null,null,null,0.4705490320482717,null,null,0.59291706532870703,null,null,0.67119087329679827,null,null,0.74094714918822746,null,null,0.11270219836216928,null,null,null,0.28587944498946644,null,null,0.45410973142196959,null,null,0.58433296890656028,null,null,0.75573239841637319,null,null,0.16393428483444564,null,null,null,0.23011582361273081,null,null,0.30365650835208408,null,null,0.45995190323018548,null,null,0.5814802947889588,null,null,0.10329811271942341,null,null,null,0.17771311298409292,null,null,0.24286063557751186,null,null,0.33710192110172593,null,null,0.4414932962603087,null,null,0.1582625238509153,null,null,null,0.25071723132608098,null,null,0.36323625141653859,null,null,0.48796821248813077,null,null,0.58323924236709734,null,null,0.15010492224096128,null,null,null,0.23247351532223062,null,null,0.34236982364049401,null,null,0.42009852121649449,null,null,0.51288382518638453,null,null,0.33647695323462945,null,null,null,0.37670971186991842,null,null,0.43106699059863346,null,null,0.46474904859603827,null,null,0.51262779669166181,null,null,4.8924827626188321E-2,null,null,null,0.11222818033043924,null,null,0.23896953699402157,null,null,0.41059034075797068,null,null,0.55191120399152127,null,null,0.92474118498184044,null,null,null,1.0481161132190904,null,null,1.1360902660557142,null,null,1.2032185771622959,null,null,1.262562229608621,null,null,0.42005581474019565,null,null,null,0.32889380390854334]
[{"$f":"'Als-Ob-Allokation KW03'!A200","v":"2012-07-17"},{"$f":"'Als-Ob-Allokation KW03'!B200","v":17.7},2,0.25505155105048716,null,null,0.20161582016979646,null,null,0.28973683043777587,null,null,0.24390772996617432,null,null,0.85377261786782777,null,null,0.72055798596744536,null,null,null,0.8412015289513548,null,null,0.94810511280825704,null,null,1.0737280884050875,null,null,1.1677331562937394,null,null,8.3759576975163258E-2,null,null,null,0.18155929330531026,null,null,0.29537811342603076,null,null,0.48767841481580998,null,null,0.88166278183254521,null,null,0.21014572680481805,null,null,null,0.33561917455231949,null,null,0.4806517083193243,null,null,0.5720473020275556,null,null,0.64218582288144999,null,null,4.7847211433311533E-2,null,null,null,0.22256482727781995,null,null,0.39958795494468879,null,null,0.5567037356782728,null,null,0.75310510937694608,null,null,8.4529762062796637E-2,null,null,null,0.13638777679041975,null,null,0.1950994505778226,null,null,0.31828143922223967,null,null,0.44268493871517234,null,null,4.7364209997872546E-2,null,null,null,0.10279575197420339,null,null,0.13854719945724123,null,null,0.22480678310625754,null,null,0.31133870941474068,null,null,7.7869845856112258E-2,null,null,null,0.15928189078196756,null,null,0.25673819747262633,null,null,0.37525140609554797,null,null,0.46311367919138385,null,null,7.0535546332931548E-2,null,null,null,0.123729362302738,null,null,0.19970031684920292,null,null,0.25986936895703838,null,null,0.32567773307266085,null,null,0.21994734017151837,null,null,null,0.25666413299126012,null,null,0.3048901015702451,null,null,0.33951793583964629,null,null,0.38666371937875565,null,null,1.7585350246312859E-2,null,null,null,7.4282327496054484E-2,null,null,0.16599253598664121,null,null,0.30309918049611884,null,null,0.49693104820480016,null,null,0.84271222268375034,null,null,null,0.98766499155385612,null,null,1.1007874018643549,null,null,1.182133723831845,null,null,1.2565004664668329,null,null,0.31547680009004009,null,null,null,0.23974093550065753]
[{"$f":"'Als-Ob-Allokation KW03'!A201","v":"2012-07-18"},{"$f":"'Als-Ob-Allokation KW03'!B201","v":21.1},3,0.16038307797874424,null,null,0.12248805997223391,null,null,0.18830589407147885,null,null,0.1540188801067699,null,null,0.77376380914922394,null,null,0.63021365874266466,null,null,null,0.75431901568299753,null,null,0.87267510651063251,null,null,1.0061793423578527,null,null,1.1118029568838803,null,null,2.7938437328742641E-2,null,null,null,9.9737640072347838E-2,null,null,0.18274559831932383,null,null,0.37131859278444584,null,null,0.75704041301852576,null,null,8.233856386809757E-2,null,null,null,0.22808831952077846,null,null,0.38596977277269351,null,null,0.48379055824218481,null,null,0.54442713665324427,null,null,1.1112394530638199E-2,null,null,null,0.17701178361032391,null,null,0.34684934892420671,null,null,0.51706191641299837,null,null,0.71528113789713976,null,null,4.372726340364054E-2,null,null,null,8.6829759104796247E-2,null,null,0.13469761090955912,null,null,0.21615573602300536,null,null,0.3430861631545547,null,null,1.9232602795876883E-2,null,null,null,6.2753360801084582E-2,null,null,7.4572321473169639E-2,null,null,0.15347030674091133,null,null,0.21457203714942608,null,null,2.8439980266152378E-2,null,null,null,0.10116620867211967,null,null,0.18189999281837485,null,null,0.28665634732833284,null,null,0.35678555627327235,null,null,2.8235320560878751E-2,null,null,null,5.8935054777442361E-2,null,null,0.10150279658351571,null,null,0.1421957678592764,null,null,0.18121741727778659,null,null,0.13177202870406282,null,null,null,0.16093435685016425,null,null,0.19676086272705565,null,null,0.22681628677896931,null,null,0.26512984043577087,null,null,3.1788986665173291E-3,null,null,null,5.4545585575448689E-2,null,null,0.11656381782112497,null,null,0.20346321175393745,null,null,0.43786341175451682,null,null,0.76833493361398475,null,null,null,0.92659290109479053,null,null,1.0632530390422377,null,null,1.1528961445428692,null,null,1.2393060510282765,null,null,0.24059362741395202,null,null,null,0.18213759306459132]
[{"$f":"'Als-Ob-Allokation KW03'!A202","v":"2012-07-19"},{"$f":"'Als-Ob-Allokation KW03'!B202","v":19.100000000000001},4,0.2079559652696287,null,null,0.16132984522434407,null,null,0.23930162230471036,null,null,0.19831099375036496,null,null,0.81722919422114881,null,null,0.69738843353869839,null,null,null,0.82398243749920053,null,null,0.94040300653829967,null,null,1.075226951950724,null,null,1.1782282835105984,null,null,5.3087716579994858E-2,null,null,null,0.13810760357712867,null,null,0.23780278386947082,null,null,0.43004947257445914,null,null,0.82632505087832331,null,null,0.14557572978629985,null,null,null,0.28054418646824808,null,null,0.43219549534844565,null,null,0.52702581633497136,null,null,0.59358561048623715,null,null,2.763622281682758E-2,null,null,null,0.20081358758258122,null,null,0.37785967185966335,null,null,0.54446166935626039,null,null,0.74678082534476797,null,null,6.627807039520954E-2,null,null,null,0.11663753936136553,null,null,0.17352961481298246,null,null,0.28664635059104887,null,null,0.42132820115607172,null,null,3.1720400907840472E-2,null,null,null,8.1112613739208445E-2,null,null,0.10508207315954218,null,null,0.18829499901379848,null,null,0.26421002816758749,null,null,5.1096789096319595E-2,null,null,null,0.12793876812229393,null,null,0.21730913941436619,null,null,0.32974769356544542,null,null,0.40993898049900501,null,null,4.5878937794685146E-2,null,null,null,8.6662506104224768E-2,null,null,0.14526363079716703,null,null,0.19515180025759163,null,null,0.24675268120493657,null,null,0.17459390943860134,null,null,null,0.20810758574963614,null,null,0.25112315693586101,null,null,0.28421531296347868,null,null,0.32818348127186769,null,null,8.7903040796998011E-3,null,null,null,6.1220571667911818E-2,null,null,0.13543418289376211,null,null,0.246232081686104,null,null,0.45460039246059125,null,null,0.79192313426134375,null,null,null,0.94141202201365592,null,null,1.0633901751861108,null,null,1.1479013932500572,null,null,1.2268662017870231,null,null,0.27785863853509557,null,null,null,0.20995158673590583]
[{"$f":"'Als-Ob-Allokation KW03'!A203","v":"2012-07-20"},{"$f":"'Als-Ob-Allokation KW03'!B203","v":14.8},5,0.39827292825995164,null,null,0.33168634415205184,null,null,0.44128261448434725,null,null,0.38820762233210393,null,null,0.93309894429982987,null,null,0.82893831716270705,null,null,null,0.9369333739877449,null,null,1.0214548902931413,null,null,1.1219959226963572,null,null,1.1964447651006711,null,null,0.18584897499829642,null,null,null,0.30428729660280035,null,null,0.43263968994765706,null,null,0.59046814620973165,null,null,0.90561137927394553,null,null,0.37175392959182391,null,null,null,0.46120655756315021,null,null,0.57026890354492632,null,null,0.64018824559626675,null,null,0.70385110334977241,null,null,0.140929399612369,null,null,null,0.33103962548093374,null,null,0.51376578947506157,null,null,0.65154996206938287,null,null,0.83449921900306401,null,null,0.18882088494062166,null,null,null,0.25986008632011182,null,null,0.33836137730441984,null,null,0.5042826419127836,null,null,0.62832776510161914,null,null,0.11557409759358343,null,null,null,0.19305937469428042,null,null,0.26282028477287184,null,null,0.35703680035892205,null,null,0.4619809230967058,null,null,0.16887228163380463,null,null,null,0.25962010859745371,null,null,0.36961461013189162,null,null,0.48922584386565354,null,null,0.58033868223424168,null,null,0.16767894375766196,null,null,null,0.25489641790597001,null,null,0.36933179419125567,null,null,0.44888604172936702,null,null,0.54497691128327153,null,null,0.3450532414461292,null,null,null,0.38374326099260808,null,null,0.43620789804063093,null,null,0.46781435239745656,null,null,0.51311788605946629,null,null,5.7017024159549616E-2,null,null,null,0.12228375020525994,null,null,0.25607692183211345,null,null,0.4323552990799498,null,null,0.56544438469835223,null,null,0.85312335255167238,null,null,null,0.96100565046246689,null,null,1.0366967450216122,null,null,1.0949215028544834,null,null,1.1461796324974254,null,null,0.43353426676371465,null,null,null,0.34187826415414274]
[{"$f":"'Als-Ob-Allokation KW03'!A204","v":"2012-07-21"},{"$f":"'Als-Ob-Allokation KW03'!B204","v":13.7},6,0.47093328361547071,null,null,0.40094204111923459,null,null,0.51669944655131128,null,null,0.46310500861950299,null,null,0.96061030752986443,null,null,0.37285663519114709,null,null,null,0.41538457915993665,null,null,0.44630970619062699,null,null,0.48291236074157834,null,null,0.51052648360659869,null,null,0.18647956783689418,null,null,null,0.28171400171181299,null,null,0.37999505651580429,null,null,0.48481107175091592,null,null,0.69288165293293003,null,null,0.3401985686534667,null,null,null,0.39757497088995286,null,null,0.46830892423397186,null,null,0.51389456514672238,null,null,0.55769016924347103,null,null,0.20492486653151781,null,null,null,0.39936340806018955,null,null,0.57965610211641394,null,null,0.70515281057916224,null,null,0.87628570518051307,null,null,0.23600412167805682,null,null,null,0.30869695970084077,null,null,0.38754697912075953,null,null,0.55036689880192369,null,null,0.65980265827610007,null,null,0.15198754030838674,null,null,null,0.2362910856788463,null,null,0.3161835612011803,null,null,0.40681650042483763,null,null,0.50760051797482397,null,null,0.20377089707849402,null,null,null,0.2919323210563371,null,null,0.39628423006101365,null,null,0.50310528134533139,null,null,0.58262870455446969,null,null,0.20053322681937955,null,null,null,0.29009786310699653,null,null,0.40152933542511537,null,null,0.47533599690970957,null,null,0.56715565220100916,null,null,0.3756532343118637,null,null,null,0.41031106090760294,null,null,0.45779574013194929,null,null,0.48397161552808382,null,null,0.5225725899648811,null,null,7.8175639223894103E-2,null,null,null,0.14425097042672103,null,null,0.28540399770079861,null,null,0.45530048663842559,null,null,0.55669741353803293,null,null,0.30975957678067434,null,null,null,0.34279951888818189,null,null,0.36487510956624297,null,null,0.38218375949090749,null,null,0.39728725394065201,null,null,0.46169066161341965,null,null,null,0.37236666699936549]
[{"$f":"'Als-Ob-Allokation KW03'!A205","v":"2012-07-22"},{"$f":"'Als-Ob-Allokation KW03'!B205","v":14.4},7,0.42346992348253165,null,null,0.35548833113506512,null,null,0.46755920597675615,null,null,0.41410241693364341,null,null,0.94338641706879167,null,null,0.70923028920882913,null,null,null,0.79751714245662486,null,null,0.8649467470500386,null,null,0.94507423846850636,null,null,1.0046857658248607,null,null,0.18599072179210263,null,null,null,0.29535155121671269,null,null,0.41195428821150137,null,null,0.54837054143799013,null,null,0.81997959746454518,null,null,0.35984697420647177,null,null,null,0.43603517047879359,null,null,0.52939396257029958,null,null,0.58937161386528525,null,null,0.64511340395816663,null,null,0.159725380165335,null,null,null,0.34915275918720851,null,null,0.5290718289616958,null,null,0.66104003284886004,null,null,0.83788030893726395,null,null,0.1897533347800229,null,null,null,0.25620943601765545,null,null,0.32919176783449555,null,null,0.48234609136064294,null,null,0.5924802796337697,null,null,0.11374489488814402,null,null,null,0.18483202404019713,null,null,0.25031344039795045,null,null,0.33312515379245977,null,null,0.42558249254922248,null,null,0.17985825013889709,null,null,null,0.26899517716184945,null,null,0.3763474130709441,null,null,0.4907015194308243,null,null,0.57733224611949763,null,null,0.15917950695846242,null,null,null,0.23758856404138037,null,null,0.33861667555869934,null,null,0.40764232026015157,null,null,0.49195440864585982,null,null,0.35364663840572685,null,null,null,0.39070565537940294,null,null,0.44114214306324928,null,null,0.47062549213188409,null,null,0.5132771590501698,null,null,5.636632309940269E-2,null,null,null,0.11382510929162892,null,null,0.23390094931647668,null,null,0.38737783698011102,null,null,0.49368173510336333,null,null,0.35780084950022423,null,null,null,0.40050492795511283,null,null,0.4299634817270348,null,null,0.45279553721075871,null,null,0.4728213985099976,null,null,0.42963393211038492,null,null,null,0.3414275968267092]
[{"$f":"'Als-Ob-Allokation KW03'!A206","v":"2012-07-23"},{"$f":"'Als-Ob-Allokation KW03'!B206","v":17},1,0.2836227282022577,null,null,0.22674740432780494,null,null,0.32022587876467101,null,null,0.27214697438599295,null,null,0.87304572449869999,null,null,0.71576197841592337,null,null,null,0.82983957012702769,null,null,0.9286034430207436,null,null,1.0453052551181798,null,null,1.131966509589041,null,null,0.10549156662568974,null,null,null,0.21134743993726179,null,null,0.33330910423486065,null,null,0.52524104581229336,null,null,0.91632516216305027,null,null,0.25150382353562983,null,null,null,0.3722121775178388,null,null,0.51373958822791166,null,null,0.60329714715345284,null,null,0.67510351877583763,null,null,5.900039726878472E-2,null,null,null,0.22622216232676357,null,null,0.39430244040716428,null,null,0.53850029079060446,null,null,0.72134775502240089,null,null,0.10356822409647598,null,null,null,0.16030362357500652,null,null,0.22438733300647676,null,null,0.36060703834341717,null,null,0.48801529179344755,null,null,5.9318379165029696E-2,null,null,null,0.11959369704833737,null,null,0.16298908892785458,null,null,0.25227557738740974,null,null,0.34531231085135272,null,null,9.4275678010118005E-2,null,null,null,0.17718217881217699,null,null,0.27747658855354701,null,null,0.39684617265426164,null,null,0.48666497700535666,null,null,8.9082402176730829E-2,null,null,null,0.15070556050311362,null,null,0.23765054073621011,null,null,0.30425621115079282,null,null,0.37907241575840367,null,null,0.24423113054483409,null,null,null,0.28178100542235557,null,null,0.33156190939600733,null,null,0.36599032866030823,null,null,0.41340787652032351,null,null,2.2680336719037807E-2,null,null,null,7.7915676792287461E-2,null,null,0.17344740068072587,null,null,0.31418407477940385,null,null,0.48558515542031139,null,null,0.85492088398207744,null,null,null,0.99360503112623555,null,null,1.0992948235953588,null,null,1.1766600850799913,null,null,1.2466579539128166,null,null,0.339439831982981,null,null,null,0.25943164210802899]
[{"$f":"'Als-Ob-Allokation KW03'!A207","v":"2012-07-24"},{"$f":"'Als-Ob-Allokation KW03'!B207","v":21},2,0.16229138100124879,null,null,0.12400046717858551,null,null,0.1903481660236811,null,null,0.15574820682865537,null,null,0.77562992497574812,null,null,0.6573934235240606,null,null,null,0.78642909892507684,null,null,0.90931020626791026,null,null,1.0481143093882557,null,null,1.1577370337960169,null,null,3.0124916307940574E-2,null,null,null,0.10572350210193608,null,null,0.19323553948368727,null,null,0.39057123909720576,null,null,0.7945929501354414,null,null,8.8667156658174248E-2,null,null,null,0.24051253111198981,null,null,0.405272124846907,null,null,0.50739571520279858,null,null,0.57107842791922281,null,null,1.149900393990792E-2,null,null,null,0.17534334414507965,null,null,0.34310216188973108,null,null,0.510793011290129,null,null,0.70648362371410933,null,null,4.0795403994370968E-2,null,null,null,8.0554586781838272E-2,null,null,0.12476129953347792,null,null,0.20076993456996783,null,null,0.31749050102223747,null,null,1.9611880491681079E-2,null,null,null,6.3255614357551851E-2,null,null,7.552731350605589E-2,null,null,0.1544356446155298,null,null,0.21607199097168242,null,null,2.9450935314954293E-2,null,null,null,0.1028304613850534,null,null,0.1844729190786141,null,null,0.29028923771428838,null,null,0.36134997947880759,null,null,3.0097750159813124E-2,null,null,null,6.2538363696965318E-2,null,null,0.10765338956799972,null,null,0.15052114331772126,null,null,0.19176939223180456,null,null,0.13432995272671747,null,null,null,0.16389386726810057,null,null,0.2003034093729428,null,null,0.23072598983153178,null,null,0.26959648738403219,null,null,3.4016173393214837E-3,null,null,null,5.5526997439991087E-2,null,null,0.1188809258098556,null,null,0.208051069602744,null,null,0.44467129688857032,null,null,0.76445040800454933,null,null,null,0.92138863580352748,null,null,1.0565541616658216,null,null,1.1454593957422046,null,null,1.2310293549895106,null,null,0.24427629365175257,null,null,null,0.1848729619374026]
[{"$f":"'Als-Ob-Allokation KW03'!A208","v":"2012-07-25"},{"$f":"'Als-Ob-Allokation KW03'!B208","v":23},3,0.13172339247476753,null,null,0.10039562049263578,null,null,0.15774008295217412,null,null,0.12873693453573476,null,null,0.74483220624839253,null,null,0.61121913019379925,null,null,null,0.73763488557900503,null,null,0.86080551900268742,null,null,0.99598390048014329,null,null,1.106353384858044,null,null,1.6319581574208569E-2,null,null,null,8.1069857753260241E-2,null,null,0.15360737325458759,null,null,0.34008713078396025,null,null,0.71028712699050067,null,null,4.5876761068502241E-2,null,null,null,0.20134991545370909,null,null,0.36510714060358651,null,null,0.46590801368815699,null,null,0.52214584481112924,null,null,4.0960167303276968E-3,null,null,null,0.16629622880067493,null,null,0.33150001792769962,null,null,0.50382291865887185,null,null,0.69690087988540428,null,null,3.2932798817775506E-2,null,null,null,7.1606874399168907E-2,null,null,0.11345472004393317,null,null,0.16863188460112277,null,null,0.28558082745108004,null,null,1.3854097606716359E-2,null,null,null,5.4502814884514326E-2,null,null,5.9328806691910922E-2,null,null,0.13572474661665607,null,null,0.18609852824811302,null,null,1.754735481173263E-2,null,null,null,8.8404144297096615E-2,null,null,0.16414096542747875,null,null,0.26389176126461511,null,null,0.32714609822405127,null,null,2.0250489209928908E-2,null,null,null,4.5346761345079069E-2,null,null,7.7661516106185727E-2,null,null,0.1123156767719294,null,null,0.14381990743115908,null,null,0.10857181160061473,null,null,null,0.13451725207100113,null,null,0.16482264648296077,null,null,0.19205287105376664,null,null,0.22515126274501768,null,null,1.0706782923806343E-3,null,null,null,5.1737504768774534E-2,null,null,0.10717722291527469,null,null,0.17761067350930623,null,null,0.42683011013494299,null,null,0.7424731190615298,null,null,null,0.90265734056578972,null,null,1.047383747634774,null,null,1.1376179142098399,null,null,1.2269183581170255,null,null,0.22192124221923015,null,null,null,0.16919519963840027]
[{"$f":"'Als-Ob-Allokation KW03'!A209","v":"2012-07-26"},{"$f":"'Als-Ob-Allokation KW03'!B209","v":24.8},4,0.11512776106256997,null,null,8.8327700302545942E-2,null,null,0.14021864171833365,null,null,0.11493645302600129,null,null,0.72784474284419276,null,null,0.63274734668781063,null,null,null,0.7673834301957736,null,null,0.90018040228530438,null,null,1.0423135844033318,null,null,1.1610655050293379,null,null,1.1175811570795311E-2,null,null,null,7.3259026318579931E-2,null,null,0.14041438248308075,null,null,0.32846668150884634,null,null,0.68338897753190975,null,null,2.5168870734243808E-2,null,null,null,0.19086299860532521,null,null,0.36194736272259581,null,null,0.46680327455206139,null,null,0.52071946429635196,null,null,1.2360424278562282E-3,null,null,null,0.16260285003084413,null,null,0.32593971079515155,null,null,0.50037425384198253,null,null,0.68945764629536765,null,null,2.8045219025523479E-2,null,null,null,6.4300915366751768E-2,null,null,0.10251834380576681,null,null,0.13769609623864329,null,null,0.2446192727090673,null,null,1.1669961076472644E-2,null,null,null,5.1109882360625254E-2,null,null,5.2151340150717436E-2,null,null,0.12741447509294246,null,null,0.17084033133250115,null,null,1.2538506119698723E-2,null,null,null,8.2824659258796188E-2,null,null,0.15607732118711129,null,null,0.25313725357716282,null,null,0.31237117085649718,null,null,1.6815478908227498E-2,null,null,null,3.901710688173686E-2,null,null,6.528922038158011E-2,null,null,9.6330749966720003E-2,null,null,0.12378792230407078,null,null,9.6754139859395794E-2,null,null,null,0.12061434319292769,null,null,0.14714547644864118,null,null,0.17221685222033209,null,null,0.20121269287220761,null,null,3.3391135171507075E-4,null,null,null,4.998720031960812E-2,null,null,0.1016066351744091,null,null,0.16140995067507866,null,null,0.41556379552768125,null,null,0.71111694994537,null,null,null,0.86795695596240308,null,null,1.0146188667261942,null,null,1.1020849560679717,null,null,1.1903504913513168,null,null,0.21435374920856012,null,null,null,0.16457816739415224]
[{"$f":"'Als-Ob-Allokation KW03'!A210","v":"2012-07-27"},{"$f":"'Als-Ob-Allokation KW03'!B210","v":25.2},5,0.11248362152771775,null,null,8.6479380678984655E-2,null,null,0.13745072099104838,null,null,0.11282684071703529,null,null,0.72519796471611908,null,null,0.6336203551975258,null,null,null,0.76905249196902525,null,null,0.90289400905348161,null,null,1.0453997201678902,null,null,1.1649270113000318,null,null,1.0069313965843327E-2,null,null,null,6.9434222836574563E-2,null,null,0.13316953616158511,null,null,0.3143199867316161,null,null,0.65142022702854341,null,null,2.0955005046171479E-2,null,null,null,0.18218826591060813,null,null,0.34807232925962289,null,null,0.44966510645480628,null,null,0.50110738033507529,null,null,8.8068440794435382E-4,null,null,null,0.16306829371414583,null,null,0.32702298648439315,null,null,0.5027709144292748,null,null,0.69200967429911164,null,null,2.6696174826872754E-2,null,null,null,6.1679264644243254E-2,null,null,9.8356889392757593E-2,null,null,0.12897205180070012,null,null,0.23103902675499524,null,null,1.1339913293644819E-2,null,null,null,5.0428254758772204E-2,null,null,5.0894948378787677E-2,null,null,0.12562424305680595,null,null,0.1676566230397358,null,null,1.1154676503467244E-2,null,null,null,7.7249042464551346E-2,null,null,0.1458439462091409,null,null,0.23679213180572661,null,null,0.29193053879660441,null,null,1.7533268836571345E-2,null,null,null,4.0859758010710942E-2,null,null,6.7968745525230287E-2,null,null,0.10059404992657628,null,null,0.12935693655332464,null,null,8.9411253039664906E-2,null,null,null,0.11152935974396556,null,null,0.13587006954725167,null,null,0.1590815012522051,null,null,0.18562926212665365,null,null,2.4329979730555642E-4,null,null,null,4.780093836534921E-2,null,null,9.6885389990752621E-2,null,null,0.15274406964032786,null,null,0.39764247166953909,null,null,0.64285667450494588,null,null,null,0.78505313086562611,null,null,0.91888794047971711,null,null,0.99797561174123695,null,null,1.0780613745077177,null,null,0.20878417394022916,null,null,null,0.16052040771732831]
[{"$f":"'Als-Ob-Allokation KW03'!A211","v":"2012-07-28"},{"$f":"'Als-Ob-Allokation KW03'!B211","v":21.4},6,0.15492072131424461,null,null,0.1181842828998958,null,null,0.18246349155552247,null,null,0.14909635413077876,null,null,0.7683726353517788,null,null,0.28231613125048155,null,null,null,0.33843361546481332,null,null,0.39217180508374039,null,null,0.45252967918834797,null,null,0.5005347029160272,null,null,1.8773051108642878E-2,null,null,null,7.0573784920082552E-2,null,null,0.13021543191746815,null,null,0.26868255048919798,null,null,0.55101849305050132,null,null,5.5437653216682849E-2,null,null,null,0.16386986042919419,null,null,0.28075332194896285,null,null,0.35308740300442087,null,null,0.39713933991889161,null,null,9.9054114467327335E-3,null,null,null,0.18041535405853307,null,null,0.35487784916098625,null,null,0.53104386672709847,null,null,0.73491977095056971,null,null,3.857284725116835E-2,null,null,null,7.7862209903721877E-2,null,null,0.12133540008278858,null,null,0.19293258696651186,null,null,0.30959632333717862,null,null,1.7058838134579514E-2,null,null,null,5.7577469237366612E-2,null,null,6.7448836512980295E-2,null,null,0.14145996456296495,null,null,0.19731724127372721,null,null,2.2206526107449248E-2,null,null,null,8.3546728124078179E-2,null,null,0.15119122814324557,null,null,0.23924009752299305,null,null,0.29764079316098513,null,null,2.5018512956571766E-2,null,null,null,5.2912898381641739E-2,null,null,9.1223266499800518E-2,null,null,0.12852056859058744,null,null,0.16393162486316831,null,null,0.10785302071081009,null,null,null,0.13209939439613555,null,null,0.16166268232487557,null,null,0.18675774981750407,null,null,0.21852457762545166,null,null,2.2647066011848077E-3,null,null,null,4.5261035513336392E-2,null,null,9.6194037517143491E-2,null,null,0.16656527510200531,null,null,0.36570060532149651,null,null,0.23294228369961417,null,null,null,0.28137280283587285,null,null,0.32351836168231324,null,null,0.35093899064080969,null,null,0.37748855938522319,null,null,0.2159812130976374,null,null,null,0.16365739832940565]
[{"$f":"'Als-Ob-Allokation KW03'!A212","v":"2012-07-29"},{"$f":"'Als-Ob-Allokation KW03'!B212","v":17.8},7,0.25125605076741231,null,null,0.19831377452392651,null,null,0.2856792517171225,null,null,0.24018527339405776,null,null,0.85105551100140997,null,null,0.61258506592782702,null,null,null,0.71582254760507369,null,null,0.80758124385036489,null,null,0.91531070939494208,null,null,0.99602853189776619,null,null,6.8800820362802412E-2,null,null,null,0.15092093825608882,null,null,0.24659557832007656,null,null,0.40984579958009887,null,null,0.74453739725843981,null,null,0.1738275159353545,null,null,null,0.28091041266510319,null,null,0.40443236116679293,null,null,0.48222739744771814,null,null,0.54155188154461797,null,null,4.6989872685526818E-2,null,null,null,0.2250509035465357,null,null,0.405630054235052,null,null,0.56663936762221057,null,null,0.7674958918843775,null,null,8.0117046768206038E-2,null,null,null,0.13005477004451116,null,null,0.18660060932379005,null,null,0.30493471855478732,null,null,0.42579301794652413,null,null,4.0136345835391135E-2,null,null,null,8.8076341927776747E-2,null,null,0.11846277702434975,null,null,0.19355171820795589,null,null,0.26842758437796033,null,null,6.7768898018541801E-2,null,null,null,0.14043360895669371,null,null,0.22726506750095929,null,null,0.33315552038297491,null,null,0.41147011994028526,null,null,5.9747113747534858E-2,null,null,null,0.10535553283776224,null,null,0.17057514569334037,null,null,0.22248281494239924,null,null,0.27903410323583078,null,null,0.19388783983438598,null,null,null,0.22661483124015422,null,null,0.26953840526478207,null,null,0.30051897259985166,null,null,0.34262881729892181,null,null,1.3176080553561774E-2,null,null,null,5.7461041638965434E-2,null,null,0.12840289177416536,null,null,0.23459369251676243,null,null,0.38790793926955508,null,null,0.30869157014656412,null,null,null,0.36219762690934537,null,null,0.40409272961853943,null,null,0.43414144894791196,null,null,0.46165376930425073,null,null,0.28809290246134261,null,null,null,0.21878804564155913]
[{"$f":"'Als-Ob-Allokation KW03'!A213","v":"2012-07-30"},{"$f":"'Als-Ob-Allokation KW03'!B213","v":17.2},1,0.27509488498757556,null,null,0.21919711191814234,null,null,0.31113646306040776,null,null,0.26368036626054131,null,null,0.867504872328829,null,null,0.71024483590162835,null,null,null,0.82512358215873205,null,null,0.9252794853724694,null,null,1.0434557246298732,null,null,1.1313836003172086,null,null,9.9304076370181155E-2,null,null,null,0.20331528879470076,null,null,0.32355012530269972,null,null,0.51670717478440364,null,null,0.910951261325605,null,null,0.24030897286538447,null,null,null,0.3630648138210269,null,null,0.50641185585713899,null,null,0.59701221088307332,null,null,0.66875838891309214,null,null,5.4690954907817758E-2,null,null,null,0.22116840424880962,null,null,0.38892811283897261,null,null,0.53430191474180766,null,null,0.717890724231109,null,null,9.8469573143889225E-2,null,null,null,0.15420505153548236,null,null,0.21721618573527415,null,null,0.35076995335564187,null,null,0.47841161572559626,null,null,5.5798055186100849E-2,null,null,null,0.11481341570477675,null,null,0.15607237385183953,null,null,0.24479114621721104,null,null,0.33630547430630958,null,null,8.8874334738500996E-2,null,null,null,0.17093126406748663,null,null,0.26993610177046962,null,null,0.38853588497153091,null,null,0.47743430855686869,null,null,8.4071281829275854E-2,null,null,null,0.14369398122503646,null,null,0.22815917449164852,null,null,0.2934724975019668,null,null,0.36629053930974959,null,null,0.23585771452368023,null,null,null,0.27301467941196805,null,null,0.32215072832162134,null,null,0.35650744178003518,null,null,0.40367123320074455,null,null,2.0741955686586787E-2,null,null,null,7.5368043235941026E-2,null,null,0.16808020542145699,null,null,0.30538293586262788,null,null,0.47993467472885809,null,null,0.84817039970596764,null,null,null,0.98820834720564099,null,null,1.0956678125288213,null,null,1.1739354490724156,null,null,1.2449558535711531,null,null,0.33220724824070919,null,null,null,0.2534362364807457]
[{"$f":"'Als-Ob-Allokation KW03'!A214","v":"2012-07-31"},{"$f":"'Als-Ob-Allokation KW03'!B214","v":18.399999999999999},2,0.22991408707019106,null,null,0.17991994108009118,null,null,0.26283752234021773,null,null,0.21939994611957453,null,null,0.83504863579236055,null,null,0.70358344206628587,null,null,null,0.82658406539238816,null,null,0.93777632098622365,null,null,1.0675562524560009,null,null,1.1656142647058825,null,null,6.7484672879832147E-2,null,null,null,0.15957088486250143,null,null,0.2673629066234105,null,null,0.46225054803928323,null,null,0.86313497389529192,null,null,0.17747900828404289,null,null,null,0.3094210432528044,null,null,0.45976527493423741,null,null,0.5541318734698174,null,null,0.62339599521982847,null,null,3.6177630254037335E-2,null,null,null,0.2082007993479231,null,null,0.38346251986731672,null,null,0.54387886775940064,null,null,0.74153943726608285,null,null,7.1252418166325104E-2,null,null,null,0.12001777969478222,null,null,0.17523029672081031,null,null,0.28855969619347782,null,null,0.41257955067447355,null,null,3.8484968652964718E-2,null,null,null,9.0455641191437189E-2,null,null,0.11985941584308149,null,null,0.20427253489000627,null,null,0.28525397684200426,null,null,6.3175036067538118E-2,null,null,null,0.14220165737248944,null,null,0.23553720918139764,null,null,0.35115023746959789,null,null,0.43531700952895663,null,null,5.7876354078317455E-2,null,null,null,0.10534125394165518,null,null,0.17355092875582362,null,null,0.22950379881212327,null,null,0.28902835078601341,null,null,0.19569794582985489,null,null,null,0.23087459217748621,null,null,0.27658395949203285,null,null,0.31058762448222821,null,null,0.35633741454591078,null,null,1.2683532448633092E-2,null,null,null,6.7817910130046996E-2,null,null,0.15116022620428687,null,null,0.2762993681212545,null,null,0.48087352454370574,null,null,0.82206093609871178,null,null,null,0.97074865832681823,null,null,1.0894575918613316,null,null,1.1732659576251112,null,null,1.2507151392455786,null,null,0.29507708921078596,null,null,null,0.22339894281275816]
[{"$f":"'Als-Ob-Allokation KW03'!A215","v":"2012-08-01"},{"$f":"'Als-Ob-Allokation KW03'!B215","v":22.3},3,0.14072897916392563,null,null,0.10719716101706281,null,null,0.16731653240546554,null,null,0.136522435209082,null,null,0.75406724996560504,null,null,0.61719567291727273,null,null,null,0.74289522460446267,null,null,0.86455052814599564,null,null,0.99942689151890829,null,null,1.1083469736032658,null,null,1.9696310740725496E-2,null,null,null,8.6673528263685268E-2,null,null,0.16267846085090726,null,null,0.35010303764770151,null,null,0.72734228902900944,null,null,5.7369961202624283E-2,null,null,null,0.2096378357853183,null,null,0.37154839929794414,null,null,0.47142787233097838,null,null,0.52924108811338411,null,null,6.0424943192824519E-3,null,null,null,0.16939662703996922,null,null,0.33615104670149704,null,null,0.5078953245788782,null,null,0.70302162544919189,null,null,3.6067763924941654E-2,null,null,null,7.6142022853372224E-2,null,null,0.11994863048689781,null,null,0.18427158746875047,null,null,0.30512084226275427,null,null,1.5354154494456328E-2,null,null,null,5.6847936206457519E-2,null,null,6.382852154556462E-2,null,null,0.1410146320960288,null,null,0.19495187379275211,null,null,2.0712915993219075E-2,null,null,null,9.2114501628522263E-2,null,null,0.16941038207478773,null,null,0.27078595905626968,null,null,0.33627614847158377,null,null,2.2513119078677129E-2,null,null,null,4.9313457109024912E-2,null,null,8.4893737409168446E-2,null,null,0.12148657040813621,null,null,0.15531782701248173,null,null,0.11562885785117454,null,null,null,0.14265232167785302,null,null,0.17482907858191252,null,null,0.2030668590316525,null,null,0.23802628996378919,null,null,1.6206175282607882E-3,null,null,null,5.2471192413537371E-2,null,null,0.10982153798463951,null,null,0.18549135598944344,null,null,0.42997563350375767,null,null,0.75070485149882638,null,null,null,0.91045275520162949,null,null,1.0525462337941573,null,null,1.1427824429610665,null,null,1.2312728124214043,null,null,0.22755994143265781,null,null,null,0.17300180591191658]
[{"$f":"'Als-Ob-Allokation KW03'!A216","v":"2012-08-02"},{"$f":"'Als-Ob-Allokation KW03'!B216","v":22},4,0.14511265780256141,null,null,0.11055861151693627,null,null,0.17198924219029824,null,null,0.14037011091500162,null,null,0.7585260175274966,null,null,0.65373062838293405,null,null,null,0.78587581613126256,null,null,0.9133515946892734,null,null,1.0552975073044553,null,null,1.169359,null,null,2.1940345249971308E-2,null,null,null,9.1598889489012347E-2,null,null,0.17105444260003755,null,null,0.36324891422286448,null,null,0.75199191212307481,null,null,6.443207176783021E-2,null,null,null,0.21873870111602572,null,null,0.38353586236984988,null,null,0.4852989716634486,null,null,0.54518456606327537,null,null,7.1325911126913742E-3,null,null,null,0.172294826127077,null,null,0.34104080249394148,null,null,0.51377193842748781,null,null,0.71121845473643497,null,null,3.784543654534385E-2,null,null,null,7.8773750463826939E-2,null,null,0.1237023349129007,null,null,0.19244133817502651,null,null,0.31541996141781564,null,null,1.6217634098946245E-2,null,null,null,5.8319177827581309E-2,null,null,6.6398976817510252E-2,null,null,0.14429434091850868,null,null,0.20013216953955493,null,null,2.2440400188770047E-2,null,null,null,9.4431027987736602E-2,null,null,0.17282719479715097,null,null,0.27541668291036681,null,null,0.34225763986356383,null,null,2.373597288227491E-2,null,null,null,5.1428813333593705E-2,null,null,8.8641393719760458E-2,null,null,0.12622130625103478,null,null,0.16125360241660491,null,null,0.11966128159384014,null,null,null,0.1473044236247647,null,null,0.18048554480347573,null,null,0.20929376947296369,null,null,0.24523144428442331,null,null,1.896715984401542E-3,null,null,null,5.2074154702440631E-2,null,null,0.10952358487952431,null,null,0.18653530925201692,null,null,0.42505651920429832,null,null,0.73822307420144462,null,null,null,0.89421884990850975,null,null,1.0319964450415888,null,null,1.1201957415730639,null,null,1.2063316822662082,null,null,0.23264546779556367,null,null,null,0.17666197642998765]
[{"$f":"'Als-Ob-Allokation KW03'!A217","v":"2012-08-03"},{"$f":"'Als-Ob-Allokation KW03'!B217","v":21.2},5,0.15851902054897485,null,null,0.12101508053578428,null,null,0.18631154237195222,null,null,0.15233436747445678,null,null,0.77193215353113476,null,null,0.66595220905365549,null,null,null,0.79751442652370985,null,null,0.92315818571323782,null,null,1.0646821237738102,null,null,1.1768481006887186,null,null,2.6817583213751814E-2,null,null,null,9.7392728510456772E-2,null,null,0.178877538147277,null,null,0.36535247144517374,null,null,0.74640421059180873,null,null,7.9113551602314938E-2,null,null,null,0.22387816315179612,null,null,0.38043352541496428,null,null,0.47739412496708705,null,null,0.53714196954065152,null,null,1.0741268428138788E-2,null,null,null,0.1788265171860709,null,null,0.35087324736946207,null,null,0.52374131458772988,null,null,0.72463386790943329,null,null,4.2098602368827398E-2,null,null,null,{"$f":"($CK$3/(1+($CK$4/(B218-40))^$CK$5)+$CK$6)*VLOOKUP(C218,$CF$9:$CH$15,3)","v":8.4060430427231936E-2},null,null,0.13060565596332221,null,null,0.2089766032618014,null,null,0.33291156330004484,null,null,1.8833271520864434E-2,null,null,null,6.2156611779694435E-2,null,null,7.3511962359372865E-2,null,null,0.15225652550228605,null,null,0.21271766050490581,null,null,2.6170261679865123E-2,null,null,null,9.4845433634410503E-2,null,null,0.17091232804989673,null,null,0.26972041096005228,null,null,0.33566217258682729,null,null,2.9670915246356126E-2,null,null,null,6.2208559140301434E-2,null,null,0.1071862545613739,null,null,0.15044477585821586,null,null,0.19178685109332488,null,null,0.12317542092983383,null,null,null,0.15058254971740226,null,null,0.18416899179812166,null,null,0.21245711714843296,null,null,0.24843446201030597,null,null,2.8410190073304966E-3,null,null,null,5.1265878570383103E-2,null,null,0.10935362695094801,null,null,0.19037303188759996,null,null,0.41247585193751357,null,null,0.68034044643015867,null,null,null,0.82092399651556613,null,null,0.94263778094226591,null,null,1.0222592031932214,null,null,1.0991236070370731,null,null,0.23697388474487943,null,null,null,0.17945074864899418]
[{"$f":"'Als-Ob-Allokation KW03'!A218","v":"2012-08-04"},{"$f":"'Als-Ob-Allokation KW03'!B218","v":20.6},6,0.1703818321968032,null,null,0.13046033601836696,null,null,0.19901210298099406,null,null,0.16313110355415994,null,null,0.78343556399282077,null,null,0.28692043982838616,null,null,null,0.34246392605550052,null,null,0.39503566552824743,null,null,0.45475143474927265,null,null,0.50157893802769737,null,null,2.3916072794025224E-2,null,null,null,7.8476703393073111E-2,null,null,0.14192542641780415,null,null,0.28069720954976562,null,null,0.56570280741257206,null,null,6.9826199177323828E-2,null,null,null,0.17468021470014491,null,null,0.28923597570055443,null,null,0.36036061561864308,null,null,0.40579925662748051,null,null,1.4542007473649471E-2,null,null,null,0.18711302150885242,null,null,0.36388035889767456,null,null,0.53864468367170182,null,null,0.74430486232399584,null,null,4.4620297247944737E-2,null,null,null,8.6098185976194036E-2,null,null,0.13241938322121743,null,null,0.21518635019032176,null,null,0.33522919108081239,null,null,2.0287050510437821E-2,null,null,null,6.2407076937592364E-2,null,null,7.5927139456833395E-2,null,null,0.15119447843294739,null,null,0.21202705614625189,null,null,2.7768367613490625E-2,null,null,null,9.0057763005085473E-2,null,null,0.15999961455894363,null,null,0.25020764818161395,null,null,0.31155847772741191,null,null,2.9705245964022027E-2,null,null,null,6.0575168605218825E-2,null,null,0.10396672339919305,null,null,0.14421803664109206,null,null,0.18350253354511173,null,null,0.11896744308128367,null,null,null,0.14453418231801188,null,null,0.1763247521403998,null,null,0.20245680411474967,null,null,0.23614463772299238,null,null,3.4898815310761238E-3,null,null,null,4.6889546604356479E-2,null,null,0.10113937136414521,null,null,0.17879027205060685,null,null,0.37141697487496106,null,null,0.23711585130766444,null,null,null,0.28510660089634976,null,null,0.32599866005124378,null,null,0.35319164280220577,null,null,0.37920549796637676,null,null,0.2257000768155967,null,null,null,0.1706463789840833]
[{"$f":"'Als-Ob-Allokation KW03'!A219","v":"2012-08-05"},{"$f":"'Als-Ob-Allokation KW03'!B219","v":21.3},7,0.15669847724807898,null,null,0.1195807461167562,null,null,0.18436433310907768,null,null,0.15069380940549895,null,null,0.77013506956595623,null,null,0.55758946232977957,null,null,null,0.66808780379245991,null,null,0.77375989943895118,null,null,0.89261871144710681,null,null,0.98698677013896907,null,null,2.3313575091549264E-2,null,null,null,8.613920189208063E-2,null,null,0.15857712490079376,null,null,0.32555373970570961,null,null,0.66640178723401133,null,null,6.882263849288045E-2,null,null,null,0.19901698372788665,null,null,0.3395855219933972,null,null,0.42661080261076101,null,null,0.47992117284467467,null,null,1.0154449892692267E-2,null,null,null,0.17678029247347699,null,null,0.34730220514366189,null,null,0.51906767945718624,null,null,0.71826404966242741,null,null,3.7577080896960102E-2,null,null,null,7.5443815697312441E-2,null,null,0.11739524568466772,null,null,0.1872648883967184,null,null,0.29941414002483918,null,null,1.6076505485700911E-2,null,null,null,5.3660632064225909E-2,null,null,6.3161560665113359E-2,null,null,0.13164629409005515,null,null,0.1837794410597369,null,null,2.4301664868556696E-2,null,null,null,8.9734674018520005E-2,null,null,0.16205055249442746,null,null,0.25608473375814716,null,null,0.31864695073468979,null,null,2.4635078766731568E-2,null,null,null,5.1877604051588831E-2,null,null,8.9416017753940952E-2,null,null,0.12573983594034857,null,null,0.16033936983480962,null,null,0.11619099209433562,null,null,null,0.14217963540095513,null,null,0.17394777897600949,null,null,0.20080974532197504,null,null,0.23489354594333481,null,null,2.2663673945753967E-3,null,null,null,4.3029033169480715E-2,null,null,9.1616257027413064E-2,null,null,0.15906780680096091,null,null,0.34695388907276792,null,null,0.27924388945073758,null,null,null,0.33712589289426398,null,null,0.38736797687477814,null,null,0.42014538439088606,null,null,0.45183481750015347,null,null,0.22174437653386686,null,null,null,0.1679702064802378]
[{"$f":"'Als-Ob-Allokation KW03'!A220","v":"2012-08-06"},{"$f":"'Als-Ob-Allokation KW03'!B220","v":17},1,0.2836227282022577,null,null,0.22674740432780494,null,null,0.32022587876467101,null,null,0.27214697438599295,null,null,0.87304572449869999,null,null,0.71576197841592337,null,null,null,0.82983957012702769,null,null,0.9286034430207436,null,null,1.0453052551181798,null,null,1.131966509589041,null,null,0.10549156662568974,null,null,null,0.21134743993726179,null,null,0.33330910423486065,null,null,0.52524104581229336,null,null,0.91632516216305027,null,null,0.25150382353562983,null,null,null,0.3722121775178388,null,null,0.51373958822791166,null,null,0.60329714715345284,null,null,0.67510351877583763,null,null,5.900039726878472E-2,null,null,null,0.22622216232676357,null,null,0.39430244040716428,null,null,0.53850029079060446,null,null,0.72134775502240089,null,null,0.10356822409647598,null,null,null,0.16030362357500652,null,null,0.22438733300647676,null,null,0.36060703834341717,null,null,0.48801529179344755,null,null,5.9318379165029696E-2,null,null,null,0.11959369704833737,null,null,0.16298908892785458,null,null,0.25227557738740974,null,null,0.34531231085135272,null,null,9.4275678010118005E-2,null,null,null,0.17718217881217699,null,null,0.27747658855354701,null,null,0.39684617265426164,null,null,0.48666497700535666,null,null,8.9082402176730829E-2,null,null,null,0.15070556050311362,null,null,0.23765054073621011,null,null,0.30425621115079282,null,null,0.37907241575840367,null,null,0.24423113054483409,null,null,null,0.28178100542235557,null,null,0.33156190939600733,null,null,0.36599032866030823,null,null,0.41340787652032351,null,null,2.2680336719037807E-2,null,null,null,7.7915676792287461E-2,null,null,0.17344740068072587,null,null,0.31418407477940385,null,null,0.48558515542031139,null,null,0.85492088398207744,null,null,null,0.99360503112623555,null,null,1.0992948235953588,null,null,1.1766600850799913,null,null,1.2466579539128166,null,null,0.339439831982981,null,null,null,0.25943164210802899]
[{"$f":"'Als-Ob-Allokation KW03'!A221","v":"2012-08-07"},{"$f":"'Als-Ob-Allokation KW03'!B221","v":17.5},2,0.26285357963500078,null,null,0.20843123290251314,null,null,0.2980725485179751,null,null,0.25158209223163441,null,null,0.85923945986613726,null,null,0.72580347569625403,null,null,null,0.8457036500015247,null,null,0.9512827377421148,null,null,1.0755625033909901,null,null,1.1683373595505617,null,null,8.9044742034781091E-2,null,null,null,0.18856730392793322,null,null,0.30411004640940059,null,null,0.49546532719593378,null,null,0.88695175048001018,null,null,0.22024934439207533,null,null,null,0.34379479899161891,null,null,0.4871845185990113,null,null,0.57765073983597182,null,null,0.64795741385762862,null,null,5.1724755555831593E-2,null,null,null,0.22723032889168768,null,null,0.40469336173364717,null,null,0.5607298611941941,null,null,0.75658160486192894,null,null,8.8841936598806737E-2,null,null,null,0.14162911735268666,null,null,0.20136690348326097,null,null,0.32727817752602961,null,null,0.45163826144681413,null,null,5.0312692435529369E-2,null,null,null,0.1068494362484784,null,null,0.14455631533498325,null,null,0.23136316655022132,null,null,0.31945803484378016,null,null,8.2642378132173427E-2,null,null,null,0.16481885235907337,null,null,0.26352054207092979,null,null,0.38285159152696469,null,null,0.47173030987921327,null,null,7.4698549550050328E-2,null,null,null,0.12967169106362306,null,null,0.20795779387012273,null,null,0.2693627313501526,null,null,0.33704517901836872,null,null,0.22759722773077729,null,null,null,0.26473986436349944,null,null,0.31366177775724208,null,null,0.3484228793605213,null,null,0.39590702914781661,null,null,1.9268724032160539E-2,null,null,null,7.6499025767171588E-2,null,null,0.17087964935903974,null,null,0.31153637854947402,null,null,0.5021564909357854,null,null,0.84904983596836092,null,null,null,0.99279584437027923,null,null,1.1042292318218851,null,null,1.1847747764059571,null,null,1.2581878131719091,null,null,0.32194296812925771,null,null,null,0.24500444887368361]
[{"$f":"'Als-Ob-Allokation KW03'!A222","v":"2012-08-08"},{"$f":"'Als-Ob-Allokation KW03'!B222","v":17.5},3,0.26285357963500078,null,null,0.20843123290251314,null,null,0.2980725485179751,null,null,0.25158209223163441,null,null,0.85923945986613726,null,null,0.69718826418454738,null,null,null,0.81236130647278737,null,null,0.91377787911380204,null,null,1.0331578448860559,null,null,1.1222749999999999,null,null,8.511617692152143E-2,null,null,null,0.18024790275067615,null,null,0.29069301479568566,null,null,0.47360589164957179,null,null,0.84782032481178449,null,null,0.21053216322197271,null,null,null,0.32862691571659031,null,null,0.46569042406010308,null,null,0.55216536594065724,null,null,0.61937017970106556,null,null,5.2451432432955171E-2,null,null,null,0.23042266927130611,null,null,0.41037886580490018,null,null,0.56860750933508686,null,null,0.76721075819483864,null,null,9.6962940463660774E-2,null,null,null,0.15457537509345368,null,null,0.21977376699892209,null,null,0.35719453737051965,null,null,0.49292232398687813,null,null,5.0411036244042903E-2,null,null,null,0.10705828972042615,null,null,0.14483887263626349,null,null,0.23181540104308723,null,null,0.32008246415348257,null,null,8.2061219148824499E-2,null,null,null,0.16365981072887556,null,null,0.26166740892322959,null,null,0.38015929676568028,null,null,0.46841300084841764,null,null,7.1585209134650246E-2,null,null,null,0.12426714011914788,null,null,0.19929037785932746,null,null,0.25813603574539945,null,null,0.32299756518952788,null,null,0.2259967150583381,null,null,null,0.26287815667910341,null,null,0.31145604065242061,null,null,0.34597269471045206,null,null,0.39312292574033408,null,null,1.9009821610966409E-2,null,null,null,7.5471153711032524E-2,null,null,0.16858364081804766,null,null,0.3073504489278816,null,null,0.49540931187480397,null,null,0.85524187599286261,null,null,null,1.0000362104172127,null,null,1.1122822710075857,null,null,1.1934152266183509,null,null,1.2673636577071301,null,null,0.31881730824450766,null,null,null,0.24262576490403617]
[{"$f":"'Als-Ob-Allokation KW03'!A223","v":"2012-08-09"},{"$f":"'Als-Ob-Allokation KW03'!B223","v":18.2},4,0.23676044725452619,null,null,0.18578746939582258,null,null,0.27016940581881632,null,null,0.22603935237328085,null,null,0.84032093466001168,null,null,0.71718803163489686,null,null,null,0.8411024043458365,null,null,0.95251696857926749,null,null,1.0828234433414505,null,null,1.1809917164246517,null,null,7.0246411202019465E-2,null,null,null,0.16188545992652734,null,null,0.26902201962691452,null,null,0.45907345850181625,null,null,0.84963295985760556,null,null,0.182359007663214,null,null,null,0.30968141786844239,null,null,0.45535336599138881,null,null,0.54688941563187732,null,null,0.6149392110343741,null,null,4.0081948202294715E-2,null,null,null,0.21661605468960954,null,null,0.39623030257716191,null,null,0.55924248086968231,null,null,0.7609324605999126,null,null,8.1957594319863269E-2,null,null,null,0.13634789847661052,null,null,0.19794262485115496,null,null,0.32528920746178858,null,null,0.46143522413980365,null,null,4.1059553955932165E-2,null,null,null,9.4282449710349547E-2,null,null,0.12561272961731471,null,null,0.21106384129665745,null,null,0.29414537661395401,null,null,6.6886818330259709E-2,null,null,null,0.14633106539263191,null,null,0.24054405743947718,null,null,0.35666613802200053,null,null,0.44166820786797539,null,null,5.8745466001563579E-2,null,null,null,0.10579632460740319,null,null,0.17333423283436861,null,null,0.22817205495152493,null,null,0.28697836567218571,null,null,0.20168155463878298,null,null,null,0.23720572514201607,null,null,0.2835158091496992,null,null,0.31762631589491924,null,null,0.36367834553437289,null,null,1.3543611132786808E-2,null,null,null,6.7500667640633907E-2,null,null,0.15064944989050738,null,null,0.27547366134381401,null,null,0.47132880267966015,null,null,0.81558310542129508,null,null,null,0.96111309136083656,null,null,1.0765591537133115,null,null,1.158497426395114,null,null,1.2339827764295521,null,null,0.30056436525680758,null,null,null,0.22775350665479097]
[{"$f":"'Als-Ob-Allokation KW03'!A224","v":"2012-08-10"},{"$f":"'Als-Ob-Allokation KW03'!B224","v":18.8},5,0.2169940425266319,null,null,0.16893772955834085,null,null,0.24899220188258889,null,null,0.2069510840049501,null,null,0.82473416902746144,null,null,0.706653336295891,null,null,null,0.83295806435606567,null,null,0.94829910334249801,null,null,1.0823365728426093,null,null,1.1842391667430563,null,null,5.6343945405132927E-2,null,null,null,0.14055253984409738,null,null,0.23926927875256088,null,null,0.42452104073847419,null,null,0.8061369890987844,null,null,0.15187616522339845,null,null,null,0.27993887148908009,null,null,0.42469072321233664,null,null,0.51534969425336974,null,null,0.58021258947659915,null,null,3.1569575699561682E-2,null,null,null,0.2070528989139642,null,null,0.38623398134507064,null,null,0.55291688437233655,null,null,0.75660297873319671,null,null,6.9321659920435763E-2,null,null,null,0.11971977053793288,null,null,0.17672446262330985,null,null,0.2917704131270708,null,null,0.42381506944406155,null,null,3.4368753707946002E-2,null,null,null,8.4729960098466686E-2,null,null,0.11090555338660614,null,null,0.19449432720504534,null,null,0.27246162525909351,null,null,5.2647496156738263E-2,null,null,null,0.12577968156391148,null,null,0.21141248047954209,null,null,0.31846809928682573,null,null,0.39551273085647043,null,null,5.3304031066400123E-2,null,null,null,9.9100640533088175E-2,null,null,0.16496019835163223,null,null,0.22012938198840498,null,null,0.2778847913234862,null,null,0.17237010631245459,null,null,null,0.20457117372592332,null,null,0.24612882410655648,null,null,0.27764945680779712,null,null,0.31975970945558768,null,null,9.7497825600832578E-3,null,null,null,6.0422382516390191E-2,null,null,0.13416704289141551,null,null,0.24466654209113317,null,null,0.44050436669141785,null,null,0.72518609935339906,null,null,null,0.85971076295032778,null,null,0.96847110308046769,null,null,1.0444377963836442,null,null,1.1150829923212229,null,null,0.27934111279083829,null,null,null,0.21120565917135325]
[{"$f":"'Als-Ob-Allokation KW03'!A225","v":"2012-08-11"},{"$f":"'Als-Ob-Allokation KW03'!B225","v":17.2},6,0.27509488498757556,null,null,0.21919711191814234,null,null,0.31113646306040776,null,null,0.26368036626054131,null,null,0.867504872328829,null,null,0.31767219245895101,null,null,null,0.36905416856878392,null,null,0.41385103825840908,null,null,0.46670788863423168,null,null,0.50603551149881054,null,null,6.8547846419481737E-2,null,null,null,0.14034494554965365,null,null,0.223340925256451,null,null,0.35667381799042847,null,null,0.62881353353719149,null,null,0.16588103094372225,null,null,null,0.25061721540360249,null,null,0.34956714154307938,null,null,0.41210696315842982,null,null,0.46163208007763123,null,null,6.0757297685621187E-2,null,null,null,0.24570049285568252,null,null,0.43206817598802832,null,null,0.59356689863400136,null,null,0.79751945292183712,null,null,9.717614639753118E-2,null,null,null,0.15217952292078973,null,null,0.21436298737763188,null,null,0.3461624870591648,null,null,0.47212753872808916,null,null,5.2118766550060404E-2,null,null,null,0.10724269134424745,null,null,0.1457810597621691,null,null,0.22864977212314314,null,null,0.31412970302312659,null,null,7.6050473805593849E-2,null,null,null,0.1462672396791512,null,null,0.23098646529711805,null,null,0.33247324134129452,null,null,0.40854432816436703,null,null,7.3565318299437382E-2,null,null,null,0.12573727004662036,null,null,0.19964727466032464,null,null,0.25679872152662986,null,null,0.32051706038114547,null,null,0.20182531878306034,null,null,null,0.23362082862565547,null,null,0.27566693576681134,null,null,0.30506624822977702,null,null,0.34542467897996876,null,null,1.8278670759248841E-2,null,null,null,6.6417442448277381E-2,null,null,0.14811924113946878,null,null,0.26911609611313031,null,null,0.42293832066129344,null,null,0.26397661071365791,null,null,null,0.3075607098110516,null,null,0.34100538726613466,null,null,0.36536467336066109,null,null,0.38746839883562334,null,null,0.29995411734355293,null,null,null,0.22883077662824614]
[{"$f":"'Als-Ob-Allokation KW03'!A226","v":"2012-08-12"},{"$f":"'Als-Ob-Allokation KW03'!B226","v":18},7,0.24387244426949378,null,null,0.19191617716674633,null,null,0.27778153097186919,null,null,0.23296534539426411,null,null,0.84565932841220537,null,null,0.60833684314577652,null,null,null,0.71216800086887611,null,null,0.80499982763459665,null,null,0.91378583555753645,null,null,0.99551230337078644,null,null,6.4692487259135789E-2,null,null,null,0.14540337690583463,null,null,0.23961586093063175,null,null,0.40354696130176981,null,null,0.74005438068830176,null,null,0.16570917984707692,null,null,null,0.27438057966139728,null,null,0.39922262711718481,null,null,0.47775873525292339,null,null,0.53689263103347129,null,null,4.341131538613098E-2,null,null,null,0.22067772400486951,null,null,0.40076069584750651,null,null,0.56277727868683691,null,null,0.76406231953054171,null,null,7.6272481752069368E-2,null,null,null,0.12533622533197855,null,null,0.18090082652256134,null,null,0.29652263518396116,null,null,0.41732215185309246,null,null,3.7809132780350675E-2,null,null,null,8.4853010812169283E-2,null,null,0.11361438902479304,null,null,0.18823608628998195,null,null,0.26173014222575142,null,null,6.3842109162305441E-2,null,null,null,0.13587185902621091,null,null,0.22162638201269741,null,null,0.32677457235915952,null,null,0.40415015782875058,null,null,5.6445506525827686E-2,null,null,null,0.10058616087698791,null,null,0.16384253879486249,null,null,0.21468927597963661,null,null,0.26965029388025669,null,null,0.18746735066644415,null,null,null,0.21980282920604982,null,null,0.26208690569779386,null,null,0.29291982403354377,null,null,0.33468853718809416,null,null,1.2009550779535231E-2,null,null,null,5.5923319664544835E-2,null,null,0.1249185095609268,null,null,0.22838865801264888,null,null,0.38414989958668433,null,null,0.30646939458058164,null,null,null,0.36038441762560436,null,null,0.40287771997031213,null,null,0.43319672804844117,null,null,0.46104174328285891,null,null,0.28252828945515951,null,null,null,0.21430749683719388]
[{"$f":"'Als-Ob-Allokation KW03'!A227","v":"2012-08-13"},{"$f":"'Als-Ob-Allokation KW03'!B227","v":20.2},1,0.17923981882960247,null,null,0.13761592132104072,null,null,0.20850557020527694,null,null,0.17130163879130739,null,null,0.79177464754811933,null,null,0.64737418339921016,null,null,null,0.77081071964883296,null,null,0.88685958330365178,null,null,1.0193960827481228,null,null,1.1225910172744722,null,null,3.9199866875013721E-2,null,null,null,0.12050224711037934,null,null,0.21539657277290361,null,null,0.41643557487157223,null,null,0.83022143751168387,null,null,0.11305936015779768,null,null,null,0.26212463994614799,null,null,0.42615048469815353,null,null,0.52817049109701575,null,null,0.59497399602302625,null,null,1.5733937238854204E-2,null,null,null,0.1721255733755879,null,null,0.3323327784413827,null,null,0.48885279987879859,null,null,0.67459655996243739,null,null,4.8960755810628261E-2,null,null,null,9.2242777890571642E-2,null,null,0.14076742681595453,null,null,0.23047630090822982,null,null,0.35361340533421109,null,null,2.390078362176426E-2,null,null,null,7.002792468872264E-2,null,null,8.6762986073368603E-2,null,null,0.16810222773630065,null,null,0.23608767558280441,null,null,3.6422924712724847E-2,null,null,null,0.10988990926215381,null,null,0.19315892280755428,null,null,0.29995799757381925,null,null,0.37352806371181602,null,null,3.7285628258667734E-2,null,null,null,7.4554277351121384E-2,null,null,0.12739882204063505,null,null,0.17527413192705141,null,null,0.2226998163415114,null,null,0.14666838204866542,null,null,null,0.1773657454716045,null,null,0.21588670122416098,null,null,0.24701990184073003,null,null,0.28749938866340924,null,null,4.8832394373148624E-3,null,null,null,5.4433780576231619E-2,null,null,0.11828163979310587,null,null,0.21102807175664876,null,null,0.42548554310684927,null,null,0.76945384672581862,null,null,null,0.92272216622114434,null,null,1.0518805140942182,null,null,1.1387176543270181,null,null,1.2212758690491148,null,null,0.25633997223408128,null,null,null,0.19367827941045074]
[{"$f":"'Als-Ob-Allokation KW03'!A228","v":"2012-08-14"},{"$f":"'Als-Ob-Allokation KW03'!B228","v":21.6},2,0.15149068907807189,null,null,0.11550192001022852,null,null,0.17879782990689863,null,null,0.14602738494661363,null,null,0.76495186569305451,null,null,0.64995360902743704,null,null,null,0.77990898214219506,null,null,0.90467522673834344,null,null,1.0444091476824351,null,null,1.1559313566953797,null,null,2.5182932479511116E-2,null,null,null,9.8022821196696433E-2,null,null,0.18164008803241249,null,null,0.37851530169336528,null,null,0.77897290461534063,null,null,7.4339685266271355E-2,null,null,null,0.22982666657042672,null,null,0.39690167038498275,null,null,0.50021931299085731,null,null,0.56241490539651817,null,null,8.5653032783071306E-3,null,null,null,0.17102987390427932,null,null,0.33718818272342088,null,null,0.50576697411904548,null,null,0.70005632316303268,null,null,3.6771686721289852E-2,null,null,null,7.5014588171536292E-2,null,null,0.11722143682324995,null,null,0.18513082451861937,null,null,0.2992156109480637,null,null,1.7346289896882385E-2,null,null,null,5.9838907195004502E-2,null,null,6.9431832772630334E-2,null,null,0.14740618149470863,null,null,0.20525054062238393,null,null,2.499072785814755E-2,null,null,null,9.760725871613421E-2,null,null,0.1773433167517412,null,null,0.28132997024889594,null,null,0.34988494972321016,null,null,2.6631014672182138E-2,null,null,null,5.6798066558276725E-2,null,null,9.7945227065003831E-2,null,null,0.13849617395605104,null,null,0.17675261088529207,null,null,0.12523645546549864,null,null,null,0.15366464645753222,null,null,0.18814899060005527,null,null,0.21764667372281429,null,null,0.25480826479873203,null,null,2.4466461039648899E-3,null,null,null,5.4256742124077384E-2,null,null,0.11490161104453485,null,null,0.19787417320169853,null,null,0.44004558150072054,null,null,0.75490444382211386,null,null,null,0.9127620797902718,null,null,1.0508273774564452,null,null,1.1401689702156446,null,null,1.226925129374079,null,null,0.23688531092273651,null,null,null,0.17961884967507399]
[{"$f":"'Als-Ob-Allokation KW03'!A229","v":"2012-08-15"},{"$f":"'Als-Ob-Allokation KW03'!B229","v":24},3,0.12146957038134676,null,null,9.2854427379415738E-2,null,null,0.14688869000445021,null,null,0.12010915862969528,null,null,0.73429063829740304,null,null,0.60440973158694233,null,null,null,0.73162941484299138,null,null,0.85652704145858571,null,null,0.99166776854610039,null,null,1.1035449484536082,null,null,1.2840555221637117E-2,null,null,null,7.5055700401421968E-2,null,null,0.14340746367304513,null,null,0.32837794990398084,null,null,0.68636900209038443,null,null,3.2743269267597776E-2,null,null,null,0.19208653585638347,null,null,0.3579443846878344,null,null,0.45977202077094798,null,null,0.51393118399851212,null,null,2.2039345760934293E-3,null,null,null,0.16312122883142396,null,null,0.32644954945243732,null,null,0.49931401206947751,null,null,0.68936451648585095,null,null,2.9705872500524914E-2,null,null,null,6.6785882009943856E-2,null,null,0.10632000502423876,null,null,0.14968158329724296,null,null,0.26083246364742557,null,null,1.2385812749829481E-2,null,null,null,5.215315790251665E-2,null,null,5.4602016283042086E-2,null,null,0.13010047184521367,null,null,0.17616518322579164,null,null,1.4285972679723756E-2,null,null,null,8.4580889052274538E-2,null,null,0.15857223825089981,null,null,0.25641910644856625,null,null,0.3170531542663087,null,null,1.7992377574994303E-2,null,null,null,4.123917874362789E-2,null,null,6.9801052093432292E-2,null,null,0.10220615529486053,null,null,0.1311421724677341,null,null,0.10087359584906042,null,null,null,0.12550208908029706,null,null,0.1534840259168643,null,null,0.1793896085443426,null,null,0.21002706365811286,null,null,5.7433164641583208E-4,null,null,null,5.1074102678985614E-2,null,null,0.10455786805711,null,null,0.16899220944478588,null,null,0.42367173959005883,null,null,0.73295187618231883,null,null,null,0.893356825451318,null,null,1.0412319254401761,null,null,1.131128004456651,null,null,1.221132595556863,null,null,0.2158262039359265,null,null,null,0.16521516052754157]
[{"$f":"'Als-Ob-Allokation KW03'!A230","v":"2012-08-16"},{"$f":"'Als-Ob-Allokation KW03'!B230","v":18.899999999999999},4,0.21392054334012647,null,null,0.16634345998569788,null,null,0.24569719605931872,null,null,0.20400629108328211,null,null,0.82220903068513473,null,null,0.70150013932039312,null,null,null,0.82754593628298312,null,null,0.94292651440599617,null,null,1.0768575615584324,null,null,1.1788427300268205,null,null,5.6507726830127933E-2,null,null,null,0.14292253003035488,null,null,0.24424275726535186,null,null,0.4361255593324932,null,null,0.83150242150890719,null,null,0.15321199942499805,null,null,null,0.28654667664176697,null,null,0.43695705979470362,null,null,0.53110995326076749,null,null,0.59804349299479553,null,null,3.0066645688675713E-2,null,null,null,0.20396087819921949,null,null,0.38159948031807822,null,null,0.54749246284735398,null,null,0.74979204008062561,null,null,6.9402748848810619E-2,null,null,null,0.1206135822584099,null,null,0.17851671133648075,null,null,0.29482115548174787,null,null,0.42994023904872714,null,null,3.3546342066594771E-2,null,null,null,8.37112787245929E-2,null,null,0.10920758098747949,null,null,0.1928960875712934,null,null,0.27038924715535623,null,null,5.4243793794804165E-2,null,null,null,0.13160867639480656,null,null,0.22199588882573948,null,null,0.33524050379780257,null,null,0.4164969175743638,null,null,4.8414970842070457E-2,null,null,null,9.048974949217907E-2,null,null,0.1509880426331012,null,null,0.20193766823777815,null,null,0.25506160826407825,null,null,0.18012328531283567,null,null,null,0.21408423074042218,null,null,0.25783467207452238,null,null,0.29117680382197692,null,null,0.33564002144518573,null,null,9.6922831541030909E-3,null,null,null,6.2413588339802845E-2,null,null,0.13842710157087398,null,null,0.25221031724895776,null,null,0.45792108998677483,null,null,0.79686500415232076,null,null,null,0.94556918464254847,null,null,1.0661658639760174,null,null,1.150173208842967,null,null,1.228419271772524,null,null,0.28247553974646483,null,null,null,0.2135233793574092]
[{"$f":"'Als-Ob-Allokation KW03'!A231","v":"2012-08-17"},{"$f":"'Als-Ob-Allokation KW03'!B231","v":20.2},5,0.17923981882960247,null,null,0.13761592132104072,null,null,0.20850557020527694,null,null,0.17130163879130739,null,null,0.79177464754811933,null,null,0.6804351437239855,null,null,null,0.81017550013237416,null,null,0.93215090051882721,null,null,1.0714559490684088,null,null,1.1799209788867564,null,null,3.6412037037539889E-2,null,null,null,0.11193232617039035,null,null,0.20007792400349514,null,null,0.38681936406365913,null,null,0.77117745905672708,null,null,0.10501876505428437,null,null,null,0.24348276815844691,null,null,0.39584336553666705,null,null,0.49060787745222256,null,null,0.55266042735906507,null,null,1.7182094088343251E-2,null,null,null,0.18796806875815111,null,null,0.36292079859829174,null,null,0.53384697519482616,null,null,0.73668665312353709,null,null,5.0939567806612025E-2,null,null,null,9.5970888545944849E-2,null,null,0.14645672364594156,null,null,0.23979129740851191,null,null,0.36790514648139555,null,null,2.3658499176863194E-2,null,null,null,6.9318045166390549E-2,null,null,8.5883461692435631E-2,null,null,0.16639815997106494,null,null,0.23369443307110385,null,null,3.4773093566282123E-2,null,null,null,0.10491228057334269,null,null,0.18440949893303787,null,null,0.28637094900687687,null,null,0.35660854836694045,null,null,3.7146229704564854E-2,null,null,null,7.4275543722366832E-2,null,null,0.12692252024779221,null,null,0.1746188402851146,null,null,0.2218672158504692,null,null,0.14002481712874809,null,null,null,0.16933169731377345,null,null,0.20610778844898892,null,null,0.23583076392656135,null,null,0.27447667152190464,null,null,4.8368644397214075E-3,null,null,null,5.3916835528660195E-2,null,null,0.11715834636644332,null,null,0.20902398687703302,null,null,0.42144480513138771,null,null,0.69650490292047285,null,null,null,0.83524244571803985,null,null,0.95215579007195983,null,null,1.0307602368300117,null,null,1.1054914264588438,null,null,0.25136249704506997,null,null,null,0.1899175361209274]
[{"$f":"'Als-Ob-Allokation KW03'!A232","v":"2012-08-18"},{"$f":"'Als-Ob-Allokation KW03'!B232","v":23.4},6,0.1272800217956043,null,null,9.70981422528297E-2,null,null,0.1530295162973388,null,null,0.12496333034246868,null,null,0.74025844930371465,null,null,0.27405696640078492,null,null,null,0.33117156021328298,null,null,0.38700351753640683,null,null,0.44792774861850015,null,null,0.49796136883097053,null,null,1.0850549554503272E-2,null,null,null,5.7640974440101529E-2,null,null,0.10965554563372255,null,null,0.24630563424207932,null,null,0.51505762445933789,null,null,2.9545774865767354E-2,null,null,null,0.14504513713769882,null,null,0.26609463091004237,null,null,0.34052413197363518,null,null,0.3812338599563192,null,null,3.3355429926651826E-3,null,null,null,0.17017813600341583,null,null,0.33987658843619561,null,null,0.51800678314952897,null,null,0.71605546036670698,null,null,2.926858608347413E-2,null,null,null,6.4576092876735172E-2,null,null,0.10255521388585433,null,null,0.14928340169825305,null,null,0.25585904261923004,null,null,1.2442720318110263E-2,null,null,null,5.0432251619848219E-2,null,null,5.4003351781733551E-2,null,null,0.12573188819767112,null,null,0.17154156685321573,null,null,1.3639510976161177E-2,null,null,null,7.3507467237166155E-2,null,null,0.13708123255428678,null,null,0.22096887578859856,null,null,0.27364891914124112,null,null,1.8122378961700762E-2,null,null,null,4.1007752718587906E-2,null,null,6.9935436196624193E-2,null,null,0.1016837852168091,null,null,0.13031553454345196,null,null,8.9190876787820852E-2,null,null,null,0.11071753544102497,null,null,0.13558418007722048,null,null,0.15820884740338884,null,null,0.18541292222504088,null,null,7.0391350653447205E-4,null,null,null,4.318058244278699E-2,null,null,8.8992204786568482E-2,null,null,0.14595071867908246,null,null,0.35718705028483522,null,null,0.22528176489485999,null,null,null,0.27419718495496759,null,null,0.31876372194280039,null,null,0.34626630207740189,null,null,0.37361691619052612,null,null,0.19988890545019417,null,null,null,0.15264777314675307]
[{"$f":"'Als-Ob-Allokation KW03'!A233","v":"2012-08-19"},{"$f":"'Als-Ob-Allokation KW03'!B233","v":25.7},7,0.10961073867817339,null,null,8.4502534393867124E-2,null,null,0.13445457824116264,null,null,0.1105728573120152,null,null,0.72236497857997972,null,null,0.5298440364297422,null,null,null,0.64365136151835856,null,null,0.75635881661493498,null,null,0.87561159538001465,null,null,0.97605308116015443,null,null,8.3487626731249837E-3,null,null,null,6.0910496843834656E-2,null,null,0.11683770780557125,null,null,0.27845854242040691,null,null,0.5735354603371996,null,null,1.548521795511758E-2,null,null,null,0.16100786603550041,null,null,0.31012068133549903,null,null,0.40136592406642152,null,null,0.44675675640871171,null,null,5.173739414188307E-4,null,null,null,0.16119825017867628,null,null,0.32338158103115772,null,null,0.49793079230844656,null,null,0.68439068832835126,null,null,2.3625041928110123E-2,null,null,null,5.5013156813991021E-2,null,null,8.7712692841681816E-2,null,null,0.11161977046360437,null,null,0.20179067020279839,null,null,9.6380170642718296E-3,null,null,null,4.3530966393166684E-2,null,null,4.3410901374363244E-2,null,null,0.10832128689181306,null,null,0.14377259490745434,null,null,1.0005854346062274E-2,null,null,null,7.2981253933754958E-2,null,null,0.13803904501692649,null,null,0.22434800448497863,null,null,0.27629148688236144,null,null,1.444849888861474E-2,null,null,null,3.3807789294104121E-2,null,null,5.5828276675751513E-2,null,null,8.2893565436969699E-2,null,null,0.10668374484329821,null,null,8.3595081737870364E-2,null,null,null,0.10432551732198204,null,null,0.12685792494896225,null,null,0.14856662587237779,null,null,0.17305731404529837,null,null,1.4402059959885803E-4,null,null,null,4.0197137063463784E-2,null,null,8.1230144886656475E-2,null,null,0.12697698320999573,null,null,0.33456004373008669,null,null,0.26340790782171219,null,null,null,0.32183869741037163,null,null,0.37724955792314768,null,null,0.409634348625881,null,null,0.44255307401513566,null,null,0.19498730529889854,null,null,null,0.15014745338885799]
[{"$f":"'Als-Ob-Allokation KW03'!A234","v":"2012-08-20"},{"$f":"'Als-Ob-Allokation KW03'!B234","v":26},1,0.10809613472069637,null,null,8.3475392344302207E-2,null,null,0.13288060814995797,null,null,0.10940293398163045,null,null,0.72089479014202718,null,null,0.59990334529575873,null,null,null,0.72909227106538355,null,null,0.85717432957651896,null,null,0.99220458117990118,null,null,1.1061760857908847,null,null,9.6315237589639103E-3,null,null,null,7.2414736070315441E-2,null,null,0.13887627643645212,null,null,0.33266688855127674,null,null,0.682197644158129,null,null,1.6525599541178573E-2,null,null,null,0.19213005920823534,null,null,0.37166572891914879,null,null,0.4814777017689485,null,null,0.5355689280990289,null,null,3.1843373673927925E-4,null,null,null,0.14837906610942528,null,null,0.29769560669806477,null,null,0.45873494386119412,null,null,0.62998288213605158,null,null,2.4670167093569766E-2,null,null,null,5.7669591929534469E-2,null,null,9.1924231569312551E-2,null,null,0.11491951176062941,null,null,0.20875407837589555,null,null,1.1035859545080089E-2,null,null,null,5.0227696138873991E-2,null,null,4.9774282423781201E-2,null,null,0.12489375817288001,null,null,0.16525734931025735,null,null,1.0629599738285742E-2,null,null,null,7.9678817488106096E-2,null,null,0.15083777459880285,null,null,0.24526416727986924,null,null,0.30187018375095842,null,null,1.6872590668223605E-2,null,null,null,3.9551516381367724E-2,null,null,6.5036121886469567E-2,null,null,9.6723102990407747E-2,null,null,0.12454094464856368,null,null,9.0751581651727115E-2,null,null,null,0.11327582687675003,null,null,0.13758461500461019,null,null,0.16113584468364314,null,null,0.18749139510811291,null,null,1.3877582515077168E-4,null,null,null,4.8115720102597806E-2,null,null,9.7084522614103913E-2,null,null,0.15106523842614489,null,null,0.40054427621599142,null,null,0.7060358145106066,null,null,null,0.86286490408169558,null,null,1.0122168471113442,null,null,1.098950042683023,null,null,1.1872915069050571,null,null,0.21063342058617443,null,null,null,0.16233514467062857]
[{"$f":"'Als-Ob-Allokation KW03'!A235","v":"2012-08-21"},{"$f":"'Als-Ob-Allokation KW03'!B235","v":26.3},2,0.10672452626229958,null,null,8.2555435884854422E-2,null,null,0.13145917739667695,null,null,0.10835597380799965,null,null,0.71958078574734086,null,null,0.61903168283926824,null,null,null,0.75265189096328011,null,null,0.88525990261211263,null,null,1.0245721549250142,null,null,1.1423732368958475,null,null,9.1184764564003363E-3,null,null,null,7.0452190097560832E-2,null,null,0.13506129807087319,null,null,0.3250064929489288,null,null,0.66327942025775544,null,null,1.4377202607373771E-2,null,null,null,0.18752828789826573,null,null,0.3641874939274678,null,null,0.4721950339127175,null,null,0.52490615655825501,null,null,1.952784155219333E-4,null,null,null,0.15719528444345726,null,null,0.3153981684313748,null,null,0.4863439661571009,null,null,0.6673333528408002,null,null,2.3719396721594857E-2,null,null,null,5.563128150100876E-2,null,null,8.8643925865593096E-2,null,null,0.10889750772176278,null,null,0.19866167080584288,null,null,1.0786566997084411E-2,null,null,null,4.9416642207332218E-2,null,null,4.869294859713863E-2,null,null,0.12278454631751808,null,null,0.16199195766205537,null,null,1.0493471562791469E-2,null,null,null,8.0616663781195474E-2,null,null,0.15272314675338028,null,null,0.24842429552758963,null,null,0.30558877022435921,null,null,1.6147727657757877E-2,null,null,null,3.7906243426972699E-2,null,null,6.2075810651612912E-2,null,null,9.2451865210067125E-2,null,null,0.11909484000530009,null,null,9.1341950552128764E-2,null,null,null,0.11402302075151646,null,null,0.1383345262342521,null,null,0.1620101807566145,null,null,0.18829576830573502,null,null,1.1817490741159478E-4,null,null,null,5.1147510954380297E-2,null,null,0.10306462444991413,null,null,0.15969647369446546,null,null,0.4258389401188879,null,null,0.71366311305209884,null,null,null,0.87236333510307529,null,null,1.0241015831635381,null,null,1.1116764970239761,null,null,1.2010376056148675,null,null,0.20994793273490509,null,null,null,0.16193652589171484]
[{"$f":"'Als-Ob-Allokation KW03'!A236","v":"2012-08-22"},{"$f":"'Als-Ob-Allokation KW03'!B236","v":23.7},3,0.12425274546850926,null,null,9.4876792666467397E-2,null,null,0.14982710253759735,null,null,0.12242201816096759,null,null,0.73714522316211961,null,null,0.60625815627110402,null,null,null,0.73326088641418208,null,null,0.85768966573695848,null,null,0.99289039159603665,null,null,1.1043819164815041,null,null,1.3742463364591605E-2,null,null,null,7.6644657016536583E-2,null,null,0.14616017244543816,null,null,0.3315938026135431,null,null,0.69348298182427226,null,null,3.6313529542781962E-2,null,null,null,0.19457950309874891,null,null,0.35986756548028093,null,null,0.46141924141368479,null,null,0.51617734511671842,null,null,2.6810996350546475E-3,null,null,null,0.16394191223867721,null,null,0.32779101969223279,null,null,0.50052234259563566,null,null,0.69148305622958572,null,null,3.0542051424004232E-2,null,null,null,6.8053996450940457E-2,null,null,0.10822541019442851,null,null,0.15497106097171701,null,null,0.26787687423768286,null,null,1.2757352229461089E-2,null,null,null,5.2754328772669189E-2,null,null,5.5838466029338882E-2,null,null,0.13157983933228645,null,null,0.17884299433687215,null,null,1.5131451626922145E-2,null,null,null,8.5572034840101646E-2,null,null,0.16003285478433721,null,null,0.25840186566030859,null,null,0.31975431414026745,null,null,1.8569041746827903E-2,null,null,null,4.2306451408249159E-2,null,null,7.1889562073427907E-2,null,null,0.10490921224024523,null,null,0.13453102010698745,null,null,0.10292249221368453,null,null,null,0.12791879598996117,null,null,0.15655437319319893,null,null,0.1828411758110158,null,null,0.21418915774729436,null,null,6.9510424444748861E-4,null,null,null,5.1235665604020583E-2,null,null,0.10522439001742354,null,null,0.17128859782506706,null,null,0.42448041303604062,null,null,0.73555398273183115,null,null,null,0.89593432360394487,null,null,1.042936003705097,null,null,1.132968719563948,null,null,1.2228141280026938,null,null,0.21744166759199438,null,null,null,0.16625399302580371]
[{"$f":"'Als-Ob-Allokation KW03'!A237","v":"2012-08-23"},{"$f":"'Als-Ob-Allokation KW03'!B237","v":21.2},4,0.15851902054897485,null,null,0.12101508053578428,null,null,0.18631154237195222,null,null,0.15233436747445678,null,null,0.77193215353113476,null,null,0.66309028498387557,null,null,null,0.79408711492051187,null,null,0.91919092110177059,null,null,1.0601066612176868,null,null,1.1717906057813561,null,null,2.7747552006280127E-2,null,null,null,0.10077007230061094,null,null,0.18508057765442981,null,null,0.37802200971075739,null,null,0.77228769967915378,null,null,8.1857017837501406E-2,null,null,null,0.23164171527356114,null,null,0.39362603808277336,null,null,0.49394899624005451,null,null,0.5557687512624977,null,null,1.0666353884091847E-2,null,null,null,0.17757929884420337,null,null,0.34842609603712099,null,null,0.52008850188284483,null,null,0.71957993818236354,null,null,4.3141152976193711E-2,null,null,null,8.6142144495304593E-2,null,null,0.13384003901378808,null,null,0.21415180320661631,null,null,0.34115594988269132,null,null,1.8910419419418643E-2,null,null,null,6.2411227764747314E-2,null,null,7.3813093971495519E-2,null,null,0.15288022335375354,null,null,0.21358902905471622,null,null,2.7782572187000976E-2,null,null,null,0.10068871831659118,null,null,0.18144197982353227,null,null,0.28633748028475353,null,null,0.35634181478261667,null,null,2.7691740770311543E-2,null,null,null,5.8058987365392493E-2,null,null,0.10003648188165377,null,null,0.14040947839736667,null,null,0.1789938638405475,null,null,0.13076407356982056,null,null,null,0.15985971438891444,null,null,0.19551536671011518,null,null,0.22554628096668239,null,null,0.26374013599758733,null,null,2.9645782010860981E-3,null,null,null,5.3495490764805219E-2,null,null,0.11410954232689119,null,null,0.19865257464044608,null,null,0.43041490253082243,null,null,0.74996734206517146,null,null,null,0.90493838920614478,null,null,1.0391085151749173,null,null,1.1268784937647875,null,null,1.2116092972216053,null,null,0.24166643691804537,null,null,null,0.18300422882026141]
[{"$f":"'Als-Ob-Allokation KW03'!A238","v":"2012-08-24"},{"$f":"'Als-Ob-Allokation KW03'!B238","v":19.600000000000001},5,0.19407247623584606,null,null,0.14977272448486878,null,null,0.22441164296031879,null,null,0.18516186252779937,null,null,0.80522844573323915,null,null,0.69076331755681353,null,null,null,0.81917134771286326,null,null,0.93853225735154699,null,null,1.0759190784430122,null,null,1.1817707905803199,null,null,4.3889605142130375E-2,null,null,null,0.1228768119830522,null,null,0.21540032152682279,null,null,0.40182324467635516,null,null,0.78613400074660023,null,null,0.12347816635292513,null,null,null,0.25770880440098198,null,null,0.40707419315750448,null,null,0.50023977292845001,null,null,0.56358580612712017,null,null,2.2442897601701175E-2,null,null,null,0.19511732517509037,null,null,0.37189094471651812,null,null,0.54124914064213048,null,null,0.74477548876860777,null,null,5.7833883883468377E-2,null,null,null,0.10501108936731565,null,null,0.15815522587319625,null,null,0.26075501179589777,null,null,0.39086789525087634,null,null,2.7582619989363098E-2,null,null,null,7.5028123666514138E-2,null,null,9.5361562121291779E-2,null,null,0.17711004828041685,null,null,0.24885632189529983,null,null,4.147836953925519E-2,null,null,null,0.11274841571369243,null,null,0.19468023590211089,null,null,0.29874409028169086,null,null,0.371815755543765,null,null,4.3123749798944809E-2,null,null,null,8.3623926702176957E-2,null,null,0.14158249582915719,null,null,0.19231059412698018,null,null,0.24374503958407964,null,null,0.15250735452611194,null,null,null,0.18303252840581935,null,null,0.22183094146434945,null,null,0.252371269344979,null,null,0.29256452379756903,null,null,6.5709226875595101E-3,null,null,null,5.6215786023262805E-2,null,null,0.12343315705146822,null,null,0.22280212357543649,null,null,0.42854509006099312,null,null,0.70788208085417914,null,null,null,0.84507225906009242,null,null,0.95870260282864939,null,null,1.0363657144304206,null,null,1.109508541296313,null,null,0.2621105020104354,null,null,null,0.19796572465146414]
[{"$f":"'Als-Ob-Allokation KW03'!A239","v":"2012-08-25"},{"$f":"'Als-Ob-Allokation KW03'!B239","v":20.2},6,0.17923981882960247,null,null,0.13761592132104072,null,null,0.20850557020527694,null,null,0.17130163879130739,null,null,0.79177464754811933,null,null,0.28955194854839306,null,null,null,0.34476157925296258,null,null,0.39666691539355814,null,null,0.45594669925275555,null,null,0.50210284069097888,null,null,2.7058974338534176E-2,null,null,null,8.3180568512946432E-2,null,null,0.14868444206338052,null,null,0.2874581071928361,null,null,0.5730871649273106,null,null,7.8042875374940146E-2,null,null,null,0.18093999983253375,null,null,0.29416413751015325,null,null,0.36458674236148514,null,null,0.41070001951318019,null,null,1.747915190362306E-2,null,null,null,0.19121781140072819,null,null,0.3691952642715039,null,null,0.54307654961862672,null,null,0.74942308248991651,null,null,4.8317641911933537E-2,null,null,null,9.1031141927575346E-2,null,null,0.13891840534620872,null,null,0.22744892704563813,null,null,0.34896858946137616,null,null,2.2324780994455416E-2,null,null,null,6.5410327414886227E-2,null,null,8.1041889385966515E-2,null,null,0.1570176726538626,null,null,0.22052020286383786,null,null,3.1167385836849734E-2,null,null,null,9.4033667767305637E-2,null,null,0.16528762372753825,null,null,0.25667643987869793,null,null,0.31963092954285205,null,null,3.2626231587778977E-2,null,null,null,6.5237605810000779E-2,null,null,0.11147843461486356,null,null,0.15337100879531315,null,null,0.194870144928426,null,null,0.12550529891357692,null,null,null,0.15177327649975042,null,null,0.18473596415357021,null,null,0.21137689108642727,null,null,0.24601550932565247,null,null,4.3033129210173363E-3,null,null,null,4.7969302816395221E-2,null,null,0.10423468178752161,null,null,0.18596668042702127,null,null,0.37495548986731447,null,null,0.23947760807224844,null,null,null,0.28717940422568644,null,null,0.32737743864038565,null,null,0.35440381679584565,null,null,0.38009846225442867,null,null,0.23145259628902484,null,null,null,0.17487456296283416]
[{"$f":"'Als-Ob-Allokation KW03'!A240","v":"2012-08-26"},{"$f":"'Als-Ob-Allokation KW03'!B240","v":16},7,0.3308623429859201,null,null,0.26925841335496753,null,null,0.37038073567003693,null,null,0.31953098217923387,null,null,0.90078959870426845,null,null,0.65784758001247567,null,null,null,0.75442476087066612,null,null,0.83476840582001699,null,null,0.93020936248853903,null,null,1.000646153846154,null,null,0.11812580547774548,null,null,null,0.21423236538638918,null,null,0.32254037297004173,null,null,0.47564576703860156,null,null,0.78472396208513195,null,null,0.26058193269644214,null,null,null,0.35211600293217188,null,null,0.46154269535032244,null,null,0.53120770479698598,null,null,0.59053685825737801,null,null,9.23480965422665E-2,null,null,null,0.27750149324347201,null,null,0.4605927263473592,null,null,0.60937648173847403,null,null,0.80193781331581904,null,null,0.12627830812412341,null,null,null,0.18480253135347552,null,null,0.25042639632263419,null,null,0.3906589370560643,null,null,0.50880380984886597,null,null,6.9636212113987447E-2,null,null,null,0.12785174095512308,null,null,0.17526446076369084,null,null,0.25473135321030155,null,null,0.34099853628797583,null,null,0.11492860337290486,null,null,null,0.194915913394755,null,null,0.29243407497032042,null,null,0.40433828833709234,null,null,0.48965899305345911,null,null,0.10057907133638901,null,null,null,0.16185965405672961,null,null,0.2460212565784814,null,null,0.30765388301040808,null,null,0.37937371124416969,null,null,0.26569163258123285,null,null,null,0.30147750711539567,null,null,0.34945425583125833,null,null,0.38076035752665832,null,null,0.42460728451252272,null,null,2.9238701256213834E-2,null,null,null,7.8542674747714911E-2,null,null,0.17166156798842785,null,null,0.30362576121272672,null,null,0.43299835641720769,null,null,0.33199317415579638,null,null,null,0.38072608526652424,null,null,0.41655764778991777,null,null,0.44342290326625955,null,null,0.46740028851984955,null,null,0.35104737601504976,null,null,null,0.27147595779058153]
[{"$f":"'Als-Ob-Allokation KW03'!A241","v":"2012-08-27"},{"$f":"'Als-Ob-Allokation KW03'!B241","v":16.8},1,0.29245046796262064,null,null,0.23460502639268521,null,null,0.32962431160114747,null,null,0.28094214285412095,null,null,0.87860075137371441,null,null,0.72145949554178701,null,null,null,0.83470133990684126,null,null,0.93202814495216224,null,null,1.0471839877510167,null,null,1.1325486113049545,null,null,0.11202759702967097,null,null,null,0.21976041325926707,null,null,0.34342836575279345,null,null,0.53402158566171376,null,null,0.92169380434200243,null,null,0.26307209278323601,null,null,null,0.38170068742893093,null,null,0.5213481768203494,null,null,0.60982277307550914,null,null,0.68163975547570343,null,null,6.3597857753732071E-2,null,null,null,0.23155900813241484,null,null,0.39991392147067883,null,null,0.54286760896907127,null,null,0.72487760584255545,null,null,0.10895407795000762,null,null,null,0.16670472772208467,null,null,0.23186413556792942,null,null,0.37068188246972439,null,null,0.49777762536885928,null,null,6.3074460470023491E-2,null,null,null,0.12466878838501466,null,null,0.17026177990788613,null,null,0.26011858471834498,null,null,0.35464353858485526,null,null,9.9981622975737677E-2,null,null,null,0.18377830070799245,null,null,0.2853842654097643,null,null,0.4055024128912626,null,null,0.49619849019370332,null,null,9.4404598315371027E-2,null,null,null,0.15809296074035947,null,null,0.24754642458615805,null,null,0.31544492103469829,null,null,0.39227599262696727,null,null,0.25295832190561918,null,null,null,0.29088752281003599,null,null,0.34129304681061434,null,null,0.37576657917962114,null,null,0.42340265659849613,null,null,2.4779770424660213E-2,null,null,null,8.0672706944324726E-2,null,null,0.17915147819912128,null,null,0.32334770853343836,null,null,0.49155079928031015,null,null,0.8618708958397272,null,null,null,0.99913423312143412,null,null,1.1030138387773616,null,null,1.1794309435447969,null,null,1.2483738896166026,null,null,0.34699456970573267,null,null,null,0.26573987644064678]
[{"$f":"'Als-Ob-Allokation KW03'!A242","v":"2012-08-28"},{"$f":"'Als-Ob-Allokation KW03'!B242","v":19.100000000000001},2,0.2079559652696287,null,null,0.16132984522434407,null,null,0.23930162230471036,null,null,0.19831099375036496,null,null,0.81722919422114881,null,null,0.68866570319759957,null,null,null,0.81367630642152178,null,null,0.9286407210693981,null,null,1.061778328047174,null,null,1.1634913491092502,null,null,5.4262223583977046E-2,null,null,null,0.14116308153237489,null,null,0.24306390740640604,null,null,0.43956384143672594,null,null,0.84460657855262256,null,null,0.14879643177272242,null,null,null,0.28675091625736865,null,null,0.44175734259066796,null,null,0.53868567952822299,null,null,0.60671803549699466,null,null,2.7048450741882689E-2,null,null,null,0.19654264868355512,null,null,0.36982328552572058,null,null,0.53288196227231577,null,null,0.73089815866664698,null,null,6.0468061381224632E-2,null,null,null,0.10641296355495318,null,null,0.15831781669869049,null,null,0.26151861420963113,null,null,0.38439410467489604,null,null,3.1526288692474383E-2,null,null,null,8.061624708883737E-2,null,null,0.10443902599013459,null,null,0.18714273238554505,null,null,0.26259320138035508,null,null,5.1237994250102059E-2,null,null,null,0.12829232484761757,null,null,0.21790966972149564,null,null,0.33065894600621132,null,null,0.411071840269776,null,null,4.7802089891627618E-2,null,null,null,9.029522273525227E-2,null,null,0.15135278781791678,null,null,0.20333216824185132,null,null,0.25709605354736303,null,null,0.17507639689559765,null,null,null,0.20868268771139897,null,null,0.25181713173585529,null,null,0.28500073740372461,null,null,0.32909041103715109,null,null,9.0475934574233245E-3,null,null,null,6.3012478141851833E-2,null,null,0.13939829793725669,null,null,0.25343921564849919,null,null,0.46790639996938377,null,null,0.80370960086137166,null,null,null,0.9554233835641408,null,null,1.0792169798851798,null,null,1.16498600771114,null,null,1.2451260768739578,null,null,0.27785863853509557,null,null,null,0.20995158673590583]
[{"$f":"'Als-Ob-Allokation KW03'!A243","v":"2012-08-29"},{"$f":"'Als-Ob-Allokation KW03'!B243","v":21.7},3,0.14983698433730902,null,null,0.11421451813458904,null,null,0.17703147845687583,null,null,0.14455420815142889,null,null,0.76329352568786402,null,null,0.62323344852869889,null,null,null,0.74819942222298996,null,null,0.86832429228304697,null,null,1.0026663869468717,null,null,1.1100698987362727,null,null,2.3377107646207269E-2,null,null,null,9.2597529068452089E-2,null,null,0.17193729209254671,null,null,0.36003178579507888,null,null,0.74212810086026892,null,null,6.8959176479879855E-2,null,null,null,0.21813374744956793,null,null,0.37817660451810897,null,null,0.47710928976015932,null,null,0.53632450064616477,null,null,8.258071564146598E-3,null,null,null,0.1727906645396384,null,null,0.34102417647650024,null,null,0.51210064451495352,null,null,0.70886242707027902,null,null,3.9487295528292506E-2,null,null,null,8.0971083073300421E-2,null,null,0.12669458222812835,null,null,0.19937598020134772,null,null,0.32338398449636563,null,null,1.7053130559556335E-2,null,null,null,5.9457932968595556E-2,null,null,6.8662092870068553E-2,null,null,0.14664474684373283,null,null,0.20400020411875919,null,null,2.4163627146427082E-2,null,null,null,9.6157821708758418E-2,null,null,0.1750436682885137,null,null,0.27801467397030172,null,null,0.34569727097321767,null,null,2.5038560657844124E-2,null,null,null,5.3619748114153085E-2,null,null,9.246396844146626E-2,null,null,0.13097985226412059,null,null,0.16720449632280515,null,null,0.12299609134145681,null,null,null,0.15104472117826861,null,null,0.18498022577638595,null,null,0.21411827885315915,null,null,0.25073781300739267,null,null,2.2823828031090787E-3,null,null,null,5.3352815960767762E-2,null,null,0.11278918615277096,null,null,0.19370181567395908,null,null,0.43346778464352476,null,null,0.75892705193371457,null,null,null,0.9180625727917785,null,null,1.0575912829628813,null,null,1.147635955898733,null,null,1.2352009759010469,null,null,0.23348749778141858,null,null,null,0.17710498647419218]
[{"$f":"'Als-Ob-Allokation KW03'!A244","v":"2012-08-30"},{"$f":"'Als-Ob-Allokation KW03'!B244","v":18.100000000000001},4,0.24028286603030538,null,null,0.18881869443760241,null,null,0.27394009920123397,null,null,0.22946606396734492,null,null,0.84298238319151109,null,null,0.71959926002932106,null,null,null,0.84318046173274264,null,null,0.95398573445296175,null,null,1.0837082933015638,null,null,1.1812983808099751,null,null,7.2452622246168608E-2,null,null,null,0.1648802943923032,null,null,0.27285875389568187,null,null,0.46257074622773658,null,null,0.85222298099483118,null,null,0.18684115657256878,null,null,null,0.31326820305360198,null,null,0.45821133908055728,null,null,0.54934086439635776,null,null,0.61752162606964045,null,null,4.172424752748792E-2,null,null,null,0.21864943226030384,null,null,0.39852774679015995,null,null,0.56107351720666043,null,null,0.7626010790540606,null,null,8.3973986500569239E-2,null,null,null,0.13884293467301184,null,null,0.20098225775678105,null,null,0.32988172215663419,null,null,0.46610635673758616,null,null,4.2290337774776546E-2,null,null,null,9.5997740411231006E-2,null,null,0.12822452150205405,null,null,0.21393876521535912,null,null,0.29782041815920457,null,null,6.8917240898889495E-2,null,null,null,0.14869218178045587,null,null,0.2434846021444034,null,null,0.36002086571608283,null,null,0.44555349435211794,null,null,6.0423507192452881E-2,null,null,null,0.10824464379792112,null,null,0.1768361188693709,null,null,0.23224854504780618,null,null,0.29190783070888898,null,null,0.20505663676685051,null,null,null,0.24080171627093674,null,null,0.28747277480863975,null,null,0.32167712605687032,null,null,0.36793464776408258,null,null,1.4193889755674165E-2,null,null,null,6.8358579904339425E-2,null,null,0.15263869702894975,null,null,0.27910947969942457,null,null,0.47348917639300159,null,null,0.81844221447204579,null,null,null,0.96346169610781485,null,null,1.0781315614896834,null,null,1.1597339016981334,null,null,1.2347933531000088,null,null,0.30340813535953221,null,null,null,0.23002252489138481]
[{"$f":"'Als-Ob-Allokation KW03'!A245","v":"2012-08-31"},{"$f":"'Als-Ob-Allokation KW03'!B245","v":14.6},5,0.41069775979657908,null,null,0.34339355920114467,null,null,0.45425582288026178,null,null,0.40096430281373324,null,null,0.93827969064091332,null,null,0.83709113559170978,null,null,null,0.94373467069034578,null,null,1.0262094828743429,null,null,1.1242758166230729,null,null,1.1970431838694389,null,null,0.19648381827712086,null,null,null,0.31675689198665252,null,null,0.4460688076504421,null,null,0.60120545031420836,null,null,0.91050562496929355,null,null,0.38654610745487655,null,null,null,0.47380732947226772,null,null,0.58047892966077341,null,null,0.64893885331300105,null,null,0.71192311978662492,null,null,0.15063738620216616,null,null,null,0.34114016220122878,null,null,0.52318817304814869,null,null,0.65860195288463319,null,null,0.8392192698918165,null,null,0.19862743957359985,null,null,null,0.27073812908723383,null,null,0.35018290211618047,null,null,0.51753068628165599,null,null,0.64022880226530043,null,null,0.12283600212905839,null,null,null,0.20233257089227949,null,null,0.2747728064328232,null,null,0.36941181750871538,null,null,0.47499330025032893,null,null,0.17842348161400945,null,null,null,0.2704721138910362,null,null,0.38172039884669962,null,null,0.5014751771327155,null,null,0.59248060446374506,null,null,0.17748624500978127,null,null,null,0.26733676139413243,null,null,0.38418237858751586,null,null,0.46471223210065404,null,null,0.56253438643961695,null,null,0.35757594719850216,null,null,null,0.39635323958845159,null,null,0.44903191460849223,null,null,0.48030143074691373,null,null,0.5253232405069358,null,null,6.1779647785864471E-2,null,null,null,0.12846060274483223,null,null,0.26655337144461233,null,null,0.44582300742566938,null,null,0.57544955339852211,null,null,0.86141933856889563,null,null,null,0.96730480990112466,null,null,1.0409761652278378,null,null,1.0978653072425617,null,null,1.1478518056558107,null,null,0.44494861243341371,null,null,null,0.3522113808969054]
[{"$f":"'Als-Ob-Allokation KW03'!A246","v":"2012-09-01"},{"$f":"'Als-Ob-Allokation KW03'!B246","v":14.1},6,0.44328370275700002,null,null,0.37436816645547777,null,null,0.48813063729548745,null,null,0.43452774922361787,null,null,0.95089711392805665,null,null,0.3652544059343874,null,null,null,0.40910500850621673,null,null,0.44193426548619952,null,null,0.48089342715936223,null,null,0.51002270875173505,null,null,0.16746705382440857,null,null,null,0.2601709820626335,null,null,0.35770618352910505,null,null,0.46747997655207724,null,null,0.68568068492612833,null,null,0.31596714634705148,null,null,null,0.37668994153462987,null,null,0.45132706882877749,null,null,0.49934650672702946,null,null,0.5446341101754687,null,null,0.1804261535673074,null,null,null,0.37484059446476731,null,null,0.55769976412059785,null,null,0.68893608740851586,null,null,0.86607046020086964,null,null,0.21364566582711145,null,null,null,0.28449918961615417,null,null,0.36191717567359216,null,null,0.52334605902635578,null,null,0.63611336938706475,null,null,0.13483970378330137,null,null,null,0.21486727975312439,null,null,0.28961859421036085,null,null,0.37976814479327592,null,null,0.48037554712584768,null,null,0.18316601615235514,null,null,null,0.26873432310172973,null,null,0.37112697779269033,null,null,0.4784180056882093,null,null,0.55919826766196534,null,null,0.17945393431539153,null,null,null,0.26425446728421681,null,null,0.37194414337484522,null,null,0.44455917404531148,null,null,0.53397101008222103,null,null,0.35019316909403092,null,null,null,0.38499160920430403,null,null,0.43248377499994245,null,null,0.4595848093695532,null,null,0.49909210821995614,null,null,6.6963550631393781E-2,null,null,null,0.12980787563578453,null,null,0.26263369054958069,null,null,0.42826995133297702,null,null,0.53586740130924526,null,null,0.30357603199557509,null,null,null,0.33816756267214376,null,null,0.36171506607570486,null,null,0.38006140486134393,null,null,0.39611382978035148,null,null,0.43762581921519311,null,null,null,0.34992277898393664]
[{"$f":"'Als-Ob-Allokation KW03'!A247","v":"2012-09-02"},{"$f":"'Als-Ob-Allokation KW03'!B247","v":15.6},7,0.35199457146759372,null,null,0.28862033651008384,null,null,0.39269760589175695,null,null,0.34094778394048081,null,null,0.91174928402371846,null,null,0.66969392969523356,null,null,null,0.76442788212584312,null,null,0.84178980752260746,null,null,0.93379222893957403,null,null,1.0016628859656544,null,null,0.13266488249078948,null,null,null,0.23209292445445984,null,null,0.34286527101485398,null,null,0.49255967917088422,null,null,0.79359018953894356,null,null,0.28338500339757394,null,null,null,0.37119545560908196,null,null,0.47692402285927871,null,null,0.54439623270195436,null,null,0.60319906498617515,null,null,0.10638303528018395,null,null,null,0.29291439765790039,null,null,0.47583798692183404,null,null,0.62100610078098362,null,null,0.81045830292462484,null,null,0.13988219856148867,null,null,null,0.20041725445127018,null,null,0.26801256951034519,null,null,0.41220572909049652,null,null,0.52887475767546188,null,null,7.8786277786878661E-2,null,null,null,0.13987564432459412,null,null,0.19160356540004739,null,null,0.27201025245456761,null,null,0.36031291477572303,null,null,0.12883454281001569,null,null,null,0.21087269971876454,null,null,0.31090265495065661,null,null,0.42379349225003643,null,null,0.51003908602108183,null,null,0.11294090017199407,null,null,null,0.17826938454604505,null,null,0.26676983237056734,null,null,0.33045781248607353,null,null,0.40554397421968069,null,null,0.28540900454380846,null,null,null,0.32168425948025597,null,null,0.37051022300209785,null,null,0.40157855645466972,null,null,0.44540545225956019,null,null,3.4605079734304885E-2,null,null,null,8.5552211543833787E-2,null,null,0.1847890559454119,null,null,0.32247428918658627,null,null,0.44617550322692245,null,null,0.3379961460833617,null,null,null,0.38538403716210723,null,null,0.41970543264292204,null,null,0.44567077219102119,null,null,0.46873056148704451,null,null,0.36853710467868012,null,null,null,0.28668063676011768]
[{"$f":"'Als-Ob-Allokation KW03'!A248","v":"2012-09-03"},{"$f":"'Als-Ob-Allokation KW03'!B248","v":18.8},1,0.2169940425266319,null,null,0.16893772955834085,null,null,0.24899220188258889,null,null,0.2069510840049501,null,null,0.82473416902746144,null,null,0.67231848729502053,null,null,null,0.79248632539331687,null,null,0.90222317778104,null,null,1.0297480391331895,null,null,1.1266993931616096,null,null,6.0657830178991727E-2,null,null,null,0.15131372202970622,null,null,0.25758855140982884,null,null,0.45702382059630009,null,null,0.8678575884979316,null,null,0.16350432281794269,null,null,null,0.30137194698006164,null,null,0.45720649453952311,null,null,0.5548066258414418,null,null,0.62463564571355679,null,null,2.8908800065944401E-2,null,null,null,0.18960187855363206,null,null,0.35368105835940555,null,null,0.50631544166197662,null,null,0.69283427973977019,null,null,6.6628772286350654E-2,null,null,null,0.11506910449780729,null,null,0.16985937715673474,null,null,0.28043622207619889,null,null,0.40735143656287043,null,null,3.472072085310686E-2,null,null,null,8.5597671579042023E-2,null,null,0.11204132663400627,null,null,0.19648612515262456,null,null,0.27525187890702141,null,null,5.5145389499936068E-2,null,null,null,0.1317473771282488,null,null,0.22144307768185928,null,null,0.33357801719937219,null,null,0.41427807944237682,null,null,5.3504064957258179E-2,null,null,null,9.947253523440383E-2,null,null,0.16557924403453544,null,null,0.22095546091509005,null,null,0.27892760881602202,null,null,0.18054831368327312,null,null,null,0.21427718085566111,null,null,0.25780655991899709,null,null,0.2908227087291787,null,null,0.33493090861943903,null,null,9.843261744458872E-3,null,null,null,6.1001701593595872E-2,null,null,0.13545341268092498,null,null,0.24701236146276903,null,null,0.44472784435960683,null,null,0.80113898897173585,null,null,null,0.9497531903221208,null,null,1.0699046231884877,null,null,1.1538277429541555,null,null,1.2318720144861186,null,null,0.28487261997481528,null,null,null,0.21538794945197412]
[{"$f":"'Als-Ob-Allokation KW03'!A249","v":"2012-09-04"},{"$f":"'Als-Ob-Allokation KW03'!B249","v":18.8},2,0.2169940425266319,null,null,0.16893772955834085,null,null,0.24899220188258889,null,null,0.2069510840049501,null,null,0.82473416902746144,null,null,0.69481587030461611,null,null,null,0.81900481139237424,null,null,0.93241372106408915,null,null,1.0642058689825025,null,null,1.1644014469703914,null,null,5.9587591590057297E-2,null,null,null,0.14864396309052849,null,null,0.25304369368951429,null,null,0.44896015383767923,null,null,0.85254522605157834,null,null,0.16061947455975426,null,null,null,0.2960545809231388,null,null,0.4491396047064426,null,null,0.54501769243218734,null,null,0.61361465847919716,null,null,3.068265048835592E-2,null,null,null,0.20123589212718679,null,null,0.37538300701651556,null,null,0.53738307013554987,null,null,0.73534674573538783,null,null,6.4811073133343208E-2,null,null,null,0.11192990492072252,null,null,0.16522544446679652,null,null,0.27278564311686032,null,null,0.39623848436806647,null,null,3.4298360278913829E-2,null,null,null,8.4556417802351611E-2,null,null,0.11067839873712612,null,null,0.1940959676155295,null,null,0.27190357452950792,null,null,5.6045483263263196E-2,null,null,null,0.13389778341902281,null,null,0.22505751462683068,null,null,0.339022742417326,null,null,0.42104000675798059,null,null,5.1833781968593416E-2,null,null,null,9.6367214478418131E-2,null,null,0.16041021258229363,null,null,0.21405770187726969,null,null,0.2702200827533478,null,null,0.18349525834354674,null,null,null,0.21777465464015083,null,null,0.26201452868723257,null,null,0.29556957349402618,null,null,0.34039771599404645,null,null,1.0471596055932062E-2,null,null,null,6.4895681370277333E-2,null,null,0.14409993951350408,null,null,0.2627801370329399,null,null,0.47311658085093861,null,null,0.81130034084277491,null,null,null,0.96179950998744113,null,null,1.083474899375674,null,null,1.1684624690829792,null,null,1.2474966254108042,null,null,0.28487261997481528,null,null,null,0.21538794945197412]
[{"$f":"'Als-Ob-Allokation KW03'!A250","v":"2012-09-05"},{"$f":"'Als-Ob-Allokation KW03'!B250","v":18.2},3,0.23676044725452619,null,null,0.18578746939582258,null,null,0.27016940581881632,null,null,0.22603935237328085,null,null,0.84032093466001168,null,null,0.68029577315918299,null,null,null,0.79783597220120794,null,null,0.9035193547635102,null,null,1.027122845181369,null,null,1.1202413277703756,null,null,6.8632767412404261E-2,null,null,null,0.15816675796624938,null,null,0.26284226319790238,null,null,0.44852799400601101,null,null,0.83011587812109122,null,null,0.17817000390970017,null,null,null,0.30256766660127049,null,null,0.4448933564543997,null,null,0.53432671393594644,null,null,0.60081332443181457,null,null,3.9780609982552471E-2,null,null,null,0.21498752366216767,null,null,0.3932514220750486,null,null,0.55503806613567352,null,null,0.7552117298643708,null,null,8.1608078422934369E-2,null,null,null,0.13576642999372127,null,null,0.19709847984373441,null,null,0.32390198093262063,null,null,0.4594673900717321,null,null,4.0888057033143903E-2,null,null,null,9.3888652203060072E-2,null,null,0.12508807227165714,null,null,0.21018227304257714,null,null,0.2929167946620938,null,null,6.6599996639306616E-2,null,null,null,0.14570357368854683,null,null,0.2395125649118636,null,null,0.35513669489154592,null,null,0.43977426186511093,null,null,5.8656887192755428E-2,null,null,null,0.10563680059563087,null,null,0.1730728724109151,null,null,0.22782800782403467,null,null,0.28654564799173909,null,null,0.20081671092249315,null,null,null,0.23618854793300223,null,null,0.2823000466747862,null,null,0.3162642819502583,null,null,0.36211883290343644,null,null,1.3752724386044765E-2,null,null,null,6.8542877437491281E-2,null,null,0.15297547625520877,null,null,0.27972697258744778,null,null,0.47860611582134666,null,null,0.83375820760968578,null,null,null,0.98253129943058315,null,null,1.1005500535989579,null,null,1.1843143038779333,null,null,1.2614818294521575,null,null,0.29764626462324634,null,null,null,0.22554230756105512]
[{"$f":"'Als-Ob-Allokation KW03'!A251","v":"2012-09-06"},{"$f":"'Als-Ob-Allokation KW03'!B251","v":16.2},4,0.32078451895184101,null,null,0.26009692953160973,null,null,0.35971081171586483,null,null,0.3093609923126181,null,null,0.8952639884816076,null,null,0.77408465026829121,null,null,null,0.88974580575838302,null,null,0.9868045598965407,null,null,1.1020106644926073,null,null,1.1870932925624449,null,null,0.12867193253133197,null,null,null,0.23778305374231645,null,null,0.36138367722821046,null,null,0.54000024908472322,null,null,0.90127595486699807,null,null,0.28839111148914309,null,null,null,0.39623172128444833,null,null,0.5246715599859163,null,null,0.60634211102456892,null,null,0.67508065268638684,null,null,8.5967816670628167E-2,null,null,null,0.2704399436605896,null,null,0.45354544456828455,null,null,0.60404747351369381,null,null,0.79803221518133904,null,null,0.13536338706167417,null,null,null,0.20026233835479282,null,null,0.2731671283662927,null,null,0.42897222926924705,null,null,0.56295326110248423,null,null,7.5429395766826501E-2,null,null,null,0.14094744344996957,null,null,0.19316581668376925,null,null,0.28417216416633045,null,null,0.38229199583806933,null,null,0.1206719278584799,null,null,null,0.2085630341826773,null,null,0.31563718434009186,null,null,0.43947849063849181,null,null,0.53373453470830323,null,null,0.10450331622399571,null,null,null,0.16983370643828247,null,null,0.26011920494268898,null,null,0.3268227005905549,null,null,0.40391964360338412,null,null,0.28515030376279665,null,null,null,0.32464345366767361,null,null,0.37748056103963623,null,null,0.41237913600797216,null,null,0.46108914069808299,null,null,3.3244467247513412E-2,null,null,null,9.3386679412335305E-2,null,null,0.20511577123988917,null,null,0.36494853096265506,null,null,0.52862456975737748,null,null,0.8820126518476602,null,null,null,1.0143136571968829,null,null,1.1123089738586689,null,null,1.185442685857883,null,null,1.2508845273605191,null,null,0.37167913518987855,null,null,null,0.28665926668746761]
[{"$f":"'Als-Ob-Allokation KW03'!A252","v":"2012-09-07"},{"$f":"'Als-Ob-Allokation KW03'!B252","v":15.9},5,0.33602253764658008,null,null,0.27396772444923745,null,null,0.37583742659768338,null,null,0.32474967771246666,null,null,0.90354241413793246,null,null,0.78764621904934629,null,null,null,0.90223824733898961,null,null,0.99714205246248111,null,null,1.1099173882149247,null,null,1.1931280717280919,null,null,0.13577394529382086,null,null,null,0.24398594013453392,null,null,0.36560428545631524,null,null,0.53562152248705863,null,null,0.878508080053093,null,null,0.29712748999371041,null,null,null,0.39828173528416028,null,null,0.51943074800624034,null,null,0.59660513264942205,null,null,0.66271400959798454,null,null,9.6401041991981143E-2,null,null,null,0.28327018345040944,null,null,0.46769235054944086,null,null,0.61668937689974845,null,null,0.8099260020108473,null,null,0.14262588102071164,null,null,null,0.20760931948849828,null,null,0.28040465056578306,null,null,0.43592396281402118,null,null,0.56562193155996943,null,null,8.2414416422010764E-2,null,null,null,0.15001741060276952,null,null,0.20564379664540108,null,null,0.29710666958179716,null,null,0.39671069080439741,null,null,0.1239138658282536,null,null,null,0.20823763883345159,null,null,0.31106383613591493,null,null,0.42858233651791783,null,null,0.51824599582254516,null,null,0.12216539349917929,null,null,null,0.19564232039121363,null,null,0.29622423161071054,null,null,0.36955919361875683,null,null,0.45518093750431537,null,null,0.28338506752970549,null,null,null,0.32101508303614396,null,null,0.37151532946160415,null,null,0.40426519937497013,null,null,0.45021485302070768,null,null,3.6202092900787887E-2,null,null,null,9.5175285355786426E-2,null,null,0.20745036093327454,null,null,0.36576827048658433,null,null,0.51762807260011401,null,null,0.81072836503602341,null,null,null,0.92841571454588623,null,null,1.0146253637542431,null,null,1.0794101209092553,null,null,1.1371575641217169,null,null,0.37773079389366893,null,null,null,0.29252238832698296]
[{"$f":"'Als-Ob-Allokation KW03'!A253","v":"2012-09-08"},{"$f":"'Als-Ob-Allokation KW03'!B253","v":17.8},6,0.25125605076741231,null,null,0.19831377452392651,null,null,0.2856792517171225,null,null,0.24018527339405776,null,null,0.85105551100140997,null,null,0.3107436215244973,null,null,null,0.36311249356819841,null,null,0.4096585671889148,null,null,0.46430607025449655,null,null,0.50525148319581403,null,null,5.7077148602416222E-2,null,null,null,0.12520398411871483,null,null,0.2045756488694937,null,null,0.34000800402311593,null,null,0.61766809522451482,null,null,0.14420727697594821,null,null,null,0.2330432294717347,null,null,0.33551701645731441,null,null,0.40005576502051349,null,null,0.44927134670551228,null,null,4.8152297796488795E-2,null,null,null,0.23061816318305203,null,null,0.41566444109026313,null,null,0.58065676737538219,null,null,0.78648203605329647,null,null,8.3663337515777647E-2,null,null,null,0.13581149781083507,null,null,0.19486027491344568,null,null,0.31843231007426576,null,null,0.44464026582740312,null,null,4.3460452821198578E-2,null,null,null,9.5370857095829889E-2,null,null,0.12827390796984711,null,null,0.20958174299518448,null,null,0.29065885605559777,null,null,6.3638837990914715E-2,null,null,null,0.1318751219243568,null,null,0.21341478516783247,null,null,0.31285192481114549,null,null,0.38639377452792023,null,null,6.1916369150367655E-2,null,null,null,0.10918070604683752,null,null,0.17676826588233924,null,null,0.23056056159959507,null,null,0.28916507355477616,null,null,0.18207167577452674,null,null,null,0.21280417644809393,null,null,0.25311184638537032,null,null,0.28220435582773562,null,null,0.32174788778679886,null,null,1.3911777250745985E-2,null,null,null,6.0669423553352239E-2,null,null,0.13557236702161435,null,null,0.24769241364731714,null,null,0.40956708051205459,null,null,0.25804165965032966,null,null,null,0.30276847769028287,null,null,0.33778945940730432,null,null,0.36290780456469485,null,null,0.38590592143005176,null,null,0.28202778872531437,null,null,null,0.21418198152278947]
[{"$f":"'Als-Ob-Allokation KW03'!A254","v":"2012-09-09"},{"$f":"'Als-Ob-Allokation KW03'!B254","v":19.600000000000001},7,0.19407247623584606,null,null,0.14977272448486878,null,null,0.22441164296031879,null,null,0.18516186252779937,null,null,0.80522844573323915,null,null,0.57947299880993863,null,null,null,0.68719294341988568,null,null,0.78732336796768509,null,null,0.9025755117792853,null,null,0.99137323380992437,null,null,3.9315099248687993E-2,null,null,null,0.11006966325697916,null,null,0.19294967433865792,null,null,0.35994219345838319,null,null,0.7041971820441979,null,null,0.11060833993585617,null,null,null,0.23084844781525721,null,null,0.36464584845864129,null,null,0.44810100836255862,null,null,0.50484463989333694,null,null,2.2279756695755604E-2,null,null,null,0.19369898705495708,null,null,0.36918761171956105,null,null,0.53731471663353347,null,null,0.73936160014691066,null,null,5.2531836065075242E-2,null,null,null,9.5383968034622055E-2,null,null,0.14365599957191458,null,null,0.23684972568000698,null,null,0.35503422591836908,null,null,2.403693646785909E-2,null,null,null,6.5383427773364255E-2,null,null,8.3103048625157702E-2,null,null,0.15434295146645122,null,null,0.21686640360231188,null,null,3.9590128133826272E-2,null,null,null,0.10761571090123298,null,null,0.18581770619488278,null,null,0.28514420756780506,null,null,0.35488939337940539,null,null,3.6549390719923761E-2,null,null,null,7.0875180957638298E-2,null,null,0.11999777346098188,null,null,0.16299220446037516,null,null,0.20658529764542408,null,null,0.14556468284814023,null,null,null,0.17470024334940876,null,null,0.2117324160562607,null,null,0.24088244069497997,null,null,0.27924595670511521,null,null,5.5369295158095109E-3,null,null,null,4.7369731723664661E-2,null,null,0.10400985112817698,null,null,0.18774222630034557,null,null,0.36110970572007184,null,null,0.29116327518638552,null,null,null,0.34759180006391532,null,null,0.3943297864419365,null,null,0.42627387225330704,null,null,0.4563586923139677,null,null,0.24653958109892435,null,null,null,0.18620538457315933]
[{"$f":"'Als-Ob-Allokation KW03'!A255","v":"2012-09-10"},{"$f":"'Als-Ob-Allokation KW03'!B255","v":21.6},1,0.15149068907807189,null,null,0.11550192001022852,null,null,0.17879782990689863,null,null,0.14602738494661363,null,null,0.76495186569305451,null,null,0.62890881729815684,null,null,null,0.75465637661926066,null,null,0.87538282576554716,null,null,1.0105923141610076,null,null,1.1185035552075175,null,null,2.5635237152395397E-2,null,null,null,9.9783385821671622E-2,null,null,0.18490248253976446,null,null,0.38531372518329859,null,null,0.79296385205938513,null,null,7.5674882708191102E-2,null,null,null,0.23395452877741141,null,null,0.40403032707882736,null,null,0.50920363334023711,null,null,0.5725163060184506,null,null,8.0701189771961879E-3,null,null,null,0.16114215529974651,null,null,0.31769438440951386,null,null,0.4765271611823067,null,null,0.6595840958687883,null,null,3.7802989870219766E-2,null,null,null,7.7118456334652002E-2,null,null,0.12050904334057388,null,null,0.19032302589184336,null,null,0.30760744796436967,null,null,1.7559897454252123E-2,null,null,null,6.057578193176863E-2,null,null,7.0286837750088441E-2,null,null,0.14922138662257545,null,null,0.20777805900768692,null,null,2.4589375296328021E-2,null,null,null,9.6039680390274038E-2,null,null,0.17449517263589553,null,null,0.27681179435114212,null,null,0.34426577681593828,null,null,2.7489167966973153E-2,null,null,null,5.8628317810612902E-2,null,null,0.10110139743062964,null,null,0.14295905114865318,null,null,0.18244825700547418,null,null,0.1232251506119712,null,null,null,0.15119678318172469,null,null,0.18512730672555094,null,null,0.21415125531939747,null,null,0.25071602905312856,null,null,2.2998383311151655E-3,null,null,null,5.1001137866310185E-2,null,null,0.10800709140519778,null,null,0.18600099439371887,null,null,0.41364122671161052,null,null,0.74544943770844807,null,null,null,0.90132994276237932,null,null,1.0376660040408194,null,null,1.1258886137119526,null,null,1.2115581717489419,null,null,0.23688531092273651,null,null,null,0.17961884967507399]
[{"$f":"'Als-Ob-Allokation KW03'!A256","v":"2012-09-11"},{"$f":"'Als-Ob-Allokation KW03'!B256","v":18.5},2,0.22658863441158344,null,null,0.17708171678393647,null,null,0.25927494935217443,null,null,0.21618539217076507,null,null,0.83243979638904353,null,null,0.70132953485363581,null,null,null,0.82463754404598644,null,null,0.93639954581094997,null,null,1.0667065331857943,null,null,1.165311159533627,null,null,6.5420788570132615E-2,null,null,null,0.156733061194747,null,null,0.2636717037934771,null,null,0.45884501561280855,null,null,0.86048731427874525,null,null,0.17314419465334485,null,null,null,0.3059736589340642,null,null,0.45702265885870924,null,null,0.55177937838500268,null,null,0.62088682286823282,null,null,3.473004116625656E-2,null,null,null,0.20638006140824011,null,null,0.38136869155882808,null,null,0.54220032473554158,null,null,0.73996308948725209,null,null,6.9568887365465279E-2,null,null,null,0.11791407083101588,null,null,0.17264104202580269,null,null,0.28453478795275577,null,null,0.40843547755118836,null,null,3.738252197251371E-2,null,null,null,8.8907796540705686E-2,null,null,0.11746773330892675,null,null,0.20162750390906112,null,null,0.28181354843768086,null,null,6.1311692256936251E-2,null,null,null,0.14003245602778716,null,null,0.23281145300122916,null,null,0.34801054210707544,null,null,0.4316402786694129,null,null,5.6290232986081178E-2,null,null,null,0.10299929273987254,null,null,0.17014795409892566,null,null,0.22551638925208756,null,null,0.28418353322066525,null,null,0.19253909815095696,null,null,null,0.22749191707410352,null,null,0.27283506391434847,null,null,0.30673210093389769,null,null,0.35225894294759197,null,null,1.2094339904497882E-2,null,null,null,6.703985507068902E-2,null,null,0.1493055388675977,null,null,0.27280191754111743,null,null,0.47884331548852549,null,null,0.8193011774419473,null,null,null,0.96846296246332775,null,null,1.087928830363637,null,null,1.1720470663423397,null,null,1.2499044173000227,null,null,0.2924313642604795,null,null,null,0.22131081996546359]
[{"$f":"'Als-Ob-Allokation KW03'!A257","v":"2012-09-12"},{"$f":"'Als-Ob-Allokation KW03'!B257","v":12.3},3,0.57881531615480042,null,null,0.50692094637601937,null,null,0.62656565065159153,null,null,0.57507770541418013,null,null,0.99156911473737896,null,null,0.89208457640641214,null,null,null,0.97459362059219379,null,null,1.027118267165557,null,null,1.0880885523419079,null,null,1.136971143731613,null,null,0.36389457040878387,null,null,null,0.50324647964117986,null,null,0.63554631516458104,null,null,0.74900330967809159,null,null,0.97638146992477592,null,null,0.58988418387749753,null,null,null,0.6516736166108541,null,null,0.72751919896646455,null,null,0.77651637192625456,null,null,0.82614959959404011,null,null,0.30284895779471566,null,null,null,0.48686157091743298,null,null,0.64713354238971943,null,null,0.74545342095615363,null,null,0.88580163234601272,null,null,0.35624001553253903,null,null,null,0.43979070668788012,null,null,0.52772453214649262,null,null,0.70154222363150387,null,null,0.8033715502809482,null,null,0.24212487715025943,null,null,null,0.34899054824444325,null,null,0.45192723504669585,null,null,0.54764755039167712,null,null,0.64962485870111553,null,null,0.34394769775334322,null,null,null,0.45944020759124254,null,null,0.58803473491405933,null,null,0.70752346647182274,null,null,0.78995990655924475,null,null,0.30974431436818545,null,null,null,0.42196697802269556,null,null,0.55062586849432948,null,null,0.63020865212193333,null,null,0.73264618091388956,null,null,0.56230967181673819,null,null,null,0.60089872126336807,null,null,0.65469848489598437,null,null,0.68011923292527254,null,null,0.71990818255725986,null,null,0.15662427609512974,null,null,null,0.25276982041739987,null,null,0.45699012097855574,null,null,0.66926958568771777,null,null,0.76408182511351397,null,null,1.0918733997206476,null,null,null,1.180206214737322,null,null,1.2347513387010247,null,null,1.2781155980552208,null,null,1.3158364777961311,null,null,0.61237563473659418,null,null,null,0.51073233387745631]
[{"$f":"'Als-Ob-Allokation KW03'!A258","v":"2012-09-13"},{"$f":"'Als-Ob-Allokation KW03'!B258","v":11},{"$f":"WEEKDAY(A259,2)","v":4},{"$f":"($F$3/(1+($F$4/(B259-40))^$F$5)+$F$6)","v":0.69408740652480427},null,null,0.62365508418738713,null,null,0.74102500918314818,null,null,0.69476275667045995,null,null,1.0157867480478349,null,null,{"$f":"($V$3/(1+($V$4/(B259-40))^$V$5)+$V$6)*VLOOKUP(C259,$T$9:$V$15,3)","v":1.0107813485296056},null,null,null,{"$f":"($Y$3/(1+($Y$4/(B259-40))^$Y$5)+$Y$6)*VLOOKUP(C259,$T$9:$V$15,3)","v":1.0836931262613532},null,null,{"$f":"($AB$3/(1+($AB$4/(B259-40))^$AB$5)+$AB$6)*VLOOKUP(C259,$T$9:$V$15,3)","v":1.121599392492419},null,null,{"$f":"($AE$3/(1+($AE$4/(B259-40))^$AE$5)+$AE$6)*VLOOKUP(C259,$T$9:$V$15,3)","v":1.1636883211571374},null,null,{"$f":"($AH$3/(1+($AH$4/(B259-40))^$AH$5)+$AH$6)*VLOOKUP(C259,$T$9:$V$15,3)","v":1.2023182943378568},null,null,0.50902757170945279,null,null,null,0.65546140443382062,null,null,0.78041895325444399,null,null,0.86068476033877028,null,null,1.0307545121871946,null,null,0.74014598715482216,null,null,null,0.78763693434262261,null,null,0.84357934950079283,null,null,0.87939304185008904,null,null,0.9165199236901207,null,null,0.43693390809769933,null,null,null,0.60945589546050816,null,null,0.74783694671792633,null,null,0.81953071502774399,null,null,0.92982510387186867,null,null,0.48185291854482981,null,null,null,0.56716023898475865,null,null,0.65390695186360603,null,null,0.81681199714847452,null,null,0.8996116968670127,null,null,0.3484222995686776,null,null,null,0.47335956685651337,null,null,0.5903532584116491,null,null,0.68174401749908642,null,null,0.77039889312477638,null,null,0.47159281935629471,null,null,null,0.59834707557961575,null,null,0.72680313088060633,null,null,0.83262856125270868,null,null,0.89477502920912488,null,null,0.43021667990231599,null,null,null,0.55565659150958424,null,null,0.68711006337192282,null,null,0.76213825647596811,null,null,0.86218288404657273,null,null,0.6952509517486809,null,null,null,0.72908406321331198,null,null,0.77763168189245913,null,null,0.79570773014963936,null,null,0.82748863150144913,null,null,0.24260327511053362,null,null,null,0.35934074696077378,null,null,0.59097251486539482,null,null,0.79389100752946695,null,null,0.86282495994909492,null,null,1.1443640063944975,null,null,null,1.2100946360540756,null,null,1.2462856636662734,null,null,1.2747740281423876,null,null,1.2998771417455117,null,null,0.73689318130325099,null,null,null,0.63599540903718466]
[{"$f":"'Als-Ob-Allokation KW03'!A259","v":"2012-09-14"},{"$f":"'Als-Ob-Allokation KW03'!B259","v":12.4},5,0.5705402889467579,null,null,0.49867224105799784,null,null,{"$f":"($L$3/(1+($L$4/(B260-40))^$L$5)+$L$6)","v":0.61823102807873132},null,null,{"$f":"($O$3/(1+($O$4/(B260-40))^$O$5)+$O$6)","v":0.5664765312346125},null,null,{"$f":"($R$3/(1+($R$4/(B260-40))^$R$5)+$R$6)","v":0.98952339962810387},null,null,0.9393575839466366,null,null,null,1.0277051657124232,null,null,1.0846035814256838,null,null,1.1507879544535009,null,null,1.2035134149755073,null,null,{"$f":"($AL$3/(1+($AL$4/(B260-40))^$AL$5)+$AL$6)*VLOOKUP(C260,$AJ$9:$AL$15,3)","v":0.35109779202436364},null,null,null,{"$f":"($AO$3/(1+($AO$4/(B260-40))^$AO$5)+$AO$6)*VLOOKUP(C260,$AJ$9:$AL$15,3)","v":0.48841077058770821},null,null,{"$f":"($AR$3/(1+($AR$4/(B260-40))^$AR$5)+$AR$6)*VLOOKUP(C260,$AJ$9:$AL$15,3)","v":0.61967522698358268},null,null,{"$f":"($AU$3/(1+($AU$4/(B260-40))^$AU$5)+$AU$6)*VLOOKUP(C260,$AJ$9:$AL$15,3)","v":0.73425619706101586},null,null,{"$f":"($AX$3/(1+($AX$4/(B260-40))^$AX$5)+$AX$6)*VLOOKUP(C260,$AJ$9:$AL$15,3)","v":0.96347896921924781},null,null,{"$f":"($BB$3/(1+($BB$4/(B260-40))^$BB$5)+$BB$6)*VLOOKUP(C260,$AZ$9:$BB$15,3)","v":0.57395659400341514},null,null,null,{"$f":"($BE$3/(1+($BE$4/(B260-40))^$BE$5)+$BE$6)*VLOOKUP(C260,$AZ$9:$BB$15,3)","v":0.63624105838135392},null,null,{"$f":"($BH$3/(1+($BH$4/(B260-40))^$BH$5)+$BH$6)*VLOOKUP(C260,$AZ$9:$BB$15,3)","v":0.71279542713684396},null,null,{"$f":"($BK$3/(1+($BK$4/(B260-40))^$BK$5)+$BK$6)*VLOOKUP(C260,$AZ$9:$BB$15,3)","v":0.76225547476902078},null,null,{"$f":"($BN$3/(1+($BN$4/(B260-40))^$BN$5)+$BN$6)*VLOOKUP(C260,$AZ$9:$BB$15,3)","v":0.81220570036464967},null,null,{"$f":"($BR$3/(1+($BR$4/(B260-40))^$BR$5)+$BR$6)*VLOOKUP(C260,$BP$9:$BR$15,3)","v":0.29851811526688787},null,null,null,{"$f":"($BU$3/(1+($BU$4/(B260-40))^$BU$5)+$BU$6)*VLOOKUP(C260,$BP$9:$BR$15,3)","v":0.48582734639359237},null,null,{"$f":"($BX$3/(1+($BX$4/(B260-40))^$BX$5)+$BX$6)*VLOOKUP(C260,$BP$9:$BR$15,3)","v":0.64982499329853627},null,null,{"$f":"($CA$3/(1+($CA$4/(B260-40))^$CA$5)+$CA$6)*VLOOKUP(C260,$BP$9:$BR$15,3)","v":0.75147758390699271},null,null,{"$f":"($CD$3/(1+($CD$4/(B260-40))^$CD$5)+$CD$6)*VLOOKUP(C260,$BP$9:$BR$15,3)","v":0.89599887898847286},null,null,{"$f":"($CH$3/(1+($CH$4/(B260-40))^$CH$5)+$CH$6)*VLOOKUP(C260,$CF$9:$CH$15,3)","v":0.34096918837529072},null,null,null,0.42258142557139911,null,null,{"$f":"($CN$3/(1+($CN$4/(B260-40))^$CN$5)+$CN$6)*VLOOKUP(C260,$CF$9:$CH$15,3)","v":0.50868048736333371},null,null,{"$f":"($CQ$3/(1+($CQ$4/(B260-40))^$CQ$5)+$CQ$6)*VLOOKUP(C260,$CF$9:$CH$15,3)","v":0.67947729697629444},null,null,{"$f":"($CT$3/(1+($CT$4/(B260-40))^$CT$5)+$CT$6)*VLOOKUP(C260,$CF$9:$CH$15,3)","v":0.78055389226698579},null,null,{"$f":"($CX$3/(1+($CX$4/(B260-40))^$CX$5)+$CX$6)*VLOOKUP(C260,$CV$9:$CX$15,3)","v":0.23535115934829864},null,null,null,{"$f":"($DA$3/(1+($DA$4/(B260-40))^$DA$5)+$DA$6)*VLOOKUP(C260,$CV$9:$CX$15,3)","v":0.34090538352161343},null,null,{"$f":"($DD$3/(1+($DD$4/(B260-40))^$DD$5)+$DD$6)*VLOOKUP(C260,$CV$9:$CX$15,3)","v":0.44263030116930402},null,null,{"$f":"($DG$3/(1+($DG$4/(B260-40))^$DG$5)+$DG$6)*VLOOKUP(C260,$CV$9:$CX$15,3)","v":0.53852018968587856},null,null,{"$f":"($DJ$3/(1+($DJ$4/(B260-40))^$DJ$5)+$DJ$6)*VLOOKUP(C260,$CV$9:$CX$15,3)","v":0.64116900506626118},null,null,{"$f":"($DN$3/(1+($DN$4/(B260-40))^$DN$5)+$DN$6)*VLOOKUP(C260,$DL$9:$DN$15,3)","v":0.31740305762427656},null,null,null,{"$f":"($DQ$3/(1+($DQ$4/(B260-40))^$DQ$5)+$DQ$6)*VLOOKUP(C260,$DL$9:$DN$15,3)","v":0.42586119767218228},null,null,{"$f":"($DT$3/(1+($DT$4/(B260-40))^$DT$5)+$DT$6)*VLOOKUP(C260,$DL$9:$DN$15,3)","v":0.54730751881368211},null,null,{"$f":"($DW$3/(1+($DW$4/(B260-40))^$DW$5)+$DW$6)*VLOOKUP(C260,$DL$9:$DN$15,3)","v":0.66104227575930019},null,null,{"$f":"($DZ$3/(1+($DZ$4/(B260-40))^$DZ$5)+$DZ$6)*VLOOKUP(C260,$DL$9:$DN$15,3)","v":0.74012831963589021},null,null,{"$f":"($ED$3/(1+($ED$4/(B260-40))^$ED$5)+$ED$6)*VLOOKUP(C260,$EB$9:$ED$15,3)","v":0.32382919769631874},null,null,null,{"$f":"($EG$3/(1+($EG$4/(B260-40))^$EG$5)+$EG$6)*VLOOKUP(C260,$EB$9:$ED$15,3)","v":0.443008511563803},null,null,{"$f":"($EJ$3/(1+($EJ$4/(B260-40))^$EJ$5)+$EJ$6)*VLOOKUP(C260,$EB$9:$ED$15,3)","v":0.58051307959975973},null,null,{"$f":"($EM$3/(1+($EM$4/(B260-40))^$EM$5)+$EM$6)*VLOOKUP(C260,$EB$9:$ED$15,3)","v":0.66602220486056396},null,null,{"$f":"($EP$3/(1+($EP$4/(B260-40))^$EP$5)+$EP$6)*VLOOKUP(C260,$EB$9:$ED$15,3)","v":0.77582035059427368},null,null,{"$f":"($ET$3/(1+($ET$4/(B260-40))^$ET$5)+$ET$6)*VLOOKUP(C260,$ER$9:$ET$15,3)","v":0.52320970110726295},null,null,null,{"$f":"($EW$3/(1+($EW$4/(B260-40))^$EW$5)+$EW$6)*VLOOKUP(C260,$ER$9:$ET$15,3)","v":0.55996207659259234},null,null,{"$f":"($EZ$3/(1+($EZ$4/(B260-40))^$EZ$5)+$EZ$6)*VLOOKUP(C260,$ER$9:$ET$15,3)","v":0.61112140577399998},null,null,{"$f":"($FC$3/(1+($FC$4/(B260-40))^$FC$5)+$FC$6)*VLOOKUP(C260,$ER$9:$ET$15,3)","v":0.63562054345559738},null,null,{"$f":"($FF$3/(1+($FF$4/(B260-40))^$FF$5)+$FF$6)*VLOOKUP(C260,$ER$9:$ET$15,3)","v":0.67374860700207495},null,null,{"$f":"($FJ$3/(1+($FJ$4/(B260-40))^$FJ$5)+$FJ$6)*VLOOKUP(C260,$FH$9:$FJ$15,3)","v":0.14258199322205825},null,null,null,{"$f":"($FM$3/(1+($FM$4/(B260-40))^$FM$5)+$FM$6)*VLOOKUP(C260,$FH$9:$FJ$15,3)","v":0.23193316143431567},null,null,{"$f":"($FP$3/(1+($FP$4/(B260-40))^$FP$5)+$FP$6)*VLOOKUP(C260,$FH$9:$FJ$15,3)","v":0.42223765561858834},null,null,{"$f":"($FS$3/(1+($FS$4/(B260-40))^$FS$5)+$FS$6)*VLOOKUP(C260,$FH$9:$FJ$15,3)","v":0.62237578695792439},null,null,{"$f":"($FV$3/(1+($FV$4/(B260-40))^$FV$5)+$FV$6)*VLOOKUP(C260,$FH$9:$FJ$15,3)","v":0.71361502969212509},null,null,{"$f":"($FZ$3/(1+($FZ$4/(B260-40))^$FZ$5)+$FZ$6)*VLOOKUP(C260,$FX$9:$FZ$15,3)","v":0.96381216129152192},null,null,null,{"$f":"($GC$3/(1+($GC$4/(B260-40))^$GC$5)+$GC$6)*VLOOKUP(C260,$FX$9:$FZ$15,3)","v":1.0435549436638119},null,null,{"$f":"($GF$3/(1+($GF$4/(B260-40))^$GF$5)+$GF$6)*VLOOKUP(C260,$FX$9:$FZ$15,3)","v":1.0931238029075316},null,null,{"$f":"($GI$3/(1+($GI$4/(B260-40))^$GI$5)+$GI$6)*VLOOKUP(C260,$FX$9:$FZ$15,3)","v":1.1325154790942173},null,null,{"$f":"($GL$3/(1+($GL$4/(B260-40))^$GL$5)+$GL$6)*VLOOKUP(C260,$FX$9:$FZ$15,3)","v":1.1667740123428141},null,null,{"$f":"($GP$3/(1+($GP$4/(B260-40))^$GP$5)+$GP$6)*VLOOKUP(C260,$GN$9:$GP$15,3)","v":0.59817316469140036},null,null,null,{"$f":"($GS$3/(1+($GS$4/(B260-40))^$GS$5)+$GS$6)*VLOOKUP(C260,$GN$9:$GP$15,3)","v":0.49762448387486907}]
[{"$f":"'Als-Ob-Allokation KW03'!A260","v":"2012-09-15"},{"$f":"'Als-Ob-Allokation KW03'!B260","v":13.6},6,0.47806632209683142,null,null,0.40783900396136502,null,null,0.52404307337377776,null,null,0.47048905895204157,null,null,0.96298178613146357,null,null,0.37480781822399761,null,null,null,0.41699108809944485,null,null,0.44742788004822653,null,null,0.48342275222178815,null,null,0.51065196531791912,null,null,0.19150294348317864,null,null,null,0.28734605560968174,null,null,0.38575045993694074,null,null,0.48924874322340661,null,null,0.69467566466851105,null,null,0.34643053873847857,null,null,null,0.40296459935346518,null,null,0.4726958945381407,null,null,0.51765221852858445,null,null,0.56103481443647796,null,null,0.21145504967559267,null,null,null,0.40582366635564437,null,null,0.58536916895025171,null,null,0.70935568201719568,null,null,0.87888609842637588,null,null,0.24190964556292732,null,null,null,0.31504025578647726,null,null,0.39421304672590934,null,null,0.55726756880810591,null,null,0.66580885495096742,null,null,0.15657349393790629,null,null,null,0.24198124070348651,null,null,0.32315537040939502,null,null,0.41387718264701939,null,null,0.51461304853138257,null,null,0.20921591992821748,null,null,null,0.29804327639933775,null,null,0.40285230355898821,null,null,0.50948862202608913,null,null,0.58860321671846416,null,null,0.20613020347405542,null,null,null,0.29688719301668476,null,null,0.40920205601940518,null,null,0.48325628333923765,null,null,0.57561549392525324,null,null,0.38225688672815478,null,null,null,0.41685332947077669,null,null,0.46430219353010221,null,null,0.49022023852338475,null,null,0.52856184499126835,null,null,8.1225260429301394E-2,null,null,null,0.14817006689025342,null,null,0.29144489394575218,null,null,0.46229899430936877,null,null,0.56214454539579428,null,null,0.31134152418425287,null,null,null,0.34397997895929727,null,null,0.36568154871975378,null,null,0.38272165195875379,null,null,0.39758228639431953,null,null,0.46795071115355041,null,null,null,0.37825917880292143]
[{"$f":"'Als-Ob-Allokation KW03'!A261","v":"2012-09-16"},{"$f":"'Als-Ob-Allokation KW03'!B261","v":13.8},7,0.4638885819412516,null,null,{"$f":"($I$3/(1+($I$4/(B262-40))^$I$5)+$I$6)","v":0.39414694066659173},null,null,0.50943601084037327,null,null,0.45581676803647647,null,null,0.9582156840209598,null,null,0.73122488897129356,null,null,null,0.81573078635578822,null,null,0.87764814945070313,null,null,0.95098847875968118,null,null,1.0061796770646274,null,null,0.21885960474915636,null,null,null,0.3329090814041798,null,null,0.4511969979103706,null,null,0.57909260969229548,null,null,0.83303429870242207,null,null,0.4026472155887551,null,null,null,0.47282146157717581,null,null,0.55927991286016265,null,null,0.61497737412816489,null,null,0.66824697040416858,null,null,0.19376633632821388,null,null,null,0.38354831750888363,null,null,0.56017556446617955,null,null,0.68408679014428586,null,null,0.85261210395527998,null,null,0.22046801133315166,null,null,null,0.28965133149651118,null,null,0.36483591159356088,null,null,0.52048550313216724,null,null,0.62611545645275202,null,null,0.1362402350303355,null,null,null,0.21308878413898,null,null,0.28568480499155618,null,null,0.36929112864944297,null,null,0.46237607305619177,null,null,0.21132392934051938,null,null,null,0.30450496139805977,null,null,0.41512748953581868,null,null,0.52904822391895778,null,null,0.61412669056691094,null,null,0.18823493848242054,null,null,null,0.27351075678607828,null,null,0.38016456146603694,null,null,0.45112630334890602,null,null,0.53918328881878497,null,null,0.39310214057720411,null,null,null,0.4300631454564009,null,null,0.48065290865860621,null,null,0.50879070468740317,null,null,0.55015895266874104,null,null,7.1249225857797846E-2,null,null,null,0.13303062531463625,null,null,0.26472343196942666,null,null,0.42468566032408717,null,null,0.5221893437432692,null,null,0.36868562283196704,null,null,null,0.40868467129398067,null,null,0.43553797729583793,null,null,0.45656098545426266,null,null,0.47491693882367458,null,null,0.46532484921071671,null,null,null,0.37447151435760218]
[{"$f":"'Als-Ob-Allokation KW03'!A262","v":"2012-09-17"},{"$f":"'Als-Ob-Allokation KW03'!B262","v":16.2},1,0.32078451895184101,null,null,0.26009692953160973,null,null,0.35971081171586483,null,null,0.3093609923126181,null,null,0.8952639884816076,null,null,0.73965209954288935,null,null,null,0.85016845775274719,null,null,0.94290987983420016,null,null,1.0529914285577207,null,null,1.1342894422370653,null,null,0.13388083207835444,null,null,null,0.24740899171154973,null,null,0.37601321791811165,null,null,0.56186054913240069,null,null,0.93776142470251012,null,null,0.30006576578591693,null,null,null,0.41227198113685964,null,null,0.54591132375864693,null,null,0.6308880635514531,null,null,0.70240928012520676,null,null,7.9275100109169633E-2,null,null,null,0.24938581014976915,null,null,0.41823628788856954,null,null,0.55702152023886187,null,null,0.73590427440107264,null,null,0.12696090236442278,null,null,null,0.18783134597207968,null,null,0.25621067754370724,null,null,0.40234440419614653,null,null,0.5280087590154745,null,null,7.5890984104204848E-2,null,null,null,0.14180996787321853,null,null,0.19434789016129014,null,null,0.28591114875520646,null,null,0.38463142233032754,null,null,0.11906204888952743,null,null,null,0.20578060376667057,null,null,0.31142628231916436,null,null,0.43361542710796114,null,null,0.52661400537161918,null,null,0.11239253923205973,null,null,null,0.18265488793558346,null,null,0.27975626997203756,null,null,0.35149538335528219,null,null,0.43441257206600387,null,null,0.28134612589670255,null,null,null,0.32031239939728345,null,null,0.37244460920567879,null,null,0.40687760379517285,null,null,0.45493777042004491,null,null,3.2164344839073794E-2,null,null,null,9.0352519041166313E-2,null,null,0.1984515001841648,null,null,0.35309124706380213,null,null,0.51144940376071357,null,null,0.8839285280825665,null,null,null,1.0165169129285254,null,null,1.1147250915010005,null,null,1.1880176619253136,null,null,1.2536016538479475,null,null,0.37167913518987855,null,null,null,0.28665926668746761]
[{"$f":"'Als-Ob-Allokation KW03'!A263","v":"2012-09-18"},{"$f":"'Als-Ob-Allokation KW03'!B263","v":16.899999999999999},2,0.28799877980867794,null,null,0.23063732535623122,null,null,0.32488621884112345,null,null,0.27650308718522193,null,null,0.87582201521911651,null,null,0.7426337417453126,null,null,null,0.86010132315946397,null,null,0.96143334006581271,null,null,1.0812507180999149,null,null,1.1701457122829455,null,null,0.10679691902090811,null,null,null,0.21170319723027023,null,null,0.33235394777677962,null,null,0.52025616342006986,null,null,0.90279529166225914,null,null,0.25270223628876182,null,null,null,0.37026319677935443,null,null,0.50837758814423339,null,null,0.59582806056234949,null,null,0.66637897458407902,null,null,6.5021234718326257E-2,null,null,null,0.24289703512240021,null,null,0.42144292984071391,null,null,0.57383776556193222,null,null,0.767473370533031,null,null,0.10332656976992183,null,null,null,0.15900618363453203,null,null,0.22186457067232676,null,null,0.35564032880152141,null,null,0.47943050452693864,null,null,6.0422087633640993E-2,null,null,null,0.12060828955492921,null,null,0.16455375395404248,null,null,0.25303559814615006,null,null,0.34568024681583798,null,null,9.8674467881573247E-2,null,null,null,0.18338132526493175,null,null,0.2859766021957581,null,null,0.40767793293368537,null,null,0.49941448079173534,null,null,8.8840879216087396E-2,null,null,null,0.14953286475812327,null,null,0.2349754994649903,null,null,0.30012829019459969,null,null,0.37358318575746252,null,null,0.25260685212468004,null,null,null,0.2909642272251885,null,null,0.34187780320119376,null,null,0.37689457630291223,null,null,0.42520173482832146,null,null,2.5222662976797126E-2,null,null,null,8.4327044063521137E-2,null,null,0.18750744980129072,null,null,0.33906524270045563,null,null,0.5197125478908321,null,null,0.86925813072981262,null,null,null,1.0089904350659822,null,null,1.1151093019904539,null,null,1.1929815770068941,null,null,1.263337222000547,null,null,0.34317637938939671,null,null,null,0.26254592724320108]
[{"$f":"'Als-Ob-Allokation KW03'!A264","v":"2012-09-19"},{"$f":"'Als-Ob-Allokation KW03'!B264","v":11.8},3,0.62147811010958975,null,null,0.54973766082945974,null,null,0.66928652484431372,null,null,0.61941711068304695,null,null,1.0014050781719739,null,null,0.91703840216718113,null,null,null,0.99467910155367545,null,null,1.0409946122236127,null,null,1.094082478160407,null,null,1.1383272361852297,null,null,0.41143820667712738,null,null,null,0.55300430682912272,null,null,0.6825291604711341,null,null,0.78342726965437293,null,null,0.98827456755975707,null,null,0.63950348102448973,null,null,null,0.69539826414071337,null,null,0.76333290410382648,null,null,0.80715400421459949,null,null,0.85212118986181795,null,null,0.34902428209991898,null,null,null,0.52929435131686497,null,null,0.68193606834953424,null,null,0.77045105124877367,null,null,0.89974440307067505,null,null,0.40031030382978688,null,null,null,0.48490678214920307,null,null,0.57283695844730731,null,null,0.74343744376907306,null,null,0.83832856983382531,null,null,0.27870707262771804,null,null,null,0.39227867462860438,null,null,0.50100257327875297,null,null,0.59552429896401693,null,null,0.69338122180064876,null,null,0.38868610144242316,null,null,null,0.5083987605309872,null,null,0.63755960827307889,null,null,0.7526540607186597,null,null,0.82840070609773231,null,null,0.35220311617253464,null,null,null,0.46994956430178908,null,null,0.60056934156379516,null,null,0.67911929025734641,null,null,0.78150356358103401,null,null,0.61018539196308363,null,null,null,0.64722896559959364,null,null,0.69933752655495218,null,null,0.72217334843712699,null,null,0.75914717199139869,null,null,0.18706912695532915,null,null,null,0.29110129029271764,null,null,0.50791660865024602,null,null,0.71987128548776658,null,null,0.80529230462264167,null,null,1.1211792531337275,null,null,null,1.2016448746188895,null,null,1.2495354709331552,null,null,1.2876133769413005,null,null,1.320813888345076,null,null,0.65539732090624847,null,null,null,0.55372027947576408]
[{"$f":"'Als-Ob-Allokation KW03'!A265","v":"2012-09-20"},{"$f":"'Als-Ob-Allokation KW03'!B265","v":9.8000000000000007},4,0.81236669199924261,null,null,0.74658064225958154,null,null,0.85524152814059673,null,null,0.81676241617403433,null,null,1.0343444206928447,null,null,1.0804738414601949,null,null,null,1.1383446391369112,null,null,1.1590393358917956,null,null,1.1793687088817517,null,null,1.2056410498904004,null,null,0.66556388955691892,null,null,null,0.80801214992204018,null,null,0.91353474230488629,null,null,0.95384555259958814,null,null,1.0590493361349433,null,null,0.87744073278920609,null,null,null,0.91022446556025838,null,null,0.94452901844607051,null,null,0.96560321228468338,null,null,0.98661889320071017,null,null,0.59103888390649917,null,null,null,0.74151795054476399,null,null,0.8491109041343019,null,null,0.89076378472828077,null,null,0.9663494130566419,null,null,0.62353814712962274,null,null,null,0.70545849280236683,null,null,0.78563351404159087,null,null,0.92816901541248398,null,null,0.98926977647677505,null,null,0.4766758676449811,null,null,null,0.61701583793372228,null,null,0.74070138116764184,null,null,0.82220346104595166,null,null,0.88910175459603413,null,null,0.61641017556218514,null,null,null,0.75125255203525199,null,null,0.87145327705217246,null,null,0.95573788987127006,null,null,0.98950900267658604,null,null,0.56950355369038308,null,null,null,0.70153715422343987,null,null,0.82714181987906488,null,null,0.89155089222962802,null,null,0.98180914215777026,null,null,0.83045630638828072,null,null,null,0.85711050522896537,null,null,0.89749049742176035,null,null,0.90673074980669155,null,null,0.92869579064285224,null,null,0.35900500203472629,null,null,null,0.50107934818838584,null,null,0.75199406933449064,null,null,0.93199809248473586,null,null,0.97633387220092327,null,null,1.2190475621086432,null,null,null,1.2641027430572687,null,null,1.2839279193305952,null,null,1.298329132742815,null,null,1.3117702669256714,null,null,0.8614949991689792,null,null,null,0.76829539594133189]
[{"$f":"'Als-Ob-Allokation KW03'!A266","v":"2012-09-21"},{"$f":"'Als-Ob-Allokation KW03'!B266","v":13.2},5,0.5074822459022259,null,null,0.43645352317212427,null,null,0.55421039047442122,null,null,0.50097985163846359,null,null,0.97222913202370598,null,null,0.89958997119791695,null,null,null,0.99534474416571295,null,null,1.0621668548943402,null,null,1.1408714412777297,null,null,1.2011860727619352,null,null,0.28625469010690158,null,null,null,0.41834244994918801,null,null,0.55105150863648256,null,null,0.68280062690991772,null,null,0.94441497336769864,null,null,0.50064844446917522,null,null,null,0.572162594649814,null,null,0.66045760719931923,null,null,0.71745352083596481,null,null,0.77338706640456467,null,null,0.23521466613436998,null,null,null,0.42566656478729825,null,null,0.59877699099699588,null,null,0.71441455689931543,null,null,0.87435398373569184,null,null,0.28132995491145407,null,null,null,0.36016244239804035,null,null,0.44482437898711236,null,null,0.61721417230232301,null,null,0.72761226787616651,null,null,0.18671583247708512,null,null,null,0.28204664361480247,null,null,0.37345717600180112,null,null,0.46981883614520442,null,null,0.57594683455448292,null,null,0.2590893967812487,null,null,null,0.36123330835782763,null,null,0.4800309757809485,null,null,0.59785053899703078,null,null,0.68384165178813894,null,null,0.26173891421605455,null,null,null,0.37047441936766368,null,null,0.5020956696790686,null,null,0.58728039976556379,null,null,0.69457258682632061,null,null,0.45701859705374376,null,null,null,0.49521860912705046,null,null,0.54783700518763789,null,null,0.57548119015674493,null,null,0.61695176606759661,null,null,0.10621390587524122,null,null,null,0.18566090144387773,null,null,0.35637321103915504,null,null,0.5521628980980593,null,null,0.65740839146251817,null,null,0.92432808246078946,null,null,null,1.0144296435815323,null,null,1.0731291579736777,null,null,1.1194607595731445,null,null,1.1597926556451243,null,null,0.53646890126557134,null,null,null,0.43765380030631751]
[{"$f":"'Als-Ob-Allokation KW03'!A267","v":"2012-09-22"},{"$f":"'Als-Ob-Allokation KW03'!B267","v":12.8},6,0.53830988612827446,null,null,0.46672645853160594,null,null,0.58562026539514389,null,null,0.53298458611701505,null,null,0.98108081749903464,null,null,0.39112365985043335,null,null,null,0.43034231354409064,null,null,0.45670184088856858,null,null,0.4875809262428612,null,null,0.51164881483810132,null,null,0.23582890636752618,null,null,null,0.33607273779135349,null,null,0.43442520571550458,null,null,0.52621910949370121,null,null,0.70893205315751118,null,null,0.39875494826125807,null,null,null,0.44848167279402734,null,null,0.50981437264602814,null,null,0.54943584565648373,null,null,0.58891622646883435,null,null,0.26996674010211613,null,null,null,0.46246866832859584,null,null,0.63435539983707767,null,null,0.74513737744311703,null,null,0.9003413392386197,null,null,0.29398278139938666,null,null,null,0.37019941747737439,null,null,0.45134913546494376,null,null,0.61453058755408851,null,null,0.71502376618228158,null,null,0.19796907704464375,null,null,null,0.29266785162830711,null,null,0.38388843181770538,null,null,0.47475463372116222,null,null,0.5736274541451164,null,null,0.2572791973745166,null,null,null,0.35163620591761702,null,null,0.45948555129912988,null,null,0.5635412504359818,null,null,0.63788859680247501,null,null,0.25594544417233611,null,null,null,0.35611369436760437,null,null,0.47456397020810509,null,null,0.54975009120532403,null,null,0.64536688771158301,null,null,0.43853267211588676,null,null,null,0.47222436627110309,null,null,0.51885958593655945,null,null,0.54231875061158052,null,null,0.57810090845085649,null,null,0.10963679275323523,null,null,null,0.18449552903131355,null,null,0.34509596458389713,null,null,0.52173640410182076,null,null,0.60915262195052111,null,null,0.32449440603142404,null,null,null,0.35373227509948796,null,null,0.37236101852043524,null,null,0.38712504144225895,null,null,0.39996461384474657,null,null,0.52158874994799198,null,null,null,0.42961918562049611]
[{"$f":"'Als-Ob-Allokation KW03'!A268","v":"2012-09-23"},{"$f":"'Als-Ob-Allokation KW03'!B268","v":14.3},7,0.42998689614714569,null,null,0.36168265115667164,null,null,0.47433436468679102,null,null,0.42081498097494663,null,null,0.94591047258047067,null,null,0.71279431548437788,null,null,null,0.80047786206307525,null,null,0.86701359812824141,null,null,0.94604807950248371,null,null,1.0049356182500293,null,null,0.19116080874915933,null,null,null,0.30132403334237468,null,null,0.41827470909637715,null,null,0.55336218535132675,null,null,0.8221624386153874,null,null,0.36676895215023469,null,null,null,0.44196284015265919,null,null,0.53420442801597778,null,null,0.59349373376017023,null,null,0.64886978783312033,null,null,0.16502827939388431,null,null,null,0.35457745470234447,null,null,0.53404156958337456,null,null,0.664737834338613,null,null,0.84028922633370973,null,null,0.19458595909221407,null,null,null,0.2615126531898741,null,null,0.33489051521570457,null,null,0.48856176892457226,null,null,0.59800362294703746,null,null,0.11723885071546267,null,null,null,0.18925192975716587,null,null,0.25591518370752242,null,null,0.33888362227808644,null,null,0.43152250213886229,null,null,0.18480682180147809,null,null,null,0.27459659751044169,null,null,0.3825204352512554,null,null,0.49686560952375775,null,null,0.58332939513552062,null,null,0.16372522631738107,null,null,null,0.24327035672202721,null,null,0.34527642172224993,null,null,0.41466642533200815,null,null,0.49965360623223393,null,null,0.35997071913281803,null,null,null,0.39703895952208246,null,null,0.44753450533989214,null,null,0.47682075781531708,null,null,0.51929236575398963,null,null,5.8636799390235993E-2,null,null,null,0.11676168936029137,null,null,0.23872614259336319,null,null,0.39336823218964911,null,null,0.49820767584156955,null,null,0.35957057688671179,null,null,null,0.40184042239806911,null,null,0.43087240220704315,null,null,0.45341405281750768,null,null,0.47316850463248378,null,null,0.4353375755025925,null,null,null,0.34665833555677672]
[{"$f":"'Als-Ob-Allokation KW03'!A269","v":"2012-09-24"},{"$f":"'Als-Ob-Allokation KW03'!B269","v":15.9},1,0.33602253764658008,null,null,0.27396772444923745,null,null,0.37583742659768338,null,null,0.32474967771246666,null,null,0.90354241413793246,null,null,0.74937609053212662,null,null,null,0.85840032513009634,null,null,0.94869294729985909,null,null,1.0559887587577181,null,null,1.1351564043243589,null,null,0.14616926197032029,null,null,null,0.26266633648615517,null,null,0.39359619743456031,null,null,0.57663053443668155,null,null,0.94576965719333561,null,null,0.31987658478574782,null,null,null,0.42877554435617959,null,null,0.55920013899912024,null,null,0.64228325794286112,null,null,0.71345365615399625,null,null,8.8276081871242459E-2,null,null,null,0.2593953487352374,null,null,0.42827387935382,null,null,0.5647130030903198,null,null,0.74166308357024746,null,null,0.13708539812197562,null,null,null,0.19954447265977152,null,null,0.26951197694955376,null,null,0.41898994464119327,null,null,0.54364963160619761,null,null,8.3258414639538411E-2,null,null,null,0.15155372466824213,null,null,0.20774977525144486,null,null,0.30014931078984247,null,null,0.40077336734145602,null,null,0.12979303659946767,null,null,null,0.21811760369059766,null,null,0.32582245415794264,null,null,0.44891669320248068,null,null,0.54283450083425733,null,null,0.12262384323554923,null,null,null,0.19637650678915419,null,null,0.29733587147039986,null,null,0.3709460373887869,null,null,0.45688909375726339,null,null,0.2968304490847315,null,null,null,0.33624584418373643,null,null,0.38914210634754171,null,null,0.42344581429726258,null,null,0.47157557796422939,null,null,3.6549192140817185E-2,null,null,null,9.608780909597732E-2,null,null,0.20943935816669629,null,null,0.36927519173173595,null,null,0.52259099866932546,null,null,0.89564058560249604,null,null,null,1.0256540046202647,null,null,1.1208928836721006,null,null,1.1924629191350298,null,null,1.2562585824994881,null,null,0.38521061159453368,null,null,null,0.29831491086811135]
[{"$f":"'Als-Ob-Allokation KW03'!A270","v":"2012-09-25"},{"$f":"'Als-Ob-Allokation KW03'!B270","v":13.5},2,0.48528773761524824,null,null,0.41483825288512205,null,null,0.53146646179437107,null,null,0.47796877446409697,null,null,0.96532974381584946,null,null,0.87058311468908589,null,null,null,0.9672419802604737,null,null,1.0364294985336355,null,null,1.1181778519862737,null,null,1.1801986469410735,null,null,0.27983936800150294,null,null,null,0.41708625545042005,null,null,0.55726501500983716,null,null,0.70263516929811398,null,null,0.99115786663195926,null,null,0.50198041576112795,null,null,null,0.58123354173678898,null,null,0.67902765754503047,null,null,0.74209851845274055,null,null,0.80322627969904592,null,null,0.20842081596134851,null,null,null,0.39401991175166362,null,null,0.56479936967138189,null,null,0.68178251452214877,null,null,0.84217936067049048,null,null,0.24439111607804562,null,null,null,0.31689507052241606,null,null,0.39523603548600039,null,null,0.55613838756560785,null,null,0.66221781573003236,null,null,0.17056941677143814,null,null,null,0.26207626896980474,null,null,0.34927559579548562,null,null,0.44529943313249115,null,null,0.55174274979091431,null,null,0.25509601732044124,null,null,null,0.36139465933799608,null,null,0.48640132538656294,null,null,0.61279961980576525,null,null,0.70623119915672949,null,null,0.23456019978099873,null,null,null,0.33635918288176636,null,null,0.46165935231079347,null,null,0.5438974391816308,null,null,0.64671899601070615,null,null,0.46196238899366759,null,null,null,0.50296656893190361,null,null,0.55926219403585897,null,null,0.58972592152832493,null,null,0.63494030701009374,null,null,0.10186257247865046,null,null,null,0.18375883784203548,null,null,0.35929769181584525,null,null,0.56665177017117452,null,null,0.68531194219443081,null,null,1.0182378797492624,null,null,null,1.1231132395334282,null,null,1.1925013046699311,null,null,1.2470609319335968,null,null,1.2946171012577525,null,null,0.52530999107016807,null,null,null,0.42558551454230914]
[{"$f":"'Als-Ob-Allokation KW03'!A271","v":"2012-09-26"},{"$f":"'Als-Ob-Allokation KW03'!B271","v":12.7},3,0.54623648941660141,null,null,0.47455569602270192,null,null,0.59366219133060261,null,null,0.54121943343128553,null,null,0.98323020804259054,null,null,0.87281460450147597,null,null,null,0.95897935232466336,null,null,1.0163073936325506,null,null,1.0833574938832025,null,null,1.1358776171685552,null,null,0.32907930660942103,null,null,null,0.46609575475705922,null,null,0.59968555037969484,null,null,0.72236444052179749,null,null,0.9667926497561683,null,null,0.55175078505162389,null,null,null,0.61822829023884196,null,null,0.70017061329470176,null,null,0.75311114866703222,null,null,0.80605019047664039,null,null,0.26943074908906001,null,null,null,0.45552348092336087,null,null,0.62090343147768146,null,null,0.72649200961521498,null,null,0.87493530988468848,null,null,0.32393636247307561,null,null,null,0.40627575700857554,null,null,0.49374786491562128,null,null,0.66906306417712103,null,null,0.77596779033241203,null,null,0.21592450780468236,null,null,null,0.31755558792944283,null,null,0.41550237275427271,null,null,0.5117202087034568,null,null,0.61603257488946672,null,null,0.31120068579820315,null,null,null,0.42331786994200676,null,null,0.55084911992994989,null,null,0.67300854447734981,null,null,0.75975231489284345,null,null,0.27886369362131164,null,null,null,0.38635588152049277,null,null,0.51270177345801027,null,null,0.5924985578481522,null,null,0.69422296476898038,null,null,0.52598425718937214,null,null,null,0.5655202130416751,null,null,0.62031766008269618,null,null,0.64756198172513224,null,null,0.68931182355078524,null,null,0.13545919979837837,null,null,null,0.22594235289963868,null,null,0.41981494603529507,null,null,0.63073407814682614,null,null,0.73298977532757448,null,null,1.0691259647915743,null,null,null,1.1634863060840444,null,null,1.2232528325310505,null,null,1.2706590233522874,null,null,1.3118820981662616,null,null,0.57990908541472441,null,null,null,0.47883073630482881]
[{"$f":"'Als-Ob-Allokation KW03'!A272","v":"2012-09-27"},{"$f":"'Als-Ob-Allokation KW03'!B272","v":12.3},4,0.57881531615480042,null,null,0.50692094637601937,null,null,0.62656565065159153,null,null,0.57507770541418013,null,null,0.99156911473737896,null,null,0.94046208523929775,null,null,null,1.0274455729021428,null,null,1.0828186170610612,null,null,1.1470953045535965,null,null,1.1986287858468756,null,null,0.37245019530565637,null,null,null,0.51507844543733017,null,null,0.65048881862383701,null,null,0.76661333160538525,null,null,0.99933744204480335,null,null,0.60375311246355545,null,null,null,0.66699529347085107,null,null,0.74462410208342511,null,null,0.79477326099447632,null,null,0.84557342906994548,null,null,0.30514303940464266,null,null,null,0.49054954853028299,null,null,0.652035580585834,null,null,0.75110023247740021,null,null,0.89251158191825386,null,null,0.35776574130573446,null,null,null,0.44167426829451895,null,null,0.52998470193297709,null,null,0.70454683009038055,null,null,0.80681227739264916,null,null,0.24314042238216166,null,null,null,0.35045432054004527,null,null,0.45382275505323205,null,null,0.5499445504567223,null,null,0.65234958255247621,null,null,0.34542895398828444,null,null,null,0.46141884758948221,null,null,0.59056718424616128,null,null,0.71057050982441472,null,null,0.79336197334029246,null,null,0.31021206476741253,null,null,null,0.4226041978626574,null,null,0.5514573784135296,null,null,0.63116034141840271,null,null,0.73375256294486801,null,null,0.56473133276340814,null,null,null,0.60348657105347747,null,null,0.65751803048123847,null,null,0.68304825632288368,null,null,0.72300856232710176,null,null,0.15424276891196684,null,null,null,0.24892639870769498,null,null,0.4500414838778557,null,null,0.65909319180086157,null,null,0.75246378989956775,null,null,1.0680716422859566,null,null,null,1.1544788895242712,null,null,1.2078349838713889,null,null,1.2502539453707717,null,null,1.2871525473365792,null,null,0.61837931743009011,null,null,null,0.51573951362135295]
[{"$f":"'Als-Ob-Allokation KW03'!A273","v":"2012-09-28"},{"$f":"'Als-Ob-Allokation KW03'!B273","v":13},5,0.52271998941046804,null,null,0.45138159188696514,null,null,0.5697624086958859,null,null,0.51679438870067163,null,null,0.9767054169532301,null,null,0.90926797760698219,null,null,null,1.0032540324205534,null,null,1.0676584124100121,null,null,1.1433241944708681,null,null,1.2017708000000002,null,null,0.30147465357869585,null,null,null,0.43500873924010458,null,null,0.56762343042252295,null,null,0.69534818250275665,null,null,0.94920389075404699,null,null,0.51843615934132403,null,null,null,0.5876550476258563,null,null,0.67309634626012194,null,null,0.72827505390296243,null,null,0.78285115108993841,null,null,0.24993481365896592,null,null,null,0.4398576082852157,null,null,0.61099466989965068,null,null,0.72332594838128683,null,null,0.8796623567469769,null,null,0.29533636645771194,null,null,null,0.37495839619649518,null,null,0.46010641572022259,null,null,0.63242755813029339,null,null,0.74065213633249694,null,null,0.19795814646112819,null,null,null,0.29577788957678897,null,null,0.38983886666312573,null,null,0.48620601905698208,null,null,0.59175399047992916,null,null,0.27277320520627363,null,null,null,0.3764724575759904,null,null,0.49608078250541288,null,null,0.61311282495730068,null,null,0.69768192867439105,null,null,0.27623535930601334,null,null,null,0.38764257953461212,null,null,0.52095218963103251,null,null,0.60640600889319585,null,null,0.71455911114051196,null,null,0.47292913141036869,null,null,null,0.51085127893733429,null,null,0.56321017527690387,null,null,0.59014397591233159,null,null,0.63087062210912281,null,null,0.11444534510014488,null,null,null,0.19617575015869723,null,null,0.37178027649759032,null,null,0.56908052094517814,null,null,0.67083258553641845,null,null,0.93397242327776442,null,null,null,1.0215707408467514,null,null,1.0780228456400054,null,null,1.1226787730512138,null,null,1.1615284579222702,null,null,0.55124671465427033,null,null,null,0.4518524564950534]
[{"$f":"'Als-Ob-Allokation KW03'!A274","v":"2012-09-29"},{"$f":"'Als-Ob-Allokation KW03'!B274","v":10.199999999999999},6,0.771762069415311,null,null,0.70405446149352158,null,null,0.8164022591368979,null,null,0.77501657976906291,null,null,1.0285456259282197,null,null,0.45166122054430063,null,null,null,0.47862653553250811,null,null,0.48996220246507033,null,null,0.50178871631579081,null,null,0.51479265910880756,null,null,0.43811900894283223,null,null,null,0.54207705252556126,null,null,0.62333553863844227,null,null,0.66235652562219294,null,null,0.75391984018050129,null,null,0.59656122286303481,null,null,null,0.62364137232180128,null,null,0.65356590120633384,null,null,0.67233558763465417,null,null,0.69153828357668967,null,null,0.54922622960420375,null,null,null,0.71214666343697741,null,null,0.83394988431635675,null,null,0.8873826793707229,null,null,0.97728434630978189,null,null,0.53066391035952198,null,null,null,0.60808177300142918,null,null,0.68488821914433329,null,null,0.82406089788687176,null,null,0.88765925558634406,null,null,0.40438452762929206,null,null,null,0.53167846874578695,null,null,0.64658056442757494,null,null,0.72691862773740568,null,null,0.79754050409000177,null,null,0.47700870755201891,null,null,null,0.58886236978452355,null,null,0.6934803297558797,null,null,0.77151343812306106,null,null,0.80884680605465153,null,null,0.48930082970562228,null,null,null,0.61220723174902625,null,null,0.73316944415523544,null,null,0.79779850034342403,null,null,0.8865901108968991,null,null,0.66190035487940546,null,null,null,0.686664711565941,null,null,0.72333243335114095,null,null,0.73378618316725652,null,null,0.75528240931107316,null,null,0.26937171088654133,null,null,null,0.38291945411464662,null,null,0.59257791380678293,null,null,0.75429126060807716,null,null,0.79936684973494165,null,null,0.37235238367910151,null,null,null,0.38859530269792281,null,null,0.39649166622143162,null,null,0.40248250139243219,null,null,0.40790991677543476,null,null,0.7389956171431683,null,null,null,0.65186597767283183]
[{"$f":"'Als-Ob-Allokation KW03'!A275","v":"2012-09-30"},{"$f":"'Als-Ob-Allokation KW03'!B275","v":10.5},7,0.74206567948124669,null,null,0.67316391362837591,null,null,0.78775152059875642,null,null,0.74438913842294629,null,null,1.0239460795917665,null,null,0.87565821903196384,null,null,null,0.93200254993139842,null,null,0.9579849892054606,null,null,0.98589578239085129,null,null,1.0141383698788229,null,null,0.49396724802016173,null,null,null,0.62019708796209827,null,null,0.72243427719257569,null,null,0.77818059380194882,null,null,0.90265719703956326,null,null,0.68927105628102192,null,null,null,0.72509776549994931,null,null,0.76586772047916363,null,null,0.7916970445747743,null,null,0.81836350844069905,null,null,0.49712298046218728,null,null,null,0.66171661506186541,null,null,0.78837037142885902,null,null,0.84807152306533107,null,null,0.94454134901706932,null,null,0.47653398768564875,null,null,null,0.55145768064719236,null,null,0.62650744325575236,null,null,0.76438198939490343,null,null,0.83012772786516242,null,null,0.34537204053962045,null,null,null,0.45958407001814994,null,null,0.56428686136119632,null,null,0.64066883833165,null,null,0.71068973495622878,null,null,0.47516303541424249,null,null,null,0.59246450890828051,null,null,0.70578884472042624,null,null,0.79380339530527744,null,null,0.84002524574689585,null,null,0.44027627703839439,null,null,null,0.55741861205313259,null,null,0.67554270702183239,null,null,0.74037454636592837,null,null,0.8283456514849844,null,null,0.67432162225286996,null,null,null,0.70233117556407454,null,null,0.74324359338119494,null,null,0.7563806634739193,null,null,0.781500287091907,null,null,0.23137461290927946,null,null,null,0.33375273002273642,null,null,0.52847544294112592,null,null,0.68639820539949836,null,null,0.734065193683892,null,null,0.43845481526975577,null,null,null,0.45982166217416004,null,null,0.47079703084570912,null,null,0.47928301819470448,null,null,0.48686676472360824,null,null,0.72600598975138975,null,null,null,0.6351746984209784]
[{"$f":"'Als-Ob-Allokation KW03'!A276","v":"2012-10-01"},{"$f":"'Als-Ob-Allokation KW03'!B276","v":12.7},1,0.54623648941660141,null,null,0.47455569602270192,null,null,0.59366219133060261,null,null,0.54121943343128553,null,null,0.98323020804259054,null,null,0.87921746026854974,null,null,null,0.96601430160812973,null,null,1.0237628940594214,null,null,1.0913048652284316,null,null,1.144210269388475,null,null,0.35045138722753139,null,null,null,0.49636637903016168,null,null,0.63863217409870754,null,null,0.76927845409972107,null,null,1.0295810719893208,null,null,0.58758428178748767,null,null,null,0.65837917360952791,null,null,0.7456432470739105,null,null,0.80202200954596636,null,null,0.85839918145575522,null,null,0.25033723143707937,null,null,null,0.42324228936186287,null,null,0.57690240090052292,null,null,0.67500832389445165,null,null,0.81293202020782074,null,null,0.30512974011573518,null,null,null,0.38268879481430212,null,null,0.46508257533738501,null,null,0.6302195818179277,null,null,0.73091779013228153,null,null,0.2181570475849493,null,null,null,0.32083893677069542,null,null,0.41979843708435011,null,null,0.51701111214888862,null,null,0.62240201040822252,null,null,0.30837131790167444,null,null,null,0.41946915737195317,null,null,0.54584092140441209,null,null,0.66688969944669163,null,null,0.75284481466173814,null,null,0.30036873633891209,null,null,null,0.41615036508484377,null,null,0.55223963296358125,null,null,0.63819008058163507,null,null,0.74775913621899948,null,null,0.52120212450366155,null,null,null,0.56037862817815154,null,null,0.61467786893446619,null,null,0.6416744912223199,null,null,0.68304475270789844,null,null,0.12906532338998478,null,null,null,0.21527753661538337,null,null,0.39999905399295743,null,null,0.60096248826414955,null,null,0.69839156391752288,null,null,1.0480917717327962,null,null,null,1.1405956492397058,null,null,1.1991863173714723,null,null,1.2456598295348582,null,null,1.2860718735230283,null,null,0.58559446860506481,null,null,null,0.48352515528820944]
[{"$f":"'Als-Ob-Allokation KW03'!A277","v":"2012-10-02"},{"$f":"'Als-Ob-Allokation KW03'!B277","v":12.8},2,0.53830988612827446,null,null,0.46672645853160594,null,null,0.58562026539514389,null,null,0.53298458611701505,null,null,0.98108081749903464,null,null,0.90372781339307673,null,null,null,0.99434618242844186,null,null,1.055252336809922,null,null,1.1266013528665944,null,null,1.1822124614900975,null,null,0.33561337481088371,null,null,null,0.47827260639673941,null,null,0.61824019641541927,null,null,0.74887414756496451,null,null,1.0088970115521168,null,null,0.56747705771037871,null,null,null,0.63824426812488599,null,null,0.72552820078882274,null,null,0.78191440245018284,null,null,0.83809981265855737,null,null,0.25792303269315725,null,null,null,0.44183709969516483,null,null,0.60605565140865636,null,null,0.71189544345521427,null,null,0.86017547416250495,null,null,0.28976883756853639,null,null,null,0.36489298577400259,null,null,0.44487950518286201,null,null,0.60572191731168323,null,null,0.70477462854887118,null,null,0.20936636654478502,null,null,null,0.30951704990809703,null,null,0.40598929554095725,null,null,0.50208676095451499,null,null,0.60665179439925898,null,null,0.30556986387946256,null,null,null,0.41763744863104785,null,null,0.54572984834319904,null,null,0.66931654383045569,null,null,0.75761870250027585,null,null,0.28336621756529196,null,null,null,0.39426601603505862,null,null,0.52540648912700372,null,null,0.60864769230326676,null,null,0.71450841605752591,null,null,0.52084416576472647,null,null,null,0.56085970725404266,null,null,0.6162482418521914,null,null,0.64411063348596642,null,null,0.6866090135020726,null,null,0.13235344851201578,null,null,null,0.2227228550665763,null,null,0.41659957239958079,null,null,0.62983976968896616,null,null,0.73536855795071243,null,null,1.0558413546779506,null,null,null,1.1509756642713544,null,null,1.2115899532203485,null,null,1.2596291972644047,null,null,1.3014066555716994,null,null,0.57767356177035667,null,null,null,0.4758147969775387]
[{"$f":"'Als-Ob-Allokation KW03'!A278","v":"2012-10-03"},{"$f":"'Als-Ob-Allokation KW03'!B278","v":12.8},3,0.53830988612827446,null,null,0.46672645853160594,null,null,0.58562026539514389,null,null,0.53298458611701505,null,null,0.98108081749903464,null,null,0.86809783448666877,null,null,null,0.95514352319792084,null,null,1.0136484180809964,null,null,1.0821844589260865,null,null,1.1356030682175418,null,null,0.32080644780209555,null,null,null,0.45717169652623763,null,null,0.59096405622172066,null,null,0.71583456787595112,null,null,0.96438548271970781,null,null,0.54244053651269319,null,null,null,0.61008556826011484,null,null,0.6935186209621812,null,null,0.7474171197041537,null,null,0.80112368571156933,null,null,0.26154657236814705,null,null,null,0.44804443311517983,null,null,0.61457007788387408,null,null,0.72189680454681282,null,null,0.87226000932609804,null,null,0.31625648450530924,null,null,null,0.39824769933805387,null,null,0.48554575267023281,null,null,0.66109070169251638,null,null,0.76919777938745082,null,null,0.20977560494694444,null,null,null,0.31012204805099786,null,null,0.4067828633586682,null,null,0.50306816588210379,null,null,0.60783758758612216,null,null,0.30342103085398692,null,null,null,0.41470053223850789,null,null,0.54189215863708895,null,null,0.66460976589227694,null,null,0.75229096478431834,null,null,0.27155587448876461,null,null,null,0.37783351059105041,null,null,0.50350821577409821,null,null,0.58328003161103215,null,null,0.68472861521460737,null,null,0.51718147753260724,null,null,null,0.55691562112491599,null,null,0.61191465163105074,null,null,0.63958110893232567,null,null,0.68178063119672683,null,null,0.13057509369122117,null,null,null,0.21973026010617502,null,null,0.41100197092982754,null,null,0.62137698610948999,null,null,0.72548784660699783,null,null,1.0635415056593513,null,null,null,1.1593696207606896,null,null,1.220425963977088,null,null,1.2688155536772723,null,null,1.3108976910304861,null,null,0.57206508058812022,null,null,null,0.47119523584183448]
[{"$f":"'Als-Ob-Allokation KW03'!A279","v":"2012-10-04"},{"$f":"'Als-Ob-Allokation KW03'!B279","v":13},4,0.52271998941046804,null,null,0.45138159188696514,null,null,0.5697624086958859,null,null,0.51679438870067163,null,null,0.9767054169532301,null,null,0.90536040604912016,null,null,null,0.99894255657520981,null,null,1.0630701592782728,null,null,1.1384107682711599,null,null,1.1966062,null,null,0.31192906393073327,null,null,null,0.45009378805848343,null,null,0.58730723533489571,null,null,0.71946117227199313,null,null,0.98211998125749933,null,null,0.5364142688996244,null,null,null,0.60803350047553539,null,null,0.6964376962765455,null,null,0.75352986777296582,null,null,0.80999853174335923,null,null,0.24819165336723831,null,null,null,0.43678983911151714,null,null,0.60673331218227589,null,null,0.71828114068628957,null,null,0.87352718706828969,null,null,0.30265022228433291,null,null,null,0.38424405134169337,null,null,0.47150071852770592,null,null,0.64808930692345879,null,null,0.75899401209871875,null,null,0.19876905469787523,null,null,null,0.29698950289603454,null,null,0.39143578779838872,null,null,0.48819769493725057,null,null,0.59417802906377359,null,null,0.28957835259834452,null,null,null,0.39966636012164325,null,null,0.52664357426523045,null,null,0.65088578503812988,null,null,0.7406650641890804,null,null,0.25780930240887706,null,null,null,0.36178519384654478,null,null,0.48620249389713022,null,null,0.56595618505202283,null,null,0.66689502182435612,null,null,0.50206558472639451,null,null,null,0.54232405879295764,null,null,0.59790870807848551,null,null,0.62650185970905492,null,null,0.6697376133953602,null,null,0.11942270517171391,null,null,null,0.2047076598226121,null,null,0.38794942957250778,null,null,0.59383048923774295,null,null,0.70000786848947016,null,null,1.0295563339253824,null,null,null,1.1261195733172331,null,null,1.1883490574055755,null,null,1.2375751285053733,null,null,1.2804007389121872,null,null,0.56216249118207762,null,null,null,0.46080002989099506]
[{"$f":"'Als-Ob-Allokation KW03'!A280","v":"2012-10-05"},{"$f":"'Als-Ob-Allokation KW03'!B280","v":13.7},5,0.47093328361547071,null,null,0.40094204111923459,null,null,0.51669944655131128,null,null,0.46310500861950299,null,null,0.96061030752986443,null,null,0.87619772350565939,null,null,null,0.97613663882555601,null,null,1.0488094126103729,null,null,1.1348241420394634,null,null,1.1997161925149296,null,null,0.25093711409274549,null,null,null,0.37908978130468896,null,null,0.51134214840624537,null,null,0.65238831597783487,null,null,0.93237947948741107,null,null,0.4577898159387192,null,null,null,0.53499864348620474,null,null,0.63018212297626885,null,null,0.69152465667797236,null,null,0.75045841885613751,null,null,0.20144217277818183,null,null,null,0.39257623542417242,null,null,0.56980485897499933,null,null,0.69316875354344065,null,null,0.8613932482365414,null,null,0.24881073419872543,null,null,null,0.32544820252273549,null,null,0.40857696774920255,null,null,0.58023220609843429,null,null,0.69560642697542774,null,null,0.16106751946066042,null,null,null,0.25040749369149473,null,null,0.33507287369464617,null,null,0.43112036990758246,null,null,0.53792538612877216,null,null,0.22734484397527241,null,null,null,0.32570552975642125,null,null,0.44212975329041987,null,null,0.5613087704400227,null,null,0.65003213820778027,null,null,0.22831485416233355,null,null,null,0.33028766533406068,null,null,0.45715671718610396,null,null,0.54118846304855739,null,null,0.64572870079155709,null,null,0.41911198884568546,null,null,null,0.4577793269832568,null,null,0.51075743693051001,null,null,0.53996155976242755,null,null,0.58302822255111175,null,null,8.786834152073511E-2,null,null,null,0.16213610352262378,null,null,0.32079016161970669,null,null,0.51175147464958914,null,null,0.62572022361562929,null,null,0.90091539535178844,null,null,null,0.99700989811275187,null,null,1.061215304479999,null,null,1.1115563765848524,null,null,1.1554838987451101,null,null,0.50140598734360631,null,null,null,0.4043982082466227]
[{"$f":"'Als-Ob-Allokation KW03'!A281","v":"2012-10-06"},{"$f":"'Als-Ob-Allokation KW03'!B281","v":15.5},6,0.35748406068266159,null,null,0.29368225456799535,null,null,0.3984817701690373,null,null,0.34652968829862579,null,null,0.91446460626888926,null,null,0.34126808172595902,null,null,null,0.38907804727422035,null,null,0.42792992802389856,null,null,0.4741428231105792,null,null,0.50823820435069211,null,null,0.11326993805316153,null,null,null,0.19644792767206859,null,null,0.28882832901830224,null,null,0.41224503485706965,null,null,0.66019706898150099,null,null,0.23999789002115174,null,null,null,0.31206241023060916,null,null,0.39898037646922618,null,null,0.45448115539833855,null,null,0.50312502266450443,null,null,0.11288603889834187,null,null,null,0.30436010648211848,null,null,0.49170779321855407,null,null,0.63948129905612816,null,null,0.83274017032411696,null,null,0.14985559998962311,null,null,null,{"$f":"($CK$3/(1+($CK$4/(B282-40))^$CK$5)+$CK$6)*VLOOKUP(C282,$CF$9:$CH$15,3)","v":0.21359570840936254},null,null,0.28468770906785629,null,null,0.43622638244924172,null,null,0.55761852991064187,null,null,8.7981487238451617E-2,null,null,null,0.15494678431356024,null,null,0.21215416240663468,null,null,0.2994667021791968,null,null,0.39558716176795206,null,null,0.12445987790728419,null,null,null,0.20200326916093164,null,null,0.2965266054571673,null,null,0.40273909106287287,null,null,0.48389586722298861,null,null,0.12047280242880297,null,null,null,0.18925095268962575,null,null,0.28208342514911078,null,null,0.34859983501205488,null,null,0.4272692988499745,null,null,0.2728604018152655,null,null,null,0.30702532759748341,null,null,0.35305487830052795,null,null,0.38215414164080236,null,null,0.42327977408909107,null,null,3.8091535317778612E-2,null,null,null,9.2356395437072095E-2,null,null,0.19882034599670986,null,null,0.34567992775544892,null,null,0.47477728949255849,null,null,0.28383186455536069,null,null,null,0.32314924946918877,null,null,0.35151616895238008,null,null,0.37302365759409034,null,null,0.39210185332784953,null,null,0.36527133691500907,null,null,null,0.28458682468066693]
[{"$f":"'Als-Ob-Allokation KW03'!A282","v":"2012-10-07"},{"$f":"'Als-Ob-Allokation KW03'!B282","v":11.2},7,0.67544573169585453,null,null,0.60455790318758218,null,null,0.72272419309822755,null,null,0.67544115851091702,null,null,1.0123462461443549,null,null,0.84214818641974787,null,null,null,0.90553014072199189,null,null,0.93980671222146683,null,null,0.97823950250380354,null,null,1.012490243902439,null,null,0.42062620298455339,null,null,null,0.54730452081048209,null,null,0.6574601207244789,null,null,0.7321710591517766,null,null,0.88823477030999798,null,null,0.62183841830346021,null,null,null,0.66506281262021472,null,null,0.71649591023978776,null,null,0.7495119729970513,null,null,0.78370433465426259,null,null,0.41420973602197891,null,null,null,0.58934371335800839,null,null,0.73190973593707742,null,null,0.80814769991085889,null,null,0.92364774200911592,null,null,0.4084635562927672,null,null,null,0.48415303081844535,null,null,0.56156082227481396,null,null,0.70816213679171947,null,null,0.78445833464538151,null,null,0.28648709012996265,null,null,null,0.39256554497201851,null,null,0.49258720075706475,null,null,0.57284806245915698,null,null,0.65218754093608455,null,null,0.40474260154725306,null,null,null,0.51728483791719548,null,null,0.63331364283081515,null,null,0.73095019651811632,null,null,0.79029143487638764,null,null,0.37207831019462539,null,null,null,0.48445784269277314,null,null,0.60397419832649024,null,null,0.67315665585783624,null,null,0.76484059373561164,null,null,0.60600808910097714,null,null,null,0.63727875685059632,null,null,0.68189030960447339,null,null,0.69930632430526329,null,null,0.72916721164833231,null,null,0.18306850921929912,null,null,null,0.27428118997642131,null,null,0.45789763564642116,null,null,0.62346511544243366,null,null,0.68224761350056062,null,null,0.42248403750110897,null,null,null,0.44824713135204702,null,null,0.46275401386429371,null,null,0.47422055756986614,null,null,0.48428726988334625,null,null,0.66177010466564157,null,null,null,0.56808725354475575]
[{"$f":"'Als-Ob-Allokation KW03'!A283","v":"2012-10-08"},{"$f":"'Als-Ob-Allokation KW03'!B283","v":8},1,1.0075192213877613,null,null,0.95508749913214586,null,null,1.0365183774464064,null,null,1.0146273452123076,null,null,1.0561214578995441,null,null,1.1373228034803016,null,null,null,1.1679381879464108,null,null,1.1620093726914487,null,null,1.1496112633482269,null,null,1.1566212413793104,null,null,0.99689365481750414,null,null,null,1.1191405633767535,null,null,1.1777128437174995,null,null,1.1460741136664123,null,null,1.1446391765767756,null,null,1.1428755595772191,null,null,null,1.1536100796226649,null,null,1.1534857443476307,null,null,1.1502089261112904,null,null,1.1415064267846671,null,null,0.81171122249393923,null,null,null,0.9002846067444128,null,null,0.94116628676734448,null,null,0.93101057853425306,null,null,0.94433317649885395,null,null,0.83164986616138481,null,null,null,0.89309907330772031,null,null,0.94858349342005377,null,null,1.0378938388873278,null,null,1.0592298994618312,null,null,0.73913569328366691,null,null,null,0.89582937639517524,null,null,1.0135608080096361,null,null,1.0674843144776796,null,null,1.085465278723865,null,null,0.87583298408413057,null,null,null,1.0122938283723919,null,null,1.1006611791552272,null,null,1.1358544091611638,null,null,1.1118305398941237,null,null,0.89393587175740319,null,null,null,1.029464734000284,null,null,1.1364805304435861,null,null,1.1751459405104234,null,null,1.2416825873251067,null,null,1.0393880343911424,null,null,null,1.0505451774480781,null,null,1.0732111660732724,null,null,1.0663607658418213,null,null,1.0702602193274899,null,null,0.59501245312803885,null,null,null,0.77310854459924883,null,null,1.0122712458709866,null,null,1.1189982624288866,null,null,1.1185970238033391,null,null,1.3382022166533807,null,null,null,1.3508805780353361,null,null,1.345886438362268,null,null,1.3376974184529271,null,null,1.3326087836384979,null,null,1.0705814122242878,null,null,null,1.0022151165912061]
[{"$f":"'Als-Ob-Allokation KW03'!A284","v":"2012-10-09"},{"$f":"'Als-Ob-Allokation KW03'!B284","v":11.7},2,0.63026525388429211,null,null,0.5586148745086098,null,null,0.67803349723189688,null,null,0.62854587228608083,null,null,1.0032936928380227,null,null,0.95998687714562625,null,null,null,1.0397590463787438,null,null,1.0866559405483027,null,null,1.1402457687341858,null,null,1.1853292475284827,null,null,0.44095665943952617,null,null,null,0.58940741647781791,null,null,0.7241564502157174,null,null,0.82693961526215287,null,null,1.0363637127619603,null,null,0.67966551072663151,null,null,null,0.73690265166249458,null,null,0.80627886810984384,null,null,0.85100581404085562,null,null,0.89699768127756541,null,null,0.35389526315944664,null,null,null,0.53076531925656478,null,null,0.67961594813588644,null,null,0.76487563954810578,null,null,0.89007471162236673,null,null,0.3753241172571864,null,null,null,0.45296223701398614,null,null,0.53344986086162927,null,null,0.68900338530682703,null,null,0.77460382098392311,null,null,0.28600501810140794,null,null,null,0.40070712361251143,null,null,0.51029972334708973,null,null,0.60431226629899482,null,null,0.70098850797705625,null,null,0.4009787945676509,null,null,null,0.52238121491422318,null,null,0.65245489192973083,null,null,0.76732858469759602,null,null,0.84208317039010272,null,null,0.37693798337871232,null,null,null,0.50088907479723033,null,null,0.63745671077117039,null,null,0.71909300721390246,null,null,0.8257790972080411,null,null,0.62447457012342145,null,null,null,0.66141884819434338,null,null,0.71349468618624146,null,null,0.73593057590001987,null,null,0.7725507429033206,null,null,0.19637333199916379,null,null,null,0.30353204558885305,null,null,0.52577590140715791,null,null,0.74025286210190311,null,null,0.82491568454013753,null,null,1.1189888436159887,null,null,null,1.1972685623512651,null,null,1.2434758842467399,null,null,1.2801989371486757,null,null,1.3122434624526154,null,null,0.67083632542443905,null,null,null,0.5682551476454214]
[{"$f":"'Als-Ob-Allokation KW03'!A285","v":"2012-10-10"},{"$f":"'Als-Ob-Allokation KW03'!B285","v":9.5},3,0.84354138219923325,null,null,0.77944646124192907,null,null,0.88479782141140972,null,null,0.84869671731597474,null,null,1.0384511234004941,null,null,1.0419355149670786,null,null,null,1.0929876839000667,null,null,1.1084251884711351,null,null,1.1224504259933432,null,null,1.1443982296462663,null,null,0.69319398072686356,null,null,null,0.82999564249824487,null,null,0.92675416332179483,null,null,0.95543980795003824,null,null,1.041522851874696,null,null,0.89221810213927955,null,null,null,0.92062972392406195,null,null,0.94867163335071736,null,null,0.96546920557265259,null,null,0.98160123146420108,null,null,0.62976484876835759,null,null,null,0.77191733460718681,null,null,0.8696098005725923,null,null,0.90282409399761332,null,null,0.9684137632787041,null,null,0.66036272454862899,null,null,null,0.74022379580965236,null,null,0.81753569141482862,null,null,0.95295625909788373,null,null,1.0078811033946218,null,null,0.51182270480255787,null,null,null,0.65498023011837803,null,null,0.77859583879890537,null,null,0.85628947545476797,null,null,0.91609783964069813,null,null,0.65427344726471048,null,null,null,0.79000530902709976,null,null,0.90623034737713526,null,null,0.98343579001399106,null,null,1.0086346327094766,null,null,0.6078465431560186,null,null,null,0.74016985559658344,null,null,0.86271842073843652,null,null,0.92334653898983832,null,null,1.0098607422207129,null,null,0.86244525653383008,null,null,null,0.88680322533012612,null,null,0.92452528135478096,null,null,0.93126048118617111,null,null,0.95038620981650146,null,null,0.40045325099537843,null,null,null,0.55172525733427757,null,null,0.80914912136829042,null,null,0.98316742833428816,null,null,1.0214069662036018,null,null,1.2657678089444953,null,null,null,1.306378226466258,null,null,1.3224203597676696,null,null,1.3333947770643468,null,null,1.344056210435274,null,null,0.88599842576248999,null,null,null,0.79666039098244867]
[{"$f":"'Als-Ob-Allokation KW03'!A286","v":"2012-10-11"},{"$f":"'Als-Ob-Allokation KW03'!B286","v":10.7},4,0.72264273041173743,null,null,0.65306060579944791,null,null,0.76890038977725983,null,null,0.72431855211959995,null,null,1.0207572928107964,null,null,1.0278314670999942,null,null,null,1.0971629526978282,null,null,1.1308490404068605,null,null,1.167583499693315,null,null,1.2031566874527151,null,null,0.5453273286348701,null,null,null,0.691546637206502,null,null,0.81258858199398831,null,null,0.88346501464645122,null,null,1.0378941989637516,null,null,0.77353345816901364,null,null,null,0.81736234115276973,null,null,0.86802505608190506,null,null,0.90028045300508897,null,null,0.93368083003089064,null,null,0.47247468343384608,null,null,null,0.64048381085572659,null,null,0.77204489727879688,null,null,0.83664860242867634,null,null,0.93878317171285597,null,null,0.51476114812933949,null,null,null,0.59970235474163347,null,null,0.68531197603803795,null,null,0.843997949700932,null,null,0.92169541446436642,null,null,0.37748584951122344,null,null,null,0.50644630320664541,null,null,0.62575979015183336,null,null,0.71523961877009479,null,null,0.79929437359326216,null,null,0.50515441025054963,null,null,null,0.63418345044305102,null,null,0.76135702247523462,null,null,0.86259856009007485,null,null,0.91849119441295102,null,null,0.46239650302559465,null,null,null,0.59009235919813752,null,null,0.72089334013485518,null,null,0.7938707859999069,null,null,0.89216489193917092,null,null,0.72782112794135934,null,null,null,0.76009991479865813,null,null,0.80688410642141972,null,null,0.82291994395266921,null,null,0.85244000519515928,null,null,0.26821578462337653,null,null,null,0.39088230616908143,null,null,0.62842941938174235,null,null,0.82729925453929032,null,null,0.89033911608838301,null,null,1.1627120956461945,null,null,null,1.2233914524819636,null,null,1.2555253529036206,null,null,1.2805893627616538,null,null,1.3028401188101668,null,null,0.76674635230496646,null,null,null,0.66716980259345349]
[{"$f":"'Als-Ob-Allokation KW03'!A287","v":"2012-10-12"},{"$f":"'Als-Ob-Allokation KW03'!B287","v":10.7},5,0.72264273041173743,null,null,0.65306060579944791,null,null,0.76890038977725983,null,null,0.72431855211959995,null,null,1.0207572928107964,null,null,1.0322676286333248,null,null,null,1.1018983516833116,null,null,1.1357298298880494,null,null,1.1726228365633029,null,null,1.2083495596173575,null,null,0.52705049479999766,null,null,null,0.66836921272471739,null,null,0.78535439491153114,null,null,0.85385537943517864,null,null,1.0031088162833623,null,null,0.74760821705545977,null,null,null,0.78996815988272773,null,null,0.83893289641657276,null,null,0.87010724256733596,null,null,0.90238819441697637,null,null,0.47579308312954333,null,null,null,0.64498221332587768,null,null,0.77746731173193717,null,null,0.84252475741655219,null,null,0.94537666317507907,null,null,0.50232141227139959,null,null,null,0.58520992672238437,null,null,0.66875070292491257,null,null,0.82360186581411088,null,null,0.8994216909343804,null,null,0.37594583924609748,null,null,null,0.50438017938588986,null,null,0.62320690902639608,null,null,0.71232169123358735,null,null,0.79603353204970539,null,null,0.47583870262308775,null,null,null,0.59737977964832845,null,null,0.7171730671972264,null,null,0.81253923827810071,null,null,0.86518824630951219,null,null,0.49544474525028281,null,null,null,0.63226723529281748,null,null,0.77241677849793144,null,null,0.85061004302101006,null,null,0.95592939115195241,null,null,0.68558336665716946,null,null,null,0.71598891345385307,null,null,0.76005807051417318,null,null,0.77516329769126502,null,null,0.80297021644312461,null,null,0.25703695112576497,null,null,null,0.37459091517595877,null,null,0.60223741933173125,null,null,0.79281865664241735,null,null,0.85323111087109693,null,null,1.054766016935357,null,null,null,1.1098119081405164,null,null,1.1389625003492538,null,null,1.1616995699517625,null,null,1.1818845679568335,null,null,0.75185807361943313,null,null,null,0.65421504914503692]
[{"$f":"'Als-Ob-Allokation KW03'!A288","v":"2012-10-13"},{"$f":"'Als-Ob-Allokation KW03'!B288","v":8.6},6,0.94044457270032111,null,null,0.88271316087905738,null,null,0.97521536383560858,null,null,0.94720634702657125,null,null,1.0495971915330635,null,null,0.49286700403957101,null,null,null,0.51040563389361315,null,null,0.51161789986414064,null,null,0.51080269691964963,null,null,0.51664584865641827,null,null,0.61258531830959839,null,null,null,0.70502111935628564,null,null,0.75921908096526036,null,null,0.75521719433709378,null,null,0.78043303862480506,null,null,0.73490282547056396,null,null,null,0.74774387648254337,null,null,0.75603193152547876,null,null,0.75973227943793487,null,null,0.76117488760708685,null,null,0.79552884106907806,null,null,null,0.91548571712652205,null,null,0.98469271070205233,null,null,0.99230912790112347,null,null,1.0290418702593926,null,null,0.73337374137223288,null,null,null,0.80063423060105354,null,null,0.86333449823912867,null,null,0.96800634149296516,null,null,1.0015313127551755,null,null,0.6008569961785869,null,null,null,0.74388164278251823,null,null,0.85841850742382886,null,null,0.91934166239892068,null,null,0.95343856573220354,null,null,0.66702410950291768,null,null,null,0.78418078576566042,null,null,0.87068932554909761,null,null,0.91628945601077239,null,null,0.9136572778767027,null,null,0.69369590003778114,null,null,null,0.81655448582504742,null,null,0.92060982845305195,null,null,0.96494440763204592,null,null,1.033710565015987,null,null,0.82488306845694692,null,null,null,0.83922484452758028,null,null,0.8640408447126432,null,null,0.86301014245125451,null,null,0.87172087771376017,null,null,0.44124456276162288,null,null,null,0.58637179806376039,null,null,0.80295373404777348,null,null,0.92084674036582048,null,null,0.93437201430732875,null,null,0.40431061869068352,null,null,null,0.41164707867095757,null,null,0.41266732651635279,null,null,0.41250593648727302,null,null,0.41288126967515748,null,null,0.9015084324119389,null,null,null,0.83062017423749668]
[{"$f":"'Als-Ob-Allokation KW03'!A289","v":"2012-10-14"},{"$f":"'Als-Ob-Allokation KW03'!B289","v":9.9},7,0.80211037524510154,null,null,0.73580835400070876,null,null,0.84546771866979809,null,null,0.80623333213294746,null,null,1.0329298271560918,null,null,0.90529817882511254,null,null,null,0.95517130105303538,null,null,0.97384073806583027,null,null,0.99252014541376543,null,null,1.0155323317105736,null,null,0.56390806364473289,null,null,null,0.68781461882322104,null,null,0.78091436678186144,null,null,0.81890253898749998,null,null,0.9148546174613772,null,null,0.74942708901999877,null,null,null,0.77887620867767493,null,null,0.81017911853259106,null,null,0.82953020608132577,null,null,0.84898974026567531,null,null,0.57680789212843186,null,null,null,0.72949835047231593,null,null,0.83998256114646175,null,null,0.88429331213437057,null,null,0.96295250109219366,null,null,0.5413066424833084,null,null,null,0.61435250910961825,null,null,0.68609239490986684,null,null,0.81425049195994015,null,null,0.87012473254786893,null,null,0.40333566699476686,null,null,null,0.52410332329505671,null,null,0.63121519904631351,null,null,0.70287504894543973,null,null,0.76280690238380378,null,null,0.54237541609883344,null,null,null,0.66311501595679534,null,null,0.77210676791794819,null,null,0.8497976350345593,null,null,0.88259066852598178,null,null,0.5056538521071966,null,null,null,0.62530408549575189,null,null,0.7401200729618157,null,null,0.79964303744444343,null,null,0.88260826835554551,null,null,0.73609126758344878,null,null,null,0.76068117202314267,null,null,0.79769882650218082,null,null,0.80672844938073196,null,null,0.82728040846913864,null,null,0.28086469317726737,null,null,null,0.39376786510660144,null,null,0.595501845854565,null,null,0.74296840687448051,null,null,0.78052319263636005,null,null,0.45249624719266779,null,null,null,0.46996632767761692,null,null,0.47787681792850639,null,null,0.48370208391450548,null,null,0.48908906438404154,null,null,0.78453606349355265,null,null,null,0.69774814335171731]
[{"$f":"'Als-Ob-Allokation KW03'!A290","v":"2012-10-15"},{"$f":"'Als-Ob-Allokation KW03'!B290","v":7.8},1,1.0302548259998958,null,null,0.97977126865532382,null,null,1.0570612294891046,null,null,1.0373230261643478,null,null,1.0581473869021918,null,null,1.1491588552542804,null,null,null,1.1768371885582192,null,null,1.1680251144117315,null,null,1.1521296395944565,null,null,1.1571215500420089,null,null,1.0351024383313894,null,null,null,1.1527397236030876,null,null,1.204031380531021,null,null,1.1635291733411051,null,null,1.1492734596549179,null,null,1.1692113933139221,null,null,null,1.1773015132361984,null,null,1.1731064398898221,null,null,1.1669099477839713,null,null,1.1545030856830831,null,null,0.84492710690873674,null,null,null,0.92646166913963901,null,null,0.95981351689580585,null,null,0.94383154005442493,null,null,0.95039974086232948,null,null,0.8624861915754054,null,null,null,0.92133001857824515,null,null,0.97379759838625879,null,null,1.0571269414426134,null,null,1.0741255232167544,null,null,0.7732255071529075,null,null,null,0.93064190745564246,null,null,1.0460934361028966,null,null,1.0957962453117469,null,null,1.1071820957515286,null,null,0.90948663630198767,null,null,null,1.0453568365003587,null,null,1.128866239641253,null,null,1.1575864068833452,null,null,1.1262287481580571,null,null,0.92919793176755427,null,null,null,1.0624359303008188,null,null,1.1649355318087857,null,null,1.1992165228561826,null,null,1.2613555473085867,null,null,1.0648645702676793,null,null,null,1.0740442853691043,null,null,1.0944812351620632,null,null,1.0856907535180216,null,null,1.0874340723421567,null,null,0.62924539034159055,null,null,null,0.81160742039106393,null,null,1.0471789778337632,null,null,1.1439207431765404,null,null,1.1379304365435075,null,null,1.3512619467829345,null,null,null,1.3603151977794086,null,null,1.3525758439776427,null,null,1.341813134434283,null,null,1.3346076703703169,null,null,1.0950566238176618,null,null,null,1.0304882165023554]
[{"$f":"'Als-Ob-Allokation KW03'!A291","v":"2012-10-16"},{"$f":"'Als-Ob-Allokation KW03'!B291","v":8.1999999999999993},2,0.9849646895634937,null,null,0.93067459665669816,null,null,1.0160210971852779,null,null,0.99203204323559047,null,null,1.0540225683316358,null,null,1.1631650675830305,null,null,null,1.1978046093815438,null,null,1.1946565777494482,null,null,1.1854744052434791,null,null,1.1948050218442814,null,null,0.94260969621293056,null,null,null,1.0668691565020203,null,null,1.1312508578600502,null,null,1.1087593060342391,null,null,1.1198683510629939,null,null,1.0969564420933435,null,null,null,1.1100881395919846,null,null,1.1139531743199036,null,null,1.1135836487635891,null,null,1.1086240268002596,null,null,0.82695841605618359,null,null,null,0.92813945694262401,null,null,0.97931988896900524,null,null,0.97464534850723172,null,null,0.99586645331329715,null,null,0.77960662201427489,null,null,null,0.84173261271573896,null,null,0.89847588590550476,null,null,0.99097952473037776,null,null,1.0158932920719741,null,null,0.69752753007296009,null,null,null,0.85135846427655559,null,null,0.96958431534873923,null,null,1.0267955668404554,null,null,1.0508698759209885,null,null,0.85670320048573467,null,null,null,0.99575917477712039,null,null,1.0901921559373642,null,null,1.1323182013574353,null,null,1.1151836442074397,null,null,0.83260037370611661,null,null,null,0.96579043628407557,null,null,1.0735772295882819,null,null,1.1150992843153884,null,null,1.1836387430246362,null,null,1.0306205327626963,null,null,null,1.0439153438442925,null,null,1.069159039168786,null,null,1.064140527575939,null,null,1.0702647965164069,null,null,0.59808116913624698,null,null,null,0.78287740580141396,null,null,1.0403714632970107,null,null,1.1640275922683634,null,null,1.1693619529215067,null,null,1.3419531807928826,null,null,null,1.3584687543672498,null,null,1.35619834577167,null,null,1.350504474053887,null,null,1.3474860937741566,null,null,1.0463090735230709,null,null,null,0.97435240101928688]
[{"$f":"'Als-Ob-Allokation KW03'!A292","v":"2012-10-17"},{"$f":"'Als-Ob-Allokation KW03'!B292","v":12.2},3,0.58717669800424077,null,null,0.51527461404351271,null,null,0.63497135776895475,null,null,0.58376881880422793,null,null,0.99358869688033702,null,null,0.89700020383049228,null,null,null,0.9785621867300075,null,null,1.0298627052293599,null,null,1.0892805514388051,null,null,1.1372433370391137,null,null,0.37303922714503468,null,null,null,0.51290114439599088,null,null,0.64475297242375318,null,null,0.75579007853823765,null,null,0.97876849139034905,null,null,0.59963711787005869,null,null,null,0.66025045545788275,null,null,0.73453910900541286,null,null,0.78252280866162294,null,null,0.83127035439338282,null,null,0.31168547056546181,null,null,null,0.49505592946209154,null,null,0.65391525392953243,null,null,0.75033834100742758,null,null,0.88855873220781112,null,null,0.36472055782358676,null,null,null,0.44852474588639879,null,null,0.53651182623654137,null,null,0.70980746724623434,null,null,0.8103017045701133,null,null,0.24909085151999025,null,null,null,0.35728580859426678,null,null,0.46142468954921673,null,null,0.55695945632694044,null,null,0.65822208618622946,null,null,0.35255106943835429,null,null,null,0.46889009526925768,null,null,0.59767012945251341,null,null,0.71637691981743923,null,null,0.79759353132934618,null,null,0.31788680763486443,null,null,null,0.43125350259910927,null,null,0.56039140029217105,null,null,0.63983821697500287,null,null,0.74235189626630416,null,null,0.57166732384851382,null,null,null,0.60998006559992013,null,null,0.66348160830558678,null,null,0.68841255528736789,null,null,0.72767074916320729,null,null,0.16234399772355801,null,null,null,0.25999427929769503,null,null,0.46677379628173954,null,null,0.67917661767345894,null,null,0.77212013587737338,null,null,1.0976594034490894,null,null,null,1.1844474643399641,null,null,1.2376724964603227,null,null,1.279999821595305,null,null,1.3168290432767904,null,null,0.62076414593687124,null,null,null,0.51905134822401033]
[{"$f":"'Als-Ob-Allokation KW03'!A293","v":"2012-10-18"},{"$f":"'Als-Ob-Allokation KW03'!B293","v":11.8},4,0.62147811010958975,null,null,0.54973766082945974,null,null,0.66928652484431372,null,null,0.61941711068304695,null,null,1.0014050781719739,null,null,0.96676915032073618,null,null,null,1.0486202841432704,null,null,1.09744747261349,null,null,1.1534142793718174,null,null,1.2000584188328454,null,null,0.42111164302605963,null,null,null,0.56600614252639636,null,null,0.69857629047257519,null,null,0.80184664273161976,null,null,1.0115101615551878,null,null,0.65453902249394202,null,null,null,0.71174796316271505,null,null,0.78127983304980197,null,null,0.82613122304562303,null,null,0.87215564450879079,null,null,0.35166814190651652,null,null,null,0.53330375734697366,null,null,0.68710173576651445,null,null,0.7762872198817754,null,null,0.90655996916589776,null,null,0.40202477643589141,null,null,null,0.48698356954776728,null,null,0.57529033839687693,null,null,0.74662148155051478,null,null,0.84191901293295179,null,null,0.27987605469199744,null,null,null,0.39392401046639514,null,null,0.50310393015067922,null,null,0.59802210864558669,null,null,0.696289473121116,null,null,0.39036002952787724,null,null,null,0.51058824701044891,null,null,0.64030534302016373,null,null,0.75589546494225446,null,null,0.8319683232643893,null,null,0.35273498436367406,null,null,null,0.47065924349886218,null,null,0.60147627201013132,null,null,0.6801448403785445,null,null,0.78268372601471126,null,null,0.61281323602838556,null,null,null,0.65001634271242581,null,null,0.70234931607499951,null,null,0.72528348344331628,null,null,0.76241653965716705,null,null,0.18422469899882554,null,null,null,0.28667503000188621,null,null,0.50019362290304548,null,null,0.70892548142671197,null,null,0.7930476548415325,null,null,1.0967386571537132,null,null,null,1.1754502078785549,null,null,1.2222968366805005,null,null,1.2595446820949372,null,null,1.2920214552710549,null,null,0.66182278483670198,null,null,null,0.55914890966670294]
[{"$f":"'Als-Ob-Allokation KW03'!A294","v":"2012-10-19"},{"$f":"'Als-Ob-Allokation KW03'!B294","v":13.7},5,0.47093328361547071,null,null,0.40094204111923459,null,null,0.51669944655131128,null,null,0.46310500861950299,null,null,0.96061030752986443,null,null,0.87619772350565939,null,null,null,0.97613663882555601,null,null,1.0488094126103729,null,null,1.1348241420394634,null,null,1.1997161925149296,null,null,0.25093711409274549,null,null,null,0.37908978130468896,null,null,0.51134214840624537,null,null,0.65238831597783487,null,null,0.93237947948741107,null,null,0.4577898159387192,null,null,null,0.53499864348620474,null,null,0.63018212297626885,null,null,0.69152465667797236,null,null,0.75045841885613751,null,null,0.20144217277818183,null,null,null,0.39257623542417242,null,null,0.56980485897499933,null,null,0.69316875354344065,null,null,0.8613932482365414,null,null,0.24881073419872543,null,null,null,0.32544820252273549,null,null,0.40857696774920255,null,null,0.58023220609843429,null,null,0.69560642697542774,null,null,0.16106751946066042,null,null,null,0.25040749369149473,null,null,0.33507287369464617,null,null,0.43112036990758246,null,null,0.53792538612877216,null,null,0.22734484397527241,null,null,null,0.32570552975642125,null,null,0.44212975329041987,null,null,0.5613087704400227,null,null,0.65003213820778027,null,null,0.22831485416233355,null,null,null,0.33028766533406068,null,null,0.45715671718610396,null,null,0.54118846304855739,null,null,0.64572870079155709,null,null,0.41911198884568546,null,null,null,0.4577793269832568,null,null,0.51075743693051001,null,null,0.53996155976242755,null,null,0.58302822255111175,null,null,8.786834152073511E-2,null,null,null,0.16213610352262378,null,null,0.32079016161970669,null,null,0.51175147464958914,null,null,0.62572022361562929,null,null,0.90091539535178844,null,null,null,0.99700989811275187,null,null,1.061215304479999,null,null,1.1115563765848524,null,null,1.1554838987451101,null,null,0.50140598734360631,null,null,null,0.4043982082466227]
[{"$f":"'Als-Ob-Allokation KW03'!A295","v":"2012-10-20"},{"$f":"'Als-Ob-Allokation KW03'!B295","v":13.2},6,0.5074822459022259,null,null,0.43645352317212427,null,null,0.55421039047442122,null,null,0.50097985163846359,null,null,0.97222913202370598,null,null,0.38281095774884172,null,null,null,0.42355838437923515,null,null,0.4519938238859269,null,null,0.48548572470439777,null,null,0.51115197553419656,null,null,0.21272521243186754,null,null,null,0.31088394220361926,null,null,0.4095043794455217,null,null,0.50741145360371742,null,null,0.70182562164642248,null,null,0.3720482157466723,null,null,null,0.42519271718132007,null,null,0.49080762568903241,null,null,0.53316315122322,null,null,0.57472919633746589,null,null,0.23928124582392296,null,null,null,0.433025829561617,null,null,0.60912912758004811,null,null,0.7267659284134883,null,null,0.88947051626393181,null,null,0.26684953575023518,null,null,null,0.34162441244067787,null,null,0.42192868889648694,null,null,0.58544535504290462,null,null,0.690161116863797,null,null,0.17618996188586739,null,null,null,0.26614661825545827,null,null,0.35240399666609051,null,null,0.44333338922313981,null,null,0.54347855499020992,null,null,0.23222377900676414,null,null,null,0.32377613677798206,null,null,0.43025538142834635,null,null,0.5358579439062916,null,null,0.61293242638775025,null,null,0.22989020685718195,null,null,null,0.32539464434938242,null,null,0.44100006187592089,null,null,0.51581941107094542,null,null,0.61005615516164868,null,null,0.40962921293840865,null,null,null,0.44386817166066433,null,null,0.49103043661734669,null,null,0.51580812795030451,null,null,0.55297851768931772,null,null,9.4497515744098676E-2,null,null,null,0.16518076246874996,null,null,0.31706190299134474,null,null,0.49125415101123177,null,null,0.58489007922843983,null,null,0.31780950476236969,null,null,null,0.34878890813813418,null,null,0.36897142120113058,null,null,0.38490150451091532,null,null,0.39876872347784209,null,null,0.4939763150267143,null,null,null,0.40298815275730226]
[{"$f":"'Als-Ob-Allokation KW03'!A296","v":"2012-10-21"},{"$f":"'Als-Ob-Allokation KW03'!B296","v":11.9},7,0.61277521618466535,null,null,0.54096486133505661,null,null,0.66060581261613527,null,null,0.61037412677686431,null,null,0.99949029015744983,null,null,0.81001284756344838,null,null,null,0.87986158361916855,null,null,0.92211732874195995,null,null,0.97069083006179613,null,null,1.0108195011291661,null,null,0.35582596275099926,null,null,null,0.48093798449619346,null,null,0.5962991247246775,null,null,0.68801261650776901,null,null,0.87361506629640895,null,null,0.557723855669779,null,null,null,0.60829957397518508,null,null,0.66992088646978243,null,null,0.70968744144352014,null,null,0.75040212422347941,null,null,0.34185598697010444,null,null,null,0.52430166884163776,null,null,0.6797069250818808,null,null,0.77090594996934036,null,null,0.90345074221850552,null,null,0.34819794614585098,null,null,null,0.4233578166834745,null,null,0.50168044305800497,null,null,0.65422530746353991,null,null,0.7399762458185164,null,null,0.23621643002973894,null,null,null,0.33402052243526043,null,null,0.42781026014398338,null,null,0.51044714582613004,null,null,0.59654791884897784,null,null,0.34257344973523146,null,null,null,0.44991049332970051,null,null,0.56650261425342263,null,null,0.67131064987902556,null,null,0.74102239306526652,null,null,0.31228233576178765,null,null,null,0.41840557131144629,null,null,0.53692792318784666,null,null,0.60862203479252752,null,null,0.70182994685842282,null,null,0.54213024023643641,null,null,null,0.57588801271738399,null,null,0.62328161734349485,null,null,0.64439273690644217,null,null,0.67831596126473914,null,null,0.14362226569749914,null,null,null,0.22504078500159,null,null,0.39549541630374463,null,null,0.56425607656324439,null,null,0.63368873195144604,null,null,0.4070593646289391,null,null,null,0.43701352760234474,null,null,0.45498298800833342,null,null,0.46927447428670649,null,null,0.48172697263578401,null,null,0.60220492829710415,null,null,null,0.50745191334092465]
[{"$f":"'Als-Ob-Allokation KW03'!A297","v":"2012-10-22"},{"$f":"'Als-Ob-Allokation KW03'!B297","v":10.4},1,0.75189044722107756,null,null,0.68336343967551771,null,null,0.79725329128111999,null,null,0.75453022448566198,null,null,1.0255035466219242,null,null,0.99865591212138893,null,null,null,1.0613660837416283,null,null,1.0894647319772,null,null,1.1193871309809449,null,null,1.1504345550972304,null,null,0.60712055896548933,null,null,null,0.75852124321594716,null,null,0.87974855692341825,null,null,0.94330227470253458,null,null,1.0872937858139529,null,null,0.84026197720111229,null,null,null,0.88204497714311259,null,null,0.92917065299888069,null,null,0.95893890599990839,null,null,0.98960033773216327,null,null,0.47029642344661216,null,null,null,0.62046699388901616,null,null,0.73495993213659538,null,null,0.78773411163581064,null,null,0.87406808659977231,null,null,0.51523390994789464,null,null,null,0.59427209019410177,null,null,0.67319414325127691,null,null,0.8175257085425699,null,null,0.88540928645139771,null,null,0.41100094733311748,null,null,null,0.54471018617217337,null,null,0.66668372228072414,null,null,0.75442767749171247,null,null,0.83380795775001604,null,null,0.53325017439441069,null,null,null,0.66265995377823061,null,null,0.78638010177010831,null,null,0.88122801251484451,null,null,0.92964812403902897,null,null,0.53379509054496588,null,null,null,0.67315354688810369,null,null,0.81256146678189056,null,null,0.88841688307310918,null,null,0.99175306318935974,null,null,0.75108445441878058,null,null,null,0.78124062012516493,null,null,0.82547609481492779,null,null,0.83917153656495413,null,null,0.86593665220885774,null,null,0.28644478451893524,null,null,null,0.41114111172828627,null,null,0.64606387236954521,null,null,0.83349566732884328,null,null,0.88863935924669468,null,null,1.18385730017048,null,null,null,1.2395208267278746,null,null,1.2676324527165319,null,null,1.2892504766130035,null,null,1.3086471279837977,null,null,0.79748682954605921,null,null,null,0.69962154132164933]
[{"$f":"'Als-Ob-Allokation KW03'!A298","v":"2012-10-23"},{"$f":"'Als-Ob-Allokation KW03'!B298","v":8.1},2,0.99621859706511384,null,null,0.94284636173089076,null,null,1.0262632276106174,null,null,1.0033161460208433,null,null,1.0550812690743778,null,null,1.1692701280712237,null,null,null,1.2024143957729589,null,null,1.1977769642521936,null,null,1.1867775255283834,null,null,1.1950650959539419,null,null,0.96085140688372217,null,null,null,1.0830706251593833,null,null,1.1440697332503571,null,null,1.1172989074139259,null,null,1.1221586313976446,null,null,1.1098181119898407,null,null,null,1.1216578694948991,null,null,1.1235309279588463,null,null,1.1217391149795697,null,null,1.1149913063148231,null,null,0.84414948297257208,null,null,null,0.941781865906962,null,null,0.98909298169782489,null,null,0.98137651681031934,null,null,0.99906849321780378,null,null,0.79420335795361685,null,null,null,0.85517530447964629,null,null,0.91055259738428262,null,null,1.0002653092961942,null,null,1.0231067812797923,null,null,0.71370394269601833,null,null,null,0.8680424563123057,null,null,0.98534531467249831,null,null,1.040612808865466,null,null,1.0615569277905343,null,null,0.87331799297495116,null,null,null,1.0122183186244949,null,null,1.104378812955138,null,null,1.1433535898891307,null,null,1.1226004391562705,null,null,0.84922191456002305,null,null,null,0.98150641622556156,null,null,1.0872705352651242,null,null,1.1267839555400865,null,null,1.1933063965986024,null,null,1.0434656459945508,null,null,null,1.0557896051369735,null,null,1.0799368330583821,null,null,1.0739501174448456,null,null,1.0789977366220174,null,null,0.61535112751718801,null,null,null,0.80249576244471499,null,null,1.0585504868312161,null,null,1.1772126119805473,null,null,1.1796890868418717,null,null,1.3485634821214454,null,null,null,1.3632403893502849,null,null,1.3595756430045098,null,null,1.352583293261673,null,null,1.348498676373634,null,null,1.0584187449970366,null,null,null,0.98823122956749698]
[{"$f":"'Als-Ob-Allokation KW03'!A299","v":"2012-10-24"},{"$f":"'Als-Ob-Allokation KW03'!B299","v":8.6999999999999993},3,0.92944535899886471,null,null,0.87091190507379057,null,null,0.96506277450897981,null,null,0.93608745549644734,null,null,1.0484418395277002,null,null,1.0880909592521826,null,null,null,1.1284070637200483,null,null,1.1325231258535109,null,null,1.1324716776941821,null,null,1.146441204711538,null,null,0.81691321402136419,null,null,null,0.94419434685977477,null,null,1.0207807180866144,null,null,1.0192701415645369,null,null,1.0594351147259375,null,null,0.98759463683248172,null,null,null,1.0062861748197338,null,null,1.0194452487773107,null,null,1.0258118237100098,null,null,1.0294141278115272,null,null,0.75423555339289394,null,null,null,0.87365580956082167,null,null,0.9443499628822426,null,null,0.9547008427160143,null,null,0.99373920148160844,null,null,0.77390934048382198,null,null,null,0.84728380495287248,null,null,0.91600430059233195,null,null,1.0313778308787813,null,null,1.0696162694639757,null,null,0.62179449084919913,null,null,null,0.77257958286188888,null,null,0.89448299155652178,null,null,0.96071050250157974,null,null,0.99970488242384536,null,null,0.77114076839979195,null,null,null,0.90920769655390965,null,null,1.0131039492735945,null,null,1.0697244506498338,null,null,1.0699763709522927,null,null,0.72099684560793642,null,null,null,0.85184243936935589,null,null,0.96385779923599924,null,null,1.0125934372251653,null,null,1.0872561897346118,null,null,0.96031302172892774,null,null,null,0.9781178071528478,null,null,1.0083941311978739,null,null,1.0080996757571703,null,null,1.0193978655405347,null,null,0.51026719672478715,null,null,null,0.68071081040172154,null,null,0.93920809893066393,null,null,1.0838900561199749,null,null,1.1026060640981079,null,null,1.3185061134146721,null,null,null,1.3444022132111419,null,null,1.3491562009289728,null,null,1.3499213554436813,null,null,1.3522122696136274,null,null,0.97705426408413043,null,null,null,0.89781279934101077]
[{"$f":"'Als-Ob-Allokation KW03'!A300","v":"2012-10-25"},{"$f":"'Als-Ob-Allokation KW03'!B300","v":7.7},4,1.0416868732608713,null,null,0.99221051813249572,null,null,1.0673456872860592,null,null,1.0487034932896548,null,null,1.0591336685262391,null,null,1.2088524512497769,null,null,null,1.2362694601659701,null,null,1.2255388003759695,null,null,1.207080440696535,null,null,1.2112491429237078,null,null,1.0134948269829327,null,null,null,1.1242067589504787,null,null,1.1698916360304523,null,null,1.1266647393475469,null,null,1.1067774043055754,null,null,1.1364148410381965,null,null,null,1.1429151096000962,null,null,1.1369234746943198,null,null,1.12955874590677,null,null,1.1158375907540825,null,null,0.93452505940187969,null,null,null,1.0190151098941205,null,null,1.0510258401377239,null,null,1.0305066889046017,null,null,1.033935557175665,null,null,0.9362641929701141,null,null,null,0.99753862304629681,null,null,1.0518039923197953,null,null,1.137385033961424,null,null,1.1531728835455433,null,null,0.78586378629423059,null,null,null,0.94258487010190151,null,null,1.0560764152256219,null,null,1.1032937821644155,null,null,1.1112589448495058,null,null,0.93912576592540986,null,null,null,1.0764428227908744,null,null,1.1585018635635396,null,null,1.1842496903945186,null,null,1.1486903461490532,null,null,0.88062503636929279,null,null,null,1.0033260312300643,null,null,1.096438018956283,null,null,1.1262094015876136,null,null,1.1818792887659528,null,null,1.0922271458175825,null,null,null,1.1005094701922757,null,null,1.1200726029450394,null,null,1.1101703289438034,null,null,1.1108341204593333,null,null,0.66862226862923302,null,null,null,0.85925497770425374,null,null,1.1005994767716347,null,null,1.1952496749001074,null,null,1.1861009409925596,null,null,1.3548477204779805,null,null,null,1.3620756650336865,null,null,1.3529864450488434,null,null,1.3409608665215234,null,null,1.3327118720253119,null,null,1.1073645538916643,null,null,null,1.0447723403299853]
[{"$f":"'Als-Ob-Allokation KW03'!A301","v":"2012-10-26"},{"$f":"'Als-Ob-Allokation KW03'!B301","v":8},5,1.0075192213877613,null,null,0.95508749913214586,null,null,1.0365183774464064,null,null,1.0146273452123076,null,null,1.0561214578995441,null,null,1.1954051074191001,null,null,null,1.2275839987983939,null,null,1.2213524029708609,null,null,1.2083211305951773,null,null,1.215689103448276,null,null,0.92599622334025489,null,null,null,1.039549133516626,null,null,1.0939558499460595,null,null,1.0645672141602776,null,null,1.0632343274282645,null,null,1.061596135959078,null,null,null,1.0715672346549292,null,null,1.0714517418994551,null,null,1.0684079655680878,null,null,1.060324373631143,null,null,0.88642139508563633,null,null,null,0.98314710326733767,null,null,1.0277915468023564,null,null,1.0167011037844558,null,null,1.031249918124687,null,null,0.86526206647102955,null,null,null,0.92919482245625906,null,null,0.98692171685826957,null,null,1.0798416549482484,null,null,1.1020400398866805,null,null,0.73164300668444071,null,null,null,0.88674827149833291,null,null,1.0032862487471328,null,null,1.0566631276636078,null,null,1.0744618172191338,null,null,0.83616081202159842,null,null,null,0.96644045716255489,null,null,1.0508050759078058,null,null,1.0844041756382174,null,null,1.0614685036559215,null,null,0.89059374306590899,null,null,null,1.0256159080015916,null,null,1.1322316080005781,null,null,1.170752460968371,null,null,1.2370403494063289,null,null,0.99230739037632243,null,null,null,1.0029591538607543,null,null,1.0245984524468126,null,null,1.0180583513952486,null,null,1.0217811732714157,null,null,0.58936175722502149,null,null,null,0.76576651123072259,null,null,1.0026579395414892,null,null,1.1083713942620956,null,null,1.1079739661071453,null,null,1.2113324391894933,null,null,null,1.2228088141548084,null,null,1.2182881495522946,null,null,1.2108754989544197,null,null,1.2062692979294936,null,null,1.0497934236374085,null,null,null,0.9827546288904061]
[{"$f":"'Als-Ob-Allokation KW03'!A302","v":"2012-10-27"},{"$f":"'Als-Ob-Allokation KW03'!B302","v":1.2},6,1.8027004658418542,null,null,1.846852437738058,null,null,1.687451723396193,null,null,1.7477469463024389,null,null,1.0963759970722986,null,null,0.67484472161221853,null,null,null,0.64114458617698422,null,null,0.59879985019709614,null,null,0.55000501743940411,null,null,0.52431057284824945,null,null,1.7935821991914742,null,null,null,1.6419132327223329,null,null,1.4282195944151299,null,null,1.1864154301718297,null,null,0.88966946402756997,null,null,1.3900823844513202,null,null,null,1.3289043283630082,null,null,1.2380272275144304,null,null,1.168184902925905,null,null,1.0752572844768817,null,null,2.2678929683061519,null,null,null,2.0344241744725755,null,null,1.7662036969251271,null,null,1.5261130183391378,null,null,1.2816151811480039,null,null,2.0673933351338021,null,null,null,1.9591076657240474,null,null,1.8466397793206526,null,null,1.6908582352950858,null,null,1.5522840637184974,null,null,2.2201754748985167,null,null,null,2.1907810019609082,null,null,2.0759212250777224,null,null,1.8940564402567921,null,null,1.6588043936027563,null,null,1.9658470378882773,null,null,null,1.9156761904158495,null,null,1.73763180416978,null,null,1.5283573553155609,null,null,1.2706326592600374,null,null,2.0024129097755141,null,null,null,1.9100320842521532,null,null,1.796130908861896,null,null,1.6450459952945482,null,null,1.5282783390099866,null,null,1.605059079873373,null,null,null,1.5485038106838591,null,null,1.4950822614371595,null,null,1.4317220607136869,null,null,1.3716747691465243,null,null,2.1500935009719098,null,null,null,2.1882429600738518,null,null,1.9936591163764206,null,null,1.6865677749556707,null,null,1.4409505161937539,null,null,0.54301109876216502,null,null,null,0.51446990701728412,null,null,0.48703812992002998,null,null,0.45923792415370002,null,null,0.43526686288853023,null,null,1.7123391678562272,null,null,null,1.836440018281615]
[{"$f":"'Als-Ob-Allokation KW03'!A303","v":"2012-10-28"},{"$f":"'Als-Ob-Allokation KW03'!B303","v":0.3},7,1.8994670633250983,null,null,1.9570832889211152,null,null,1.7577405655355678,null,null,1.8272410647492403,null,null,1.0988599328204303,null,null,1.3654814377711058,null,null,null,1.2876185674276965,null,null,1.1959503026845686,null,null,1.0924268957496814,null,null,1.0352334354947093,null,null,2.3440321511410955,null,null,null,2.1103599678936025,null,null,1.807604235700794,null,null,1.4849678042669163,null,null,1.0865529735245212,null,null,1.7584126243240492,null,null,null,1.6726471712930215,null,null,1.5508969137058124,null,null,1.4574512420311663,null,null,1.3345985274214014,null,null,2.3603926970937086,null,null,null,2.0985231518610674,null,null,1.80518651831806,null,null,1.5454790049801226,null,null,1.279362373677003,null,null,2.138403765176351,null,null,null,2.0088266808231978,null,null,1.8768734249181487,null,null,1.700802829270144,null,null,1.5487917079091644,null,null,2.2633371763811518,null,null,null,2.1873670246899986,null,null,2.0436014460464973,null,null,1.8406759067491401,null,null,1.5959851081008189,null,null,2.2720048264186605,null,null,null,2.1724842232460131,null,null,1.9404468239566355,null,null,1.6851994928053868,null,null,1.3815564768368369,null,null,2.0771562255030607,null,null,null,1.951582329100003,null,null,1.8153448690583629,null,null,1.6447307720892448,null,null,1.5099542027752342,null,null,1.792261718109815,null,null,null,1.7240019612868944,null,null,1.6584282605129819,null,null,1.5843513985667805,null,null,1.5131793266372127,null,null,2.2734454398085968,null,null,null,2.2485024795365791,null,null,2.0017502767150446,null,null,1.6674417447408514,null,null,1.3988880799883046,null,null,0.66585230355390557,null,null,null,0.62821428675469826,null,null,0.59212349466039227,null,null,0.55571321244966165,null,null,0.5237543660437215,null,null,1.8341351820246914,null,null,null,1.9883656223089539]
[{"$f":"'Als-Ob-Allokation KW03'!A304","v":"2012-10-29"},{"$f":"'Als-Ob-Allokation KW03'!B304","v":-0.2},1,1.9513661166077627,null,null,2.01613441221639,null,null,1.7946964750787091,null,null,1.8689324028749397,null,null,1.1000773892766893,null,null,1.5695781868445802,null,null,null,1.4743420999781751,null,null,1.3655130443923973,null,null,1.2439429120082461,null,null,1.175101654098158,null,null,2.9349475618559375,null,null,null,2.6205005466180737,null,null,2.2273439322452746,null,null,1.8198333068378456,null,null,1.3150851998486628,null,null,2.166157230593817,null,null,null,2.0550189174488334,null,null,1.9009317788526467,null,null,1.7827449162285545,null,null,1.6284497991979288,null,null,2.2470391499098112,null,null,null,1.9900515275092319,null,null,1.7049275963278938,null,null,1.4531035903366607,null,null,1.1945316656090277,null,null,2.3527103065253434,null,null,null,2.2009291788194578,null,null,2.047532492465248,null,null,1.8468055891893989,null,null,1.6749955671942036,null,null,2.7579209158537457,null,null,null,2.6369122614717622,null,null,2.4466546846377506,null,null,2.1892392520432207,null,null,1.8891295260366499,null,null,2.5990216254842697,null,null,null,2.4604816601254105,null,null,2.1807313476656303,null,null,1.8819013992662867,null,null,1.5319321802841521,null,null,2.5501435311211309,null,null,null,2.3781607834041618,null,null,2.2006292698722389,null,null,1.9828318616541727,null,null,1.809312695531422,null,null,2.0145464149527514,null,null,null,1.9350926278922693,null,null,1.8582287709260916,null,null,1.7731920866234798,null,null,1.6909938423989217,null,null,2.8759250402448044,null,null,null,2.8023699222409073,null,null,2.4683173078522329,null,null,2.0415660875174466,null,null,1.6962893507703865,null,null,1.8113810934577639,null,null,null,1.705568896619815,null,null,1.6039991502968161,null,null,1.5018134881175589,null,null,1.4112089180629468,null,null,2.0369302919148815,null,null,null,2.2199930396773118]
[{"$f":"'Als-Ob-Allokation KW03'!A305","v":"2012-10-30"},{"$f":"'Als-Ob-Allokation KW03'!B305","v":4.4000000000000004},2,1.4325920386810505,null,null,1.4264609107908153,null,null,1.4013166125568457,null,null,1.4232970503242286,null,null,1.0834081178524066,null,null,1.3913009836809962,null,null,null,1.3648716334773856,null,null,1.3066894575708166,null,null,1.2338066854914138,null,null,1.2042430600461895,null,null,1.7630782644933058,null,null,null,1.7456446213099415,null,null,1.6332222767184184,null,null,1.4346779791638262,null,null,1.202850670413631,null,null,1.5921651469674865,null,null,null,1.5535856508178094,null,null,1.4818347141801476,null,null,1.4259634486294144,null,null,1.3486725446153647,null,null,1.5630194029707782,null,null,null,1.4902011777291733,null,null,1.3709410306403671,null,null,1.2420496265179404,null,null,1.120537004762985,null,null,1.4285001679852247,null,null,null,1.4160804749652705,null,null,1.3949216846299852,null,null,1.3569880226929969,null,null,1.2955586690293359,null,null,1.4902388748332205,null,null,null,1.6056854767819999,null,null,1.6304556648551027,null,null,1.5753026892066722,null,null,1.4544847278277144,null,null,1.6070215313187393,null,null,null,1.6888909108743064,null,null,1.6449959681567747,null,null,1.5370863970820439,null,null,1.3626603774535728,null,null,1.5645620625164371,null,null,null,1.6052069906122879,null,null,1.5981409188529132,null,null,1.5365608930782926,null,null,1.504357434579068,null,null,1.5279114473890212,null,null,null,1.4977355079346335,null,null,1.4746055114653045,null,null,1.4301268082602665,null,null,1.3925918056862201,null,null,1.5213131948650027,null,null,null,1.7348705633116663,null,null,1.7996360438868555,null,null,1.6656077281228221,null,null,1.5283265690349324,null,null,1.5870916535765418,null,null,null,1.5374450094596126,null,null,1.4845155064582249,null,null,1.4298880503109115,null,null,1.385570532518295,null,null,1.5236869997982683,null,null,null,1.5511762943199927]
[{"$f":"'Als-Ob-Allokation KW03'!A306","v":"2012-10-31"},{"$f":"'Als-Ob-Allokation KW03'!B306","v":4.4000000000000004},3,1.4325920386810505,null,null,1.4264609107908153,null,null,1.4013166125568457,null,null,1.4232970503242286,null,null,1.0834081178524066,null,null,1.3364481574579117,null,null,null,1.3110607992969374,null,null,1.2551724885005908,null,null,1.1851631608292781,null,null,1.1567650979963797,null,null,1.6852930117814799,null,null,null,1.6686285235290201,null,null,1.5611661405345625,null,null,1.371381419154664,null,null,1.1497820998022164,null,null,1.5219204103553996,null,null,null,1.4850430030567583,null,null,1.4164576461049618,null,null,1.3630513650065452,null,null,1.2891704585077142,null,null,1.5849781352340631,null,null,null,1.5111368926780673,null,null,1.3902012694981609,null,null,1.2594990805391648,null,null,1.1362793378600191,null,null,1.5590787644147457,null,null,null,1.5455237925065022,null,null,1.5224308860919555,null,null,1.4810297241544945,null,null,1.4139851392428828,null,null,1.4931517733375854,null,null,null,1.6088240332260613,null,null,1.6336426383986034,null,null,1.5783818578720485,null,null,1.4573277394145547,null,null,1.5957206101634045,null,null,null,1.6770142666279224,null,null,1.6334280025914796,null,null,1.5262772748370499,null,null,1.3530778565059758,null,null,1.499353108246577,null,null,null,1.538304007501385,null,null,1.5315324406141813,null,null,1.4725189918906589,null,null,1.4416577325300417,null,null,1.5171668453642384,null,null,null,1.4872031096083802,null,null,1.4642357682505907,null,null,1.4200698488559844,null,null,1.3827988004956109,null,null,1.5008722113889961,null,null,null,1.7115601360851338,null,null,1.7754554012945971,null,null,1.6432279445496645,null,null,1.5077913510081424,null,null,1.5986661626632672,null,null,null,1.5486574502737451,null,null,1.4953419374209007,null,null,1.4403160884106818,null,null,1.3956753671589357,null,null,1.5088939221303239,null,null,null,1.5361163302974685]
[{"$f":"'Als-Ob-Allokation KW03'!A307","v":"2012-11-01"},{"$f":"'Als-Ob-Allokation KW03'!B307","v":8.1999999999999993},4,0.9849646895634937,null,null,0.93067459665669816,null,null,1.0160210971852779,null,null,0.99203204323559047,null,null,1.0540225683316358,null,null,1.1778978692596687,null,null,null,1.2129761600489402,null,null,1.2097882550342955,null,null,1.2004897799241119,null,null,1.2099385793415509,null,null,0.92220688893559433,null,null,null,1.0437767505171278,null,null,1.1067649085557201,null,null,1.0847601868560088,null,null,1.0956287763646606,null,null,1.0732127961605871,null,null,null,1.0860602577826342,null,null,1.0898416337502086,null,null,1.089480106582559,null,null,1.0846278357439769,null,null,0.84492850494359806,null,null,null,0.9483082444140879,null,null,1.0006008447127221,null,null,0.99582472488979235,null,null,1.0175069715528726,null,null,0.85451429058841044,null,null,null,0.92260959066962478,null,null,0.98480498058324351,null,null,1.0861967326223065,null,null,1.1135043126564319,null,null,0.70182231451340138,null,null,null,0.85660040947294169,null,null,0.97555419532010068,null,null,1.0331177052993048,null,null,1.0573402436089303,null,null,0.85434223946567522,null,null,null,0.99301499383361225,null,null,1.087187730153635,null,null,1.129197681749019,null,null,1.1121103451784542,null,null,0.79910357140650734,null,null,null,0.92693519152474524,null,null,1.0303855552285797,null,null,1.0702371133979243,null,null,1.1360191235512862,null,null,1.0277802785148471,null,null,null,1.0410384508507087,null,null,1.0662125778805702,null,null,1.0612078966437237,null,null,1.0673152879067924,null,null,0.58107333909178716,null,null,null,0.76061446466459848,null,null,1.010786079332463,null,null,1.1309257584738737,null,null,1.1361084241664225,null,null,1.3222733283595349,null,null,null,1.3385466997055027,null,null,1.3363095868364534,null,null,1.3306992162100528,null,null,1.3277251007223754,null,null,1.0463090735230709,null,null,null,0.97435240101928688]
[{"$f":"'Als-Ob-Allokation KW03'!A308","v":"2012-11-02"},{"$f":"'Als-Ob-Allokation KW03'!B308","v":8},5,1.0075192213877613,null,null,0.95508749913214586,null,null,1.0365183774464064,null,null,1.0146273452123076,null,null,1.0561214578995441,null,null,1.1954051074191001,null,null,null,1.2275839987983939,null,null,1.2213524029708609,null,null,1.2083211305951773,null,null,1.215689103448276,null,null,0.92599622334025489,null,null,null,1.039549133516626,null,null,1.0939558499460595,null,null,1.0645672141602776,null,null,1.0632343274282645,null,null,1.061596135959078,null,null,null,1.0715672346549292,null,null,1.0714517418994551,null,null,1.0684079655680878,null,null,1.060324373631143,null,null,0.88642139508563633,null,null,null,0.98314710326733767,null,null,1.0277915468023564,null,null,1.0167011037844558,null,null,1.031249918124687,null,null,0.86526206647102955,null,null,null,0.92919482245625906,null,null,0.98692171685826957,null,null,1.0798416549482484,null,null,1.1020400398866805,null,null,0.73164300668444071,null,null,null,0.88674827149833291,null,null,1.0032862487471328,null,null,1.0566631276636078,null,null,1.0744618172191338,null,null,0.83616081202159842,null,null,null,0.96644045716255489,null,null,1.0508050759078058,null,null,1.0844041756382174,null,null,1.0614685036559215,null,null,0.89059374306590899,null,null,null,1.0256159080015916,null,null,1.1322316080005781,null,null,1.170752460968371,null,null,1.2370403494063289,null,null,0.99230739037632243,null,null,null,1.0029591538607543,null,null,1.0245984524468126,null,null,1.0180583513952486,null,null,1.0217811732714157,null,null,0.58936175722502149,null,null,null,0.76576651123072259,null,null,1.0026579395414892,null,null,1.1083713942620956,null,null,1.1079739661071453,null,null,1.2113324391894933,null,null,null,1.2228088141548084,null,null,1.2182881495522946,null,null,1.2108754989544197,null,null,1.2062692979294936,null,null,1.0497934236374085,null,null,null,0.9827546288904061]
[{"$f":"'Als-Ob-Allokation KW03'!A309","v":"2012-11-03"},{"$f":"'Als-Ob-Allokation KW03'!B309","v":10.3},6,0.76178955332545528,null,null,0.69366055441257801,null,null,0.80680401003581059,null,null,0.76473987680897604,null,null,1.0270366595597455,null,null,0.44916017646895673,null,null,null,0.47666987599717209,null,null,0.48862278375360146,null,null,0.50122892719054934,null,null,0.51467468203793232,null,null,0.42852565783760782,null,null,null,0.53278115272109294,null,null,0.6152765642335819,null,null,0.65673776211847823,null,null,0.75223152675390015,null,null,0.58826566878870679,null,null,null,0.61622717966900431,null,null,0.64745773453392275,null,null,0.66712009061643829,null,null,0.68731180363718247,null,null,0.53573036722396261,null,null,null,0.70064326873465976,null,null,0.82517461268981718,null,null,0.88122069911379086,null,null,0.97414585792775366,null,null,0.5194782147782695,null,null,null,0.59720436741622251,null,null,0.6745681505659975,null,null,0.81540226991529385,null,null,0.88070825819138909,null,null,0.39403519714638297,null,null,null,0.52013583553403353,null,null,0.63457628809469946,null,null,0.71574476299940115,null,null,0.78815805240549974,null,null,0.46657405064812407,null,null,null,0.57787839159173737,null,null,0.68314704880564314,null,null,0.76277007149219234,null,null,0.8021796082239514,null,null,0.47810235797910505,null,null,null,0.60055005633652458,null,null,0.72205354601599636,null,null,0.78757758474798778,null,null,0.87720923930557715,null,null,0.65226742535235316,null,null,null,0.67755955279100244,null,null,0.71482838460985465,null,null,0.72592007273687631,null,null,0.74812562939053628,null,null,0.26078496844563692,null,null,null,0.3724906135665717,null,null,0.58086996742070018,null,null,0.74436727099082878,null,null,0.79121152568479403,null,null,0.37039906628629415,null,null,null,0.38718386442404062,null,null,0.39550698718857558,null,null,0.40186756539077334,null,null,0.40760038925691833,null,null,0.72948597420783345,null,null,null,0.64171844658435384]
[{"$f":"'Als-Ob-Allokation KW03'!A310","v":"2012-11-04"},{"$f":"'Als-Ob-Allokation KW03'!B310","v":9},7,0.89678320954971191,null,null,0.83598541303565066,null,null,0.93474822218674691,null,null,0.90297194517522084,null,null,1.0448538138288297,null,null,0.95097486798629904,null,null,null,0.99043087689314391,null,null,0.99787488131852908,null,null,1.0025187948792638,null,null,1.017589709791759,null,null,0.68136307693069198,null,null,null,0.79781425561516306,null,null,0.87287825038668443,null,null,0.88181413524529839,null,null,0.93285319665013733,null,null,0.84311334581179798,null,null,null,0.86291759711893257,null,null,0.87956145641281391,null,null,0.88871360482223682,null,null,0.89618180794699065,null,null,0.71113627725044604,null,null,null,0.84062320895675879,null,null,0.9224917523225119,null,null,0.94175055782356976,null,null,0.99133140321182545,null,null,0.64976072048537103,null,null,null,0.71754445884992157,null,null,0.78187381744122686,null,null,0.89166705488813713,null,null,0.93140877003838463,null,null,0.50431835706770467,null,null,null,0.63348990148738027,null,null,0.74074883491883559,null,null,0.80255655458098607,null,null,0.84373029802573984,null,null,0.65537345259944835,null,null,null,0.77952337095709645,null,null,0.87800466107817321,null,null,0.93650867467441212,null,null,0.94554963412497439,null,null,0.6158297928262243,null,null,null,0.73579370969278723,null,null,0.84171377638176881,null,null,0.89041482764709523,null,null,0.96270150628961348,null,null,0.83354824099717895,null,null,null,0.85195405293432325,null,null,0.88193498192965836,null,null,0.88411539106374704,null,null,0.89704070095663713,null,null,0.37105858848279022,null,null,null,0.5008578377511278,null,null,0.70698294004574791,null,null,0.83159652728817013,null,null,0.852515785194079,null,null,0.4740005993530107,null,null,null,0.48547497035334503,null,null,0.48875527279387782,null,null,0.49044368342648237,null,null,0.49243471539180145,null,null,0.87769182686435798,null,null,null,0.80000534729083417]
[{"$f":"'Als-Ob-Allokation KW03'!A311","v":"2012-11-05"},{"$f":"'Als-Ob-Allokation KW03'!B311","v":6.8},1,1.1462316024068515,null,null,1.1067651640662957,null,null,1.1600083222740747,null,null,1.1517448178028364,null,null,1.0672576763870765,null,null,1.208331866406344,null,null,null,1.2208747055212275,null,null,1.1977004289583271,null,null,1.1646537219537483,null,null,1.1595867155914337,null,null,1.238416447074048,null,null,null,1.3273723303952012,null,null,1.3376841467776843,null,null,1.2513185838967429,null,null,1.1720974983039725,null,null,1.3021478263849806,null,null,null,1.2968182635138463,null,null,1.2721720793852582,null,null,1.2511590995815012,null,null,1.219630479143637,null,null,1.0196706209505808,null,null,null,1.0621331846557016,null,null,1.0553443258689066,null,null,1.0092796695440049,null,null,0.98105898255503909,null,null,1.0260110443748096,null,null,null,1.0690130411306957,null,null,1.1039420575444618,null,null,1.1547513257210422,null,null,1.1492486650088516,null,null,0.95973031333510561,null,null,null,1.1164672114595806,null,null,1.2154039304552238,null,null,1.2405482491627335,null,null,1.2161923880653307,null,null,1.088775844753231,null,null,null,1.217829194627271,null,null,1.2724229356177574,null,null,1.2657738936289391,null,null,1.1955660637468222,null,null,1.115995774373683,null,null,null,1.2325494135775232,null,null,1.3086178102633561,null,null,1.3182940621318098,null,null,1.3559099833456947,null,null,1.1939275632233237,null,null,null,1.1925166077211096,null,null,1.2010726554384397,null,null,1.1822477810316081,null,null,1.1728570932504283,null,null,0.82218259189100851,null,null,null,1.0228418322278916,null,null,1.2292116614181732,null,null,1.269447148949475,null,null,1.2327645241686103,null,null,1.4163551312047973,null,null,null,1.4074691065131162,null,null,1.3861504967239884,null,null,1.3624737448999329,null,null,1.3445810144027792,null,null,1.2198194675495149,null,null,null,1.1772633952891425]
[{"$f":"'Als-Ob-Allokation KW03'!A312","v":"2012-11-06"},{"$f":"'Als-Ob-Allokation KW03'!B312","v":5.2},2,1.3367512391453371,null,null,1.3186668367901198,null,null,1.3225550406318136,null,null,1.3342751585493655,null,null,1.0787929539743475,null,null,1.3448867438919458,null,null,null,1.3317258142772699,null,null,1.2846336765415036,null,null,1.2239268478817118,null,null,1.2023330643308443,null,null,1.5724557136069983,null,null,null,1.5954795312189001,null,null,1.5272937522238592,null,null,1.3669759353929096,null,null,1.1860839468011595,null,null,1.4888617893677349,null,null,null,1.4616965633587267,null,null,1.4055448679364615,null,null,1.3613346582272408,null,null,1.2993706461988423,null,null,1.4005192233393102,null,null,null,1.3685674096752201,null,null,1.2871918593270386,null,null,1.1850883181409237,null,null,1.0940556620971218,null,null,1.2791498160825021,null,null,null,1.2872245698582863,null,null,1.2863383682913743,null,null,1.2785929672319409,null,null,1.2361993405325564,null,null,1.2953760678634636,null,null,null,1.4306765283449776,null,null,1.4847054953004155,null,null,1.4593095142374819,null,null,1.3718284179491584,null,null,1.4321434322274256,null,null,null,1.5360470539640327,null,null,1.5292168411138618,null,null,1.4566060006063286,null,null,1.3170775676110229,null,null,1.3983726540046437,null,null,null,1.467932500502581,null,null,1.4899866375241484,null,null,1.4536979311807257,null,null,1.4455982397370519,null,null,1.4244285812905741,null,null,null,1.4040577718591496,null,null,1.3917247090515172,null,null,1.355672970579147,null,null,1.3274243731879605,null,null,1.2833053233455831,null,null,null,1.5069037769838687,null,null,1.6346386914619186,null,null,1.5626795639939071,null,null,1.4610542677786993,null,null,1.5374320537883828,null,null,null,1.5007059349700032,null,null,1.4578976855913632,null,null,1.413259863761948,null,null,1.3776567294646531,null,null,1.4230221037432313,null,null,null,1.4249698698276054]
[{"$f":"'Als-Ob-Allokation KW03'!A313","v":"2012-11-07"},{"$f":"'Als-Ob-Allokation KW03'!B313","v":6.4},3,1.19346567435287,null,null,1.1589552071200697,null,null,1.2010609698543624,null,null,1.1976556706093124,null,null,1.0704650109309379,null,null,1.2228964734634384,null,null,null,1.22916669260832,null,null,1.2005148253335203,null,null,1.1611013007298525,null,null,1.1521039429928739,null,null,1.2442821621843476,null,null,null,1.3145351534006793,null,null,1.3069247707472587,null,null,1.2080577019464105,null,null,1.1090364347891017,null,null,1.2729567866891509,null,null,null,1.2628121000950534,null,null,1.2319849306492137,null,null,1.2066267822871681,null,null,1.1696571307669215,null,null,1.1762647361290495,null,null,null,1.2034463808360356,null,null,1.1778408612035318,null,null,1.1149387685309193,null,null,1.0692119648815814,null,null,1.1629521576942088,null,null,null,1.2004972376028979,null,null,1.2289614221115424,null,null,1.2679771340365238,null,null,1.2522366305980495,null,null,1.0310510659146908,null,null,null,1.183624410893074,null,null,1.2726060705095465,null,null,1.2861872863727937,null,null,1.2468388742116505,null,null,1.1760110606781735,null,null,null,1.3014630461371239,null,null,1.342754841373502,null,null,1.3205112166857418,null,null,1.2331521375367316,null,null,1.1095011632417537,null,null,null,1.2092179005319017,null,null,1.2685041010433742,null,null,1.2672877289624176,null,null,1.292146329790679,null,null,1.2574045097440394,null,null,null,1.2514304335039639,null,null,1.2549886464681723,null,null,1.2318271147348796,null,null,1.21773916082619,null,null,0.95471005263328557,null,null,null,1.1707760953373778,null,null,1.3694327106783926,null,null,1.3851071183566348,null,null,1.332333534182399,null,null,1.4711107327996877,null,null,null,1.454870921234287,null,null,1.427675407630951,null,null,1.3982660340922934,null,null,1.3756197246204045,null,null,1.2581441276776868,null,null,null,1.226043087417737]
[{"$f":"'Als-Ob-Allokation KW03'!A314","v":"2012-11-08"},{"$f":"'Als-Ob-Allokation KW03'!B314","v":7.2},4,1.0994297523927541,null,null,1.0553103615647514,null,null,1.1188338862100917,null,null,1.1058516476166538,null,null,1.0638089692347714,null,null,1.2398426847659803,null,null,null,1.2593914132243633,null,null,1.2411320210276686,null,null,1.2136453639414526,null,null,1.2125439004317324,null,null,1.1097834162619282,null,null,null,1.2073994340177454,null,null,1.2339240294509208,null,null,1.1688182319309461,null,null,1.1177875459991287,null,null,1.2001956519256609,null,null,null,1.2002734093155922,null,null,1.1844581131847407,null,null,1.1699931662641128,null,null,1.1471399465051073,null,null,1.0282325656777125,null,null,null,1.0920208453766276,null,null,1.1025630918874896,null,null,1.0658426872686264,null,null,1.050521903027305,null,null,1.0222555457930846,null,null,null,1.0754593370635077,null,null,1.1206951854817897,null,null,1.1892565453406241,null,null,1.1931467398178828,null,null,0.87656689872148585,null,null,null,1.0335419139988702,null,null,1.1394732376476866,null,null,1.1749150038372218,null,null,1.1654285978413716,null,null,1.0286398114214002,null,null,null,1.1630330874606143,null,null,1.2310192220162917,null,null,1.2391962617184304,null,null,1.1841885555325387,null,null,0.96633669038859082,null,null,null,1.0818983877615356,null,null,1.1631450973150947,null,null,1.1817723287096331,null,null,1.2263107832682585,null,null,1.1574863257862451,null,null,null,1.1604807429861608,null,null,1.1741043191037654,null,null,1.1591512330757863,null,null,1.1542083034726831,null,null,0.76547930115145335,null,null,null,0.96608848984591078,null,null,1.193837942759606,null,null,1.2600707240700382,null,null,1.2354260087468982,null,null,1.3873734712426735,null,null,null,1.3856177363015527,null,null,1.3697312687269243,null,null,1.3512622522459179,null,null,1.3376912974700861,null,null,1.1695133521308436,null,null,null,1.1175613418954689]
[{"$f":"'Als-Ob-Allokation KW03'!A315","v":"2012-11-09"},{"$f":"'Als-Ob-Allokation KW03'!B315","v":4.4000000000000004},5,1.4325920386810505,null,null,1.4264609107908153,null,null,1.4013166125568457,null,null,1.4232970503242286,null,null,1.0834081178524066,null,null,1.4150043542887092,null,null,null,1.3881247315055885,null,null,1.3289513152459596,null,null,1.2548268511259568,null,null,1.2247595549591164,null,null,1.6671052282663974,null,null,null,1.6506205841731469,null,null,1.5443179416773769,null,null,1.3565813884218327,null,null,1.1373735822479814,null,null,1.5054957537780431,null,null,null,1.4690163296763037,null,null,1.4011711500205759,null,null,1.3483412327189432,null,null,1.2752576534052991,null,null,1.6082006794261698,null,null,null,1.5332775408614296,null,null,1.4105700113117989,null,null,1.2779528196839127,null,null,1.1529277045165947,null,null,1.5279179629940647,null,null,null,1.5146339099114356,null,null,1.4920025539248944,null,null,1.4514288635784554,null,null,1.385724277032832,null,null,1.493297418262804,null,null,null,1.6089809610482646,null,null,1.6338019870757787,null,null,1.5785358163053176,null,null,1.4574698899938971,null,null,1.5095892651416649,null,null,null,1.5864949780473743,null,null,1.5452613461208515,null,null,1.4438942350238531,null,null,1.2800435076621275,null,null,1.6089403786167589,null,null,null,1.6507381874516525,null,null,1.643471688765384,null,null,1.5801449647198766,null,null,1.5470280651402111,null,null,1.4352755542564357,null,null,null,1.4069291547974774,null,null,1.3852015091546646,null,null,1.3434195096125379,null,null,1.3081602203942115,null,null,1.416448149498365,null,null,null,1.6152848784303451,null,null,1.6755860349717759,null,null,1.5507963726687457,null,null,1.4229780875139344,null,null,1.418632222412135,null,null,null,1.3742552458713111,null,null,1.3269438645123219,null,null,1.2781147566631657,null,null,1.2385012544333169,null,null,1.4941008444623796,null,null,null,1.5210563662749443]
[{"$f":"'Als-Ob-Allokation KW03'!A316","v":"2012-11-10"},{"$f":"'Als-Ob-Allokation KW03'!B316","v":8.9},6,0.90761336578144547,null,null,0.84754662746927845,null,null,0.94482758607489492,null,null,0.91396833723698179,null,null,1.0460704211359397,null,null,0.48500684513661518,null,null,null,0.5044094858227568,null,null,0.50754600486971224,null,null,0.50910845371297697,null,null,0.51630340790293439,null,null,0.57685954498359171,null,null,null,0.6725107873897147,null,null,0.73284793620045174,null,null,0.73744555795887345,null,null,0.77553513856424705,null,null,0.70826408736730007,null,null,null,0.72379869138011221,null,null,0.73623213940338306,null,null,0.74285857660276466,null,null,0.74788351751383186,null,null,0.74511430138579327,null,null,null,0.87474605426488461,null,null,0.95506034132559914,null,null,0.97180438812781722,null,null,1.0191375944435817,null,null,0.6919766576176285,null,null,null,0.76194479138831639,null,null,0.82806347715147255,null,null,0.94030262775021145,null,null,0.97983620656200621,null,null,0.55941475663791951,null,null,null,0.70013390341130233,null,null,0.81597785475726214,null,null,0.88147924386148113,null,null,0.92352301380570345,null,null,0.6280758302626922,null,null,null,0.74485881661032038,null,null,0.83594031194235396,null,null,0.88861998718759871,null,null,0.89439550755162467,null,null,0.65179545469031031,null,null,null,0.77584866900898986,null,null,0.88428012059718719,null,null,0.93328169478225687,null,null,1.0067254719897656,null,null,0.79320743143618044,null,null,null,0.80977596801848561,null,null,0.83711727350581955,null,null,0.83840692376883708,null,null,0.84970066227520868,null,null,0.40371319070671424,null,null,null,0.54278253596307802,null,null,0.7603513827842433,null,null,0.88867271514179991,null,null,0.90866768669336029,null,null,0.39824384318379996,null,null,null,0.40727266478284502,null,null,0.40958410667074985,null,null,0.41060401459600593,null,null,0.41194752695403747,null,null,0.86969459218625111,null,null,null,0.79486378399344659]
[{"$f":"'Als-Ob-Allokation KW03'!A317","v":"2012-11-11"},{"$f":"'Als-Ob-Allokation KW03'!B317","v":8.6999999999999993},7,0.92944535899886471,null,null,0.87091190507379057,null,null,0.96506277450897981,null,null,0.93608745549644734,null,null,1.0484418395277002,null,null,0.96643978319687307,null,null,null,1.0022484505972944,null,null,1.0059043271231156,null,null,1.0058586309912576,null,null,1.0182663314203604,null,null,0.72387106534404166,null,null,null,0.83665554188885027,null,null,0.9045191254118814,null,null,0.9031805956665524,null,null,0.93877098814990567,null,null,0.87511276549542316,null,null,null,0.89167543492409629,null,null,0.90333575908230379,null,null,0.90897721438015511,null,null,0.91216923485785351,null,null,0.7597233631604291,null,null,null,0.880012519826738,null,null,0.95122104304674004,null,null,0.96164723577076039,null,null,1.0009696372145056,null,null,0.68890968511898609,null,null,null,0.75422531909433876,null,null,0.81539813680785012,null,null,0.91810001448646072,null,null,0.95213866644109313,null,null,0.54191706747342905,null,null,null,0.67333189356915513,null,null,0.77957525649215009,null,null,0.83729499998552626,null,null,0.87128005505823836,null,null,0.6963071250695797,null,null,null,0.82097565479817569,null,null,0.91478952640409272,null,null,0.9659154169663301,null,null,0.96614289022249811,null,null,0.65574202186873021,null,null,null,0.77474525292084573,null,null,0.87662250662418384,null,null,0.92094725781658537,null,null,0.9888525539174956,null,null,0.86712157718560945,null,null,null,0.88319853674869553,null,null,0.91053676216402923,null,null,0.9102708814976459,null,null,0.92047266354435309,null,null,0.40578618023123236,null,null,null,0.54133019204054822,null,null,0.74689823165894675,null,null,0.86195547839764797,null,null,0.87683924407055691,null,null,0.48124902447605644,null,null,null,0.49070098881508428,null,null,0.49243617375529836,null,null,0.49271545184133109,null,null,0.49355162559754501,null,null,0.91000152047051364,null,null,null,0.83619819546466689]
[{"$f":"'Als-Ob-Allokation KW03'!A318","v":"2012-11-12"},{"$f":"'Als-Ob-Allokation KW03'!B318","v":6.4},1,1.19346567435287,null,null,1.1589552071200697,null,null,1.2010609698543624,null,null,1.1976556706093124,null,null,1.0704650109309379,null,null,1.2318674848297317,null,null,null,1.2381837014964301,null,null,1.2093216478055557,null,null,1.1696189906507048,null,null,1.1605556294536816,null,null,1.3250921619253624,null,null,null,1.3999077390040766,null,null,1.3918030994699075,null,null,1.2865151013597733,null,null,1.18106289046918,null,null,1.3556290621014158,null,null,null,1.3448255280642252,null,null,1.3119962857520822,null,null,1.2849912505143364,null,null,1.2456206021618823,null,null,1.0929073926238411,null,null,null,1.1181627790445055,null,null,1.0943718237954074,null,null,1.0359273597373895,null,null,0.99344103823642993,null,null,1.0954351865137133,null,null,null,1.1308005292239347,null,null,1.1576121818442882,null,null,1.1943627767735299,null,null,1.1795361124040065,null,null,1.0417115626945346,null,null,null,1.1958624315285273,null,null,1.2857641122061925,null,null,1.2994857503169528,null,null,1.2597304973745882,null,null,1.1653190278746108,null,null,null,1.289630431591902,null,null,1.330546810946621,null,null,1.3085054203812969,null,null,1.2219405906838281,null,null,1.1950622113685216,null,null,null,1.3024687725552015,null,null,1.3663269281247419,null,null,1.365016753465107,null,null,1.3917923671026353,null,null,1.2459724656799487,null,null,null,1.24005270442148,null,null,1.2435785668993642,null,null,1.2206276146966164,null,null,1.2066677453530839,null,null,0.90964631320861744,null,null,null,1.1155137162104456,null,null,1.3047934428049535,null,null,1.3197279950461445,null,null,1.2694454028114761,null,null,1.4421678128972779,null,null,null,1.4262475065566627,null,null,1.399587042799934,null,null,1.3707562750206737,null,null,1.3485555134647345,null,null,1.270478874027468,null,null,null,1.2380631176865384]
[{"$f":"'Als-Ob-Allokation KW03'!A319","v":"2012-11-13"},{"$f":"'Als-Ob-Allokation KW03'!B319","v":4.7},2,1.3966873229091261,null,null,1.3860006775319824,null,null,1.3720419764025156,null,null,1.3901763420841149,null,null,1.0817565114981709,null,null,1.3740602833521502,null,null,null,1.3526084085996104,null,null,1.2985391009199592,null,null,1.2301264190542387,null,null,1.2035316703381864,null,null,1.6908380525103437,null,null,null,1.6891646042417889,null,null,1.5936498085141895,null,null,1.4094275623645318,null,null,1.1966077123402807,null,null,1.5536313955067804,null,null,null,1.5193687979099626,null,null,1.4534264980860114,null,null,1.4019070336814949,null,null,1.3303234845283445,null,null,1.5021496741454237,null,null,null,1.4447038080956844,null,null,1.3396155787578896,null,null,1.22074562374892,null,null,1.1106121084308571,null,null,1.3720023295951929,null,null,null,1.367508636929613,null,null,1.3541336661459977,null,null,1.3275738229045737,null,null,1.2733028861943385,null,null,1.4157255564182925,null,null,null,1.5394504776535309,null,null,1.5757060482742464,null,null,1.5320288250836447,null,null,1.4237615798677958,null,null,1.5407083675887872,null,null,null,1.6315175192055533,null,null,1.6019066811229159,null,null,1.5073436033433556,null,null,1.3459992189626209,null,null,1.5019266760173453,null,null,null,1.5539088622855328,null,null,1.5579330934480919,null,null,1.5059761280839123,null,null,1.4828982991115298,null,null,1.4893771744173201,null,null,null,1.4628825868944515,null,null,1.4437998117384696,null,null,1.4024646872198099,null,null,1.3683917665061691,null,null,1.4297376787248139,null,null,null,1.6484643270821073,null,null,1.7379537528053304,null,null,1.6273651600646106,null,null,1.5037539214433777,null,null,1.5686513146354286,null,null,null,1.5237632888859147,null,null,1.4745859944456388,null,null,1.4236684480465807,null,null,1.3826119144005853,null,null,1.486129525764611,null,null,null,1.5038423271064973]
[{"$f":"'Als-Ob-Allokation KW03'!A320","v":"2012-11-14"},{"$f":"'Als-Ob-Allokation KW03'!B320","v":6.1},3,1.2291142062072717,null,null,1.1985047547377805,null,null,1.2317129235658004,null,null,1.2320256513818246,null,null,1.0727216179093366,null,null,1.2403206163478393,null,null,null,1.24190617818888,null,null,1.209052713562123,null,null,1.1647768494723041,null,null,1.152818893407928,null,null,1.3070365542497688,null,null,null,1.3663953763149721,null,null,1.345156228538503,null,null,1.2328154481359408,null,null,1.1152919225387625,null,null,1.3106261039563067,null,null,null,1.2965842755854149,null,null,1.2600087353936527,null,null,1.2304211796421054,null,null,1.1878932688476782,null,null,1.2363931936681793,null,null,null,1.2491689769563799,null,null,1.2095600927975816,null,null,1.1365686315883683,null,null,1.0792400486143476,null,null,1.2196536257780288,null,null,null,1.2506181686493985,null,null,1.2722074921339583,null,null,1.2996895552397727,null,null,1.2764207472483518,null,null,1.0945548154429028,null,null,null,1.244236667972398,null,null,1.3256151119862167,null,null,1.3301405385928622,null,null,1.2790326407534673,null,null,1.2356152429855918,null,null,null,1.3566408435868442,null,null,1.3868190905576097,null,null,1.3525263551379003,null,null,1.25256085354544,null,null,1.1658339400754398,null,null,null,1.2583307391462917,null,null,1.3086164468806785,null,null,1.2993981415321667,null,null,1.3164097975489983,null,null,1.2968095319115152,null,null,null,1.287343626185858,null,null,1.2870168730168456,null,null,1.2607074636982165,null,null,1.2431371006429244,null,null,1.0275763666069626,null,null,null,1.2466049516433144,null,null,1.4296877930260388,null,null,1.4245681859161523,null,null,1.3605677916539383,null,null,1.4907232212845958,null,null,null,1.4691765957682774,null,null,1.4379367019466087,null,null,1.4046016483888282,null,null,1.3786527933533337,null,null,1.2959062548075593,null,null,null,1.2717919941021449]
[{"$f":"'Als-Ob-Allokation KW03'!A321","v":"2012-11-15"},{"$f":"'Als-Ob-Allokation KW03'!B321","v":4.3},4,1.444541859987341,null,null,1.4399456455161241,null,null,1.4109987165925342,null,null,1.4342583529459854,null,null,1.0839387057537853,null,null,1.4146949778317273,null,null,null,1.3862518056826196,null,null,1.3259575776555601,null,null,1.2506695093467153,null,null,1.2197349810930989,null,null,1.7486440905434519,null,null,null,1.7263033210492824,null,null,1.6107268699974764,null,null,1.4118182032660729,null,null,1.1788392390108569,null,null,1.570207061524787,null,null,null,1.5310452758548692,null,null,1.4589650229873994,null,null,1.4028905866344206,null,null,1.3254246156604472,null,null,1.617658974716613,null,null,null,1.5380260193251094,null,null,1.4113681145885821,null,null,1.2762735880966229,null,null,1.1482639653477307,null,null,1.5865156475233906,null,null,null,1.5699428987882991,null,null,1.5438598523119225,null,null,1.4981193275082616,null,null,1.4281688360930536,null,null,1.5247605862819713,null,null,null,1.6379164444079088,null,null,1.6588593897941384,null,null,1.5994394191993586,null,null,1.4736636592376235,null,null,1.6248050662452072,null,null,null,1.703297435939898,null,null,1.6546830772377834,null,null,1.5426138408008296,null,null,1.3643284302201879,null,null,1.5217046659307405,null,null,null,1.5569709588460057,null,null,1.5466074306759461,null,null,1.4843966672092834,null,null,1.4505530054574076,null,null,1.5364260497337241,null,null,null,1.5051107373193542,null,null,1.4807020931866834,null,null,1.4353068420053836,null,null,1.3967313978098985,null,null,1.508262458528044,null,null,null,1.7136907716915899,null,null,1.7683526684039168,null,null,1.630524656904305,null,null,1.4926489594232988,null,null,1.5698223386191221,null,null,null,1.5193647522821945,null,null,1.4659909186178774,null,null,1.4109565629029519,null,null,1.3662202353771291,null,null,1.5361424036246494,null,null,null,1.5669361252214162]
[{"$f":"'Als-Ob-Allokation KW03'!A322","v":"2012-11-16"},{"$f":"'Als-Ob-Allokation KW03'!B322","v":2.5},{"$f":"WEEKDAY(A323,2)","v":5},{"$f":"($F$3/(1+($F$4/(B323-40))^$F$5)+$F$6)","v":1.656318034225537},null,null,1.6801111819550609,null,null,1.5776214105556552,null,null,1.6232171379982847,null,null,1.0919976087030312,null,null,{"$f":"($V$3/(1+($V$4/(B323-40))^$V$5)+$V$6)*VLOOKUP(C323,$T$9:$V$15,3)","v":1.5203716130859655},null,null,null,{"$f":"($Y$3/(1+($Y$4/(B323-40))^$Y$5)+$Y$6)*VLOOKUP(C323,$T$9:$V$15,3)","v":1.4618593060239997},null,null,{"$f":"($AB$3/(1+($AB$4/(B323-40))^$AB$5)+$AB$6)*VLOOKUP(C323,$T$9:$V$15,3)","v":1.3777189475584839},null,null,{"$f":"($AE$3/(1+($AE$4/(B323-40))^$AE$5)+$AE$6)*VLOOKUP(C323,$T$9:$V$15,3)","v":1.2777280309280219},null,null,{"$f":"($AH$3/(1+($AH$4/(B323-40))^$AH$5)+$AH$6)*VLOOKUP(C323,$T$9:$V$15,3)","v":1.2292039550374687},null,null,2.1107317272722983,null,null,null,1.9874065042273106,null,null,1.7744196696369472,null,null,1.5028170683471933,null,null,1.1735825486960392,null,null,1.7284122668840058,null,null,null,1.6651604360536836,null,null,1.5639490309413973,null,null,1.485949236136541,null,null,1.3805017807512099,null,null,1.9917120247730629,null,null,null,1.8200413989029907,null,null,1.6092016374403089,null,null,1.4132353986177892,null,null,1.2170293284595521,null,null,1.9171415085128189,null,null,null,1.8451373187462303,null,null,1.7662029708972256,null,null,1.6496928292343547,null,null,1.5356439058148115,null,null,1.9956765606563274,null,null,null,2.0359474942242928,null,null,1.9770591356937732,null,null,1.8422891571322761,null,null,1.6427530486246282,null,null,1.9152600072851889,null,null,null,1.9219328767788924,null,null,1.7888132327969952,null,null,1.6076263945851113,null,null,1.3679954846469413,null,null,2.0154341563098184,null,null,null,1.9729664859523075,null,null,1.8918170850113905,null,null,1.763795735719728,null,null,1.6706112741500643,null,null,1.6542576493255159,null,null,null,1.6045501600210383,null,null,1.5594788025208162,null,null,1.4998172015077456,null,null,1.4449104492901126,null,null,2.0000924995392242,null,null,null,2.1286371865439948,null,null,2.0251434819178331,null,null,1.7642556054170662,null,null,1.550088770726413,null,null,1.5176608896996788,null,null,null,1.4487816427653135,null,null,1.3814240413247771,null,null,1.3127469367835167,null,null,1.2549825769248333,null,null,1.7185284444405962,null,null,null,1.8093386337840265]
[{"$f":"'Als-Ob-Allokation KW03'!A323","v":"2012-11-17"},{"$f":"'Als-Ob-Allokation KW03'!B323","v":2.8},6,1.621616476476931,null,null,1.6406382449116361,null,null,{"$f":"($L$3/(1+($L$4/(B324-40))^$L$5)+$L$6)","v":1.5509534089699579},null,null,{"$f":"($O$3/(1+($O$4/(B324-40))^$O$5)+$O$6)","v":1.5929557349629857},null,null,{"$f":"($R$3/(1+($R$4/(B324-40))^$R$5)+$R$6)","v":1.0908318589519002},null,null,0.64020522839245075,null,null,null,0.61739514368860771,null,null,0.58318692548641649,null,null,0.54222731613249819,null,null,0.52278279419666851,null,null,{"$f":"($AL$3/(1+($AL$4/(B324-40))^$AL$5)+$AL$6)*VLOOKUP(C324,$AJ$9:$AL$15,3)","v":1.5161097582276877},null,null,null,{"$f":"($AO$3/(1+($AO$4/(B324-40))^$AO$5)+$AO$6)*VLOOKUP(C324,$AJ$9:$AL$15,3)","v":1.4378520456447264},null,null,{"$f":"($AR$3/(1+($AR$4/(B324-40))^$AR$5)+$AR$6)*VLOOKUP(C324,$AJ$9:$AL$15,3)","v":1.292374827220359},null,null,{"$f":"($AU$3/(1+($AU$4/(B324-40))^$AU$5)+$AU$6)*VLOOKUP(C324,$AJ$9:$AL$15,3)","v":1.1001304239648408},null,null,{"$f":"($AX$3/(1+($AX$4/(B324-40))^$AX$5)+$AX$6)*VLOOKUP(C324,$AJ$9:$AL$15,3)","v":0.86797936806315801},null,null,{"$f":"($BB$3/(1+($BB$4/(B324-40))^$BB$5)+$BB$6)*VLOOKUP(C324,$AZ$9:$BB$15,3)","v":1.2590833171644451},null,null,null,{"$f":"($BE$3/(1+($BE$4/(B324-40))^$BE$5)+$BE$6)*VLOOKUP(C324,$AZ$9:$BB$15,3)","v":1.2152930820861561},null,null,{"$f":"($BH$3/(1+($BH$4/(B324-40))^$BH$5)+$BH$6)*VLOOKUP(C324,$AZ$9:$BB$15,3)","v":1.1438559695705524},null,null,{"$f":"($BK$3/(1+($BK$4/(B324-40))^$BK$5)+$BK$6)*VLOOKUP(C324,$AZ$9:$BB$15,3)","v":1.0887511386349462},null,null,{"$f":"($BN$3/(1+($BN$4/(B324-40))^$BN$5)+$BN$6)*VLOOKUP(C324,$AZ$9:$BB$15,3)","v":1.0139934106288038},null,null,{"$f":"($BR$3/(1+($BR$4/(B324-40))^$BR$5)+$BR$6)*VLOOKUP(C324,$BP$9:$BR$15,3)","v":1.9669071591757699},null,null,null,{"$f":"($BU$3/(1+($BU$4/(B324-40))^$BU$5)+$BU$6)*VLOOKUP(C324,$BP$9:$BR$15,3)","v":1.8070544240238224},null,null,{"$f":"($BX$3/(1+($BX$4/(B324-40))^$BX$5)+$BX$6)*VLOOKUP(C324,$BP$9:$BR$15,3)","v":1.6059984686567137},null,null,{"$f":"($CA$3/(1+($CA$4/(B324-40))^$CA$5)+$CA$6)*VLOOKUP(C324,$BP$9:$BR$15,3)","v":1.4164969784386012},null,null,{"$f":"($CD$3/(1+($CD$4/(B324-40))^$CD$5)+$CD$6)*VLOOKUP(C324,$BP$9:$BR$15,3)","v":1.2278731101221712},null,null,{"$f":"($CH$3/(1+($CH$4/(B324-40))^$CH$5)+$CH$6)*VLOOKUP(C324,$CF$9:$CH$15,3)","v":1.7600907756210902},null,null,null,1.7009572096495926,null,null,{"$f":"($CN$3/(1+($CN$4/(B324-40))^$CN$5)+$CN$6)*VLOOKUP(C324,$CF$9:$CH$15,3)","v":1.6347611574571732},null,null,{"$f":"($CQ$3/(1+($CQ$4/(B324-40))^$CQ$5)+$CQ$6)*VLOOKUP(C324,$CF$9:$CH$15,3)","v":1.5353032497984853},null,null,{"$f":"($CT$3/(1+($CT$4/(B324-40))^$CT$5)+$CT$6)*VLOOKUP(C324,$CF$9:$CH$15,3)","v":1.4342941974846528},null,null,{"$f":"($CX$3/(1+($CX$4/(B324-40))^$CX$5)+$CX$6)*VLOOKUP(C324,$CV$9:$CX$15,3)","v":1.8060354123861544},null,null,null,{"$f":"($DA$3/(1+($DA$4/(B324-40))^$DA$5)+$DA$6)*VLOOKUP(C324,$CV$9:$CX$15,3)","v":1.8576313448786617},null,null,{"$f":"($DD$3/(1+($DD$4/(B324-40))^$DD$5)+$DD$6)*VLOOKUP(C324,$CV$9:$CX$15,3)","v":1.8154070965782421},null,null,{"$f":"($DG$3/(1+($DG$4/(B324-40))^$DG$5)+$DG$6)*VLOOKUP(C324,$CV$9:$CX$15,3)","v":1.7006240260512577},null,null,{"$f":"($DJ$3/(1+($DJ$4/(B324-40))^$DJ$5)+$DJ$6)*VLOOKUP(C324,$CV$9:$CX$15,3)","v":1.5237226976397447},null,null,{"$f":"($DN$3/(1+($DN$4/(B324-40))^$DN$5)+$DN$6)*VLOOKUP(C324,$DL$9:$DN$15,3)","v":1.6587044869428456},null,null,null,{"$f":"($DQ$3/(1+($DQ$4/(B324-40))^$DQ$5)+$DQ$6)*VLOOKUP(C324,$DL$9:$DN$15,3)","v":1.6762770506636966},null,null,{"$f":"($DT$3/(1+($DT$4/(B324-40))^$DT$5)+$DT$6)*VLOOKUP(C324,$DL$9:$DN$15,3)","v":1.5704362402299996},null,null,{"$f":"($DW$3/(1+($DW$4/(B324-40))^$DW$5)+$DW$6)*VLOOKUP(C324,$DL$9:$DN$15,3)","v":1.4192112232745178},null,null,{"$f":"($DZ$3/(1+($DZ$4/(B324-40))^$DZ$5)+$DZ$6)*VLOOKUP(C324,$DL$9:$DN$15,3)","v":1.2148220933732825},null,null,{"$f":"($ED$3/(1+($ED$4/(B324-40))^$ED$5)+$ED$6)*VLOOKUP(C324,$EB$9:$ED$15,3)","v":1.7146812850792814},null,null,null,{"$f":"($EG$3/(1+($EG$4/(B324-40))^$EG$5)+$EG$6)*VLOOKUP(C324,$EB$9:$ED$15,3)","v":1.6898289799070285},null,null,{"$f":"($EJ$3/(1+($EJ$4/(B324-40))^$EJ$5)+$EJ$6)*VLOOKUP(C324,$EB$9:$ED$15,3)","v":1.6287506059003145},null,null,{"$f":"($EM$3/(1+($EM$4/(B324-40))^$EM$5)+$EM$6)*VLOOKUP(C324,$EB$9:$ED$15,3)","v":1.5253501575124022},null,null,{"$f":"($EP$3/(1+($EP$4/(B324-40))^$EP$5)+$EP$6)*VLOOKUP(C324,$EB$9:$ED$15,3)","v":1.4517802546388188},null,null,{"$f":"($ET$3/(1+($ET$4/(B324-40))^$ET$5)+$ET$6)*VLOOKUP(C324,$ER$9:$ET$15,3)","v":1.4529871197611179},null,null,null,{"$f":"($EW$3/(1+($EW$4/(B324-40))^$EW$5)+$EW$6)*VLOOKUP(C324,$ER$9:$ET$15,3)","v":1.4113587985088818},null,null,{"$f":"($EZ$3/(1+($EZ$4/(B324-40))^$EZ$5)+$EZ$6)*VLOOKUP(C324,$ER$9:$ET$15,3)","v":1.3741447545034227},null,null,{"$f":"($FC$3/(1+($FC$4/(B324-40))^$FC$5)+$FC$6)*VLOOKUP(C324,$ER$9:$ET$15,3)","v":1.3230909178947217},null,null,{"$f":"($FF$3/(1+($FF$4/(B324-40))^$FF$5)+$FF$6)*VLOOKUP(C324,$ER$9:$ET$15,3)","v":1.2765344050416638},null,null,{"$f":"($FJ$3/(1+($FJ$4/(B324-40))^$FJ$5)+$FJ$6)*VLOOKUP(C324,$FH$9:$FJ$15,3)","v":1.6944063224553743},null,null,null,{"$f":"($FM$3/(1+($FM$4/(B324-40))^$FM$5)+$FM$6)*VLOOKUP(C324,$FH$9:$FJ$15,3)","v":1.8227435653094344},null,null,{"$f":"($FP$3/(1+($FP$4/(B324-40))^$FP$5)+$FP$6)*VLOOKUP(C324,$FH$9:$FJ$15,3)","v":1.7546783517575086},null,null,{"$f":"($FS$3/(1+($FS$4/(B324-40))^$FS$5)+$FS$6)*VLOOKUP(C324,$FH$9:$FJ$15,3)","v":1.5410558002174493},null,null,{"$f":"($FV$3/(1+($FV$4/(B324-40))^$FV$5)+$FV$6)*VLOOKUP(C324,$FH$9:$FJ$15,3)","v":1.3630710318400641},null,null,{"$f":"($FZ$3/(1+($FZ$4/(B324-40))^$FZ$5)+$FZ$6)*VLOOKUP(C324,$FX$9:$FZ$15,3)","v":0.51666842646663091},null,null,null,{"$f":"($GC$3/(1+($GC$4/(B324-40))^$GC$5)+$GC$6)*VLOOKUP(C324,$FX$9:$FZ$15,3)","v":0.49421407397973455},null,null,{"$f":"($GF$3/(1+($GF$4/(B324-40))^$GF$5)+$GF$6)*VLOOKUP(C324,$FX$9:$FZ$15,3)","v":0.47209317066161877},null,null,{"$f":"($GI$3/(1+($GI$4/(B324-40))^$GI$5)+$GI$6)*VLOOKUP(C324,$FX$9:$FZ$15,3)","v":0.44950594662299487},null,null,{"$f":"($GL$3/(1+($GL$4/(B324-40))^$GL$5)+$GL$6)*VLOOKUP(C324,$FX$9:$FZ$15,3)","v":0.43061455136418197},null,null,{"$f":"($GP$3/(1+($GP$4/(B324-40))^$GP$5)+$GP$6)*VLOOKUP(C324,$GN$9:$GP$15,3)","v":1.5509453702532734},null,null,null,{"$f":"($GS$3/(1+($GS$4/(B324-40))^$GS$5)+$GS$6)*VLOOKUP(C324,$GN$9:$GP$15,3)","v":1.6251167993332913}]
[{"$f":"'Als-Ob-Allokation KW03'!A324","v":"2012-11-18"},{"$f":"'Als-Ob-Allokation KW03'!B324","v":5.6},7,1.2888265449045222,null,null,1.2650354090466944,null,null,1.2824231226704665,null,null,1.2890382776638274,null,null,1.076217930793665,null,null,1.1272206630828572,null,null,null,1.121630670711143,null,null,1.0862997724742698,null,null,1.0399517184356324,null,null,1.0249783879710894,null,null,1.2534944137317656,null,null,null,1.2884549442798159,null,null,1.2484756276853044,null,null,1.1288503428691667,null,null,0.99740500569989776,null,null,1.2168721713269874,null,null,null,1.1985987163252032,null,null,1.1577418928241254,null,null,1.1252781090037431,null,null,1.0793637818781576,null,null,1.347777654747244,null,null,null,1.3356628150709982,null,null,1.2718704003991113,null,null,1.1812857405117083,null,null,1.1039719946396418,null,null,1.1719918015748316,null,null,null,1.1889817654568937,null,null,1.1973462040662326,null,null,1.2042234980662114,null,null,1.1721943510999893,null,null,1.0504082671371373,null,null,null,1.1749357488373953,null,null,1.2333649596525746,null,null,1.2232341779054579,null,null,1.1611671777296375,null,null,1.2080498264156296,null,null,null,1.309157966464918,null,null,1.3184431675938981,null,null,1.268756202211279,null,null,1.1592319142113401,null,null,1.1475967679192414,null,null,null,1.2193486755343814,null,null,1.2506792146828942,null,null,1.2296201552708148,null,null,1.2327565866215677,null,null,1.2301157858764091,null,null,null,1.2162076354476701,null,null,1.2099662517891494,null,null,1.181450753683658,null,null,1.1603264320292197,null,null,0.91968763589871272,null,null,null,1.0957432992214515,null,null,1.2175910910180743,null,null,1.1848524595284387,null,null,1.1183059140186795,null,null,0.55592148930041207,null,null,null,0.54488995182239419,null,null,0.53106027808326883,null,null,0.51652320647341232,null,null,0.50504118093720884,null,null,1.2656523923879011,null,null,null,1.2563337872995812]
[{"$f":"'Als-Ob-Allokation KW03'!A325","v":"2012-11-19"},{"$f":"'Als-Ob-Allokation KW03'!B325","v":2.7},1,1.6332166660635468,null,null,{"$f":"($I$3/(1+($I$4/(B326-40))^$I$5)+$I$6)","v":1.6538297246229181},null,null,1.5598953896659795,null,null,1.6031027926411943,null,null,1.0912275486240017,null,null,1.4364355281118679,null,null,null,1.3838756701711714,null,null,1.3061956737928939,null,null,1.2134197825660231,null,null,1.1690449861384518,null,null,2.2216928775594664,null,null,null,2.1018959183553938,null,null,1.8849717607592473,null,null,1.6018193264227323,null,null,1.2594358398451748,null,null,1.8363111451245411,null,null,null,1.7713248014670553,null,null,1.6660022986937277,null,null,1.5847855798443571,null,null,1.4747316534984622,null,null,1.7884082518446545,null,null,null,1.6400408745547839,null,null,1.4549959334923825,null,null,1.2814440291104383,null,null,1.1083399321090741,null,null,1.8032544286551024,null,null,null,1.7402470009051547,null,null,1.6702442755562479,null,null,1.5657080390167462,null,null,1.4609278928294667,null,null,1.9609954215931902,null,null,null,2.0114796583383066,null,null,1.9615387725111615,null,null,1.834248171283152,null,null,1.6407752976470182,null,null,1.9609768032674642,null,null,null,1.9770712655526528,null,null,1.8481465571477973,null,null,1.6670561935817818,null,null,1.4241329011881911,null,null,1.9807737471667268,null,null,null,1.9476539131324433,null,null,1.8739576753734146,null,null,1.752343684748692,null,null,1.6651075025638571,null,null,1.7096462523974725,null,null,null,1.6598526516755288,null,null,1.6151157264035869,null,null,1.5545036138024257,null,null,1.4990546627752048,null,null,1.9548412838512672,null,null,null,2.0953757045397463,null,null,2.0090668698347831,null,null,1.7596177012825784,null,null,1.5529105380032848,null,null,1.6656256483842276,null,null,null,1.5921490582432936,null,null,1.519954301891703,null,null,1.4462741267144568,null,null,1.3845341468246104,null,null,1.7293910855388195,null,null,null,1.8150244596773417]
[{"$f":"'Als-Ob-Allokation KW03'!A326","v":"2012-11-20"},{"$f":"'Als-Ob-Allokation KW03'!B326","v":2.7},2,1.6332166660635468,null,null,1.6538297246229181,null,null,1.5598953896659795,null,null,1.6031027926411943,null,null,1.0912275486240017,null,null,1.4845020930735757,null,null,null,1.4301834567006824,null,null,1.3499041020365168,null,null,1.2540237078122867,null,null,1.2081640246679739,null,null,2.1824936275482383,null,null,null,2.0648103497633472,null,null,1.8517135727979688,null,null,1.5735570418903009,null,null,1.2372145234526841,null,null,1.8039115185140377,null,null,null,1.740071785154526,null,null,1.6366075784399028,null,null,1.5568238364431946,null,null,1.4487116867564971,null,null,1.8981453812219491,null,null,null,1.7406741485566433,null,null,1.54427480862193,null,null,1.3600737206628057,null,null,1.1763479176450524,null,null,1.7540598549724837,null,null,null,1.6927713324961022,null,null,1.6246783510942708,null,null,1.5229939670217456,null,null,1.4210723273991386,null,null,1.9371408721511414,null,null,null,1.9870109928671129,null,null,1.9376776134711533,null,null,1.811935440101295,null,null,1.6208160692724745,null,null,1.9929842477094382,null,null,null,2.0093414069355382,null,null,1.8783123643873161,null,null,1.6942662087175091,null,null,1.4473778751403645,null,null,1.9189382081861035,null,null,null,1.8868523048525818,null,null,1.8154567067245013,null,null,1.6976392459501064,null,null,1.6131263916323375,null,null,1.7375514307493336,null,null,null,1.6869450892004623,null,null,1.6414779591409063,null,null,1.5798765238596604,null,null,1.5235225242788757,null,null,2.0796265312637425,null,null,null,2.2291318196131664,null,null,2.1373135507758714,null,null,1.8719410556233107,null,null,1.6520389569163592,null,null,1.6867518306467875,null,null,null,1.6123432904984465,null,null,1.5392328424471249,null,null,1.4646181350648531,null,null,1.4020950680093489,null,null,1.7293910855388195,null,null,null,1.8150244596773417]
[{"$f":"'Als-Ob-Allokation KW03'!A327","v":"2012-11-21"},{"$f":"'Als-Ob-Allokation KW03'!B327","v":3.4},3,1.5513972819091577,null,null,1.5608839806947306,null,null,1.4962354296378799,null,null,1.5308713947967081,null,null,1.0882996667571052,null,null,1.390068924190113,null,null,null,1.3488254794705303,null,null,1.2801973515486935,null,null,1.1967201334412496,null,null,1.159002408823931,null,null,1.9198886866057085,null,null,null,1.8487333438821296,null,null,1.6853745356077081,null,null,1.4504003977437674,null,null,1.1693037267729924,null,null,1.6424676748927685,null,null,null,1.5915375550691551,null,null,1.5048586670669926,null,null,1.4378342578661483,null,null,1.3462680571541041,null,null,1.7877623002035743,null,null,null,1.6625543822126496,null,null,1.4947058733710734,null,null,1.3306081103819625,null,null,1.1696920049103843,null,null,1.767552526619949,null,null,null,1.7233245940667115,null,null,1.6705783846015945,null,null,1.587875722941984,null,null,1.4947589503192464,null,null,1.7523977691648371,null,null,null,1.8331754894932191,null,null,1.8158698560489286,null,null,1.7199653154427719,null,null,1.5571127154792486,null,null,1.8197833551945795,null,null,null,1.8657475174231897,null,null,1.7722516867479623,null,null,1.6205329939626378,null,null,1.4045186900482993,null,null,1.700003294524379,null,null,null,1.6993273807222693,null,null,1.656349862759553,null,null,1.565827644823623,null,null,1.5054661658353052,null,null,1.6416449446113486,null,null,null,1.5996075413449697,null,null,1.5634164405351183,null,null,1.5090776465556881,null,null,1.4606187061277227,null,null,1.8184690568657822,null,null,null,1.9991707034041919,null,null,1.9745574076063706,null,null,1.7652917611425301,null,null,1.5827697834914827,null,null,1.6587867404420789,null,null,null,1.5936280148276991,null,null,1.5281212992808002,null,null,1.4610167948328494,null,null,1.4055201820541467,null,null,1.6304425891857561,null,null,null,1.6911631943967094]
[{"$f":"'Als-Ob-Allokation KW03'!A328","v":"2012-11-22"},{"$f":"'Als-Ob-Allokation KW03'!B328","v":5.7},4,1.2768616402509712,null,null,1.2516772680647019,null,null,1.2723251593558174,null,null,1.2776713494328376,null,null,1.075544071007156,null,null,1.3318936485142812,null,null,null,1.3269262223788054,null,null,1.2864418374593629,null,null,1.2330749141784394,null,null,1.2163318199669158,null,null,1.4255621499249793,null,null,null,1.4701943770551,null,null,1.4290169179356387,null,null,1.2954966312043641,null,null,1.1499703069822289,null,null,1.3927644905826557,null,null,null,1.3730134130753027,null,null,1.3277663570805989,null,null,1.2917103604268807,null,null,1.2405774263626987,null,null,1.3275790835097683,null,null,null,1.3205270195355834,null,null,1.2615259482817309,null,null,1.1743366965729434,null,null,1.1009195208092648,null,null,1.3025349422273298,null,null,null,1.3241772601166011,null,null,1.3361335436901598,null,null,1.3479073763512217,null,null,1.3143401974517959,null,null,1.187590002672759,null,null,null,1.3326429715445585,null,null,1.4030087965669036,null,null,1.394682582541126,null,null,1.3272508470129305,null,null,1.322824267988342,null,null,null,1.4372709739150415,null,null,1.4517270768656101,null,null,1.4006868596725892,null,null,1.2831792293651512,null,null,1.2442954764128296,null,null,null,1.3261853015978959,null,null,1.363934724858421,null,null,1.3435922993789711,null,null,1.3498063774978371,null,null,1.3550552571650742,null,null,null,1.3407883369423563,null,null,1.3351780617306577,null,null,1.3045217180130189,null,null,1.2821967946559367,null,null,1.1127922394470999,null,null,null,1.3306251033080001,null,null,1.4877711247299092,null,null,1.4544492805301694,null,null,1.3760104219754932,null,null,1.4835910884605552,null,null,null,1.4557060392763208,null,null,1.4199336730190322,null,null,1.3822383225418482,null,null,1.3525439410029911,null,null,1.3595134923041232,null,null,null,1.3464846353910624]
[{"$f":"'Als-Ob-Allokation KW03'!A329","v":"2012-11-23"},{"$f":"'Als-Ob-Allokation KW03'!B329","v":6.6},5,1.1698008970907905,null,null,1.1327760537200915,null,null,1.1805559304125721,null,null,1.1747058677787658,null,null,1.0688905149057173,null,null,1.2824264796104645,null,null,null,1.2923483232349626,null,null,1.2649954164657384,null,null,1.2267452379283887,null,null,1.219316516611654,null,null,1.1902648850613133,null,null,null,1.2665042048938162,null,null,1.2676568494694282,null,null,1.178676017616163,null,null,1.0929147416058635,null,null,1.2343735760199155,null,null,null,1.2268883915305413,null,null,1.2001925406032166,null,null,1.1778935428840502,null,null,1.1449735061206514,null,null,1.1532945378593478,null,null,null,1.1903772333398797,null,null,1.1737401102760014,null,null,1.1166971723878836,null,null,1.0781095842628858,null,null,1.1033172940635383,null,null,null,1.1441793313105477,null,null,1.1763759460490157,null,null,1.2219932377917917,null,null,1.2114385891349932,null,null,0.99006542068486625,null,null,null,1.1441128024971132,null,null,1.2377466969650197,null,null,1.2570938778618526,null,null,1.2254305271595203,null,null,1.0756858988474529,null,null,null,1.1967773453349682,null,null,1.2425090617840509,null,null,1.2288895982585879,null,null,1.154099072788016,null,null,1.1509322463499974,null,null,null,1.26266907494503,null,null,1.3324774196135731,null,null,1.3367197930032577,null,null,1.3688599928424521,null,null,1.1646805242635696,null,null,null,1.1611967724685313,null,null,1.1669795740973266,null,null,1.1470432292709773,null,null,1.1359021687023194,null,null,0.85696398254429429,null,null,null,1.0584849039864841,null,null,1.2548153466608534,null,null,1.2823068157034414,null,null,1.2393314118116141,null,null,1.2937792551337544,null,null,null,1.2825403236589101,null,null,1.2608183523133494,null,null,1.2370512974570238,null,null,1.2189065287729757,null,null,1.220937800999748,null,null,null,1.1840912718550469]
[{"$f":"'Als-Ob-Allokation KW03'!A330","v":"2012-11-24"},{"$f":"'Als-Ob-Allokation KW03'!B330","v":6.9},6,1.1344866988264131,null,null,1.0938277060674768,null,null,1.1497223168733843,null,null,1.1402649500854574,null,null,1.0664187579896223,null,null,0.53781237372837043,null,null,null,0.54411265710787171,null,null,0.53438643619945425,null,null,0.52035903027176345,null,null,0.51854092757598447,null,null,0.84021428074028803,null,null,null,0.90389434650906963,null,null,0.9140703187783028,null,null,0.85768870760769711,null,null,0.80752080828466566,null,null,0.88962955133025157,null,null,null,0.88688829792306545,null,null,0.87128893065337698,null,null,0.85781532498585955,null,null,0.83739609323185338,null,null,1.1127219967512314,null,null,null,1.1645315467262243,null,null,1.1616307324090041,null,null,1.1138660075337017,null,null,1.0864494166574736,null,null,0.99574066776359516,null,null,null,1.0399488342422669,null,null,1.0763273898447629,null,null,1.1298540902324996,null,null,1.126698428581987,null,null,0.8779093528375953,null,null,null,1.0247079688359886,null,null,1.1190276073165772,null,null,1.1450493537562161,null,null,1.1258128843156245,null,null,0.91565287383503169,null,null,null,1.0269367877897659,null,null,1.0764209429715892,null,null,1.073936395295026,null,null,1.017304607255761,null,null,0.95955221654100964,null,null,null,1.0633485889251111,null,null,1.1324621694911317,null,null,1.1432483959430797,null,null,1.1784614939630853,null,null,1.0105358956515538,null,null,null,1.0102747658343478,null,null,1.0186540057084179,null,null,1.0034213919178121,null,null,0.99635646255426302,null,null,0.70608249591647099,null,null,null,0.88156625061282445,null,null,1.0667647322026454,null,null,1.107601967106715,null,null,1.0781670089998805,null,null,0.43879648328128923,null,null,null,0.43658295222230958,null,null,0.43036640162859846,null,null,0.42339932166915756,null,null,0.41816506555221811,null,null,1.0899994663592198,null,null,null,1.0493895975638488]
[{"$f":"'Als-Ob-Allokation KW03'!A331","v":"2012-11-25"},{"$f":"'Als-Ob-Allokation KW03'!B331","v":9.5},7,0.84354138219923325,null,null,0.77944646124192907,null,null,0.88479782141140972,null,null,0.84869671731597474,null,null,1.0384511234004941,null,null,0.92544462816047057,null,null,null,0.97078904229771923,null,null,0.98450059687309954,null,null,0.99695777923914275,null,null,1.0164517658618755,null,null,0.61424280658741925,null,null,null,0.73546347354151653,null,null,0.82120170417298366,null,null,0.84662020369132307,null,null,0.92289883848908305,null,null,0.79059911999159893,null,null,null,0.81577480643723965,null,null,0.84062288883148939,null,null,0.85550730530411567,null,null,0.86980197769751333,null,null,0.63434701102890667,null,null,null,0.77753379682450208,null,null,0.87593707212066352,null,null,0.90939303238711044,null,null,0.97545993139585196,null,null,0.58783406897338231,null,null,null,0.65892387572167876,null,null,0.7277444867043773,null,null,0.84829160477229537,null,null,0.8971839687874652,null,null,0.4460725582726156,null,null,null,0.57083967578108741,null,null,0.6785752847901112,null,null,0.74628818408001873,null,null,0.79841340198884492,null,null,0.59078093357666228,null,null,null,0.71334099824583086,null,null,0.81828723586020391,null,null,0.88800044777318454,null,null,0.91075392474054107,null,null,0.55283254513958247,null,null,null,0.67317975188357349,null,null,0.78463688844770318,null,null,0.83977777441198032,null,null,0.91846188917969596,null,null,0.77875117192044097,null,null,null,0.80074537572875304,null,null,0.83480677859913477,null,null,0.84088837592032961,null,null,0.85815809068989302,null,null,0.31845745939697773,null,null,null,0.43875539354241755,null,null,0.64346980034185408,null,null,0.78185656031248196,null,null,0.81226626743336805,null,null,0.4619997716128566,null,null,null,0.47682239823329697,null,null,0.48267770745277816,null,null,0.48668332226524286,null,null,0.49057469929950431,null,null,0.82519461222976997,null,null,null,0.7419876190522805]
[{"$f":"'Als-Ob-Allokation KW03'!A332","v":"2012-11-26"},{"$f":"'Als-Ob-Allokation KW03'!B332","v":8.6},1,0.94044457270032111,null,null,0.88271316087905738,null,null,0.97521536383560858,null,null,0.94720634702657125,null,null,1.0495971915330635,null,null,1.1019417270859988,null,null,null,1.1411542284579381,null,null,1.1438645873302138,null,null,1.1420419736571228,null,null,1.1551059699556523,null,null,0.8874417273505939,null,null,null,1.0213518693309305,null,null,1.0998675164278486,null,null,1.0940700526692306,null,null,1.1305998090026668,null,null,1.0646409787784339,null,null,null,1.0832435866935468,null,null,1.0952503483050977,null,null,1.1006109781554667,null,null,1.1027008595928067,null,null,0.71609886601447903,null,null,null,0.82407858778036291,null,null,0.88637557446548199,null,null,0.89323152667963235,null,null,0.92629667000367488,null,null,0.74313503822678295,null,null,null,0.81129077303763963,null,null,0.87482558913408992,null,null,0.98089062780340708,null,null,1.0148618206550599,null,null,0.64327408438426903,null,null,null,0.79639545797843148,null,null,0.9190179741494594,null,null,0.98424195753261201,null,null,1.0207459084086992,null,null,0.77949973248230364,null,null,null,0.91641172187558118,null,null,1.0175075933109885,null,null,1.0707969557037853,null,null,1.0677209317308556,null,null,0.79276355848154456,null,null,null,0.93316774661847701,null,null,1.0520833747723994,null,null,1.102749435724766,null,null,1.181336181916903,null,null,0.96397734659178658,null,null,null,0.98073747632489472,null,null,1.0097380255253621,null,null,1.0085335231309582,null,null,1.0187130889219271,null,null,0.50070791734776321,null,null,null,0.66539290583526822,null,null,0.91116203083701353,null,null,1.0449426292741353,null,null,1.0602906070586664,null,null,1.2990707704487607,null,null,null,1.3226431929337421,null,null,1.3259213016286322,null,null,1.3254027471813157,null,null,1.3266087119792203,null,null,0.99844482299386783,null,null,null,0.91993417146733503]
[{"$f":"'Als-Ob-Allokation KW03'!A333","v":"2012-11-27"},{"$f":"'Als-Ob-Allokation KW03'!B333","v":6.8},2,1.1462316024068515,null,null,1.1067651640662957,null,null,1.1600083222740747,null,null,1.1517448178028364,null,null,1.0672576763870765,null,null,1.248765537820937,null,null,null,1.2617280903022199,null,null,1.2377783470733597,null,null,1.2036258182912494,null,null,1.1983892577890454,null,null,1.2165659940176385,null,null,null,1.3039523517101612,null,null,1.3140822277927362,null,null,1.2292404872753293,null,null,1.1514171678507266,null,null,1.2791729054525638,null,null,null,1.2739373766711755,null,null,1.2497260464970821,null,null,1.2290838168798732,null,null,1.198111483176119,null,null,1.0822378377692603,null,null,null,1.127305913857918,null,null,1.1201004891811801,null,null,1.0712092952658641,null,null,1.0412569806264274,null,null,0.99802044298234749,null,null,null,1.0398493025123985,null,null,1.0738254206305482,null,null,1.1232485614546299,null,null,1.117896018797637,null,null,0.94805566383904238,null,null,null,1.102885934316898,null,null,1.2006191365531811,null,null,1.225457586931173,null,null,1.2013980029623927,null,null,1.1065470556633425,null,null,null,1.2377068393918071,null,null,1.2931916700314525,null,null,1.286434101087244,null,null,1.215080325362933,null,null,1.0811567624435203,null,null,null,1.1940718451940393,null,null,1.2677655484979611,null,null,1.277139728385476,null,null,1.3135813606297901,null,null,1.2134150809154951,null,null,null,1.2119810955233952,null,null,1.2206767967141878,null,null,1.2015446590492187,null,null,1.1920006946372663,null,null,0.8746657571458486,null,null,null,1.0881338700791334,null,null,1.307677101328556,null,null,1.3504809790958483,null,null,1.3114567573542313,null,null,1.4343196580355235,null,null,null,1.4253209262794382,null,null,1.4037319190955377,null,null,1.3797548600716589,null,null,1.3616351847708967,null,null,1.2198194675495149,null,null,null,1.1772633952891425]
[{"$f":"'Als-Ob-Allokation KW03'!A334","v":"2012-11-28"},{"$f":"'Als-Ob-Allokation KW03'!B334","v":5.0999999999999996},3,1.3487408973135384,null,null,1.3321142036011226,null,null,1.3325167148628347,null,null,1.3455181679426553,null,null,1.0794076683800891,null,null,1.2975078552992729,null,null,null,1.283274653669038,null,null,1.2366876133504767,null,null,1.1768699118182431,null,null,1.1551619183495692,null,null,1.5254982822467458,null,null,null,1.5429409832750975,null,null,1.4726272100220557,null,null,1.3148134410702033,null,null,1.1357783422549119,null,null,1.4356025366595575,null,null,null,1.4082882454844425,null,null,1.3527326659942411,null,null,1.3090711660722356,null,null,1.2479938272838518,null,null,1.4407954346238274,null,null,null,1.4032496159498633,null,null,1.3159208744665132,null,null,1.2089793647201998,null,null,1.11278422824523,null,null,1.4161813876335632,null,null,null,1.4223255437754665,null,null,1.4186894274392794,null,null,1.4061517081260704,null,null,1.3572980701670341,null,null,1.3216177798727258,null,null,null,1.4550834839401221,null,null,1.5058007844298049,null,null,1.4767811488521247,null,null,1.3849837292873048,null,null,1.443418353462889,null,null,null,1.5441696572544081,null,null,1.5329728949777821,null,null,1.4565488215132421,null,null,1.3136734690896783,null,null,1.3598331024075596,null,null,null,1.4232584058518487,null,null,1.4409888365152688,null,null,1.4032496655109663,null,null,1.3926436249118008,null,null,1.4273726011758849,null,null,null,1.405931955963853,null,null,1.3923467549104276,null,null,1.3554960784287104,null,null,1.3262853318768737,null,null,1.2943099307409314,null,null,null,1.5142956354477504,null,null,1.6330842427996204,null,null,1.5545308626192826,null,null,1.4500160697422568,null,null,1.5549799217582199,null,null,null,1.5163194296534239,null,null,1.4719046706894132,null,null,1.4256672827531749,null,null,1.3887044203266272,null,null,1.4217459870769369,null,null,null,1.4267393123603656]
[{"$f":"'Als-Ob-Allokation KW03'!A335","v":"2012-11-29"},{"$f":"'Als-Ob-Allokation KW03'!B335","v":2.1},4,1.7020932749452846,null,null,1.7322237749887297,null,null,1.6124264082460567,null,null,1.6627047285048986,null,null,1.093456145788922,null,null,1.534510863521094,null,null,null,1.469804124337146,null,null,1.3811614054829378,null,null,1.2768427143954282,null,null,1.2248229635925794,null,null,2.2810659718196384,null,null,null,2.1281408878454493,null,null,1.8839512213742473,null,null,1.5853985790835561,null,null,1.2218989015685615,null,null,1.8346618349983439,null,null,null,1.763198971106738,null,null,1.651594279069448,null,null,1.5656728622686991,null,null,1.4500669571328546,null,null,2.0530965615228771,null,null,null,1.8640115283346281,null,null,1.6377120672581249,null,null,1.4305289023255909,null,null,1.2217360405866724,null,null,2.0482884944385429,null,null,null,1.9612064409863785,null,null,1.8677786674252634,null,null,1.7327956423990283,null,null,1.6056784411200191,null,null,2.1139788808921591,null,null,null,2.1338208077319361,null,null,2.0554558847587114,null,null,1.9023582003732507,null,null,1.6861551647597395,null,null,2.1246592787342213,null,null,null,2.1124255108524985,null,null,1.9496974677992376,null,null,1.7399086473023342,null,null,1.4694110227160972,null,null,1.9586180258745032,null,null,null,1.9010994408257829,null,null,1.8110928392591397,null,null,1.678846134919306,null,null,1.580262938756213,null,null,1.8021331854759988,null,null,null,1.7448423620604521,null,null,1.6920803134602962,null,null,1.6250113077314583,null,null,1.5626293106980895,null,null,2.2209273386339641,null,null,null,2.3305830005789341,null,null,2.1850407280638375,null,null,1.884620548246311,null,null,1.6413456258745245,null,null,1.6945097408508698,null,null,null,1.6135298511415235,null,null,1.5349367856235112,null,null,1.4549539398807967,null,null,1.3871700617844585,null,null,1.7981100553307978,null,null,null,1.9046448632830084]
[{"$f":"'Als-Ob-Allokation KW03'!A336","v":"2012-11-30"},{"$f":"'Als-Ob-Allokation KW03'!B336","v":0.8},5,1.8462168561658727,null,null,1.8964368154368847,null,null,1.7192856375327887,null,null,1.7837776106667573,null,null,1.0975294094407697,null,null,1.6048233895181521,null,null,null,1.5194969175150932,null,null,1.4155592987818608,null,null,1.2968688010545697,null,null,1.2329797175779487,null,null,2.5047395529237471,null,null,null,2.2753875877425664,null,null,1.9652258755269798,null,null,1.6241087122299376,null,null,1.2042614486121974,null,null,1.9122905797401575,null,null,null,1.8240159502682338,null,null,1.6955690953295817,null,null,1.5969142317923657,null,null,1.4663338967503041,null,null,2.2970175717917907,null,null,null,2.0516593870388236,null,null,1.7733473858481599,null,null,1.5257292808252159,null,null,1.2727601090097593,null,null,2.2581005347544072,null,null,null,2.1311434458092742,null,null,2.0005840438278599,null,null,1.8227974335333621,null,null,1.6671455948389184,null,null,2.462090293817385,null,null,null,2.4065550221551999,null,null,2.2654750868972715,null,null,2.0548451329231865,null,null,1.7912159166176016,null,null,2.2771791357918243,null,null,null,2.2001368461484598,null,null,1.9815646812560452,null,null,1.732731835427433,null,null,1.4313189034236069,null,null,2.3572041938712935,null,null,null,2.2327732577153747,null,null,2.0889830573740706,null,null,1.903797616015297,null,null,1.759093131739593,null,null,1.8301968196131528,null,null,null,1.7632641859940623,null,null,1.6995138912889951,null,null,1.6256724008235042,null,null,1.5552286469262868,null,null,2.5430238815251953,null,null,null,2.554731433523922,null,null,2.3022796713343117,null,null,1.9334433409772764,null,null,1.6383426564086352,null,null,1.59720168778661,null,null,null,1.5102865517172168,null,null,1.426899669078598,null,null,1.3425575018896976,null,null,1.2692598425427863,null,null,1.900568900771862,null,null,null,2.0484934290306822]
[{"$f":"'Als-Ob-Allokation KW03'!A337","v":"2012-12-01"},{"$f":"'Als-Ob-Allokation KW03'!B337","v":-2.8},6,2.1972436182464143,null,null,2.2942798986619302,null,null,1.9629346802633107,null,null,2.0573031089923877,null,null,1.1049467023786896,null,null,0.74466072604867128,null,null,null,0.68751019437159588,null,null,0.62900055559500223,null,null,0.56709235053457618,null,null,0.52782408409637316,null,null,2.4087108571300018,null,null,null,2.0797839805279295,null,null,1.7133747542240241,null,null,1.3701927996317083,null,null,0.9393171726631292,null,null,1.6647810927357312,null,null,null,1.5594042396454322,null,null,1.4282975340089308,null,null,1.3280812240647841,null,null,1.2023440824911593,null,null,2.8262289710623389,null,null,null,2.4762437881138504,null,null,2.0960825575388053,null,null,1.7556425903497894,null,null,1.4061107345829822,null,null,2.7350598727755417,null,null,null,2.5197622411657523,null,null,2.3059848292987581,null,null,2.0517431757674034,null,null,1.8314450509877263,null,null,3.1702503990402033,null,null,null,2.8946270644465288,null,null,2.6159770881291267,null,null,2.275761667659685,null,null,1.9294311557345147,null,null,2.651168282565286,null,null,null,2.3986711281742754,null,null,2.0591308197834617,null,null,1.7314816093376557,null,null,1.3680800280614607,null,null,2.5833437043288638,null,null,null,2.3393745569409763,null,null,2.1232969883872541,null,null,1.8686457732653901,null,null,1.6608644701217261,null,null,1.907372464061837,null,null,null,1.8227705684337385,null,null,1.7391601618579289,null,null,1.6525320109575157,null,null,1.5670811711254786,null,null,3.141003171628046,null,null,null,2.8708982978878912,null,null,2.4394170146918599,null,null,1.9711176189542643,null,null,1.5665309877756184,null,null,0.59653246824875295,null,null,null,0.55759363528643013,null,null,0.51935320115646888,null,null,0.48157327296894409,null,null,0.44618382195866002,null,null,2.0359156696931757,null,null,null,2.2661033214554336]
[{"$f":"'Als-Ob-Allokation KW03'!A338","v":"2012-12-02"},{"$f":"'Als-Ob-Allokation KW03'!B338","v":-0.5},7,1.9818268887794852,null,null,2.0507558923764622,null,null,1.8161486176110806,null,null,1.8930920704742216,null,null,1.1007579125989539,null,null,1.3946587407114726,null,null,null,1.3071079273914381,null,null,1.2086655652127036,null,null,1.0994063330690194,null,null,1.036648103448276,null,null,2.4996404797592677,null,null,null,2.221421252340678,null,null,1.8799688727260533,null,null,1.5313440370398999,null,null,1.0987909566971015,null,null,1.8280569416829049,null,null,null,1.7315553524193465,null,null,1.5995802565909043,null,null,1.4983926560964598,null,null,1.3668595975113997,null,null,2.4792378582225991,null,null,null,2.1913488715079912,null,null,1.873402761339785,null,null,1.5927146271089112,null,null,1.3042603610903309,null,null,2.2731487434110353,null,null,null,2.1216236379338036,null,null,1.9690497237917186,null,null,1.7716670946163413,null,null,1.603229603232535,null,null,2.4472186449396123,null,null,null,2.3255088161454935,null,null,2.1494683978834699,null,null,1.9161019324360538,null,null,1.6490851857803506,null,null,2.4249571609474763,null,null,null,2.2824184278179858,null,null,2.0140742634079865,null,null,1.7318779099180219,null,null,1.4041492416076506,null,null,2.1973528057592757,null,null,null,2.0406319278989735,null,null,1.8828852948566694,null,null,1.6912047267195198,null,null,1.5378453445241675,null,null,1.8609049960954527,null,null,null,1.7861323846576174,null,null,1.7135362577927211,null,null,1.6340895729313991,null,null,1.5570480684270189,null,null,2.4743872756992924,null,null,null,2.3905864946022435,null,null,2.0935731723591955,null,null,1.7250650281975035,null,null,1.4252688806358498,null,null,0.67939160144966126,null,null,null,0.63900199064218655,null,null,0.60018182211558391,null,null,0.5611950596315799,null,null,0.52641369457935272,null,null,1.9045560992935235,null,null,null,2.0819108032986531]
[{"$f":"'Als-Ob-Allokation KW03'!A339","v":"2012-12-03"},{"$f":"'Als-Ob-Allokation KW03'!B339","v":1},1,1.8245570019630704,null,null,1.8717582325764996,null,null,1.70348678577749,null,null,1.7659010139563298,null,null,1.09696303785997,null,null,1.5178935544650605,null,null,null,1.4396159102425221,null,null,1.3428184786231498,null,null,1.2317824552507417,null,null,1.1726584025559106,null,null,2.647590544034109,null,null,null,2.4142781516578733,null,null,2.0925009945617838,null,null,1.7336788564716668,null,null,1.2926682231447812,null,null,2.0363794874322121,null,null,null,1.9445528706891562,null,null,1.8095647287078831,null,null,1.7058544577119459,null,null,1.5682212105262243,null,null,2.0727497406030748,null,null,null,1.8552198422860999,null,null,1.6069809649083702,null,null,1.385506311796006,null,null,1.1595845533020439,null,null,2.1328051277140365,null,null,null,2.016908245443175,null,null,1.8971620382178349,null,null,1.7327220134562997,null,null,1.5876902031053546,null,null,2.4322096051373885,null,null,null,2.3885399918483468,null,null,2.2557746632388058,null,null,2.0520214593442643,null,null,1.7928621690006463,null,null,2.3414185394194229,null,null,null,2.2718463071234192,null,null,2.0533124465827108,null,null,1.8006586220261251,null,null,1.4921529949900472,null,null,2.3274829709198963,null,null,null,2.2122252330081773,null,null,2.0749188497604218,null,null,1.8956197373434316,null,null,1.7562416509341223,null,null,1.8965330665359157,null,null,null,1.8284139286991397,null,null,1.7637902583673792,null,null,1.6880800323348188,null,null,1.6160833260225951,null,null,2.5038448918637743,null,null,null,2.5316363341827373,null,null,2.2936516574292449,null,null,1.9330801396265496,null,null,1.6447445532386742,null,null,1.7546755365329401,null,null,null,1.6607855933970805,null,null,1.5706411246091496,null,null,1.4793740240038631,null,null,1.4003696862524018,null,null,1.9174896253542351,null,null,null,2.0616706929395678]
[{"$f":"'Als-Ob-Allokation KW03'!A340","v":"2012-12-04"},{"$f":"'Als-Ob-Allokation KW03'!B340","v":2.9},2,1.6099848370790144,null,null,1.6274151135339743,null,null,1.5419595751616599,null,null,1.5827498913651326,null,null,1.0904288804279085,null,null,1.4739748540419997,null,null,null,1.422888253572455,null,null,1.3450931475637362,null,null,1.2517059144546936,null,null,1.2077124537963859,null,null,2.1327263688956251,null,null,null,2.0276275648832955,null,null,1.8266511871221542,null,null,1.5576510911579764,null,null,1.233261106963065,null,null,1.7796952778819615,null,null,null,1.718893277118607,null,null,1.6190388560398015,null,null,1.541987010613262,null,null,1.4373332697511874,null,null,1.8600597185822594,null,null,null,1.7121269080942836,null,null,1.524388003687267,null,null,1.3465093411723281,null,null,1.169838208153233,null,null,1.7156492600777742,null,null,null,1.6603558312829672,null,null,1.5979485747832567,null,null,1.5035867185166212,null,null,1.4063903729659615,null,null,1.8829525929132123,null,null,null,1.9421165520796835,null,null,1.9021106905138248,null,null,1.7850519720410176,null,null,1.6020182949690223,null,null,1.9471006723178768,null,null,null,1.9724081122488462,null,null,1.8520082528781723,null,null,1.6768465516896875,null,null,1.4382499638135862,null,null,1.8777685130252697,null,null,null,1.8547989915945828,null,null,1.7909592944373727,null,null,1.6798209212478818,null,null,1.6014360705373378,null,null,1.7137989191683007,null,null,null,1.6655277313490564,null,null,1.6226041014810033,null,null,1.5629386419570743,null,null,1.5087094394885181,null,null,2.0114484330503331,null,null,null,2.1715981563825189,null,null,2.099058652311522,null,null,1.8487060887800988,null,null,1.6388662027458623,null,null,1.6754914262707168,null,null,null,1.6037900598159189,null,null,1.5329532681250757,null,null,1.460586666400723,null,null,1.4001743761652439,null,null,1.7059756989251638,null,null,null,1.7846382409350205]
[{"$f":"'Als-Ob-Allokation KW03'!A341","v":"2012-12-05"},{"$f":"'Als-Ob-Allokation KW03'!B341","v":1.8},3,1.7360169629554272,null,null,1.7708665556420931,null,null,1.6379487125617234,null,null,1.6916497722618937,null,null,1.0944826322750631,null,null,1.46994907105477,null,null,null,1.4040424841425199,null,null,1.3165846688733454,null,null,1.2143928048628514,null,null,1.1624527407412784,null,null,2.2995230957439583,null,null,null,2.1312873875341043,null,null,1.8752679414581925,null,null,1.5709492668395961,null,null,1.1993541438047823,null,null,1.8258681725647821,null,null,null,1.7516039175393292,null,null,1.6376156637106249,null,null,1.549916210365613,null,null,1.4323470126497007,null,null,2.0922112257137933,null,null,null,1.8912150611483056,null,null,1.6544561393097112,null,null,1.4396575686555757,null,null,1.2223090671770829,null,null,2.1015846513710188,null,null,null,2.0049206216085742,null,null,1.9025311090022665,null,null,1.7567746009365517,null,null,1.6226238163151183,null,null,2.1876677825425124,null,null,null,2.1911423237203835,null,null,2.0985902277188604,null,null,1.9327533914902797,null,null,1.7058745368128825,null,null,2.1835549054373682,null,null,null,2.1562459013898634,null,null,1.9781965705724533,null,null,1.756472726518852,null,null,1.4753623703871657,null,null,2.0128815597234131,null,null,null,1.9419432716573037,null,null,1.8415585777346457,null,null,1.7000138856631064,null,null,1.5929851694432415,null,null,1.8279449215892918,null,null,null,1.7676048666811797,null,null,1.7114926503057011,null,null,1.6419974138908529,null,null,1.5769082372710355,null,null,2.357355503004305,null,null,null,2.4481783670694868,null,null,2.2720070312426559,null,null,1.9461111628147092,null,null,1.6839312770729202,null,null,1.7484135279253068,null,null,null,1.6619098561248888,null,null,1.5783118503099802,null,null,1.4933531103392399,null,null,1.4209396816203321,null,null,1.8137693765189973,null,null,null,1.9295588747421935]
[{"$f":"'Als-Ob-Allokation KW03'!A342","v":"2012-12-06"},{"$f":"'Als-Ob-Allokation KW03'!B342","v":-0.7},4,2.001843009369531,null,null,2.0734877425165745,null,null,1.830149872156605,null,null,1.9088421635436921,null,null,1.101192068478992,null,null,1.6636652950357353,null,null,null,1.556961415544428,null,null,1.4381947956873411,null,null,1.3069403586661146,null,null,1.2308437493607089,null,null,2.9309323618079088,null,null,null,2.596929119085718,null,null,2.1916636580731321,null,null,1.7817800472792595,null,null,1.2726551046906724,null,null,2.130948293080932,null,null,null,2.0163830906799602,null,null,1.8610984220641613,null,null,1.7420693908420157,null,null,1.5877961508863967,null,null,2.5078936999794847,null,null,null,2.2140351358484489,null,null,1.8903539554383884,null,null,1.6045807295205576,null,null,1.3107776709512091,null,null,2.6013610604648147,null,null,null,2.4244494281210858,null,null,2.2466961812756319,null,null,2.0184621889651377,null,null,1.8239358025843044,null,null,2.8714116130351299,null,null,null,2.7177806141546013,null,null,2.5059501125120769,null,null,2.2284622045182023,null,null,1.9147364344768516,null,null,2.7385282084587463,null,null,null,2.5678189656746624,null,null,2.259558889371061,null,null,1.9385199049239381,null,null,1.567621901524803,null,null,2.4512570712759985,null,null,null,2.2703846744241774,null,null,2.0910894534400257,null,null,1.8744019373700238,null,null,1.700597419535814,null,null,2.0880088216437453,null,null,null,2.0031389842583867,null,null,1.9205593171176616,null,null,1.8307854161376271,null,null,1.7435566807436353,null,null,3.1240773899545662,null,null,null,3.0016199828312167,null,null,2.6193469279448505,null,null,2.1532408059833505,null,null,1.7724933778550125,null,null,1.8295059683102937,null,null,null,1.7195524644564988,null,null,1.6137551297562527,null,null,1.507633435772362,null,null,1.412567123059048,null,null,2.0831952887487462,null,null,null,2.2815119570377815]
[{"$f":"'Als-Ob-Allokation KW03'!A343","v":"2012-12-07"},{"$f":"'Als-Ob-Allokation KW03'!B343","v":-3.2},5,2.2313150903335175,null,null,2.3325003161820139,null,null,1.9853761358046962,null,null,2.0821939729446139,null,null,1.1055212397997551,null,null,1.7632933217169708,null,null,null,1.624299655070176,null,null,1.4837414817991388,null,null,1.33620818317792,null,null,1.2411357377049181,null,null,3.3113228536621886,null,null,null,2.8480622738278392,null,null,2.3377232762982003,null,null,1.8649441286422141,null,null,1.2702084224590426,null,null,2.2712693884020845,null,null,null,2.1236880676690779,null,null,1.9427594274167013,null,null,1.8045387517116966,null,null,1.6322371283472918,null,null,2.8180171149818189,null,null,null,2.4674449872506878,null,null,2.0869293042440877,null,null,1.7445671705800654,null,null,1.3934959104402009,null,null,2.9421161568020735,null,null,null,2.7063216485267279,null,null,2.4723425044796783,null,null,2.1980796813710426,null,null,1.9585550847013444,null,null,3.4451730927419444,null,null,null,3.1277546429392675,null,null,2.8186713316679546,null,null,2.4435037692079797,null,null,2.0678722791602397,null,null,3.0228793866630079,null,null,null,2.7187021605838937,null,null,2.3249548926936607,null,null,1.9489783955178031,null,null,1.5342754643815857,null,null,2.9927938224025179,null,null,null,2.7011836476713462,null,null,2.4467381438980342,null,null,2.1469806960306057,null,null,1.9018962309900291,null,null,2.1549065406931605,null,null,null,2.0582487574939154,null,null,1.9625443495068944,null,null,1.8639623610913292,null,null,1.7665282139747942,null,null,3.6177627767436231,null,null,null,3.2808319569902342,null,null,2.7786656399391516,null,null,2.2407087206805354,null,null,1.7701951328521235,null,null,1.7477864680536743,null,null,null,1.6324911519570515,null,null,1.518666144359192,null,null,1.4065920854499532,null,null,1.3006898320839808,null,null,2.2391366899557958,null,null,null,2.4982801696465082]
[{"$f":"'Als-Ob-Allokation KW03'!A344","v":"2012-12-08"},{"$f":"'Als-Ob-Allokation KW03'!B344","v":-4.5},6,2.3350367226069295,null,null,2.4481581320647052,null,null,2.0524187801383307,null,null,2.1561141517809701,null,null,1.1071437111729847,null,null,0.76735959749901861,null,null,null,0.70216881276351428,null,null,0.63847236906702254,null,null,0.57330122914040837,null,null,0.52919010911865705,null,null,2.6164661686854638,null,null,null,2.226524572798978,null,null,1.8090795294913284,null,null,1.4336643924189481,null,null,0.95851519497492166,null,null,1.7574948243082829,null,null,null,1.6342124765008241,null,null,1.4896858278615861,null,null,1.3794893164599948,null,null,1.2450226192242468,null,null,2.9818430849348041,null,null,null,2.6084267593865595,null,null,2.2031804012076188,null,null,1.8319885811032695,null,null,1.4535233138213626,null,null,2.9562963679362624,null,null,null,2.7088072031394814,null,null,2.4631782908663671,null,null,2.1886999556035347,null,null,1.9408818785363768,null,null,3.4910733048827995,null,null,null,3.1183750152588154,null,null,2.7894325795778485,null,null,2.393850705823144,null,null,2.0164090443522196,null,null,2.8840185177500026,null,null,null,2.5485063710887723,null,null,2.1560757050834378,null,null,1.7917577511079419,null,null,1.3956851422075021,null,null,2.7603115962226332,null,null,null,2.4690015756316792,null,null,2.2247446720500559,null,null,1.935706405328911,null,null,1.6981510395733708,null,null,2.002686613945535,null,null,null,1.9103171515017263,null,null,1.8184430745352815,null,null,1.7251270215407168,null,null,1.6324337401834428,null,null,3.4415564558166349,null,null,null,3.0528494665772814,null,null,2.5657114365525957,null,null,2.0596361409173092,null,null,1.5983954564480718,null,null,0.61415975088137653,null,null,null,0.57258422899329797,null,null,0.53074830709338505,null,null,0.49004971288602739,null,null,0.45047486598596836,null,null,2.1382639063238904,null,null,null,2.4013932022072342]
[{"$f":"'Als-Ob-Allokation KW03'!A345","v":"2012-12-09"},{"$f":"'Als-Ob-Allokation KW03'!B345","v":-4},7,2.2964065353927783,null,null,2.4052149335446411,null,null,2.027672307720775,null,null,2.1289112624365258,null,null,1.1065607993747284,null,null,1.5003551884734652,null,null,null,1.3762658458413233,null,null,1.2535200533964876,null,null,1.1267051006724915,null,null,1.0424429455445545,null,null,3.0846274398823015,null,null,null,2.6348400376727366,null,null,2.1485865669485178,null,null,1.706703970760729,null,null,1.1487252418990355,null,null,2.0873466618129886,null,null,null,1.9449678669291386,null,null,1.7752527713170065,null,null,1.6457519509181455,null,null,1.4864198767058514,null,null,2.8694445053739446,null,null,null,2.5105535285111444,null,null,2.1211747792556772,null,null,1.7671010290236231,null,null,1.4051908795695347,null,null,2.7725992065062202,null,null,null,{"$f":"($CK$3/(1+($CK$4/(B346-40))^$CK$5)+$CK$6)*VLOOKUP(C346,$CF$9:$CH$15,3)","v":2.5438041725361917},null,null,2.3168259705543019,null,null,2.0584386102953762,null,null,1.8284062859327002,null,null,3.1425047511176709,null,null,null,2.8234741511930528,null,null,2.5321046674559597,null,null,2.1809837441011335,null,null,1.8400243183934395,null,null,3.0025317411920955,null,null,null,2.6704329898046071,null,null,2.2679562495301071,null,null,1.8906175810781176,null,null,1.4783362757578216,null,null,2.6173618622940453,null,null,null,2.3485674921863171,null,null,2.1200223532826832,null,null,1.8502724201047784,null,null,1.6289673654710539,null,null,2.104805288616924,null,null,null,2.0086277902293519,null,null,1.9131088599057768,null,null,1.8156417505013704,null,null,1.7189897121468825,null,null,3.1833606080405565,null,null,null,2.8462286736357272,null,null,2.3980504439249275,null,null,1.9277606783618007,null,null,1.5059276538798219,null,null,0.72885759799098548,null,null,null,0.67993882950288032,null,null,0.63108866682163001,null,null,0.58333672518807789,null,null,0.53741404840398854,null,null,2.1555610729428754,null,null,null,2.415243505163275]
[{"$f":"'Als-Ob-Allokation KW03'!A346","v":"2012-12-10"},{"$f":"'Als-Ob-Allokation KW03'!B346","v":1.1000000000000001},1,1.8136529254223017,null,null,1.8593331720522555,null,null,1.695498677586551,null,null,1.756858502451992,null,null,1.0966721508160795,null,null,1.5133654700464958,null,null,null,1.4365501056127381,null,null,1.3408104215113454,null,null,1.2307383963098497,null,null,1.1724508097294257,null,null,2.6230012435708292,null,null,null,2.3964869346049498,null,null,2.0808029663281933,null,null,1.7262292816564289,null,null,1.2907614652621258,null,null,2.0251171785857482,null,null,null,1.9348910971315747,null,null,1.801565639472152,null,null,1.6991167372395384,null,null,1.5629806156047776,null,null,2.0571795351214672,null,null,null,1.8433079531508161,null,null,1.5984459096475578,null,null,1.3796390393549767,null,null,1.156621700836157,null,null,2.1138960739038746,null,null,null,2.0010794674601278,null,null,1.884219335946429,null,null,1.7230540899532678,null,null,1.5803240508469774,null,null,2.4045811133410271,null,null,null,2.3670421884259278,null,null,2.2391716564109672,null,null,2.0399419203700058,null,null,1.7844165206162435,null,null,2.3194096431503453,null,null,null,2.2553320736541886,null,null,2.0420251432291954,null,null,1.793403837215658,null,null,1.4885453432737654,null,null,2.3079970978684039,null,null,null,2.1975767290811006,null,null,2.0638257210252386,null,null,1.8878386408276708,null,null,1.7514199391070917,null,null,1.8861614890969876,null,null,null,1.819051312363889,null,null,1.7555193711234325,null,null,1.6806382774379849,null,null,1.6095492853032882,null,null,2.4718949999081836,null,null,null,2.507497781097094,null,null,2.2780677552464836,null,null,1.9235077630533828,null,null,1.6399788455038806,null,null,1.7497168409014092,null,null,null,1.656912532783386,null,null,1.5677668504681408,null,null,1.4774672152352537,null,null,1.3994532103736395,null,null,1.9070145375584857,null,null,null,2.0478351037040334]
[{"$f":"'Als-Ob-Allokation KW03'!A347","v":"2012-12-11"},{"$f":"'Als-Ob-Allokation KW03'!B347","v":-1.8},2,2.107621619048027,null,null,2.193306210301718,null,null,1.9029021283139347,null,null,1.9904102184944026,null,null,1.1033272613025193,null,null,1.6854508319020347,null,null,null,1.5655927488933035,null,null,1.4384783922351947,null,null,1.3012049735279372,null,null,1.2176499318489504,null,null,3.2308935984580303,null,null,null,2.8208116184614238,null,null,2.3481508873557657,null,null,1.8910369201817152,null,null,1.3199525353604298,null,null,2.282135068950589,null,null,null,2.1476946769421659,null,null,1.9737763317269978,null,null,1.8406537527059352,null,null,1.6709648507929318,null,null,2.5924018943311138,null,null,null,2.277310470092675,null,null,1.9336548627571553,null,null,1.6287716158238965,null,null,1.3151738074282739,null,null,2.5493776385322526,null,null,null,2.3598351873849923,null,null,2.1709596337234713,null,null,1.9380574013613081,null,null,1.7389990947566765,null,null,3.1252251089778111,null,null,null,2.8990538532451096,null,null,2.6420501849445834,null,null,2.3208127949801258,null,null,1.9784790021784902,null,null,2.9649832363475093,null,null,null,2.7261063637997935,null,null,2.3655022190583841,null,null,2.0064715606130314,null,null,1.6015856453257566,null,null,2.7234031501012517,null,null,null,2.4899624726016891,null,null,2.2737041248160788,null,null,2.0172796840376601,null,null,1.8094016644304731,null,null,2.1882467767959413,null,null,null,2.094508690041315,null,null,2.0024239512104263,null,null,1.9052183571158106,null,null,1.809912062465179,null,null,3.5344885998279842,null,null,null,3.3021147814980947,null,null,2.8353349905470315,null,null,2.3063412857196215,null,null,1.8623844243167764,null,null,1.9028017361806835,null,null,null,1.7826181884546013,null,null,1.6659370236542128,null,null,1.5497614211044621,null,null,1.4432546608578556,null,null,2.1776283570044508,null,null,null,2.4071739125579374]
[{"$f":"'Als-Ob-Allokation KW03'!A348","v":"2012-12-12"},{"$f":"'Als-Ob-Allokation KW03'!B348","v":-7.2},3,2.5174498523041229,null,null,2.6482827854822815,null,null,2.1657467257915508,null,null,2.2792005595662799,null,null,1.1095895376055203,null,null,1.7670892583520939,null,null,null,1.5991222939590164,null,null,1.4432477818583902,null,null,1.2915911654392225,null,null,1.179025560297857,null,null,3.9129795917350814,null,null,null,3.2816057800959149,null,null,2.6286017881385466,null,null,2.0646349856848172,null,null,1.3424029959059263,null,null,2.554512092132128,null,null,null,2.3513706665840801,null,null,2.1312350485861962,null,null,1.9641170465115099,null,null,1.7690654671211175,null,null,3.0554719856033654,null,null,null,2.6768705076147135,null,null,2.2640614474658354,null,null,1.8691322382497866,null,null,1.4738408101643132,null,null,3.4748342968733756,null,null,null,3.1715547225002254,null,null,2.8684004031210493,null,null,2.5638246529203257,null,null,2.2606684641689894,null,null,4.1149750189773266,null,null,null,3.5878890558512184,null,null,3.1812243113823868,null,null,2.687721053121805,null,null,2.2523506822197543,null,null,3.7461169480470899,null,null,null,3.2166926321295426,null,null,2.678683538075501,null,null,2.1976574763799004,null,null,1.6840293955325425,null,null,3.1479066190756262,null,null,null,2.7819392453672829,null,null,2.4915769145661839,null,null,2.1393203206162554,null,null,1.8477381336251724,null,null,2.500224314270143,null,null,null,2.3815366787402814,null,null,2.2629887957174435,null,null,2.1441481277287724,null,null,2.0254469583198573,null,null,4.4956949234791743,null,null,null,3.8624816697344668,null,null,3.2246526712645309,null,null,2.581917849098867,null,null,1.9444430311634777,null,null,2.0871022588583212,null,null,null,1.9423375357687518,null,null,1.7899027519447788,null,null,1.6459360061137875,null,null,1.497291689615027,null,null,2.4831788971437954,null,null,null,2.8135125371238368]
[{"$f":"'Als-Ob-Allokation KW03'!A349","v":"2012-12-13"},{"$f":"'Als-Ob-Allokation KW03'!B349","v":-6.7},4,2.486876127270421,null,null,2.6150904715681413,null,null,2.1471549817802362,null,null,2.2591979705337915,null,null,1.1092124928352625,null,null,1.8518451602834871,null,null,null,1.6788506761047426,null,null,1.5170254842530047,null,null,1.3581506349173529,null,null,1.2421180651530535,null,null,3.9464151849293239,null,null,null,3.316504049219247,null,null,2.66204690868613,null,null,2.0935169757458727,null,null,1.3669397623257475,null,null,2.5867385793130437,null,null,null,2.3851805564528545,null,null,2.1638552923984817,null,null,1.9956962854750031,null,null,1.7978228596224672,null,null,3.0531295545005603,null,null,null,2.6734974616360594,null,null,2.2600001636601386,null,null,1.8676857344908,null,null,1.4734435438993998,null,null,3.4421170264998633,null,null,null,3.1429395350135958,null,null,2.8444054179247185,null,null,2.538208206045085,null,null,2.2395958646093521,null,null,4.0658247532752849,null,null,null,3.5579781296843738,null,null,3.1582168079047683,null,null,2.6747763007206036,null,null,2.2428331377239572,null,null,3.706133006651199,null,null,null,3.1969758192890532,null,null,2.6686011029658641,null,null,2.1936401575268527,null,null,1.6852595480515273,null,null,3.1183823484194564,null,null,null,2.7605265833016399,null,null,2.4742489745398246,null,null,2.128861324093879,null,null,1.8432791188972075,null,null,2.4885639558583876,null,null,null,2.3708023646078029,null,null,2.2532244799552714,null,null,2.1352075088218769,null,null,2.0174042418749361,null,null,4.3685262804010367,null,null,null,3.7710209417286489,null,null,3.1501226208424575,null,null,2.5222232096550181,null,null,1.9088324053380157,null,null,2.029608803626,null,null,null,1.8891470472873741,null,null,1.7425309925610304,null,null,1.603242215444328,null,null,1.4610125752594481,null,null,2.4850667280611098,null,null,null,2.8121363653463041]
[{"$f":"'Als-Ob-Allokation KW03'!A350","v":"2012-12-14"},{"$f":"'Als-Ob-Allokation KW03'!B350","v":1.7},5,1.7472417840412091,null,null,1.7836556800001431,null,null,1.6463431255861753,null,null,1.701167051315025,null,null,1.0948125945649041,null,null,1.5613568263844373,null,null,null,1.4899905678904009,null,null,1.3962183455524875,null,null,1.2869055901719262,null,null,1.2310042653525839,null,null,2.297984944794849,null,null,null,2.1253189826301666,null,null,1.8663224497583408,null,null,1.5611700994751918,null,null,1.1882208146844915,null,null,1.8170458590109126,null,null,null,1.7421123483475818,null,null,1.6277417118212765,null,null,1.5397655404719788,null,null,1.4219705215564842,null,null,2.1410120209420467,null,null,null,1.9326690152312258,null,null,1.6884180010625496,null,null,1.4674093863729909,null,null,1.2435050500083613,null,null,2.0797395737595283,null,null,null,1.9817579834339221,null,null,1.878362947710849,null,null,1.7318721932194656,null,null,1.5979434821637282,null,null,2.2154039116990738,null,null,null,2.213289898682314,null,null,2.1158735565145887,null,null,1.9455478076415071,null,null,1.7148403776468963,null,null,2.0870720121652839,null,null,null,2.05634864251186,null,null,1.8828610273319912,null,null,1.669096305238164,null,null,1.3994951609608113,null,null,2.1802606818655126,null,null,null,2.0992944369563293,null,null,1.9878533236843356,null,null,1.8325826971853223,null,null,1.714681476261946,null,null,1.7397101058545366,null,null,null,1.68160364873487,null,null,1.6274102180270011,null,null,1.5608239904291035,null,null,1.4983253175601057,null,null,2.256858903079904,null,null,null,2.3357979172054302,null,null,2.1606746694534436,null,null,1.8466782214595083,null,null,1.5944733027383706,null,null,1.5562278568548469,null,null,null,1.4783917993133378,null,null,1.4032586886900122,null,null,1.3269378589413638,null,null,1.2617621389031215,null,null,1.8067776742450539,null,null,null,1.9248123459070874]
[{"$f":"'Als-Ob-Allokation KW03'!A351","v":"2012-12-15"},{"$f":"'Als-Ob-Allokation KW03'!B351","v":5.9},6,1.2529623312201015,null,null,1.2250349313261339,null,null,1.2520604080237265,null,null,1.2548804937697968,null,null,1.0741586973918853,null,null,0.56403669028818282,null,null,null,0.56333529749444289,null,null,0.54727943835242521,null,null,0.52589207769158997,null,null,0.51961880901737023,null,null,0.99213551438092451,null,null,null,1.0301086364215886,null,null,1.0075979219176252,null,null,0.91837059920834707,null,null,0.82291038093836921,null,null,0.9819016004046347,null,null,null,0.96965393782244202,null,null,0.93995755560480487,null,null,0.91613383381508917,null,null,0.88214065012452869,null,null,1.3179761861424446,null,null,null,1.3210326467483535,null,null,1.2704037256610328,null,null,1.1880838978767019,null,null,1.1208980552992014,null,null,1.1694766661942952,null,null,null,1.1939678538562826,null,null,1.2096023135109495,null,null,1.2278705447943947,null,null,1.2015348358228835,null,null,1.0740605184106451,null,null,null,1.2130386018517592,null,null,1.2846572607621622,null,null,1.2829784433622591,null,null,1.2272216019464655,null,null,1.0820408516654325,null,null,null,1.1818085038476442,null,null,1.2008195253689893,null,null,1.1647864155598036,null,null,1.0728231644952222,null,null,1.1347232768014419,null,null,null,1.2169922815860419,null,null,1.2585278242214786,null,null,1.2446658100458887,null,null,1.2556497297996991,null,null,1.1218510760834417,null,null,null,1.1118241369008652,null,null,1.1093255547975385,null,null,1.0852312659946362,null,null,1.0683586875227253,null,null,0.90516840493772244,null,null,null,1.090212879142616,null,null,1.2343903302242689,null,null,1.218144490540132,null,null,1.157917263711127,null,null,0.45879671941693062,null,null,null,0.45115557663786837,null,null,0.44080813614271741,null,null,0.42984234925477222,null,null,0.42125288715708509,null,null,1.2045413512336307,null,null,null,1.1875956477122029]
[{"$f":"'Als-Ob-Allokation KW03'!A352","v":"2012-12-16"},{"$f":"'Als-Ob-Allokation KW03'!B352","v":6},7,1.2410310804947018,null,null,1.2117548078178493,null,null,1.2418963199257091,null,null,1.2434601592340118,null,null,1.0734467348688206,null,null,1.1067880173348528,null,null,null,1.1068023640883355,null,null,1.0763845459968564,null,null,1.035636252468904,null,null,1.0241415579119086,null,null,1.1769806381112879,null,null,null,1.226204798627712,null,null,1.2032531589177264,null,null,1.0997073385776657,null,null,0.99010375398304484,null,null,1.1724716869107925,null,null,null,1.1588706459898142,null,null,1.1247666438909811,null,null,1.0972992021281947,null,null,1.0579698560244859,null,null,1.2657392086759351,null,null,null,1.2736845058913211,null,null,1.229041968022172,null,null,1.1521173827568054,null,null,1.0904646811889229,null,null,1.1027474544819542,null,null,null,1.1282760169789734,null,null,1.1453872268654555,null,null,1.166377665708352,null,null,1.1434149958218742,null,null,0.97282255255103378,null,null,null,1.1022667239729103,null,null,1.1708355396384647,null,null,1.1720553262516338,null,null,1.124048858918427,null,null,1.1339200545681567,null,null,null,1.241719682555289,null,null,1.2654977709481423,null,null,1.2308440603114008,null,null,1.1367529998944315,null,null,1.0775967097571157,null,null,null,1.1593883351567942,null,null,1.2023145803345734,null,null,1.1914479157058908,null,null,1.204494324117366,null,null,1.1828145868325068,null,null,null,1.1732046809877679,null,null,1.1717292132647339,null,null,1.1470225956736111,null,null,1.1301065688018095,null,null,0.83708818333364776,null,null,null,1.0118599895984959,null,null,1.1530115673401191,null,null,1.1433097609971303,null,null,1.0893599662931903,null,null,0.54648272824130972,null,null,null,0.53797847156855216,null,null,0.52608717648902503,null,null,0.51344402663679711,null,null,0.50357072952597792,null,null,1.2187072859672063,null,null,null,1.1988040956579054]
[{"$f":"'Als-Ob-Allokation KW03'!A353","v":"2012-12-17"},{"$f":"'Als-Ob-Allokation KW03'!B353","v":5.5},1,1.3007995202722038,null,null,1.2784154784253017,null,null,1.2924963789554147,null,null,1.3003838486677446,null,null,1.076879533480009,null,null,1.2841758517766166,null,null,null,1.2762402769972272,null,null,1.2347885196441419,null,null,1.1806626297641358,null,null,1.1626994389140273,null,null,1.5298360537706346,null,null,null,1.5673401503810471,null,null,1.5140319628180576,null,null,1.3654131818335669,null,null,1.2008868637223298,null,null,1.4757786616947759,null,null,null,1.4524014776240792,null,null,1.401278217954006,null,null,1.3607631609213882,null,null,1.3036050557210306,null,null,1.2622563057698355,null,null,null,1.2463827260435607,null,null,1.1830931856249607,null,null,1.0963773218759085,null,null,1.0214465351642146,null,null,1.2587348431092291,null,null,null,1.274352098127157,null,null,1.2808081822944071,null,null,1.2843006629893869,null,null,1.2479940364092585,null,null,1.2407686563786418,null,null,null,1.3834418750765449,null,null,1.4480344285693185,null,null,1.4328727126707888,null,null,1.3567941806492458,null,null,1.346388959818454,null,null,null,1.4552956725531681,null,null,1.4613487377457732,null,null,1.4026284587065112,null,null,1.2781738876091002,null,null,1.3800651588110449,null,null,null,1.4618649789272939,null,null,1.4954375281390599,null,null,1.4674070698629718,null,null,1.4681316820105319,null,null,1.3628705655805973,null,null,null,1.3464174592993468,null,null,1.3382507898189109,null,null,1.3059121579837478,null,null,1.2815757734810682,null,null,1.1275012026596962,null,null,null,1.3384750908223519,null,null,1.4782374236522438,null,null,1.4319758091732968,null,null,1.3483601928721365,null,null,1.4994176377599497,null,null,null,1.468114456260353,null,null,1.4296804199857389,null,null,1.3893719765768597,null,null,1.3574528929771636,null,null,1.3849469071879081,null,null,null,1.3778050832668156]
[{"$f":"'Als-Ob-Allokation KW03'!A354","v":"2012-12-18"},{"$f":"'Als-Ob-Allokation KW03'!B354","v":4},2,1.4803157643456697,null,null,1.4803662938065225,null,null,1.4398025413739828,null,null,1.4668859203425002,null,null,1.0854731637576154,null,null,1.4139483431710675,null,null,null,1.3808936127558207,null,null,1.3173206594087901,null,null,1.238664337328379,null,null,1.2051825,null,null,1.8605364200643315,null,null,null,1.8210764870552634,null,null,1.6856073152365656,null,null,1.4680426449814408,null,null,1.2110912596323149,null,null,1.643078659257692,null,null,null,1.5986753912682752,null,null,1.519267747273928,null,null,1.4576447102840042,null,null,1.3728449186595506,null,null,1.6437106313912333,null,null,null,1.5504529106652591,null,null,1.4124609239663439,null,null,1.2702910196315524,null,null,1.1337474415711823,null,null,1.5045238336774891,null,null,null,1.4811429346912368,null,null,1.4493161829262695,null,null,1.3961950211498131,null,null,1.3252049228258789,null,null,1.5919847982898201,null,null,null,1.6948279812160874,null,null,1.7034212295744819,null,null,1.6324362737850866,null,null,1.4948717330580268,null,null,1.6965603577186945,null,null,null,1.7652527039471888,null,null,1.7016905296302551,null,null,1.575861707131136,null,null,1.38406850381058,null,null,1.6483555876873277,null,null,null,1.6730619642958811,null,null,1.6509868737504048,null,null,1.576374895055916,null,null,1.5318988207108888,null,null,1.5786746932449671,null,null,null,1.5436040755321556,null,null,1.5151042544907971,null,null,1.4664783512244346,null,null,1.4243795527485805,null,null,1.6472790274855309,null,null,null,1.8511585114715219,null,null,1.881207978760449,null,null,1.7158346466687304,null,null,1.5598284583650825,null,null,1.6113083693971986,null,null,null,1.5554893875321174,null,null,1.4976421410702925,null,null,1.438144802320261,null,null,1.389496984293735,null,null,1.5732893591626993,null,null,null,1.6141157281319971]
[{"$f":"'Als-Ob-Allokation KW03'!A355","v":"2012-12-19"},{"$f":"'Als-Ob-Allokation KW03'!B355","v":2},3,1.7134417218993874,null,null,1.7451492010271012,null,null,1.6209899574020652,null,null,1.6724180270289724,null,null,1.093804525323961,null,null,1.4603987542471417,null,null,null,1.3975053418985894,null,null,1.3122892527207932,null,null,1.2122431454670712,null,null,1.1620301240875912,null,null,2.2523244297193639,null,null,null,2.0966596083305395,null,null,1.8522625007338227,null,null,1.5563378244611581,null,null,1.1956773292390284,null,null,1.8036914473913819,null,null,null,1.7323921799327198,null,null,1.6216927148783371,null,null,1.5364874970388931,null,null,1.4219833921895391,null,null,2.0559911268443343,null,null,null,1.8638316278332598,null,null,1.6351364213576551,null,null,1.4264340674346563,null,null,1.2158100117986856,null,null,2.0602802885839293,null,null,null,1.9702520828589689,null,null,1.8741007034469996,null,null,1.7358807006319865,null,null,1.6067727322621734,null,null,2.1326415391311038,null,null,null,2.147054827672024,null,null,2.0641895097673544,null,null,1.907279385353615,null,null,1.6880937576285127,null,null,2.1382486045480658,null,null,null,2.1210888203097444,null,null,1.9537191192249372,null,null,1.7405321879307489,null,null,1.4672452607668571,null,null,1.9748302904891541,null,null,null,1.9129037916589775,null,null,1.8195100297940761,null,null,1.6842898377847715,null,null,1.582979768850449,null,null,1.8056611586157785,null,null,null,1.7475096162451658,null,null,1.6937724469880817,null,null,1.6260792996468898,null,null,1.5629652852978526,null,null,2.2892656305881225,null,null,null,2.3939452146762576,null,null,2.2366651751518263,null,null,1.9245975401792861,null,null,1.672521841072057,null,null,1.7376873131172565,null,null,null,1.6536483876156507,null,null,1.5722121551014985,null,null,1.4893740928668957,null,null,1.4190369874037561,null,null,1.7917614555677674,null,null,null,1.9006985309112696]
[{"$f":"'Als-Ob-Allokation KW03'!A356","v":"2012-12-20"},{"$f":"'Als-Ob-Allokation KW03'!B356","v":-0.9},4,2.0216222352212245,null,null,2.0959344305131578,null,null,1.8439116345576172,null,null,1.9243077274940461,null,null,1.1016112821670152,null,null,1.6718241030053482,null,null,null,1.5623693108072323,null,null,1.4417151797525294,null,null,1.3089402686055984,null,null,1.2312546683519658,null,null,2.9740665197963936,null,null,null,2.6275359498974744,null,null,2.2115425364698806,null,null,1.7945855523636032,null,null,1.2761101332061615,null,null,2.1500879462743323,null,null,null,2.0324261460440805,null,null,1.8743403606716511,null,null,1.7531951676778459,null,null,1.5966430626240575,null,null,2.5350952349532792,null,null,null,2.2355975341874132,null,null,1.9064791238956349,null,null,1.6158032216893941,null,null,1.3168675552236673,null,null,2.6376579680837184,null,null,null,2.454886901002153,null,null,2.2716001726364654,null,null,2.0380092871264921,null,null,1.8390445942504081,null,null,2.9225289571538586,null,null,null,2.7554575035754629,null,null,2.5347724893768331,null,null,2.2487639961589387,null,null,1.9291198761119597,null,null,2.7794201868660773,null,null,null,2.5964858503464026,null,null,2.2785627064676284,null,null,1.9504892383056895,null,null,1.5733324919949516,null,null,2.4822304258328649,null,null,null,2.293190212961445,null,null,2.1084432412421199,null,null,1.8862206194380704,null,null,1.7075640029768016,null,null,2.1059001118124119,null,null,null,2.0193685469254712,null,null,1.935000910618659,null,null,1.8438502813807662,null,null,1.7551184200910386,null,null,3.1829459728151495,null,null,null,3.0417130554575924,null,null,2.6454348826481406,null,null,2.1698979108718017,null,null,1.7797415332509248,null,null,1.8380764168862431,null,null,null,1.7264679065802406,null,null,1.618940651895111,null,null,1.5112193964029657,null,null,1.4143185940631668,null,null,2.1011161905492117,null,null,null,2.3053561988983375]
[{"$f":"'Als-Ob-Allokation KW03'!A357","v":"2012-12-21"},{"$f":"'Als-Ob-Allokation KW03'!B357","v":4.7},5,1.3966873229091261,null,null,1.3860006775319824,null,null,1.3720419764025156,null,null,1.3901763420841149,null,null,1.0817565114981709,null,null,1.3974699269272337,null,null,null,1.3756525800421693,null,null,1.320662102282524,null,null,1.2510838845826806,null,null,1.2240360454193207,null,null,1.5987974069329636,null,null,null,1.5972150526983699,null,null,1.5068995978821651,null,null,1.3327054762120549,null,null,1.1314704591402156,null,null,1.4690595842564802,null,null,null,1.4366620686509786,null,null,1.3743093330893426,null,null,1.3255943269571913,null,null,1.2579074230605123,null,null,1.5455714253891666,null,null,null,1.4864650057018465,null,null,1.3783390531388031,null,null,1.2560329947204374,null,null,1.142715915082487,null,null,1.4674881051045705,null,null,null,1.4626816697272489,null,null,1.4483758554383857,null,null,1.4199675552558841,null,null,1.3619195823354218,null,null,1.4186311698550382,null,null,null,1.5426100222226009,null,null,1.5789400032208609,null,null,1.5351731375667133,null,null,1.4266836863159218,null,null,1.4472966087251886,null,null,null,1.5326000833742179,null,null,1.504784523700468,null,null,1.4159547200464762,null,null,1.2643925001848815,null,null,1.5445283588681993,null,null,null,1.5979850036759766,null,null,1.602123380903349,null,null,1.5486926723826746,null,null,1.5249602479720017,null,null,1.3990775795034884,null,null,null,1.3741893349284096,null,null,1.3562635312206379,null,null,1.3174345180241205,null,null,1.2854274077652268,null,null,1.3311849894771712,null,null,null,1.5348346767062102,null,null,1.6181555417938089,null,null,1.5151898881256827,null,null,1.4000992474915013,null,null,1.4021492052183189,null,null,null,1.3620257507314761,null,null,1.3180683054592961,null,null,1.2725553246272883,null,null,1.2358566743385651,null,null,1.4572726417691817,null,null,null,1.4746415052209343]
[{"$f":"'Als-Ob-Allokation KW03'!A358","v":"2012-12-22"},{"$f":"'Als-Ob-Allokation KW03'!B358","v":5},6,1.360730860227032,null,null,1.3455732989392288,null,null,1.3424474176167345,null,null,1.3567313835383998,null,null,1.08001118079993,null,null,0.58712976965546093,null,null,null,0.57999957662168222,null,null,0.55840317097767311,null,null,0.53077970490839466,null,null,0.52056513288377637,null,null,1.1379747810959726,null,null,null,1.147382783662934,null,null,1.0918849057208249,null,null,0.97251423219129574,null,null,0.83640826783164424,null,null,1.0644499748217706,null,null,null,1.0433768766455842,null,null,1.0011576786076981,null,null,0.96803255649122133,null,null,0.92177861160883068,null,null,1.5084560828610398,null,null,null,1.4643749208536876,null,null,1.3692684119807539,null,null,1.2553718199986181,null,null,1.1520753197352425,null,null,1.3352095362070626,null,null,null,1.3384045631650447,null,null,1.3325161920100834,null,null,1.3170529537900666,null,null,1.2692332567945306,null,null,1.2698066668486374,null,null,null,1.3936762003543179,null,null,1.4382446205782735,null,null,1.4074423093298927,null,null,1.3168885374133428,null,null,1.2421091780981743,null,null,null,1.325410000309547,null,null,1.31212494137277,null,null,1.2436401402743422,null,null,1.118819270685161,null,null,1.3003250903574572,null,null,null,1.3569906106536296,null,null,1.3704673364274691,null,null,1.3320851608130451,null,null,1.3193947526641212,null,null,1.2212744020014823,null,null,null,1.2020640246404186,null,null,1.1894084455739902,null,null,1.1572704589667937,null,null,1.1315190892255511,null,null,1.1107561874028049,null,null,null,1.2948104390981878,null,null,1.3883432249888112,null,null,1.3160087409959551,null,null,1.224645033121879,null,null,0.47636207733804781,null,null,null,0.46406132711670572,null,null,0.45011683306418737,null,null,0.43562205517151609,null,null,0.42400896254347559,null,null,1.3077144464687982,null,null,null,1.3150887281291472]
[{"$f":"'Als-Ob-Allokation KW03'!A359","v":"2012-12-23"},{"$f":"'Als-Ob-Allokation KW03'!B359","v":11.3},7,0.66624562885135441,null,null,0.59516278270045375,null,null,0.71366238137201732,null,null,0.66589880098091592,null,null,1.0105875316614448,null,null,0.83746812627579581,null,null,null,0.90180917188057863,null,null,0.93724627978018926,null,null,0.97715380036104305,null,null,1.0122529274327849,null,null,0.41085628975494259,null,null,null,0.53742389378617172,null,null,0.64848269962961358,null,null,0.72574392905242269,null,null,0.88615806808146247,null,null,0.61246803899350044,null,null,null,0.65674559401308563,null,null,0.70966468919379999,null,null,0.74367259611429459,null,null,0.77885909312582402,null,null,0.40323700862169021,null,null,null,0.57960292564664317,null,null,0.72418742102285716,null,null,0.80265982657611445,null,null,0.92071827490669844,null,null,0.39938453886257541,null,null,null,0.47507168996973592,null,null,0.55269391829204506,null,null,0.70031316086307605,null,null,0.77802826716478801,null,null,0.27879836110012179,null,null,null,0.38369508424521187,null,null,0.48291020539892338,null,null,0.56359620205645389,null,null,0.64405509991754428,null,null,0.39536634122374353,null,null,null,0.50718427106251018,null,null,0.62341481668055321,null,null,0.72222112772622038,null,null,0.78321102866379944,null,null,0.36303098103479464,null,null,null,0.47459650208262627,null,null,0.59410945188346109,null,null,0.66375907003631784,null,null,0.75579116570310989,null,null,0.59660275646110483,null,null,null,0.62827554256658624,null,null,0.67334049020104858,null,null,0.69132067762052007,null,null,0.72180436533577952,null,null,0.17692216396963628,null,null,null,0.26664936785800819,null,null,0.44848612250234149,null,null,0.61476947983330965,null,null,0.67509594134723894,null,null,0.42024464590578597,null,null,null,0.44662003663888172,null,null,0.46162631018212336,null,null,0.47350646243308664,null,null,0.48392021407226932,null,null,0.65296865909923141,null,null,null,0.55902989470552844]
[{"$f":"'Als-Ob-Allokation KW03'!A360","v":"2012-12-24"},{"$f":"'Als-Ob-Allokation KW03'!B360","v":8.6},1,0.94044457270032111,null,null,0.88271316087905738,null,null,0.97521536383560858,null,null,0.94720634702657125,null,null,1.0495971915330635,null,null,1.1019417270859988,null,null,null,1.1411542284579381,null,null,1.1438645873302138,null,null,1.1420419736571228,null,null,1.1551059699556523,null,null,0.8874417273505939,null,null,null,1.0213518693309305,null,null,1.0998675164278486,null,null,1.0940700526692306,null,null,1.1305998090026668,null,null,1.0646409787784339,null,null,null,1.0832435866935468,null,null,1.0952503483050977,null,null,1.1006109781554667,null,null,1.1027008595928067,null,null,0.71609886601447903,null,null,null,0.82407858778036291,null,null,0.88637557446548199,null,null,0.89323152667963235,null,null,0.92629667000367488,null,null,0.74313503822678295,null,null,null,0.81129077303763963,null,null,0.87482558913408992,null,null,0.98089062780340708,null,null,1.0148618206550599,null,null,0.64327408438426903,null,null,null,0.79639545797843148,null,null,0.9190179741494594,null,null,0.98424195753261201,null,null,1.0207459084086992,null,null,0.77949973248230364,null,null,null,0.91641172187558118,null,null,1.0175075933109885,null,null,1.0707969557037853,null,null,1.0677209317308556,null,null,0.79276355848154456,null,null,null,0.93316774661847701,null,null,1.0520833747723994,null,null,1.102749435724766,null,null,1.181336181916903,null,null,0.96397734659178658,null,null,null,0.98073747632489472,null,null,1.0097380255253621,null,null,1.0085335231309582,null,null,1.0187130889219271,null,null,0.50070791734776321,null,null,null,0.66539290583526822,null,null,0.91116203083701353,null,null,1.0449426292741353,null,null,1.0602906070586664,null,null,1.2990707704487607,null,null,null,1.3226431929337421,null,null,1.3259213016286322,null,null,1.3254027471813157,null,null,1.3266087119792203,null,null,0.99844482299386783,null,null,null,0.91993417146733503]
[{"$f":"'Als-Ob-Allokation KW03'!A361","v":"2012-12-25"},{"$f":"'Als-Ob-Allokation KW03'!B361","v":7.9},2,1.018865117563182,null,null,0.96739636054159828,null,null,1.0467849194735115,null,null,1.025963640419338,null,null,1.0571434067750936,null,null,1.1814947650504779,null,null,null,1.2116212834791311,null,null,1.2040041592657102,null,null,1.1893817427504225,null,null,1.1955833875585129,null,null,0.99796775078376432,null,null,null,1.1158388117227378,null,null,1.1698400431900151,null,null,1.1344203288457344,null,null,1.1267223901890016,null,null,1.1356327216191704,null,null,null,1.1448804157461507,null,null,1.142760139752657,null,null,1.1381092766845309,null,null,1.1277467586729846,null,null,0.87906017449336182,null,null,null,0.96936981439059033,null,null,1.0087886588510568,null,null,0.99492752981840127,null,null,1.0054937468696321,null,null,0.82387994581681001,null,null,null,0.88240833324878198,null,null,0.93493202943738518,null,null,1.0189200343254119,null,null,1.0375717015403134,null,null,0.74684957813337516,null,null,null,0.90202554633691512,null,null,1.0172398438535384,null,null,1.068451032670199,null,null,1.0829806701805134,null,null,0.90713344823338293,null,null,null,1.045551364759493,null,null,1.1329317646031904,null,null,1.1654372149706029,null,null,1.1373153618536926,null,null,0.88301944741590921,null,null,null,1.0132490015304974,null,null,1.1147689981383759,null,null,1.1501263235808339,null,null,1.2124778057598338,null,null,1.069280556888089,null,null,null,1.0796215633545387,null,null,1.1015318094912134,null,null,1.0935870853973475,null,null,1.096458128014201,null,null,0.65101404532441909,null,null,null,0.84276623399018635,null,null,1.0953813336644469,null,null,1.2036722371830584,null,null,1.200295890361289,null,null,1.3617882466951432,null,null,null,1.3727910069534404,null,null,1.3663425471019595,null,null,1.3567472944127512,null,null,1.3505233365975655,null,null,1.0827948037747273,null,null,null,1.0163016163049718]
[{"$f":"'Als-Ob-Allokation KW03'!A362","v":"2012-12-26"},{"$f":"'Als-Ob-Allokation KW03'!B362","v":7.2},3,1.0994297523927541,null,null,1.0553103615647514,null,null,1.1188338862100917,null,null,1.1058516476166538,null,null,1.0638089692347714,null,null,1.1760649935915477,null,null,null,1.19460813256524,null,null,1.1772880062051407,null,null,1.1512152668268743,null,null,1.1501704627630869,null,null,1.0842903684773388,null,null,null,1.179664029960098,null,null,1.2055793238224117,null,null,1.1419690840688532,null,null,1.092110633814626,null,null,1.1726257273286111,null,null,null,1.1727016985386196,null,null,1.1572496986096064,null,null,1.1431170287600227,null,null,1.1207887746968559,null,null,1.0205022585265102,null,null,null,1.0838109745438427,null,null,1.0942739638843788,null,null,1.0578296252216965,null,null,1.0426240234516719,null,null,1.0178960405276669,null,null,null,1.0708729392083278,null,null,1.1159158750812326,null,null,1.1841848485494633,null,null,1.1880584529251796,null,null,0.87290566738151254,null,null,null,1.0292250317937266,null,null,1.1347139030951026,null,null,1.1700076366526657,null,null,1.160560853333632,null,null,1.0242288345285124,null,null,null,1.1580458100701312,null,null,1.2257404088858614,null,null,1.2338823840952808,null,null,1.1791105600113869,null,null,0.96487960852732935,null,null,null,1.080267057261292,null,null,1.1613912597135942,null,null,1.1799904042091662,null,null,1.2244617018700856,null,null,1.1525228338231821,null,null,null,1.1555044104690673,null,null,1.1690695664489463,null,null,1.1541806017161129,null,null,1.1492588682090781,null,null,0.77729829576049825,null,null,null,0.98100488880819958,null,null,1.2122707915490174,null,null,1.2795262065009765,null,null,1.2545009769600026,null,null,1.4182908044312672,null,null,null,1.4164959432971704,null,null,1.4002554490517318,null,null,1.3813748543273432,null,null,1.3675014736083977,null,null,1.1581588535664664,null,null,null,1.1067112317799788]
[{"$f":"'Als-Ob-Allokation KW03'!A363","v":"2012-12-27"},{"$f":"'Als-Ob-Allokation KW03'!B363","v":7.1},4,1.1110842153515184,null,null,1.0680984031524252,null,null,1.1291335502749915,null,null,1.1173163803904267,null,null,1.0646946603482477,null,null,1.2460347452475262,null,null,null,1.2639877916146087,null,null,1.2442268661837701,null,null,1.2149542479450099,null,null,1.2128009401028419,null,null,1.129618425142273,null,null,null,1.2243418561445356,null,null,1.2468178780099188,null,null,1.1772674232651144,null,null,1.1199727909063635,null,null,1.2130013736936238,null,null,null,1.211784570643009,null,null,1.1940015406498987,null,null,1.1781074620690868,null,null,1.1534023040035037,null,null,1.0474157720232555,null,null,null,1.1068619376113735,null,null,1.1129841080902994,null,null,1.0729759483191745,null,null,1.0538553914040452,null,null,1.0399389802222481,null,null,null,1.0913784014391055,null,null,1.134678774101578,null,null,1.1997035623775714,null,null,1.2011731962811636,null,null,0.89550393867438738,null,null,null,1.0523035127402482,null,null,1.1564654973478516,null,null,1.189380170996502,null,null,1.1762729599494848,null,null,1.0470902996544402,null,null,null,1.1806937942750144,null,null,1.2456316292279463,null,null,1.2501480192112973,null,null,1.1911480579666049,null,null,0.9839484676501068,null,null,null,1.0978364867931065,null,null,1.1765361498886078,null,null,1.192813352782174,null,null,1.2350130137269053,null,null,1.1706085015538288,null,null,null,1.1725118334862694,null,null,1.1849127866143936,null,null,1.1689343683982352,null,null,1.1628541952345863,null,null,0.78598631274151909,null,null,null,0.98840664573527759,null,null,1.2128445566538999,null,null,1.2730672269505854,null,null,1.245178594091354,null,null,1.3938630544967978,null,null,null,1.390322148478395,null,null,1.3730844502464763,null,null,1.3533258099962986,null,null,1.3386859250645848,null,null,1.1820482158291772,null,null,null,1.1323731202056346]
[{"$f":"'Als-Ob-Allokation KW03'!A364","v":"2012-12-28"},{"$f":"'Als-Ob-Allokation KW03'!B364","v":5.7},5,1.2768616402509712,null,null,1.2516772680647019,null,null,1.2723251593558174,null,null,1.2776713494328376,null,null,1.075544071007156,null,null,1.3376421545283039,null,null,null,1.332653288783858,null,null,1.2919941716472878,null,null,1.2383969146007723,null,null,1.2215815565280346,null,null,1.3777839419252342,null,null,null,1.4209203045422383,null,null,1.3811229221923618,null,null,1.2520776140033893,null,null,1.1114286548182604,null,null,1.3460855074676654,null,null,null,1.3269963941471528,null,null,1.2832658088673909,null,null,1.2484182413992051,null,null,1.1989990452870893,null,null,1.3369032614629974,null,null,null,1.3298016677091939,null,null,1.2703862057085786,null,null,1.1825845851333034,null,null,1.1086517679135737,null,null,1.2710578373876815,null,null,null,1.2921771462680671,null,null,1.3038444938758129,null,null,1.3153337996861763,null,null,1.282577806402686,null,null,1.182745050743448,null,null,null,1.3272062542249985,null,null,1.3972850112870774,null,null,1.3889927653029788,null,null,1.3218361276759181,null,null,1.2460565932022833,null,null,null,1.3538615949256896,null,null,1.3674787645146327,null,null,1.3194005725046258,null,null,1.2087122815203468,null,null,1.3332273304266535,null,null,null,1.4209699567482883,null,null,1.4614173936736943,null,null,1.439621061427468,null,null,1.4462792699788345,null,null,1.2764171161689306,null,null,null,1.2629781504359818,null,null,1.257693457233424,null,null,1.2288161980711541,null,null,1.2077868606035767,null,null,1.0664127201369999,null,null,null,1.2751666354236086,null,null,1.4257630452678309,null,null,1.3938300057898763,null,null,1.3186603617624384,null,null,1.3458546350346918,null,null,null,1.3205584311246816,null,null,1.2881071678972329,null,null,1.2539114501192179,null,null,1.2269738920957141,null,null,1.3331151720652081,null,null,null,1.3203393026650223]
[{"$f":"'Als-Ob-Allokation KW03'!A365","v":"2012-12-29"},{"$f":"'Als-Ob-Allokation KW03'!B365","v":5.7},6,1.2768616402509712,null,null,1.2516772680647019,null,null,1.2723251593558174,null,null,1.2776713494328376,null,null,1.075544071007156,null,null,0.56921941183751357,null,null,null,0.56709645300642686,null,null,0.54979439754715309,null,null,0.52698665406445766,null,null,0.51983105703157539,null,null,1.023876260758583,null,null,null,1.0559323011253396,null,null,1.0263575660827517,null,null,0.93045978153437148,null,null,0.82593894482841501,null,null,1.000320118495112,null,null,null,0.98613437472712151,null,null,0.95363674808584908,null,null,0.92774038219701305,null,null,0.89101536299388329,null,null,1.3600167166710022,null,null,null,1.3527923448719463,null,null,1.292349660738511,null,null,1.2030300553674353,null,null,1.1278190283411562,null,null,1.2056348351719419,null,null,null,1.2256671057201332,null,null,1.2367339197518756,null,null,1.2476318560294146,null,null,1.2165618563790457,null,null,1.1160692837162645,null,null,null,1.2523866682558138,null,null,1.3185148233885178,null,null,1.3106900423589503,null,null,1.2473192758475087,null,null,1.1168499156067,null,null,null,1.2134763511422972,null,null,1.225681522873004,null,null,1.1825886770248846,null,null,1.0833779275943625,null,null,1.170998617830409,null,null,null,1.2480646153558004,null,null,1.2835903592807136,null,null,1.2644462310802098,null,null,1.2702942607694763,null,null,1.1440622811590011,null,null,null,1.1320168348874859,null,null,1.1272801245410355,null,null,1.1013972195154702,null,null,1.0825484658520677,null,null,0.94877739388683768,null,null,null,1.1345037941531977,null,null,1.2684880073594689,null,null,1.24007748167586,null,null,1.1731997544947819,null,null,0.46274196701219406,null,null,null,0.45404443397218791,null,null,0.44288679407037712,null,null,0.43112936254985879,null,null,0.42186748666682183,null,null,1.2275218911095482,null,null,null,1.2157579717608622]
[{"$f":"'Als-Ob-Allokation KW03'!A366","v":"2012-12-30"},{"$f":"'Als-Ob-Allokation KW03'!B366","v":6.9},7,1.1344866988264131,null,null,1.0938277060674768,null,null,1.1497223168733843,null,null,1.1402649500854574,null,null,1.0664187579896223,null,null,1.0602175092151407,null,null,null,1.0726375855805426,null,null,1.0534637803478524,null,null,1.0258108253399461,null,null,1.0222267049184441,null,null,1.012794668460832,null,null,null,1.0895546481186793,null,null,1.1018207696271165,null,null,1.0338583503945971,null,null,0.97338594219239549,null,null,1.0723598576527713,null,null,null,1.0690555495740608,null,null,1.0502520653150418,null,null,1.0340109750386635,null,null,1.0093976239821896,null,null,1.085860225875622,null,null,null,1.1364190624966417,null,null,1.133588275562514,null,null,1.0869766195573183,null,null,1.0602218814928954,null,null,0.95353357894879753,null,null,null,0.99586786594327048,null,null,1.0307044207246923,null,null,1.081962251043777,null,null,1.0789403504174593,null,null,0.81076176409342771,null,null,null,0.94633237225318434,null,null,1.0334378988499862,null,null,1.0574693515050946,null,null,1.0397041985901916,null,null,0.97507729849136837,null,null,null,1.0935833626181086,null,null,1.1462789612795647,null,null,1.1436331703847145,null,null,1.0833260687875965,null,null,0.92593406582263205,null,null,null,1.0260939064675767,null,null,1.0927860755375862,null,null,1.1031944038613311,null,null,1.1371738022284248,null,null,1.0761180784957571,null,null,null,1.0758400017660352,null,null,1.0847630410675986,null,null,1.0685418547115753,null,null,1.0610184225958772,null,null,0.66874272610686758,null,null,null,0.83494637112257852,null,null,1.0103509990031723,null,null,1.0490286378829847,null,null,1.0211502890483259,null,null,0.52492599676518426,null,null,null,0.52227798101807366,null,null,0.514841209892556,null,null,0.50650659115335384,null,null,0.50024492495000972,null,null,1.1134403150981278,null,null,null,1.0719571157910281]
[{"$f":"'Als-Ob-Allokation KW03'!A367","v":"2012-12-31"},{"$f":"'Als-Ob-Allokation KW03'!B367","v":4.7},1,1.3966873229091261,null,null,1.3860006775319824,null,null,1.3720419764025156,null,null,1.3901763420841149,null,null,1.0817565114981709,null,null,1.3295697042015988,null,null,null,1.3088124178475224,null,null,1.2564938156078598,null,null,1.1902962620551585,null,null,1.1645626224091201,null,null,1.72120679343689,null,null,null,1.7195032887611907,null,null,1.6222729744587656,null,null,1.4347419562727091,null,null,1.2180996994367488,null,null,1.5815358002340365,null,null,null,1.5466578202542971,null,null,1.4795311464351659,null,null,1.4270863531590567,null,null,1.3542171088705222,null,null,1.4153061716579383,null,null,null,1.3611814128833608,null,null,1.2621686299960631,null,null,1.1501708818058858,null,null,1.0464044951275977,null,null,1.4104816719646436,null,null,null,1.4058619486540334,null,null,1.3921118618309898,null,null,1.3648071180312211,null,null,1.3090140921019393,null,null,1.4331592370387678,null,null,null,1.558407745067951,null,null,1.5951097779539332,null,null,1.5508946999820554,null,null,1.4412942185565509,null,null,1.5159645004289939,null,null,null,1.6053152517204505,null,null,1.5761799654420481,null,null,1.4831355762631477,null,null,1.3243823922017464,null,null,1.5503245061948461,null,null,null,1.6039817576066491,null,null,1.6081356649108671,null,null,1.5545044471172,null,null,1.5306829621026781,null,null,1.4654576892442206,null,null,null,1.4393886063579922,null,null,1.4206123016953449,null,null,1.3799410217118608,null,null,1.3464153141124087,null,null,1.3439481548403507,null,null,null,1.5495503991180422,null,null,1.6336701298687324,null,null,1.5297172597920057,null,null,1.4135231505266574,null,null,1.5490043144204149,null,null,null,1.5046785009632848,null,null,1.4561171409282063,null,null,1.4058373251935199,null,null,1.3652950152745216,null,null,1.486129525764611,null,null,null,1.5038423271064973]