BEGIN:VCALENDAR
VERSION:2.0
PRODID:-//BDEW//www.bdew.de//
BEGIN:VEVENT
SUMMARY:Rückblick: 17. Wasserwirtschaftliche Jahrestagung 2018
DTSTART;VALUE=DATE:20180924
DTEND;VALUE=DATE:20180925
DTSTAMP;VALUE=DATE-TIME:20260421T072902Z
UID:termin-3511@www.bdew.de
DESCRIPTION:Über 110 Teilnehmer\, über 25 Redner und Diskutanten\, zahlr
 eiche Erkenntnisse
LOCATION:Landgrafenstrasse 4\, 10787 Berlin
END:VEVENT
END:VCALENDAR
