BEGIN:VCALENDAR
VERSION:2.0
PRODID:-//BDEW//www.bdew.de//
BEGIN:VEVENT
SUMMARY:Webinar: BNetzA-direkt: Kostendatenabfrage bei Elektrizitätsnetzb
 etreibern für die vierte Regulierungsperiode
DTSTART;VALUE=DATE-TIME:20220428T090000
DTEND;VALUE=DATE-TIME:20220428T120000
DTSTAMP;VALUE=DATE-TIME:20260419T144414Z
UID:termin-9975@www.bdew.de
DESCRIPTION:Am 28. April 2022\, von 9 bis 12 Uhr
LOCATION:BDEW\, Webinar Online
END:VEVENT
END:VCALENDAR
