BEGIN:VCALENDAR
VERSION:2.0
PRODID:-//BDEW//www.bdew.de//
BEGIN:VEVENT
SUMMARY:Erster Digitalisierungsindex für die Wasserwirtschaft – wo steh
 t die Branche?
DTSTART;VALUE=DATE-TIME:20210324T140000
DTEND;VALUE=DATE-TIME:20210324T170000
DTSTAMP;VALUE=DATE-TIME:20260421T065056Z
UID:termin-8744@www.bdew.de
DESCRIPTION:Am 24.03.2021 um 14.00 Uhr  
LOCATION:BDEW\, Webinar Online
END:VEVENT
END:VCALENDAR
