BEGIN:VCALENDAR
VERSION:2.0
PRODID:-//BDEW//www.bdew.de//
BEGIN:VEVENT
SUMMARY:Webinar: EEG 2021: Wichtige ab dem 1. Januar 2021 zu beachtende Re
 gelungen
DTSTART;VALUE=DATE-TIME:20201217T133000
DTEND;VALUE=DATE:20201218
DTSTAMP;VALUE=DATE-TIME:20260419T112438Z
UID:termin-8396@www.bdew.de
DESCRIPTION:am 17.12.2020 um 13:30 Uhr
LOCATION:BDEW\, Webinar online
END:VEVENT
END:VCALENDAR
