BEGIN:VCALENDAR
VERSION:2.0
PRODID:-//BDEW//www.bdew.de//
BEGIN:VEVENT
SUMMARY:TestWebinar12
DTSTART;VALUE=DATE:20241203
DTEND;VALUE=DATE:20241203
UID:termin-13424@www.bdew.de
DESCRIPTION:Test
END:VEVENT
END:VCALENDAR
